{"text_format":"1","workbook":"xlsx","n_sheets":7,"sheets":["総括表","個別表","別紙様式第１号 ","個別調書（対象者名）","事務費","整理番号表","修正箇所"],"not_rendered":{"charts":0,"images":0,"macros":1,"external_links":1,"defined_names":12,"comments":4,"pivot_tables":0},"unopened":[],"bounds":{"document_bytes":16777216,"sheet_cells":100000,"rows_first":2000,"rows_last":500,"rows_between":2000,"halvings":0,"cell_chars":16384,"cell_head_chars":4096},"cells_cut":0,"cells_raw":0,"read":"whole","date_system":"1900"}

{"sheet":"総括表","index":0,"n_rows":29,"n_cols":132,"rows_kept":29,"cut":false,"hidden":false,"merged":[[1,1,1,15],[2,1,7,1],[2,2,7,2],[2,3,7,3],[2,4,7,4],[2,5,2,10],[2,11,2,12],[3,13,3,15],[4,13,7,13],[4,14,7,14],[4,15,7,15],[2,13,2,18],[2,105,2,123],[2,124,9,124],[2,125,5,125],[3,0,6,0],[3,5,3,7],[3,8,3,10],[3,11,3,12],[4,5,7,5],[4,6,7,6],[4,7,7,7],[4,8,7,8],[4,9,7,9],[4,10,7,10],[4,11,7,11],[4,12,7,12],[3,16,3,18],[4,16,7,16],[4,17,7,17],[4,18,7,18],[3,122,4,122],[3,123,9,123],[5,122,8,122],[6,117,8,117],[6,114,8,114],[6,43,6,61],[4,25,7,25],[4,26,7,26],[4,27,7,27],[4,28,7,28],[3,72,5,76],[3,77,5,82],[3,90,5,93],[3,87,5,89],[6,86,9,86],[3,85,5,86],[3,83,5,84],[7,69,9,69],[6,113,8,113],[6,62,6,66],[6,68,9,68],[6,74,9,74],[6,72,9,72],[6,73,9,73],[6,75,9,75],[6,76,9,76],[6,77,9,77],[6,78,9,78],[6,100,9,100],[7,93,9,93],[7,95,9,95],[7,96,9,96],[6,109,8,109],[6,110,8,110],[6,111,8,111],[6,94,9,94],[6,97,9,97],[3,120,3,121],[4,120,4,121],[5,120,9,120],[5,121,9,121],[5,105,5,107],[5,108,8,108],[3,102,5,102],[3,97,5,99],[4,116,4,119],[5,109,5,111],[3,101,5,101],[3,103,9,103],[3,104,9,104],[6,106,8,106],[6,107,8,107],[4,105,4,108],[3,105,3,108],[6,101,9,101],[6,102,9,102],[6,116,8,116],[6,105,8,105],[7,118,8,118],[5,112,5,114],[5,115,8,115],[5,116,5,118],[5,119,8,119],[6,112,8,112],[3,109,3,119],[3,100,5,100],[3,68,5,71],[7,70,9,70],[7,71,9,71],[7,98,9,98],[7,99,9,99],[6,79,9,79],[6,80,9,80],[6,81,9,81],[6,82,9,82],[7,91,9,91],[7,92,9,92],[6,89,9,89],[6,90,9,90],[6,87,9,87],[6,88,9,88],[6,83,9,83],[6,84,9,84],[6,85,9,85],[4,109,4,115],[4,19,7,19],[4,20,7,20],[4,21,7,21],[4,22,7,22],[4,23,7,23],[4,24,7,24],[2,19,2,28],[3,20,3,28],[2,29,2,104],[3,62,5,67],[3,29,5,61],[7,29,7,35],[7,36,7,42],[7,43,7,49],[7,57,7,61],[7,62,9,62],[7,63,9,63],[7,64,9,64],[7,65,9,65],[7,66,9,66],[7,67,9,67],[6,29,6,42],[7,50,7,56],[3,94,5,96]]}
[]
[null,"【様式１】担い手確保・経営強化支援事業要望地区総括表（Ａ表）",null,null,null,null,null,null,null,null,null,null,null,null,null,null,null,null,null,null,null,null,null,null,null,null,null,null,null,null,null,null,null,null,null,null,null,null,null,null,null,null,null,null,null,null,null,null,null,null,null,null,null,null,null,null,null,null,null,null,null,null,null,null,null,null,null,null,null,null,null,null,null,null,null,null,null,null,null,null,null,null,null,null,null,null,null,null,null,null,null,null,null,null,null,null,null,null,null,null,null,null,null,null,null,null,null,null,null,null,null,null,null,null,null,null,null,null,null,null,null,null,null,null,null,null,null,"要件確認"]
[null,"地区番号","都道府県名","市町村名","地区名","事　　　業　　　費",null,null,null,null,null,"推進事務費",null,"スマート農機等",null,null,null,null,null,"成果目標項目 （単位：経営体）",null,null,null,null,null,null,null,null,null,"配分基準ポイント　※項目毎に合計ポイントを記入（Ｂ表の地区合計欄のポイントを転記）",null,null,null,null,null,null,null,null,null,null,null,null,null,null,null,null,null,null,null,null,null,null,null,null,null,null,null,null,null,null,null,null,null,null,null,null,null,null,null,null,null,null,null,null,null,null,null,null,null,null,null,null,null,null,null,null,null,null,null,null,null,null,null,null,null,null,null,null,null,null,null,null,null,null,null,"地区配分基準ポイント（※加点がない場合は入力不要）",null,null,null,null,null,null,null,null,null,null,null,null,null,null,null,null,null,null,"配分基準ポイント合計（３）＝（１）＋（２）","備考"]
["地区数",null,null,null,null,"融資主体型補助事業",null,null,"追加的信用供与事業",null,null,"市町村事務費",null,"融資主体型補助事業",null,null,"追加的信用供与事業",null,null,"必須目標","選択目標",null,null,null,null,null,null,null,null,"①付加価値額の拡大",null,null,null,null,null,null,null,null,null,null,null,null,null,null,null,null,null,null,null,null,null,null,null,null,null,null,null,null,null,null,null,null,"②経営面積の拡大",null,null,null,null,null," ③農産物の価値向上",null,null,null,"④農業経営の複合化",null,null,null,null,"⑤経営管理の高度化",null,null,null,null,null,"⑥環境配慮の取組",null,"⑦農作業の共同化",null,"⑧労働時間の縮減（対象：事業実施主体が認める者）",null,null,"⑨輸出の取組",null,null,null,"⑩新規就農者",null,null,"⑪農業者の育成",null,null,"⑫女性の取組","⑬関係機関等によるサポート体制の構築","⑭中山間地域での取組","ポイント計","配分基準ポイント平均値（１）","①担い手への農地集積",null,null,null,"②農地集積割合の増加",null,null,null,null,null,null,null,null,null,null,"③人・農地プランの実質化の取組",null,"④地区の状況","地区配分基準ポイント計（２）"]
[null,null,null,null,null,"経営体数","事業費\n（円）","国庫補助金\n（円）","経営体数","保証希望融資額\n（円）","国庫補助金\n（円）","事業費\n（円）","国庫補助金\n（円）","経営体数","事業費\n（円）","国庫補助金\n（円）","経営体数","保証希望融資額\n（円）","国庫補助金\n（円）","付加価値額の拡大","①経営面積の拡大","②農産物の価値向上","③農業経営の複合化","④農業経営の法人化","⑤青色申告の取組","⑥環境配慮の取組","⑦農作業の共同化","⑧労働時間の縮減","⑨輸出の取組",null,null,null,null,null,null,null,null,null,null,null,null,null,null,null,null,null,null,null,null,null,null,null,null,null,null,null,null,null,null,null,null,null,null,null,null,null,null,null,null,null,null,null,null,null,null,null,null,null,null,null,null,null,null,null,null,null,null,null,null,null,null,null,null,null,null,null,null,null,null,null,null,null,null,null,null,"集積率が80%以上",null,null,null,"担い手への農地集積率が３年度前より1割以上増加",null,null,null,null,null,null,"左記のうち事業実施前年度から増加した農地集積面積の3割以上が機構活用",null,null,null,"いずれか一方を記入すること"]
[null,null,null,null,null,null,null,null,null,null,null,null,null,null,null,null,null,null,null,null,null,null,null,null,null,null,null,null,null,null,null,null,null,null,null,null,null,null,null,null,null,null,null,null,null,null,null,null,null,null,null,null,null,null,null,null,null,null,null,null,null,null,null,null,null,null,null,null,null,null,null,null,null,null,null,null,null,null,null,null,null,null,null,null,null,null,null,null,null,null,null,null,null,null,null,null,null,null,null,null,null,null,null,null,null,"要望調査開始の前月末現在",null,null,"加点","事業実施３年度前の4月1日現在",null,null,"要望調査開始の前月末現在",null,null,"加点","事業実施前年度の4月1日現在",null,null,"加点","人・農地プランについて実質化されている又は担い手支援計画承認までに実質化する（2点）","人・農地プランの実質化に向けた工程表を作成している又は担い手支援計画の承認までに作成する（1点）","中山間地域等直接支払交付金対象地域であり、対象農用地が存在する"]
[null,null,null,null,null,null,null,null,null,null,null,null,null,null,null,null,null,null,null,null,null,null,null,null,null,null,null,null,null,"ア　目標年度までの付加価値額の拡大率",null,null,null,null,null,null,null,null,null,null,null,null,null,"イ　目標年度までの付加価値額の拡大額",null,null,null,null,null,null,null,null,null,null,null,null,null,null,null,null,null,null,"ア　経営面積拡大（対象：事業実施主体が認める者以外の者）",null,null,null,null,"イ　経営面積拡大（対象：事業実施主体が認める者）","事業実施前3年度以内に新品種の導入、栽培管理技術の改善、新たな加工又は販売の取組等により、農産物の価値向上等に取り組んでいる",null,null,null,"\nア　土地利用型作物の生産、園芸作物の生産などを組み合わせ、複合的に経営を展開している","\nイ-a　事業実施前３年度内に経営面積又は農産物売上高の３割以上の品目転換を行っている","\nイ-a　事業実施前３年度内に経営面積又は農産物売上高の３割以上の品目転換を目標年度までに行うこととしている","\nイ-b　事業実施前３年度内に経営面積又は農産物売上向上の４割以上の品目転換を行っている","\nイ-b　事業実施前３年度内に経営面積又は農産物売上向上の４割以上の品目転換を行うこととしている","\nア　現在、法人化している","\nア　目標年度までに法人化することとしている","\nイ　ＧＬＯＢＡＬＧ．Ａ．Ｐ又はＡＳＩＡＧＡＰの認証を取得している","\nウ　青色申告を行っている","\nウ　青色申告を行うこととしている","\nエ　農業版ＢＣＰ（事業継続計画）を策定している","\n事業実施前３年度以内に化石燃料を使用しない園芸施設への移行による温室効果ガスの削減等を行っている","\n化石燃料を使用しない園芸施設への移行による温室効果ガスの削減等を目標年度までに行うこととしている","\n自らの経営に係る農作業について他の農業者と共同して農作業を行っている（対象：事業実施主体が認める者）","\n自らの経営に係る農作業について他の農業者と共同して農作業を目標年度までに行うこととしている（対象：事業実施主体が認める者）","\nａ　目標年度までに10%以上縮減する","\nb　目標年度までに20%以上縮減する","\nc　目標年度までに50%以上縮減する","農産物の輸出を行う",null,null,null,"新規就農のポイント加点を受ける",null,null,"農業研修生（国内で農業を生業とする予定の者に限り、外国人技能実習制度に基づく者を除く。）を受け入れている",null,null,"\nア　女性農業者\nイ　代表者が女性であるか、役員若しくは構成員のうち女性が過半を占める法人又は任意組織\nウ　法人又は任意組織\n（※ア，イ，ウを記入）\n","\n経営発展に向けた取組について、農業協同組合・農業協同組合連合会及び農業経営相談所等の支援機関のサポート体制が構築されている（対象：事業実施主体が認める者）","\n導入した機械等を活用する農地等の概ね８割が中山間地域等直接支払交付金実施要領第４の対象地域であり、かつ同要領第４の対象農用地が存在する地域内の農地である（対象：事業実施主体が認める者）",null,null,"地区内全農地面積","担い手に集積された農地面積","集積率",null,"地区内全農地面積","担い手に集積された農地面積","集積率","地区内全農地面積","担い手に集積された農地面積（ａ）","集積率",null,"担い手に集積された農地面積（ｂ）","増加した農地集積面積（ａ－ｂ）"]
[{"$f":"SUM(個別表!G13:G350)","v":5},null,null,null,null,null,null,null,null,null,null,null,null,null,null,null,null,null,null,null,null,null,null,null,null,null,null,null,null,"（ア）付加価値額の拡大目標率（対象：事業実施主体が認める者以外の者（⑩新規就農のポイント加点を受ける者を除く。））",null,null,null,null,null,null,"（イ）付加価値額の拡大目標率（対象：事業実施主体が認める者（⑩新規就農のポイント加点を受ける者を除く。））",null,null,null,null,null,null,"（ア）付加価値額の拡大額の目標（対象：⑩新規就農のポイント加点を受ける者以外の者であって事業実施主体が認める者以外の者）",null,null,null,null,null,null,"（イ）付加価値額の拡大額の目標（対象：⑩新規就農のポイント加点を受ける者以外の者であって事業実施主体が認める者）",null,null,null,null,null,null,"（イ）付加価値額の目標（対象：⑩新規就農のポイント加点者）",null,null,null,null,"\nａ　農地中間管理機構等からの賃借権等の設定等かつ現状より4ha以上(施設20%､果樹10%)の経営面積の拡大","\nｂ　農地中間管理機構等からの賃借権等の設定等かつ現状より2ha以上(施設10%､果樹５%)の経営面積の拡大","\nｃ　農地中間管理機構等からの賃借権等の設定等かつ現状より経営面積の拡大、又は現状より4ha以上(施設20%､果樹10%)の経営面積の拡大","\nｄ　農地中間管理機構等からの賃借権等の設定等又は現状より2ha(施設10%､果樹５%)以上の経営面積の拡大","\nｅ　アからエ以外の経営体で目標年度に現状より経営面積の拡大","\n経営面積の拡大を行うこととしている",null,"\nうち事業実施主体が認める者である場合","\n\nうち有機ＪＡＳの認証を受けている","\n\nうち有機ＪＡＳの認証を受ける場合",null,null,null,null,null,null,null,null,null,null,null,null,null,null,null,null,null,null,null,"\n\na　現在、農産物の輸出の取組（他者との連携による取組を含む）を行っている。","\n\nｂ　輸出事業計画の認定を受けている、又は輸出事業計画に連携者として位置付けられている","\n\nｃ　目標年度までに農産物売上高の15％以上を輸出に振り向ける",null,"\n\nａ　50歳までに就農した者である","\n\nｂ　農業次世代人材投資資金（経営開始型）等の交付期間中に交付終了",null,"\n\nａ　就農に向けて必要な技術等を習得できる経営体として都道府県が認めた者である","\n\nｂ　過去５年以内に独立した認定就農者又は認定農業者（※農業研修生数を記入）",null,null,null,null,null,null,null,null,null,null,null,null,null,null,null,null,null,null,"うち機構活用（新規集積面積）",null,null,null,null,null,null,null,null,"①助成対象者要件ごとの人数"]
[null,null,null,null,null,null,null,null,null,null,null,null,null,null,null,null,null,null,null,null,null,null,null,null,null,null,null,null,null,"ａ","ｂ","ｃ","d","ｅ","f","ｇ","ａ","ｂ","ｃ","d","ｅ","f","ｇ","ａ","ｂ","ｃ","ｄ","ｅ","ｆ","ｇ","ａ","ｂ","ｃ","ｄ","ｅ","ｆ","ｇ","ａ","ｂ","ｃ","ｄ","ｅ",null,null,null,null,null,null,null,null,null,null,null,null,null,null,null,null,null,null,null,null,null,null,null,null,null,null,null,null,null,null,null,null,null,null,null,null,null,null,null,null,null,null,null,null,null,null,null,null,null,null,null,null,null,null,null,null,null,null,null,null,null,null,null,null,null,1,2,3,4]
["市町村番号",null,null,null,null,null,null,null,null,null,null,null,null,null,null,null,null,null,null,null,null,null,null,null,null,null,null,null,null,"現状の付加価値額の10%以上の増加","現状の付加価値額の15%以上の増加","現状の付加価値額の20%以上の増加","現状の付加価値額の30%以上の増加","現状の付加価値額の40%以上の増加","現状の付加価値額の50%以上の増加","現状の付加価値額の60%以上の増加","現状から３％以上の増加","現状から10％以上の増加","現状から16％以上の増加","現状から21％以上の増加","現状から25％以上の増加","現状から28％以上の増加","現状から30％以上の増加","100万円以上","150万円以上","300万円以上","400万円以上","650万円以上","1,000万円以上","1,500万円以上","50万円以上","60万円以上","70万円以上","80万円以上","100万円以上","120万円以上","150万円以上","基準額（目標年度における就農後経過年数×50万円）以上","基準額の10%増し以上","基準額の20%増し以上","基準額の30%増し以上","基準額の40%増し以上",null,null,null,null,null,null,null,null,null,null,null,null,null,null,null,null,null,null,null,null,null,null,null,null,null,null,null,null,null,null,null,null,null,null,null,null,null,null,null,null,null,null,null,"ha","ha","％",1,"ha","ha","％","ha","ha","％",1,"ha","ha","ha",1,null,null,0.5,null,null,null,null,"中心経営体であり、農地中間管理機構から賃借権等の設定等を受けた者","中心経営体","中間管理機構から賃借権等の設定等を受けた者","事業実施主体が認める者","プラン作成"]
[null,null,null,null,null,{"$f":"SUBTOTAL(9,F12:F25)","v":6},{"$f":"SUBTOTAL(9,G12:G25)","v":184000000},81227000,3,56500000,3766000,40000,20000,{"$f":"SUBTOTAL(9,N12:N25)","v":2},{"$f":"SUBTOTAL(9,O12:O25)","v":90000000},42271000,2,39000000,2599000,6,4,1,1,1,1,1,1,1,2]
[{"$f":"VLOOKUP($B12,個別表!$C$13:$BP$350,2,FALSE)","v":1},{"$f":"IF(ROW()-ROW($B$11)<=$A$8,ROW()-ROW($B$11),0)","v":1},{"$f":"VLOOKUP($B12,個別表!$C$13:$BP$350,10,FALSE)","v":"北海道"},{"$f":"VLOOKUP($B12,個別表!$C$13:$BP$350,11,FALSE)","v":"あ"},{"$f":"VLOOKUP($B12,個別表!$C$13:$BP$350,12,FALSE)","v":"甲"},{"$f":"SUMIF(個別表!$C$13:$C$350,総括表!$B12,個別表!$I$13:$I$350)","v":1},{"$f":"SUMIF(個別表!$C$13:$C$350,総括表!$B12,個別表!$AV$13:$AV$350)","v":60000000},{"$f":"SUMIF(個別表!$C$13:$C$350,総括表!$B12,個別表!$AX$13:$AX$350)","v":27000000},{"$f":"SUMIF(個別表!$C$13:$C$350,総括表!$B12,個別表!$J$13:$J$350)","v":1},{"$f":"SUMIF(個別表!$C$13:$C$350,$B12,個別表!$BP$13:$BP$350)","v":29000000},{"$f":"IF(J12>0,ROUNDDOWN(J12*1/15,-3),0)","v":1933000},40000,20000,{"$f":"SUMIFS(個別表!$I$13:$I$350,個別表!$C$13:$C$350,$B12,個別表!$AL$13:$AL$350,1)","v":1},{"$f":"SUMIFS(個別表!$AV$13:$AV$350,個別表!$C$13:$C$350,$B12,個別表!$AL$13:$AL$350,1)","v":60000000},{"$f":"SUMIFS(個別表!$AW$13:$AW$350,個別表!$C$13:$C$350,$B12,個別表!$AL$13:$AL$350,1)","v":27271000},{"$f":"SUMIFS(個別表!$J$13:$J$350,個別表!$C$13:$C$350,$B12,個別表!$AL$13:$AL$350,1)","v":1},{"$f":"SUMIFS(個別表!$BP$13:$BP$350,個別表!$C$13:$C$350,$B12,個別表!$AL$13:$AL$350,1)","v":29000000},{"$f":"IF(R12>0,ROUNDDOWN(R12*1/15,-3),0)","v":1933000},{"$f":"IF($E12>0,SUMIF(個別表!$C$13:$C$350,$B12,個別表!BQ$13:BQ$350),0)","v":1},{"$f":"IF($E12>0,SUMIF(個別表!$C$13:$C$350,$B12,個別表!BY$13:BY$350),0)","v":1},{"$f":"IF($E12>0,SUMIF(個別表!$C$13:$C$350,$B12,個別表!BZ$13:BZ$350),0)","v":0},{"$f":"IF($E12>0,SUMIF(個別表!$C$13:$C$350,$B12,個別表!CA$13:CA$350),0)","v":0},{"$f":"IF($E12>0,SUMIF(個別表!$C$13:$C$350,$B12,個別表!CB$13:CB$350),0)","v":0},{"$f":"IF($E12>0,SUMIF(個別表!$C$13:$C$350,$B12,個別表!CC$13:CC$350),0)","v":0},{"$f":"IF($E12>0,SUMIF(個別表!$C$13:$C$350,$B12,個別表!CD$13:CD$350),0)","v":0},{"$f":"IF($E12>0,SUMIF(個別表!$C$13:$C$350,$B12,個別表!CE$13:CE$350),0)","v":0},{"$f":"IF($E12>0,SUMIF(個別表!$C$13:$C$350,$B12,個別表!CF$13:CF$350),0)","v":0},{"$f":"IF($E12>0,SUMIF(個別表!$C$13:$C$350,$B12,個別表!CG$13:CG$350),0)","v":1},{"$f":"IF($E12>0,SUMIF(個別表!$C$13:$C$350,$B12,個別表!GI$13:GI$350),0)","v":0},{"$f":"IF($E12>0,SUMIF(個別表!$C$13:$C$350,$B12,個別表!GJ$13:GJ$350),0)","v":0},{"$f":"IF($E12>0,SUMIF(個別表!$C$13:$C$350,$B12,個別表!GK$13:GK$350),0)","v":0},{"$f":"IF($E12>0,SUMIF(個別表!$C$13:$C$350,$B12,個別表!GL$13:GL$350),0)","v":0},{"$f":"IF($E12>0,SUMIF(個別表!$C$13:$C$350,$B12,個別表!GM$13:GM$350),0)","v":0},{"$f":"IF($E12>0,SUMIF(個別表!$C$13:$C$350,$B12,個別表!GN$13:GN$350),0)","v":0},{"$f":"IF($E12>0,SUMIF(個別表!$C$13:$C$350,$B12,個別表!GO$13:GO$350),0)","v":7},{"$f":"IF($E12>0,SUMIF(個別表!$C$13:$C$350,$B12,個別表!GP$13:GP$350),0)","v":0},{"$f":"IF($E12>0,SUMIF(個別表!$C$13:$C$350,$B12,個別表!GQ$13:GQ$350),0)","v":0},{"$f":"IF($E12>0,SUMIF(個別表!$C$13:$C$350,$B12,個別表!GR$13:GR$350),0)","v":0},{"$f":"IF($E12>0,SUMIF(個別表!$C$13:$C$350,$B12,個別表!GS$13:GS$350),0)","v":0},{"$f":"IF($E12>0,SUMIF(個別表!$C$13:$C$350,$B12,個別表!GT$13:GT$350),0)","v":0},{"$f":"IF($E12>0,SUMIF(個別表!$C$13:$C$350,$B12,個別表!GU$13:GU$350),0)","v":0},{"$f":"IF($E12>0,SUMIF(個別表!$C$13:$C$350,$B12,個別表!GV$13:GV$350),0)","v":0},{"$f":"IF($E12>0,SUMIF(個別表!$C$13:$C$350,$B12,個別表!GW$13:GW$350),0)","v":0},{"$f":"IF($E12>0,SUMIF(個別表!$C$13:$C$350,$B12,個別表!GX$13:GX$350),0)","v":0},{"$f":"IF($E12>0,SUMIF(個別表!$C$13:$C$350,$B12,個別表!GY$13:GY$350),0)","v":0},{"$f":"IF($E12>0,SUMIF(個別表!$C$13:$C$350,$B12,個別表!GZ$13:GZ$350),0)","v":0},{"$f":"IF($E12>0,SUMIF(個別表!$C$13:$C$350,$B12,個別表!HA$13:HA$350),0)","v":5},{"$f":"IF($E12>0,SUMIF(個別表!$C$13:$C$350,$B12,個別表!HB$13:HB$350),0)","v":0},{"$f":"IF($E12>0,SUMIF(個別表!$C$13:$C$350,$B12,個別表!HC$13:HC$350),0)","v":0},{"$f":"IF($E12>0,SUMIF(個別表!$C$13:$C$350,$B12,個別表!HD$13:HD$350),0)","v":0},{"$f":"IF($E12>0,SUMIF(個別表!$C$13:$C$350,$B12,個別表!HE$13:HE$350),0)","v":0},{"$f":"IF($E12>0,SUMIF(個別表!$C$13:$C$350,$B12,個別表!HF$13:HF$350),0)","v":0},{"$f":"IF($E12>0,SUMIF(個別表!$C$13:$C$350,$B12,個別表!HG$13:HG$350),0)","v":0},{"$f":"IF($E12>0,SUMIF(個別表!$C$13:$C$350,$B12,個別表!HH$13:HH$350),0)","v":0},{"$f":"IF($E12>0,SUMIF(個別表!$C$13:$C$350,$B12,個別表!HI$13:HI$350),0)","v":0},{"$f":"IF($E12>0,SUMIF(個別表!$C$13:$C$350,$B12,個別表!HJ$13:HJ$350),0)","v":0},{"$f":"IF($E12>0,SUMIF(個別表!$C$13:$C$350,$B12,個別表!HK$13:HK$350),0)","v":0},{"$f":"IF($E12>0,SUMIF(個別表!$C$13:$C$350,$B12,個別表!HL$13:HL$350),0)","v":0},{"$f":"IF($E12>0,SUMIF(個別表!$C$13:$C$350,$B12,個別表!HM$13:HM$350),0)","v":0},{"$f":"IF($E12>0,SUMIF(個別表!$C$13:$C$350,$B12,個別表!HN$13:HN$350),0)","v":0},{"$f":"IF($E12>0,SUMIF(個別表!$C$13:$C$350,$B12,個別表!HO$13:HO$350),0)","v":0},{"$f":"IF($E12>0,SUMIF(個別表!$C$13:$C$350,$B12,個別表!HP$13:HP$350),0)","v":0},{"$f":"IF($E12>0,SUMIF(個別表!$C$13:$C$350,$B12,個別表!HQ$13:HQ$350),0)","v":4},{"$f":"IF($E12>0,SUMIF(個別表!$C$13:$C$350,$B12,個別表!HR$13:HR$350),0)","v":0},{"$f":"IF($E12>0,SUMIF(個別表!$C$13:$C$350,$B12,個別表!HS$13:HS$350),0)","v":0},{"$f":"IF($E12>0,SUMIF(個別表!$C$13:$C$350,$B12,個別表!HT$13:HT$350),0)","v":0},{"$f":"IF($E12>0,SUMIF(個別表!$C$13:$C$350,$B12,個別表!HU$13:HU$350),0)","v":0},{"$f":"IF($E12>0,SUMIF(個別表!$C$13:$C$350,$B12,個別表!HV$13:HV$350),0)","v":0},{"$f":"IF($E12>0,SUMIF(個別表!$C$13:$C$350,$B12,個別表!HW$13:HW$350),0)","v":0},{"$f":"IF($E12>0,SUMIF(個別表!$C$13:$C$350,$B12,個別表!HX$13:HX$350),0)","v":0},{"$f":"IF($E12>0,SUMIF(個別表!$C$13:$C$350,$B12,個別表!HY$13:HY$350),0)","v":0},{"$f":"IF($E12>0,SUMIF(個別表!$C$13:$C$350,$B12,個別表!HZ$13:HZ$350),0)","v":0},{"$f":"IF($E12>0,SUMIF(個別表!$C$13:$C$350,$B12,個別表!IA$13:IA$350),0)","v":0},{"$f":"IF($E12>0,SUMIF(個別表!$C$13:$C$350,$B12,個別表!IB$13:IB$350),0)","v":0},{"$f":"IF($E12>0,SUMIF(個別表!$C$13:$C$350,$B12,個別表!IC$13:IC$350),0)","v":0},{"$f":"IF($E12>0,SUMIF(個別表!$C$13:$C$350,$B12,個別表!ID$13:ID$350),0)","v":0},{"$f":"IF($E12>0,SUMIF(個別表!$C$13:$C$350,$B12,個別表!IE$13:IE$350),0)","v":2},{"$f":"IF($E12>0,SUMIF(個別表!$C$13:$C$350,$B12,個別表!IF$13:IF$350),0)","v":0},{"$f":"IF($E12>0,SUMIF(個別表!$C$13:$C$350,$B12,個別表!IG$13:IG$350),0)","v":0},{"$f":"IF($E12>0,SUMIF(個別表!$C$13:$C$350,$B12,個別表!IH$13:IH$350),0)","v":1},{"$f":"IF($E12>0,SUMIF(個別表!$C$13:$C$350,$B12,個別表!II$13:II$350),0)","v":0},{"$f":"IF($E12>0,SUMIF(個別表!$C$13:$C$350,$B12,個別表!IJ$13:IJ$350),0)","v":1},{"$f":"IF($E12>0,SUMIF(個別表!$C$13:$C$350,$B12,個別表!IK$13:IK$350),0)","v":0},{"$f":"IF($E12>0,SUMIF(個別表!$C$13:$C$350,$B12,個別表!IL$13:IL$350),0)","v":0},{"$f":"IF($E12>0,SUMIF(個別表!$C$13:$C$350,$B12,個別表!IM$13:IM$350),0)","v":0},{"$f":"IF($E12>0,SUMIF(個別表!$C$13:$C$350,$B12,個別表!IN$13:IN$350),0)","v":0},{"$f":"IF($E12>0,SUMIF(個別表!$C$13:$C$350,$B12,個別表!IO$13:IO$350),0)","v":0},{"$f":"IF($E12>0,SUMIF(個別表!$C$13:$C$350,$B12,個別表!IP$13:IP$350),0)","v":0},{"$f":"IF($E12>0,SUMIF(個別表!$C$13:$C$350,$B12,個別表!IQ$13:IQ$350),0)","v":0},{"$f":"IF($E12>0,SUMIF(個別表!$C$13:$C$350,$B12,個別表!IR$13:IR$350),0)","v":1},{"$f":"IF($E12>0,SUMIF(個別表!$C$13:$C$350,$B12,個別表!IS$13:IS$350),0)","v":1},{"$f":"IF($E12>0,SUMIF(個別表!$C$13:$C$350,$B12,個別表!IT$13:IT$350),0)","v":0},{"$f":"IF($E12>0,SUMIF(個別表!$C$13:$C$350,$B12,個別表!IU$13:IU$350),0)","v":0},{"$f":"IF($E12>0,SUMIF(個別表!$C$13:$C$350,$B12,個別表!IV$13:IV$350),0)","v":0},{"$f":"IF($E12>0,SUMIF(個別表!$C$13:$C$350,$B12,個別表!IW$13:IW$350),0)","v":0},{"$f":"IF($E12>0,SUMIF(個別表!$C$13:$C$350,$B12,個別表!IX$13:IX$350),0)","v":0},{"$f":"IF($E12>0,SUMIF(個別表!$C$13:$C$350,$B12,個別表!IY$13:IY$350),0)","v":3},{"$f":"IF($E12>0,SUMIF(個別表!$C$13:$C$350,$B12,個別表!IZ$13:IZ$350),0)","v":0},{"$f":"IF($E12>0,SUMIF(個別表!$C$13:$C$350,$B12,個別表!JA$13:JA$350),0)","v":3},{"$f":"IF($E12>0,SUMIF(個別表!$C$13:$C$350,$B12,個別表!JB$13:JB$350),0)","v":0},{"$f":"IF($E12>0,SUMIF(個別表!$C$13:$C$350,$B12,個別表!JC$13:JC$350),0)","v":0},{"$f":"IF($E12>0,SUMIF(個別表!$C$13:$C$350,$B12,個別表!JD$13:JD$350),0)","v":0},{"$f":"SUM(AD12:CY12)","v":28},{"$f":"IF(F12>0,CZ12/F12,0)","v":28},10,8,{"$f":"IF(DC12>0,ROUNDDOWN(DC12/DB12,3),0)","v":0.8},{"$f":"IF(DD12>=0.8,1,0)","v":1},10,7,{"$f":"IF(DG12>0,ROUNDDOWN(DG12/DF12,3),0)","v":0.7},10,8,{"$f":"IF(DJ12>0,ROUNDDOWN(DJ12/DI12,3),0)","v":0.8},{"$f":"IF(AND(DH12>0,DK12>0),IF(DK12-DH12>=0.1,1,0),0)","v":1},7.5,{"$f":"IF(DM12>0,DJ12-DM12,0)","v":0.5},0.15,{"$f":"IF(DN12>0,IF(DO12/DN12>=0.3,1,0),0)","v":1},2,null,null,{"$f":"SUM(DE12,DL12,DP12:DS12)","v":5},{"$f":"SUM(DA12,DT12)","v":33},null,null,{"$f":"IF($E12>0,COUNTIFS(個別表!$C$13:$C$350,$B12,個別表!$I$13:$I$350,1,個別表!$V$13:$V$350,DX$9),0)","v":1},{"$f":"IF($E12>0,COUNTIFS(個別表!$C$13:$C$350,$B12,個別表!$I$13:$I$350,1,個別表!$V$13:$V$350,DY$9),0)","v":0},{"$f":"IF($E12>0,COUNTIFS(個別表!$C$13:$C$350,$B12,個別表!$I$13:$I$350,1,個別表!$V$13:$V$350,DZ$9),0)","v":0},{"$f":"IF($E12>0,COUNTIFS(個別表!$C$13:$C$350,$B12,個別表!$I$13:$I$350,1,個別表!$V$13:$V$350,EA$9),0)","v":0},{"$f":"IF(SUM(DX12:DY12,EA12)>0,IF(SUM(DQ12:DR12)>0,\"○\",\"×\"),\"\")","v":"○"}]
[{"$f":"VLOOKUP($B13,個別表!$C$13:$BP$350,2,FALSE)","v":2},{"$f":"IF(ROW()-ROW($B$11)<=$A$8,ROW()-ROW($B$11),0)","v":2},{"$f":"VLOOKUP($B13,個別表!$C$13:$BP$350,10,FALSE)","v":"北海道"},{"$f":"VLOOKUP($B13,個別表!$C$13:$BP$350,11,FALSE)","v":"い"},{"$f":"VLOOKUP($B13,個別表!$C$13:$BP$350,12,FALSE)","v":"乙"},{"$f":"SUMIF(個別表!$C$13:$C$350,総括表!$B13,個別表!$I$13:$I$350)","v":2},{"$f":"SUMIF(個別表!$C$13:$C$350,総括表!$B13,個別表!$AV$13:$AV$350)","v":52000000},{"$f":"SUMIF(個別表!$C$13:$C$350,総括表!$B13,個別表!$AX$13:$AX$350)","v":23727000},{"$f":"SUMIF(個別表!$C$13:$C$350,総括表!$B13,個別表!$J$13:$J$350)","v":0},{"$f":"SUMIF(個別表!$C$13:$C$350,$B13,個別表!$BP$13:$BP$350)","v":0},{"$f":"IF(J13>0,ROUNDDOWN(J13*1/15,-3),0)","v":0},null,null,{"$f":"SUMIFS(個別表!$I$13:$I$350,個別表!$C$13:$C$350,$B13,個別表!$AL$13:$AL$350,1)","v":0},{"$f":"SUMIFS(個別表!$AV$13:$AV$350,個別表!$C$13:$C$350,$B13,個別表!$AL$13:$AL$350,1)","v":0},{"$f":"SUMIFS(個別表!$AW$13:$AW$350,個別表!$C$13:$C$350,$B13,個別表!$AL$13:$AL$350,1)","v":0},{"$f":"SUMIFS(個別表!$J$13:$J$350,個別表!$C$13:$C$350,$B13,個別表!$AL$13:$AL$350,1)","v":0},{"$f":"SUMIFS(個別表!$BP$13:$BP$350,個別表!$C$13:$C$350,$B13,個別表!$AL$13:$AL$350,1)","v":0},{"$f":"IF(R13>0,ROUNDDOWN(R13*1/15,-3),0)","v":0},{"$f":"IF($E13>0,SUMIF(個別表!$C$13:$C$350,$B13,個別表!BQ$13:BQ$350),0)","v":2},{"$f":"IF($E13>0,SUMIF(個別表!$C$13:$C$350,$B13,個別表!BY$13:BY$350),0)","v":2},{"$f":"IF($E13>0,SUMIF(個別表!$C$13:$C$350,$B13,個別表!BZ$13:BZ$350),0)","v":0},{"$f":"IF($E13>0,SUMIF(個別表!$C$13:$C$350,$B13,個別表!CA$13:CA$350),0)","v":0},{"$f":"IF($E13>0,SUMIF(個別表!$C$13:$C$350,$B13,個別表!CB$13:CB$350),0)","v":0},{"$f":"IF($E13>0,SUMIF(個別表!$C$13:$C$350,$B13,個別表!CC$13:CC$350),0)","v":1},{"$f":"IF($E13>0,SUMIF(個別表!$C$13:$C$350,$B13,個別表!CD$13:CD$350),0)","v":1},{"$f":"IF($E13>0,SUMIF(個別表!$C$13:$C$350,$B13,個別表!CE$13:CE$350),0)","v":1},{"$f":"IF($E13>0,SUMIF(個別表!$C$13:$C$350,$B13,個別表!CF$13:CF$350),0)","v":1},{"$f":"IF($E13>0,SUMIF(個別表!$C$13:$C$350,$B13,個別表!CG$13:CG$350),0)","v":1},{"$f":"IF($E13>0,SUMIF(個別表!$C$13:$C$350,$B13,個別表!GI$13:GI$350),0)","v":0},{"$f":"IF($E13>0,SUMIF(個別表!$C$13:$C$350,$B13,個別表!GJ$13:GJ$350),0)","v":0},{"$f":"IF($E13>0,SUMIF(個別表!$C$13:$C$350,$B13,個別表!GK$13:GK$350),0)","v":0},{"$f":"IF($E13>0,SUMIF(個別表!$C$13:$C$350,$B13,個別表!GL$13:GL$350),0)","v":0},{"$f":"IF($E13>0,SUMIF(個別表!$C$13:$C$350,$B13,個別表!GM$13:GM$350),0)","v":0},{"$f":"IF($E13>0,SUMIF(個別表!$C$13:$C$350,$B13,個別表!GN$13:GN$350),0)","v":0},{"$f":"IF($E13>0,SUMIF(個別表!$C$13:$C$350,$B13,個別表!GO$13:GO$350),0)","v":0},{"$f":"IF($E13>0,SUMIF(個別表!$C$13:$C$350,$B13,個別表!GP$13:GP$350),0)","v":1},{"$f":"IF($E13>0,SUMIF(個別表!$C$13:$C$350,$B13,個別表!GQ$13:GQ$350),0)","v":0},{"$f":"IF($E13>0,SUMIF(個別表!$C$13:$C$350,$B13,個別表!GR$13:GR$350),0)","v":0},{"$f":"IF($E13>0,SUMIF(個別表!$C$13:$C$350,$B13,個別表!GS$13:GS$350),0)","v":0},{"$f":"IF($E13>0,SUMIF(個別表!$C$13:$C$350,$B13,個別表!GT$13:GT$350),0)","v":0},{"$f":"IF($E13>0,SUMIF(個別表!$C$13:$C$350,$B13,個別表!GU$13:GU$350),0)","v":0},{"$f":"IF($E13>0,SUMIF(個別表!$C$13:$C$350,$B13,個別表!GV$13:GV$350),0)","v":0},{"$f":"IF($E13>0,SUMIF(個別表!$C$13:$C$350,$B13,個別表!GW$13:GW$350),0)","v":0},{"$f":"IF($E13>0,SUMIF(個別表!$C$13:$C$350,$B13,個別表!GX$13:GX$350),0)","v":0},{"$f":"IF($E13>0,SUMIF(個別表!$C$13:$C$350,$B13,個別表!GY$13:GY$350),0)","v":0},{"$f":"IF($E13>0,SUMIF(個別表!$C$13:$C$350,$B13,個別表!GZ$13:GZ$350),0)","v":0},{"$f":"IF($E13>0,SUMIF(個別表!$C$13:$C$350,$B13,個別表!HA$13:HA$350),0)","v":0},{"$f":"IF($E13>0,SUMIF(個別表!$C$13:$C$350,$B13,個別表!HB$13:HB$350),0)","v":0},{"$f":"IF($E13>0,SUMIF(個別表!$C$13:$C$350,$B13,個別表!HC$13:HC$350),0)","v":7},{"$f":"IF($E13>0,SUMIF(個別表!$C$13:$C$350,$B13,個別表!HD$13:HD$350),0)","v":1},{"$f":"IF($E13>0,SUMIF(個別表!$C$13:$C$350,$B13,個別表!HE$13:HE$350),0)","v":0},{"$f":"IF($E13>0,SUMIF(個別表!$C$13:$C$350,$B13,個別表!HF$13:HF$350),0)","v":0},{"$f":"IF($E13>0,SUMIF(個別表!$C$13:$C$350,$B13,個別表!HG$13:HG$350),0)","v":0},{"$f":"IF($E13>0,SUMIF(個別表!$C$13:$C$350,$B13,個別表!HH$13:HH$350),0)","v":0},{"$f":"IF($E13>0,SUMIF(個別表!$C$13:$C$350,$B13,個別表!HI$13:HI$350),0)","v":0},{"$f":"IF($E13>0,SUMIF(個別表!$C$13:$C$350,$B13,個別表!HJ$13:HJ$350),0)","v":0},{"$f":"IF($E13>0,SUMIF(個別表!$C$13:$C$350,$B13,個別表!HK$13:HK$350),0)","v":0},{"$f":"IF($E13>0,SUMIF(個別表!$C$13:$C$350,$B13,個別表!HL$13:HL$350),0)","v":0},{"$f":"IF($E13>0,SUMIF(個別表!$C$13:$C$350,$B13,個別表!HM$13:HM$350),0)","v":0},{"$f":"IF($E13>0,SUMIF(個別表!$C$13:$C$350,$B13,個別表!HN$13:HN$350),0)","v":0},{"$f":"IF($E13>0,SUMIF(個別表!$C$13:$C$350,$B13,個別表!HO$13:HO$350),0)","v":0},{"$f":"IF($E13>0,SUMIF(個別表!$C$13:$C$350,$B13,個別表!HP$13:HP$350),0)","v":0},{"$f":"IF($E13>0,SUMIF(個別表!$C$13:$C$350,$B13,個別表!HQ$13:HQ$350),0)","v":0},{"$f":"IF($E13>0,SUMIF(個別表!$C$13:$C$350,$B13,個別表!HR$13:HR$350),0)","v":0},{"$f":"IF($E13>0,SUMIF(個別表!$C$13:$C$350,$B13,個別表!HS$13:HS$350),0)","v":0},{"$f":"IF($E13>0,SUMIF(個別表!$C$13:$C$350,$B13,個別表!HT$13:HT$350),0)","v":1},{"$f":"IF($E13>0,SUMIF(個別表!$C$13:$C$350,$B13,個別表!HU$13:HU$350),0)","v":2},{"$f":"IF($E13>0,SUMIF(個別表!$C$13:$C$350,$B13,個別表!HV$13:HV$350),0)","v":1},{"$f":"IF($E13>0,SUMIF(個別表!$C$13:$C$350,$B13,個別表!HW$13:HW$350),0)","v":1},{"$f":"IF($E13>0,SUMIF(個別表!$C$13:$C$350,$B13,個別表!HX$13:HX$350),0)","v":0},{"$f":"IF($E13>0,SUMIF(個別表!$C$13:$C$350,$B13,個別表!HY$13:HY$350),0)","v":0},{"$f":"IF($E13>0,SUMIF(個別表!$C$13:$C$350,$B13,個別表!HZ$13:HZ$350),0)","v":0},{"$f":"IF($E13>0,SUMIF(個別表!$C$13:$C$350,$B13,個別表!IA$13:IA$350),0)","v":0},{"$f":"IF($E13>0,SUMIF(個別表!$C$13:$C$350,$B13,個別表!IB$13:IB$350),0)","v":0},{"$f":"IF($E13>0,SUMIF(個別表!$C$13:$C$350,$B13,個別表!IC$13:IC$350),0)","v":0},{"$f":"IF($E13>0,SUMIF(個別表!$C$13:$C$350,$B13,個別表!ID$13:ID$350),0)","v":0},{"$f":"IF($E13>0,SUMIF(個別表!$C$13:$C$350,$B13,個別表!IE$13:IE$350),0)","v":2},{"$f":"IF($E13>0,SUMIF(個別表!$C$13:$C$350,$B13,個別表!IF$13:IF$350),0)","v":0},{"$f":"IF($E13>0,SUMIF(個別表!$C$13:$C$350,$B13,個別表!IG$13:IG$350),0)","v":0},{"$f":"IF($E13>0,SUMIF(個別表!$C$13:$C$350,$B13,個別表!IH$13:IH$350),0)","v":0},{"$f":"IF($E13>0,SUMIF(個別表!$C$13:$C$350,$B13,個別表!II$13:II$350),0)","v":1},{"$f":"IF($E13>0,SUMIF(個別表!$C$13:$C$350,$B13,個別表!IJ$13:IJ$350),0)","v":0},{"$f":"IF($E13>0,SUMIF(個別表!$C$13:$C$350,$B13,個別表!IK$13:IK$350),0)","v":0},{"$f":"IF($E13>0,SUMIF(個別表!$C$13:$C$350,$B13,個別表!IL$13:IL$350),0)","v":1},{"$f":"IF($E13>0,SUMIF(個別表!$C$13:$C$350,$B13,個別表!IM$13:IM$350),0)","v":0},{"$f":"IF($E13>0,SUMIF(個別表!$C$13:$C$350,$B13,個別表!IN$13:IN$350),0)","v":2},{"$f":"IF($E13>0,SUMIF(個別表!$C$13:$C$350,$B13,個別表!IO$13:IO$350),0)","v":0},{"$f":"IF($E13>0,SUMIF(個別表!$C$13:$C$350,$B13,個別表!IP$13:IP$350),0)","v":2},{"$f":"IF($E13>0,SUMIF(個別表!$C$13:$C$350,$B13,個別表!IQ$13:IQ$350),0)","v":0},{"$f":"IF($E13>0,SUMIF(個別表!$C$13:$C$350,$B13,個別表!IR$13:IR$350),0)","v":1},{"$f":"IF($E13>0,SUMIF(個別表!$C$13:$C$350,$B13,個別表!IS$13:IS$350),0)","v":0},{"$f":"IF($E13>0,SUMIF(個別表!$C$13:$C$350,$B13,個別表!IT$13:IT$350),0)","v":0},{"$f":"IF($E13>0,SUMIF(個別表!$C$13:$C$350,$B13,個別表!IU$13:IU$350),0)","v":0},{"$f":"IF($E13>0,SUMIF(個別表!$C$13:$C$350,$B13,個別表!IV$13:IV$350),0)","v":0},{"$f":"IF($E13>0,SUMIF(個別表!$C$13:$C$350,$B13,個別表!IW$13:IW$350),0)","v":0},{"$f":"IF($E13>0,SUMIF(個別表!$C$13:$C$350,$B13,個別表!IX$13:IX$350),0)","v":0},{"$f":"IF($E13>0,SUMIF(個別表!$C$13:$C$350,$B13,個別表!IY$13:IY$350),0)","v":3},{"$f":"IF($E13>0,SUMIF(個別表!$C$13:$C$350,$B13,個別表!IZ$13:IZ$350),0)","v":0},{"$f":"IF($E13>0,SUMIF(個別表!$C$13:$C$350,$B13,個別表!JA$13:JA$350),0)","v":2},{"$f":"IF($E13>0,SUMIF(個別表!$C$13:$C$350,$B13,個別表!JB$13:JB$350),0)","v":3},{"$f":"IF($E13>0,SUMIF(個別表!$C$13:$C$350,$B13,個別表!JC$13:JC$350),0)","v":1},{"$f":"IF($E13>0,SUMIF(個別表!$C$13:$C$350,$B13,個別表!JD$13:JD$350),0)","v":0.5},32.5,16.25,null,null,{"$f":"IF(DC13>0,ROUNDDOWN(DC13/DB13,3),0)","v":0},{"$f":"IF(DD13>=0.8,1,0)","v":0},10,5,{"$f":"IF(DG13>0,ROUNDDOWN(DG13/DF13,3),0)","v":0.5},10,6,{"$f":"IF(DJ13>0,ROUNDDOWN(DJ13/DI13,3),0)","v":0.6},{"$f":"IF(AND(DH13>0,DK13>0),IF(DK13-DH13>=0.1,1,0),0)","v":1},5,{"$f":"IF(DM13>0,DJ13-DM13,0)","v":1},0.5,{"$f":"IF(DN13>0,IF(DO13/DN13>=0.3,1,0),0)","v":1},2,null,0.5,{"$f":"SUM(DE13,DL13,DP13:DS13)","v":4.5},{"$f":"SUM(DA13,DT13)","v":20.75},null,null,{"$f":"IF($E13>0,COUNTIFS(個別表!$C$13:$C$350,$B13,個別表!$I$13:$I$350,1,個別表!$V$13:$V$350,DX$9),0)","v":0},{"$f":"IF($E13>0,COUNTIFS(個別表!$C$13:$C$350,$B13,個別表!$I$13:$I$350,1,個別表!$V$13:$V$350,DY$9),0)","v":1},{"$f":"IF($E13>0,COUNTIFS(個別表!$C$13:$C$350,$B13,個別表!$I$13:$I$350,1,個別表!$V$13:$V$350,DZ$9),0)","v":0},{"$f":"IF($E13>0,COUNTIFS(個別表!$C$13:$C$350,$B13,個別表!$I$13:$I$350,1,個別表!$V$13:$V$350,EA$9),0)","v":1},{"$f":"IF(SUM(DX13:DY13,EA13)>0,IF(SUM(DQ13:DR13)>0,\"○\",\"×\"),\"\")","v":"○"}]
[{"$f":"VLOOKUP($B14,個別表!$C$13:$BP$350,2,FALSE)","v":3},3,{"$f":"VLOOKUP($B14,個別表!$C$13:$BP$350,10,FALSE)","v":"青森県"},{"$f":"VLOOKUP($B14,個別表!$C$13:$BP$350,11,FALSE)","v":"う"},{"$f":"VLOOKUP($B14,個別表!$C$13:$BP$350,12,FALSE)","v":"丙"},{"$f":"SUMIF(個別表!$C$13:$C$350,総括表!$B14,個別表!$I$13:$I$350)","v":1},{"$f":"SUMIF(個別表!$C$13:$C$350,総括表!$B14,個別表!$AV$13:$AV$350)","v":7000000},{"$f":"SUMIF(個別表!$C$13:$C$350,総括表!$B14,個別表!$AX$13:$AX$350)","v":3000000},{"$f":"SUMIF(個別表!$C$13:$C$350,総括表!$B14,個別表!$J$13:$J$350)","v":0},{"$f":"SUMIF(個別表!$C$13:$C$350,$B14,個別表!$BP$13:$BP$350)","v":0},0,null,null,{"$f":"SUMIFS(個別表!$I$13:$I$350,個別表!$C$13:$C$350,$B14,個別表!$AL$13:$AL$350,1)","v":0},{"$f":"SUMIFS(個別表!$AV$13:$AV$350,個別表!$C$13:$C$350,$B14,個別表!$AL$13:$AL$350,1)","v":0},{"$f":"SUMIFS(個別表!$AW$13:$AW$350,個別表!$C$13:$C$350,$B14,個別表!$AL$13:$AL$350,1)","v":0},{"$f":"SUMIFS(個別表!$J$13:$J$350,個別表!$C$13:$C$350,$B14,個別表!$AL$13:$AL$350,1)","v":0},{"$f":"SUMIFS(個別表!$BP$13:$BP$350,個別表!$C$13:$C$350,$B14,個別表!$AL$13:$AL$350,1)","v":0},0,{"$f":"IF($E14>0,SUMIF(個別表!$C$13:$C$350,$B14,個別表!BQ$13:BQ$350),0)","v":1},{"$f":"IF($E14>0,SUMIF(個別表!$C$13:$C$350,$B14,個別表!BY$13:BY$350),0)","v":0},{"$f":"IF($E14>0,SUMIF(個別表!$C$13:$C$350,$B14,個別表!BZ$13:BZ$350),0)","v":0},{"$f":"IF($E14>0,SUMIF(個別表!$C$13:$C$350,$B14,個別表!CA$13:CA$350),0)","v":0},{"$f":"IF($E14>0,SUMIF(個別表!$C$13:$C$350,$B14,個別表!CB$13:CB$350),0)","v":0},{"$f":"IF($E14>0,SUMIF(個別表!$C$13:$C$350,$B14,個別表!CC$13:CC$350),0)","v":0},{"$f":"IF($E14>0,SUMIF(個別表!$C$13:$C$350,$B14,個別表!CD$13:CD$350),0)","v":0},{"$f":"IF($E14>0,SUMIF(個別表!$C$13:$C$350,$B14,個別表!CE$13:CE$350),0)","v":0},{"$f":"IF($E14>0,SUMIF(個別表!$C$13:$C$350,$B14,個別表!CF$13:CF$350),0)","v":0},{"$f":"IF($E14>0,SUMIF(個別表!$C$13:$C$350,$B14,個別表!CG$13:CG$350),0)","v":0},{"$f":"IF($E14>0,SUMIF(個別表!$C$13:$C$350,$B14,個別表!GI$13:GI$350),0)","v":0},{"$f":"IF($E14>0,SUMIF(個別表!$C$13:$C$350,$B14,個別表!GJ$13:GJ$350),0)","v":0},{"$f":"IF($E14>0,SUMIF(個別表!$C$13:$C$350,$B14,個別表!GK$13:GK$350),0)","v":0},{"$f":"IF($E14>0,SUMIF(個別表!$C$13:$C$350,$B14,個別表!GL$13:GL$350),0)","v":0},{"$f":"IF($E14>0,SUMIF(個別表!$C$13:$C$350,$B14,個別表!GM$13:GM$350),0)","v":0},{"$f":"IF($E14>0,SUMIF(個別表!$C$13:$C$350,$B14,個別表!GN$13:GN$350),0)","v":0},{"$f":"IF($E14>0,SUMIF(個別表!$C$13:$C$350,$B14,個別表!GO$13:GO$350),0)","v":0},{"$f":"IF($E14>0,SUMIF(個別表!$C$13:$C$350,$B14,個別表!GP$13:GP$350),0)","v":0},{"$f":"IF($E14>0,SUMIF(個別表!$C$13:$C$350,$B14,個別表!GQ$13:GQ$350),0)","v":0},{"$f":"IF($E14>0,SUMIF(個別表!$C$13:$C$350,$B14,個別表!GR$13:GR$350),0)","v":0},{"$f":"IF($E14>0,SUMIF(個別表!$C$13:$C$350,$B14,個別表!GS$13:GS$350),0)","v":0},{"$f":"IF($E14>0,SUMIF(個別表!$C$13:$C$350,$B14,個別表!GT$13:GT$350),0)","v":0},{"$f":"IF($E14>0,SUMIF(個別表!$C$13:$C$350,$B14,個別表!GU$13:GU$350),0)","v":0},{"$f":"IF($E14>0,SUMIF(個別表!$C$13:$C$350,$B14,個別表!GV$13:GV$350),0)","v":0},{"$f":"IF($E14>0,SUMIF(個別表!$C$13:$C$350,$B14,個別表!GW$13:GW$350),0)","v":0},{"$f":"IF($E14>0,SUMIF(個別表!$C$13:$C$350,$B14,個別表!GX$13:GX$350),0)","v":0},{"$f":"IF($E14>0,SUMIF(個別表!$C$13:$C$350,$B14,個別表!GY$13:GY$350),0)","v":0},{"$f":"IF($E14>0,SUMIF(個別表!$C$13:$C$350,$B14,個別表!GZ$13:GZ$350),0)","v":0},{"$f":"IF($E14>0,SUMIF(個別表!$C$13:$C$350,$B14,個別表!HA$13:HA$350),0)","v":0},{"$f":"IF($E14>0,SUMIF(個別表!$C$13:$C$350,$B14,個別表!HB$13:HB$350),0)","v":0},{"$f":"IF($E14>0,SUMIF(個別表!$C$13:$C$350,$B14,個別表!HC$13:HC$350),0)","v":7},{"$f":"IF($E14>0,SUMIF(個別表!$C$13:$C$350,$B14,個別表!HD$13:HD$350),0)","v":0},{"$f":"IF($E14>0,SUMIF(個別表!$C$13:$C$350,$B14,個別表!HE$13:HE$350),0)","v":0},{"$f":"IF($E14>0,SUMIF(個別表!$C$13:$C$350,$B14,個別表!HF$13:HF$350),0)","v":0},{"$f":"IF($E14>0,SUMIF(個別表!$C$13:$C$350,$B14,個別表!HG$13:HG$350),0)","v":0},{"$f":"IF($E14>0,SUMIF(個別表!$C$13:$C$350,$B14,個別表!HH$13:HH$350),0)","v":0},{"$f":"IF($E14>0,SUMIF(個別表!$C$13:$C$350,$B14,個別表!HI$13:HI$350),0)","v":0},{"$f":"IF($E14>0,SUMIF(個別表!$C$13:$C$350,$B14,個別表!HJ$13:HJ$350),0)","v":0},{"$f":"IF($E14>0,SUMIF(個別表!$C$13:$C$350,$B14,個別表!HK$13:HK$350),0)","v":0},{"$f":"IF($E14>0,SUMIF(個別表!$C$13:$C$350,$B14,個別表!HL$13:HL$350),0)","v":0},{"$f":"IF($E14>0,SUMIF(個別表!$C$13:$C$350,$B14,個別表!HM$13:HM$350),0)","v":0},{"$f":"IF($E14>0,SUMIF(個別表!$C$13:$C$350,$B14,個別表!HN$13:HN$350),0)","v":0},{"$f":"IF($E14>0,SUMIF(個別表!$C$13:$C$350,$B14,個別表!HO$13:HO$350),0)","v":0},{"$f":"IF($E14>0,SUMIF(個別表!$C$13:$C$350,$B14,個別表!HP$13:HP$350),0)","v":0},{"$f":"IF($E14>0,SUMIF(個別表!$C$13:$C$350,$B14,個別表!HQ$13:HQ$350),0)","v":0},{"$f":"IF($E14>0,SUMIF(個別表!$C$13:$C$350,$B14,個別表!HR$13:HR$350),0)","v":0},{"$f":"IF($E14>0,SUMIF(個別表!$C$13:$C$350,$B14,個別表!HS$13:HS$350),0)","v":0},{"$f":"IF($E14>0,SUMIF(個別表!$C$13:$C$350,$B14,個別表!HT$13:HT$350),0)","v":0},{"$f":"IF($E14>0,SUMIF(個別表!$C$13:$C$350,$B14,個別表!HU$13:HU$350),0)","v":0},{"$f":"IF($E14>0,SUMIF(個別表!$C$13:$C$350,$B14,個別表!HV$13:HV$350),0)","v":1},{"$f":"IF($E14>0,SUMIF(個別表!$C$13:$C$350,$B14,個別表!HW$13:HW$350),0)","v":0},{"$f":"IF($E14>0,SUMIF(個別表!$C$13:$C$350,$B14,個別表!HX$13:HX$350),0)","v":1},{"$f":"IF($E14>0,SUMIF(個別表!$C$13:$C$350,$B14,個別表!HY$13:HY$350),0)","v":0},{"$f":"IF($E14>0,SUMIF(個別表!$C$13:$C$350,$B14,個別表!HZ$13:HZ$350),0)","v":1},{"$f":"IF($E14>0,SUMIF(個別表!$C$13:$C$350,$B14,個別表!IA$13:IA$350),0)","v":0},{"$f":"IF($E14>0,SUMIF(個別表!$C$13:$C$350,$B14,個別表!IB$13:IB$350),0)","v":0},{"$f":"IF($E14>0,SUMIF(個別表!$C$13:$C$350,$B14,個別表!IC$13:IC$350),0)","v":0},{"$f":"IF($E14>0,SUMIF(個別表!$C$13:$C$350,$B14,個別表!ID$13:ID$350),0)","v":0},{"$f":"IF($E14>0,SUMIF(個別表!$C$13:$C$350,$B14,個別表!IE$13:IE$350),0)","v":0},{"$f":"IF($E14>0,SUMIF(個別表!$C$13:$C$350,$B14,個別表!IF$13:IF$350),0)","v":0},{"$f":"IF($E14>0,SUMIF(個別表!$C$13:$C$350,$B14,個別表!IG$13:IG$350),0)","v":1},{"$f":"IF($E14>0,SUMIF(個別表!$C$13:$C$350,$B14,個別表!IH$13:IH$350),0)","v":1},{"$f":"IF($E14>0,SUMIF(個別表!$C$13:$C$350,$B14,個別表!II$13:II$350),0)","v":0},{"$f":"IF($E14>0,SUMIF(個別表!$C$13:$C$350,$B14,個別表!IJ$13:IJ$350),0)","v":0},{"$f":"IF($E14>0,SUMIF(個別表!$C$13:$C$350,$B14,個別表!IK$13:IK$350),0)","v":0},{"$f":"IF($E14>0,SUMIF(個別表!$C$13:$C$350,$B14,個別表!IL$13:IL$350),0)","v":0},{"$f":"IF($E14>0,SUMIF(個別表!$C$13:$C$350,$B14,個別表!IM$13:IM$350),0)","v":0},{"$f":"IF($E14>0,SUMIF(個別表!$C$13:$C$350,$B14,個別表!IN$13:IN$350),0)","v":0},{"$f":"IF($E14>0,SUMIF(個別表!$C$13:$C$350,$B14,個別表!IO$13:IO$350),0)","v":0},{"$f":"IF($E14>0,SUMIF(個別表!$C$13:$C$350,$B14,個別表!IP$13:IP$350),0)","v":0},{"$f":"IF($E14>0,SUMIF(個別表!$C$13:$C$350,$B14,個別表!IQ$13:IQ$350),0)","v":0},{"$f":"IF($E14>0,SUMIF(個別表!$C$13:$C$350,$B14,個別表!IR$13:IR$350),0)","v":0},{"$f":"IF($E14>0,SUMIF(個別表!$C$13:$C$350,$B14,個別表!IS$13:IS$350),0)","v":0},{"$f":"IF($E14>0,SUMIF(個別表!$C$13:$C$350,$B14,個別表!IT$13:IT$350),0)","v":0},{"$f":"IF($E14>0,SUMIF(個別表!$C$13:$C$350,$B14,個別表!IU$13:IU$350),0)","v":0},{"$f":"IF($E14>0,SUMIF(個別表!$C$13:$C$350,$B14,個別表!IV$13:IV$350),0)","v":0},{"$f":"IF($E14>0,SUMIF(個別表!$C$13:$C$350,$B14,個別表!IW$13:IW$350),0)","v":0},{"$f":"IF($E14>0,SUMIF(個別表!$C$13:$C$350,$B14,個別表!IX$13:IX$350),0)","v":0},{"$f":"IF($E14>0,SUMIF(個別表!$C$13:$C$350,$B14,個別表!IY$13:IY$350),0)","v":0},{"$f":"IF($E14>0,SUMIF(個別表!$C$13:$C$350,$B14,個別表!IZ$13:IZ$350),0)","v":0},{"$f":"IF($E14>0,SUMIF(個別表!$C$13:$C$350,$B14,個別表!JA$13:JA$350),0)","v":0},{"$f":"IF($E14>0,SUMIF(個別表!$C$13:$C$350,$B14,個別表!JB$13:JB$350),0)","v":0},{"$f":"IF($E14>0,SUMIF(個別表!$C$13:$C$350,$B14,個別表!JC$13:JC$350),0)","v":0},{"$f":"IF($E14>0,SUMIF(個別表!$C$13:$C$350,$B14,個別表!JD$13:JD$350),0)","v":0},12,12,null,null,0,0,null,null,0,null,null,0,0,null,0,null,0,null,1,null,1,13,null,null,{"$f":"IF($E14>0,COUNTIFS(個別表!$C$13:$C$350,$B14,個別表!$I$13:$I$350,1,個別表!$V$13:$V$350,DX$9),0)","v":0},{"$f":"IF($E14>0,COUNTIFS(個別表!$C$13:$C$350,$B14,個別表!$I$13:$I$350,1,個別表!$V$13:$V$350,DY$9),0)","v":1},{"$f":"IF($E14>0,COUNTIFS(個別表!$C$13:$C$350,$B14,個別表!$I$13:$I$350,1,個別表!$V$13:$V$350,DZ$9),0)","v":0},{"$f":"IF($E14>0,COUNTIFS(個別表!$C$13:$C$350,$B14,個別表!$I$13:$I$350,1,個別表!$V$13:$V$350,EA$9),0)","v":0},"○"]
[{"$f":"VLOOKUP($B15,個別表!$C$13:$BP$350,2,FALSE)","v":3},4,{"$f":"VLOOKUP($B15,個別表!$C$13:$BP$350,10,FALSE)","v":"青森県"},{"$f":"VLOOKUP($B15,個別表!$C$13:$BP$350,11,FALSE)","v":"う"},{"$f":"VLOOKUP($B15,個別表!$C$13:$BP$350,12,FALSE)","v":"丁"},{"$f":"SUMIF(個別表!$C$13:$C$350,総括表!$B15,個別表!$I$13:$I$350)","v":1},{"$f":"SUMIF(個別表!$C$13:$C$350,総括表!$B15,個別表!$AV$13:$AV$350)","v":25000000},{"$f":"SUMIF(個別表!$C$13:$C$350,総括表!$B15,個別表!$AX$13:$AX$350)","v":12500000},{"$f":"SUMIF(個別表!$C$13:$C$350,総括表!$B15,個別表!$J$13:$J$350)","v":1},{"$f":"SUMIF(個別表!$C$13:$C$350,$B15,個別表!$BP$13:$BP$350)","v":12500000},833000,null,null,{"$f":"SUMIFS(個別表!$I$13:$I$350,個別表!$C$13:$C$350,$B15,個別表!$AL$13:$AL$350,1)","v":0},{"$f":"SUMIFS(個別表!$AV$13:$AV$350,個別表!$C$13:$C$350,$B15,個別表!$AL$13:$AL$350,1)","v":0},{"$f":"SUMIFS(個別表!$AW$13:$AW$350,個別表!$C$13:$C$350,$B15,個別表!$AL$13:$AL$350,1)","v":0},{"$f":"SUMIFS(個別表!$J$13:$J$350,個別表!$C$13:$C$350,$B15,個別表!$AL$13:$AL$350,1)","v":0},{"$f":"SUMIFS(個別表!$BP$13:$BP$350,個別表!$C$13:$C$350,$B15,個別表!$AL$13:$AL$350,1)","v":0},0,{"$f":"IF($E15>0,SUMIF(個別表!$C$13:$C$350,$B15,個別表!BQ$13:BQ$350),0)","v":1},{"$f":"IF($E15>0,SUMIF(個別表!$C$13:$C$350,$B15,個別表!BY$13:BY$350),0)","v":0},{"$f":"IF($E15>0,SUMIF(個別表!$C$13:$C$350,$B15,個別表!BZ$13:BZ$350),0)","v":1},{"$f":"IF($E15>0,SUMIF(個別表!$C$13:$C$350,$B15,個別表!CA$13:CA$350),0)","v":0},{"$f":"IF($E15>0,SUMIF(個別表!$C$13:$C$350,$B15,個別表!CB$13:CB$350),0)","v":1},{"$f":"IF($E15>0,SUMIF(個別表!$C$13:$C$350,$B15,個別表!CC$13:CC$350),0)","v":0},{"$f":"IF($E15>0,SUMIF(個別表!$C$13:$C$350,$B15,個別表!CD$13:CD$350),0)","v":0},{"$f":"IF($E15>0,SUMIF(個別表!$C$13:$C$350,$B15,個別表!CE$13:CE$350),0)","v":0},{"$f":"IF($E15>0,SUMIF(個別表!$C$13:$C$350,$B15,個別表!CF$13:CF$350),0)","v":0},{"$f":"IF($E15>0,SUMIF(個別表!$C$13:$C$350,$B15,個別表!CG$13:CG$350),0)","v":0},{"$f":"IF($E15>0,SUMIF(個別表!$C$13:$C$350,$B15,個別表!GI$13:GI$350),0)","v":0},{"$f":"IF($E15>0,SUMIF(個別表!$C$13:$C$350,$B15,個別表!GJ$13:GJ$350),0)","v":0},{"$f":"IF($E15>0,SUMIF(個別表!$C$13:$C$350,$B15,個別表!GK$13:GK$350),0)","v":0},{"$f":"IF($E15>0,SUMIF(個別表!$C$13:$C$350,$B15,個別表!GL$13:GL$350),0)","v":0},{"$f":"IF($E15>0,SUMIF(個別表!$C$13:$C$350,$B15,個別表!GM$13:GM$350),0)","v":0},{"$f":"IF($E15>0,SUMIF(個別表!$C$13:$C$350,$B15,個別表!GN$13:GN$350),0)","v":6},{"$f":"IF($E15>0,SUMIF(個別表!$C$13:$C$350,$B15,個別表!GO$13:GO$350),0)","v":0},{"$f":"IF($E15>0,SUMIF(個別表!$C$13:$C$350,$B15,個別表!GP$13:GP$350),0)","v":0},{"$f":"IF($E15>0,SUMIF(個別表!$C$13:$C$350,$B15,個別表!GQ$13:GQ$350),0)","v":0},{"$f":"IF($E15>0,SUMIF(個別表!$C$13:$C$350,$B15,個別表!GR$13:GR$350),0)","v":0},{"$f":"IF($E15>0,SUMIF(個別表!$C$13:$C$350,$B15,個別表!GS$13:GS$350),0)","v":0},{"$f":"IF($E15>0,SUMIF(個別表!$C$13:$C$350,$B15,個別表!GT$13:GT$350),0)","v":0},{"$f":"IF($E15>0,SUMIF(個別表!$C$13:$C$350,$B15,個別表!GU$13:GU$350),0)","v":0},{"$f":"IF($E15>0,SUMIF(個別表!$C$13:$C$350,$B15,個別表!GV$13:GV$350),0)","v":0},{"$f":"IF($E15>0,SUMIF(個別表!$C$13:$C$350,$B15,個別表!GW$13:GW$350),0)","v":0},{"$f":"IF($E15>0,SUMIF(個別表!$C$13:$C$350,$B15,個別表!GX$13:GX$350),0)","v":0},{"$f":"IF($E15>0,SUMIF(個別表!$C$13:$C$350,$B15,個別表!GY$13:GY$350),0)","v":0},{"$f":"IF($E15>0,SUMIF(個別表!$C$13:$C$350,$B15,個別表!GZ$13:GZ$350),0)","v":0},{"$f":"IF($E15>0,SUMIF(個別表!$C$13:$C$350,$B15,個別表!HA$13:HA$350),0)","v":0},{"$f":"IF($E15>0,SUMIF(個別表!$C$13:$C$350,$B15,個別表!HB$13:HB$350),0)","v":6},{"$f":"IF($E15>0,SUMIF(個別表!$C$13:$C$350,$B15,個別表!HC$13:HC$350),0)","v":0},{"$f":"IF($E15>0,SUMIF(個別表!$C$13:$C$350,$B15,個別表!HD$13:HD$350),0)","v":0},{"$f":"IF($E15>0,SUMIF(個別表!$C$13:$C$350,$B15,個別表!HE$13:HE$350),0)","v":0},{"$f":"IF($E15>0,SUMIF(個別表!$C$13:$C$350,$B15,個別表!HF$13:HF$350),0)","v":0},{"$f":"IF($E15>0,SUMIF(個別表!$C$13:$C$350,$B15,個別表!HG$13:HG$350),0)","v":0},{"$f":"IF($E15>0,SUMIF(個別表!$C$13:$C$350,$B15,個別表!HH$13:HH$350),0)","v":0},{"$f":"IF($E15>0,SUMIF(個別表!$C$13:$C$350,$B15,個別表!HI$13:HI$350),0)","v":0},{"$f":"IF($E15>0,SUMIF(個別表!$C$13:$C$350,$B15,個別表!HJ$13:HJ$350),0)","v":0},{"$f":"IF($E15>0,SUMIF(個別表!$C$13:$C$350,$B15,個別表!HK$13:HK$350),0)","v":0},{"$f":"IF($E15>0,SUMIF(個別表!$C$13:$C$350,$B15,個別表!HL$13:HL$350),0)","v":0},{"$f":"IF($E15>0,SUMIF(個別表!$C$13:$C$350,$B15,個別表!HM$13:HM$350),0)","v":0},{"$f":"IF($E15>0,SUMIF(個別表!$C$13:$C$350,$B15,個別表!HN$13:HN$350),0)","v":0},{"$f":"IF($E15>0,SUMIF(個別表!$C$13:$C$350,$B15,個別表!HO$13:HO$350),0)","v":0},{"$f":"IF($E15>0,SUMIF(個別表!$C$13:$C$350,$B15,個別表!HP$13:HP$350),0)","v":0},{"$f":"IF($E15>0,SUMIF(個別表!$C$13:$C$350,$B15,個別表!HQ$13:HQ$350),0)","v":0},{"$f":"IF($E15>0,SUMIF(個別表!$C$13:$C$350,$B15,個別表!HR$13:HR$350),0)","v":0},{"$f":"IF($E15>0,SUMIF(個別表!$C$13:$C$350,$B15,個別表!HS$13:HS$350),0)","v":0},{"$f":"IF($E15>0,SUMIF(個別表!$C$13:$C$350,$B15,個別表!HT$13:HT$350),0)","v":0},{"$f":"IF($E15>0,SUMIF(個別表!$C$13:$C$350,$B15,個別表!HU$13:HU$350),0)","v":0},{"$f":"IF($E15>0,SUMIF(個別表!$C$13:$C$350,$B15,個別表!HV$13:HV$350),0)","v":1},{"$f":"IF($E15>0,SUMIF(個別表!$C$13:$C$350,$B15,個別表!HW$13:HW$350),0)","v":0},{"$f":"IF($E15>0,SUMIF(個別表!$C$13:$C$350,$B15,個別表!HX$13:HX$350),0)","v":0},{"$f":"IF($E15>0,SUMIF(個別表!$C$13:$C$350,$B15,個別表!HY$13:HY$350),0)","v":1},{"$f":"IF($E15>0,SUMIF(個別表!$C$13:$C$350,$B15,個別表!HZ$13:HZ$350),0)","v":0},{"$f":"IF($E15>0,SUMIF(個別表!$C$13:$C$350,$B15,個別表!IA$13:IA$350),0)","v":0},{"$f":"IF($E15>0,SUMIF(個別表!$C$13:$C$350,$B15,個別表!IB$13:IB$350),0)","v":0},{"$f":"IF($E15>0,SUMIF(個別表!$C$13:$C$350,$B15,個別表!IC$13:IC$350),0)","v":0},{"$f":"IF($E15>0,SUMIF(個別表!$C$13:$C$350,$B15,個別表!ID$13:ID$350),0)","v":0},{"$f":"IF($E15>0,SUMIF(個別表!$C$13:$C$350,$B15,個別表!IE$13:IE$350),0)","v":0},{"$f":"IF($E15>0,SUMIF(個別表!$C$13:$C$350,$B15,個別表!IF$13:IF$350),0)","v":2},{"$f":"IF($E15>0,SUMIF(個別表!$C$13:$C$350,$B15,個別表!IG$13:IG$350),0)","v":0},{"$f":"IF($E15>0,SUMIF(個別表!$C$13:$C$350,$B15,個別表!IH$13:IH$350),0)","v":0},{"$f":"IF($E15>0,SUMIF(個別表!$C$13:$C$350,$B15,個別表!II$13:II$350),0)","v":0},{"$f":"IF($E15>0,SUMIF(個別表!$C$13:$C$350,$B15,個別表!IJ$13:IJ$350),0)","v":0},{"$f":"IF($E15>0,SUMIF(個別表!$C$13:$C$350,$B15,個別表!IK$13:IK$350),0)","v":0},{"$f":"IF($E15>0,SUMIF(個別表!$C$13:$C$350,$B15,個別表!IL$13:IL$350),0)","v":0},{"$f":"IF($E15>0,SUMIF(個別表!$C$13:$C$350,$B15,個別表!IM$13:IM$350),0)","v":0},{"$f":"IF($E15>0,SUMIF(個別表!$C$13:$C$350,$B15,個別表!IN$13:IN$350),0)","v":0},{"$f":"IF($E15>0,SUMIF(個別表!$C$13:$C$350,$B15,個別表!IO$13:IO$350),0)","v":0},{"$f":"IF($E15>0,SUMIF(個別表!$C$13:$C$350,$B15,個別表!IP$13:IP$350),0)","v":0},{"$f":"IF($E15>0,SUMIF(個別表!$C$13:$C$350,$B15,個別表!IQ$13:IQ$350),0)","v":0},{"$f":"IF($E15>0,SUMIF(個別表!$C$13:$C$350,$B15,個別表!IR$13:IR$350),0)","v":0},{"$f":"IF($E15>0,SUMIF(個別表!$C$13:$C$350,$B15,個別表!IS$13:IS$350),0)","v":0},{"$f":"IF($E15>0,SUMIF(個別表!$C$13:$C$350,$B15,個別表!IT$13:IT$350),0)","v":0},{"$f":"IF($E15>0,SUMIF(個別表!$C$13:$C$350,$B15,個別表!IU$13:IU$350),0)","v":0},{"$f":"IF($E15>0,SUMIF(個別表!$C$13:$C$350,$B15,個別表!IV$13:IV$350),0)","v":0},{"$f":"IF($E15>0,SUMIF(個別表!$C$13:$C$350,$B15,個別表!IW$13:IW$350),0)","v":0},{"$f":"IF($E15>0,SUMIF(個別表!$C$13:$C$350,$B15,個別表!IX$13:IX$350),0)","v":0},{"$f":"IF($E15>0,SUMIF(個別表!$C$13:$C$350,$B15,個別表!IY$13:IY$350),0)","v":0},{"$f":"IF($E15>0,SUMIF(個別表!$C$13:$C$350,$B15,個別表!IZ$13:IZ$350),0)","v":0},{"$f":"IF($E15>0,SUMIF(個別表!$C$13:$C$350,$B15,個別表!JA$13:JA$350),0)","v":0},{"$f":"IF($E15>0,SUMIF(個別表!$C$13:$C$350,$B15,個別表!JB$13:JB$350),0)","v":0},{"$f":"IF($E15>0,SUMIF(個別表!$C$13:$C$350,$B15,個別表!JC$13:JC$350),0)","v":0},{"$f":"IF($E15>0,SUMIF(個別表!$C$13:$C$350,$B15,個別表!JD$13:JD$350),0)","v":0},16,16,null,null,0,0,null,null,0,null,null,0,0,null,0,null,0,2,null,0.5,2.5,18.5,null,null,{"$f":"IF($E15>0,COUNTIFS(個別表!$C$13:$C$350,$B15,個別表!$I$13:$I$350,1,個別表!$V$13:$V$350,DX$9),0)","v":0},{"$f":"IF($E15>0,COUNTIFS(個別表!$C$13:$C$350,$B15,個別表!$I$13:$I$350,1,個別表!$V$13:$V$350,DY$9),0)","v":1},{"$f":"IF($E15>0,COUNTIFS(個別表!$C$13:$C$350,$B15,個別表!$I$13:$I$350,1,個別表!$V$13:$V$350,DZ$9),0)","v":0},{"$f":"IF($E15>0,COUNTIFS(個別表!$C$13:$C$350,$B15,個別表!$I$13:$I$350,1,個別表!$V$13:$V$350,EA$9),0)","v":0},"○"]
[{"$f":"VLOOKUP($B16,個別表!$C$13:$BP$350,2,FALSE)","v":4},5,{"$f":"VLOOKUP($B16,個別表!$C$13:$BP$350,10,FALSE)","v":"埼玉県"},{"$f":"VLOOKUP($B16,個別表!$C$13:$BP$350,11,FALSE)","v":"え"},{"$f":"VLOOKUP($B16,個別表!$C$13:$BP$350,12,FALSE)","v":"戊"},{"$f":"SUMIF(個別表!$C$13:$C$350,総括表!$B16,個別表!$I$13:$I$350)","v":1},{"$f":"SUMIF(個別表!$C$13:$C$350,総括表!$B16,個別表!$AV$13:$AV$350)","v":40000000},{"$f":"SUMIF(個別表!$C$13:$C$350,総括表!$B16,個別表!$AX$13:$AX$350)","v":15000000},{"$f":"SUMIF(個別表!$C$13:$C$350,総括表!$B16,個別表!$J$13:$J$350)","v":1},{"$f":"SUMIF(個別表!$C$13:$C$350,$B16,個別表!$BP$13:$BP$350)","v":15000000},1000000,null,null,{"$f":"SUMIFS(個別表!$I$13:$I$350,個別表!$C$13:$C$350,$B16,個別表!$AL$13:$AL$350,1)","v":1},{"$f":"SUMIFS(個別表!$AV$13:$AV$350,個別表!$C$13:$C$350,$B16,個別表!$AL$13:$AL$350,1)","v":30000000},{"$f":"SUMIFS(個別表!$AW$13:$AW$350,個別表!$C$13:$C$350,$B16,個別表!$AL$13:$AL$350,1)","v":15000000},{"$f":"SUMIFS(個別表!$J$13:$J$350,個別表!$C$13:$C$350,$B16,個別表!$AL$13:$AL$350,1)","v":1},{"$f":"SUMIFS(個別表!$BP$13:$BP$350,個別表!$C$13:$C$350,$B16,個別表!$AL$13:$AL$350,1)","v":10000000},666000,{"$f":"IF($E16>0,SUMIF(個別表!$C$13:$C$350,$B16,個別表!BQ$13:BQ$350),0)","v":1},{"$f":"IF($E16>0,SUMIF(個別表!$C$13:$C$350,$B16,個別表!BY$13:BY$350),0)","v":1},{"$f":"IF($E16>0,SUMIF(個別表!$C$13:$C$350,$B16,個別表!BZ$13:BZ$350),0)","v":0},{"$f":"IF($E16>0,SUMIF(個別表!$C$13:$C$350,$B16,個別表!CA$13:CA$350),0)","v":1},{"$f":"IF($E16>0,SUMIF(個別表!$C$13:$C$350,$B16,個別表!CB$13:CB$350),0)","v":0},{"$f":"IF($E16>0,SUMIF(個別表!$C$13:$C$350,$B16,個別表!CC$13:CC$350),0)","v":0},{"$f":"IF($E16>0,SUMIF(個別表!$C$13:$C$350,$B16,個別表!CD$13:CD$350),0)","v":0},{"$f":"IF($E16>0,SUMIF(個別表!$C$13:$C$350,$B16,個別表!CE$13:CE$350),0)","v":0},{"$f":"IF($E16>0,SUMIF(個別表!$C$13:$C$350,$B16,個別表!CF$13:CF$350),0)","v":0},{"$f":"IF($E16>0,SUMIF(個別表!$C$13:$C$350,$B16,個別表!CG$13:CG$350),0)","v":0},{"$f":"IF($E16>0,SUMIF(個別表!$C$13:$C$350,$B16,個別表!GI$13:GI$350),0)","v":0},{"$f":"IF($E16>0,SUMIF(個別表!$C$13:$C$350,$B16,個別表!GJ$13:GJ$350),0)","v":0},{"$f":"IF($E16>0,SUMIF(個別表!$C$13:$C$350,$B16,個別表!GK$13:GK$350),0)","v":0},{"$f":"IF($E16>0,SUMIF(個別表!$C$13:$C$350,$B16,個別表!GL$13:GL$350),0)","v":0},{"$f":"IF($E16>0,SUMIF(個別表!$C$13:$C$350,$B16,個別表!GM$13:GM$350),0)","v":0},{"$f":"IF($E16>0,SUMIF(個別表!$C$13:$C$350,$B16,個別表!GN$13:GN$350),0)","v":0},{"$f":"IF($E16>0,SUMIF(個別表!$C$13:$C$350,$B16,個別表!GO$13:GO$350),0)","v":0},{"$f":"IF($E16>0,SUMIF(個別表!$C$13:$C$350,$B16,個別表!GP$13:GP$350),0)","v":0},{"$f":"IF($E16>0,SUMIF(個別表!$C$13:$C$350,$B16,個別表!GQ$13:GQ$350),0)","v":0},{"$f":"IF($E16>0,SUMIF(個別表!$C$13:$C$350,$B16,個別表!GR$13:GR$350),0)","v":0},{"$f":"IF($E16>0,SUMIF(個別表!$C$13:$C$350,$B16,個別表!GS$13:GS$350),0)","v":0},{"$f":"IF($E16>0,SUMIF(個別表!$C$13:$C$350,$B16,個別表!GT$13:GT$350),0)","v":0},{"$f":"IF($E16>0,SUMIF(個別表!$C$13:$C$350,$B16,個別表!GU$13:GU$350),0)","v":0},{"$f":"IF($E16>0,SUMIF(個別表!$C$13:$C$350,$B16,個別表!GV$13:GV$350),0)","v":0},{"$f":"IF($E16>0,SUMIF(個別表!$C$13:$C$350,$B16,個別表!GW$13:GW$350),0)","v":0},{"$f":"IF($E16>0,SUMIF(個別表!$C$13:$C$350,$B16,個別表!GX$13:GX$350),0)","v":0},{"$f":"IF($E16>0,SUMIF(個別表!$C$13:$C$350,$B16,個別表!GY$13:GY$350),0)","v":0},{"$f":"IF($E16>0,SUMIF(個別表!$C$13:$C$350,$B16,個別表!GZ$13:GZ$350),0)","v":0},{"$f":"IF($E16>0,SUMIF(個別表!$C$13:$C$350,$B16,個別表!HA$13:HA$350),0)","v":0},{"$f":"IF($E16>0,SUMIF(個別表!$C$13:$C$350,$B16,個別表!HB$13:HB$350),0)","v":0},{"$f":"IF($E16>0,SUMIF(個別表!$C$13:$C$350,$B16,個別表!HC$13:HC$350),0)","v":0},{"$f":"IF($E16>0,SUMIF(個別表!$C$13:$C$350,$B16,個別表!HD$13:HD$350),0)","v":0},{"$f":"IF($E16>0,SUMIF(個別表!$C$13:$C$350,$B16,個別表!HE$13:HE$350),0)","v":0},{"$f":"IF($E16>0,SUMIF(個別表!$C$13:$C$350,$B16,個別表!HF$13:HF$350),0)","v":0},{"$f":"IF($E16>0,SUMIF(個別表!$C$13:$C$350,$B16,個別表!HG$13:HG$350),0)","v":0},{"$f":"IF($E16>0,SUMIF(個別表!$C$13:$C$350,$B16,個別表!HH$13:HH$350),0)","v":0},{"$f":"IF($E16>0,SUMIF(個別表!$C$13:$C$350,$B16,個別表!HI$13:HI$350),0)","v":0},{"$f":"IF($E16>0,SUMIF(個別表!$C$13:$C$350,$B16,個別表!HJ$13:HJ$350),0)","v":0},{"$f":"IF($E16>0,SUMIF(個別表!$C$13:$C$350,$B16,個別表!HK$13:HK$350),0)","v":0},{"$f":"IF($E16>0,SUMIF(個別表!$C$13:$C$350,$B16,個別表!HL$13:HL$350),0)","v":0},{"$f":"IF($E16>0,SUMIF(個別表!$C$13:$C$350,$B16,個別表!HM$13:HM$350),0)","v":0},{"$f":"IF($E16>0,SUMIF(個別表!$C$13:$C$350,$B16,個別表!HN$13:HN$350),0)","v":0},{"$f":"IF($E16>0,SUMIF(個別表!$C$13:$C$350,$B16,個別表!HO$13:HO$350),0)","v":6},{"$f":"IF($E16>0,SUMIF(個別表!$C$13:$C$350,$B16,個別表!HP$13:HP$350),0)","v":5},{"$f":"IF($E16>0,SUMIF(個別表!$C$13:$C$350,$B16,個別表!HQ$13:HQ$350),0)","v":0},{"$f":"IF($E16>0,SUMIF(個別表!$C$13:$C$350,$B16,個別表!HR$13:HR$350),0)","v":0},{"$f":"IF($E16>0,SUMIF(個別表!$C$13:$C$350,$B16,個別表!HS$13:HS$350),0)","v":0},{"$f":"IF($E16>0,SUMIF(個別表!$C$13:$C$350,$B16,個別表!HT$13:HT$350),0)","v":0},{"$f":"IF($E16>0,SUMIF(個別表!$C$13:$C$350,$B16,個別表!HU$13:HU$350),0)","v":0},{"$f":"IF($E16>0,SUMIF(個別表!$C$13:$C$350,$B16,個別表!HV$13:HV$350),0)","v":0},{"$f":"IF($E16>0,SUMIF(個別表!$C$13:$C$350,$B16,個別表!HW$13:HW$350),0)","v":0},{"$f":"IF($E16>0,SUMIF(個別表!$C$13:$C$350,$B16,個別表!HX$13:HX$350),0)","v":0},{"$f":"IF($E16>0,SUMIF(個別表!$C$13:$C$350,$B16,個別表!HY$13:HY$350),0)","v":0},{"$f":"IF($E16>0,SUMIF(個別表!$C$13:$C$350,$B16,個別表!HZ$13:HZ$350),0)","v":0},{"$f":"IF($E16>0,SUMIF(個別表!$C$13:$C$350,$B16,個別表!IA$13:IA$350),0)","v":0},{"$f":"IF($E16>0,SUMIF(個別表!$C$13:$C$350,$B16,個別表!IB$13:IB$350),0)","v":1},{"$f":"IF($E16>0,SUMIF(個別表!$C$13:$C$350,$B16,個別表!IC$13:IC$350),0)","v":0},{"$f":"IF($E16>0,SUMIF(個別表!$C$13:$C$350,$B16,個別表!ID$13:ID$350),0)","v":0},{"$f":"IF($E16>0,SUMIF(個別表!$C$13:$C$350,$B16,個別表!IE$13:IE$350),0)","v":0},{"$f":"IF($E16>0,SUMIF(個別表!$C$13:$C$350,$B16,個別表!IF$13:IF$350),0)","v":0},{"$f":"IF($E16>0,SUMIF(個別表!$C$13:$C$350,$B16,個別表!IG$13:IG$350),0)","v":0},{"$f":"IF($E16>0,SUMIF(個別表!$C$13:$C$350,$B16,個別表!IH$13:IH$350),0)","v":0},{"$f":"IF($E16>0,SUMIF(個別表!$C$13:$C$350,$B16,個別表!II$13:II$350),0)","v":0},{"$f":"IF($E16>0,SUMIF(個別表!$C$13:$C$350,$B16,個別表!IJ$13:IJ$350),0)","v":0},{"$f":"IF($E16>0,SUMIF(個別表!$C$13:$C$350,$B16,個別表!IK$13:IK$350),0)","v":0},{"$f":"IF($E16>0,SUMIF(個別表!$C$13:$C$350,$B16,個別表!IL$13:IL$350),0)","v":0},{"$f":"IF($E16>0,SUMIF(個別表!$C$13:$C$350,$B16,個別表!IM$13:IM$350),0)","v":0},{"$f":"IF($E16>0,SUMIF(個別表!$C$13:$C$350,$B16,個別表!IN$13:IN$350),0)","v":0},{"$f":"IF($E16>0,SUMIF(個別表!$C$13:$C$350,$B16,個別表!IO$13:IO$350),0)","v":0},{"$f":"IF($E16>0,SUMIF(個別表!$C$13:$C$350,$B16,個別表!IP$13:IP$350),0)","v":0},{"$f":"IF($E16>0,SUMIF(個別表!$C$13:$C$350,$B16,個別表!IQ$13:IQ$350),0)","v":0},{"$f":"IF($E16>0,SUMIF(個別表!$C$13:$C$350,$B16,個別表!IR$13:IR$350),0)","v":0},{"$f":"IF($E16>0,SUMIF(個別表!$C$13:$C$350,$B16,個別表!IS$13:IS$350),0)","v":0},{"$f":"IF($E16>0,SUMIF(個別表!$C$13:$C$350,$B16,個別表!IT$13:IT$350),0)","v":0},{"$f":"IF($E16>0,SUMIF(個別表!$C$13:$C$350,$B16,個別表!IU$13:IU$350),0)","v":0},{"$f":"IF($E16>0,SUMIF(個別表!$C$13:$C$350,$B16,個別表!IV$13:IV$350),0)","v":2},{"$f":"IF($E16>0,SUMIF(個別表!$C$13:$C$350,$B16,個別表!IW$13:IW$350),0)","v":3},{"$f":"IF($E16>0,SUMIF(個別表!$C$13:$C$350,$B16,個別表!IX$13:IX$350),0)","v":0},{"$f":"IF($E16>0,SUMIF(個別表!$C$13:$C$350,$B16,個別表!IY$13:IY$350),0)","v":0},{"$f":"IF($E16>0,SUMIF(個別表!$C$13:$C$350,$B16,個別表!IZ$13:IZ$350),0)","v":0},{"$f":"IF($E16>0,SUMIF(個別表!$C$13:$C$350,$B16,個別表!JA$13:JA$350),0)","v":0},{"$f":"IF($E16>0,SUMIF(個別表!$C$13:$C$350,$B16,個別表!JB$13:JB$350),0)","v":0},{"$f":"IF($E16>0,SUMIF(個別表!$C$13:$C$350,$B16,個別表!JC$13:JC$350),0)","v":0},{"$f":"IF($E16>0,SUMIF(個別表!$C$13:$C$350,$B16,個別表!JD$13:JD$350),0)","v":0},17,17,5,4,0.8,1,5,1,0.2,5,4,0.8,1,1.5,2.5,2.5,1,null,null,null,3,20,null,null,{"$f":"IF($E16>0,COUNTIFS(個別表!$C$13:$C$350,$B16,個別表!$I$13:$I$350,1,個別表!$V$13:$V$350,DX$9),0)","v":0},{"$f":"IF($E16>0,COUNTIFS(個別表!$C$13:$C$350,$B16,個別表!$I$13:$I$350,1,個別表!$V$13:$V$350,DY$9),0)","v":0},{"$f":"IF($E16>0,COUNTIFS(個別表!$C$13:$C$350,$B16,個別表!$I$13:$I$350,1,個別表!$V$13:$V$350,DZ$9),0)","v":1},{"$f":"IF($E16>0,COUNTIFS(個別表!$C$13:$C$350,$B16,個別表!$I$13:$I$350,1,個別表!$V$13:$V$350,EA$9),0)","v":0},{"$f":"IF(SUM(DX16:DY16,EA16)>0,IF(SUM(DQ16:DR16)>0,\"○\",\"×\"),\"\")","v":""}]
[{"$f":"VLOOKUP($B17,個別表!$C$13:$BP$350,2,FALSE)","v":0},0,{"$f":"VLOOKUP($B17,個別表!$C$13:$BP$350,10,FALSE)","v":0},{"$f":"VLOOKUP($B17,個別表!$C$13:$BP$350,11,FALSE)","v":0},{"$f":"VLOOKUP($B17,個別表!$C$13:$BP$350,12,FALSE)","v":0},{"$f":"SUMIF(個別表!$C$13:$C$350,総括表!$B17,個別表!$I$13:$I$350)","v":0},{"$f":"SUMIF(個別表!$C$13:$C$350,総括表!$B17,個別表!$AV$13:$AV$350)","v":0},{"$f":"SUMIF(個別表!$C$13:$C$350,総括表!$B17,個別表!$AX$13:$AX$350)","v":0},{"$f":"SUMIF(個別表!$C$13:$C$350,総括表!$B17,個別表!$J$13:$J$350)","v":0},{"$f":"SUMIF(個別表!$C$13:$C$350,$B17,個別表!$BP$13:$BP$350)","v":0},0,null,null,{"$f":"SUMIFS(個別表!$I$13:$I$350,個別表!$C$13:$C$350,$B17,個別表!$AL$13:$AL$350,1)","v":0},{"$f":"SUMIFS(個別表!$AV$13:$AV$350,個別表!$C$13:$C$350,$B17,個別表!$AL$13:$AL$350,1)","v":0},{"$f":"SUMIFS(個別表!$AW$13:$AW$350,個別表!$C$13:$C$350,$B17,個別表!$AL$13:$AL$350,1)","v":0},{"$f":"SUMIFS(個別表!$J$13:$J$350,個別表!$C$13:$C$350,$B17,個別表!$AL$13:$AL$350,1)","v":0},{"$f":"SUMIFS(個別表!$BP$13:$BP$350,個別表!$C$13:$C$350,$B17,個別表!$AL$13:$AL$350,1)","v":0},0,{"$f":"IF($E17>0,SUMIF(個別表!$C$13:$C$350,$B17,個別表!BQ$13:BQ$350),0)","v":0},{"$f":"IF($E17>0,SUMIF(個別表!$C$13:$C$350,$B17,個別表!BY$13:BY$350),0)","v":0},{"$f":"IF($E17>0,SUMIF(個別表!$C$13:$C$350,$B17,個別表!BZ$13:BZ$350),0)","v":0},{"$f":"IF($E17>0,SUMIF(個別表!$C$13:$C$350,$B17,個別表!CA$13:CA$350),0)","v":0},{"$f":"IF($E17>0,SUMIF(個別表!$C$13:$C$350,$B17,個別表!CB$13:CB$350),0)","v":0},{"$f":"IF($E17>0,SUMIF(個別表!$C$13:$C$350,$B17,個別表!CC$13:CC$350),0)","v":0},{"$f":"IF($E17>0,SUMIF(個別表!$C$13:$C$350,$B17,個別表!CD$13:CD$350),0)","v":0},{"$f":"IF($E17>0,SUMIF(個別表!$C$13:$C$350,$B17,個別表!CE$13:CE$350),0)","v":0},{"$f":"IF($E17>0,SUMIF(個別表!$C$13:$C$350,$B17,個別表!CF$13:CF$350),0)","v":0},{"$f":"IF($E17>0,SUMIF(個別表!$C$13:$C$350,$B17,個別表!CG$13:CG$350),0)","v":0},{"$f":"IF($E17>0,SUMIF(個別表!$C$13:$C$350,$B17,個別表!GI$13:GI$350),0)","v":0},{"$f":"IF($E17>0,SUMIF(個別表!$C$13:$C$350,$B17,個別表!GJ$13:GJ$350),0)","v":0},{"$f":"IF($E17>0,SUMIF(個別表!$C$13:$C$350,$B17,個別表!GK$13:GK$350),0)","v":0},{"$f":"IF($E17>0,SUMIF(個別表!$C$13:$C$350,$B17,個別表!GL$13:GL$350),0)","v":0},{"$f":"IF($E17>0,SUMIF(個別表!$C$13:$C$350,$B17,個別表!GM$13:GM$350),0)","v":0},{"$f":"IF($E17>0,SUMIF(個別表!$C$13:$C$350,$B17,個別表!GN$13:GN$350),0)","v":0},{"$f":"IF($E17>0,SUMIF(個別表!$C$13:$C$350,$B17,個別表!GO$13:GO$350),0)","v":0},{"$f":"IF($E17>0,SUMIF(個別表!$C$13:$C$350,$B17,個別表!GP$13:GP$350),0)","v":0},{"$f":"IF($E17>0,SUMIF(個別表!$C$13:$C$350,$B17,個別表!GQ$13:GQ$350),0)","v":0},{"$f":"IF($E17>0,SUMIF(個別表!$C$13:$C$350,$B17,個別表!GR$13:GR$350),0)","v":0},{"$f":"IF($E17>0,SUMIF(個別表!$C$13:$C$350,$B17,個別表!GS$13:GS$350),0)","v":0},{"$f":"IF($E17>0,SUMIF(個別表!$C$13:$C$350,$B17,個別表!GT$13:GT$350),0)","v":0},{"$f":"IF($E17>0,SUMIF(個別表!$C$13:$C$350,$B17,個別表!GU$13:GU$350),0)","v":0},{"$f":"IF($E17>0,SUMIF(個別表!$C$13:$C$350,$B17,個別表!GV$13:GV$350),0)","v":0},{"$f":"IF($E17>0,SUMIF(個別表!$C$13:$C$350,$B17,個別表!GW$13:GW$350),0)","v":0},{"$f":"IF($E17>0,SUMIF(個別表!$C$13:$C$350,$B17,個別表!GX$13:GX$350),0)","v":0},{"$f":"IF($E17>0,SUMIF(個別表!$C$13:$C$350,$B17,個別表!GY$13:GY$350),0)","v":0},{"$f":"IF($E17>0,SUMIF(個別表!$C$13:$C$350,$B17,個別表!GZ$13:GZ$350),0)","v":0},{"$f":"IF($E17>0,SUMIF(個別表!$C$13:$C$350,$B17,個別表!HA$13:HA$350),0)","v":0},{"$f":"IF($E17>0,SUMIF(個別表!$C$13:$C$350,$B17,個別表!HB$13:HB$350),0)","v":0},{"$f":"IF($E17>0,SUMIF(個別表!$C$13:$C$350,$B17,個別表!HC$13:HC$350),0)","v":0},{"$f":"IF($E17>0,SUMIF(個別表!$C$13:$C$350,$B17,個別表!HD$13:HD$350),0)","v":0},{"$f":"IF($E17>0,SUMIF(個別表!$C$13:$C$350,$B17,個別表!HE$13:HE$350),0)","v":0},{"$f":"IF($E17>0,SUMIF(個別表!$C$13:$C$350,$B17,個別表!HF$13:HF$350),0)","v":0},{"$f":"IF($E17>0,SUMIF(個別表!$C$13:$C$350,$B17,個別表!HG$13:HG$350),0)","v":0},{"$f":"IF($E17>0,SUMIF(個別表!$C$13:$C$350,$B17,個別表!HH$13:HH$350),0)","v":0},{"$f":"IF($E17>0,SUMIF(個別表!$C$13:$C$350,$B17,個別表!HI$13:HI$350),0)","v":0},{"$f":"IF($E17>0,SUMIF(個別表!$C$13:$C$350,$B17,個別表!HJ$13:HJ$350),0)","v":0},{"$f":"IF($E17>0,SUMIF(個別表!$C$13:$C$350,$B17,個別表!HK$13:HK$350),0)","v":0},{"$f":"IF($E17>0,SUMIF(個別表!$C$13:$C$350,$B17,個別表!HL$13:HL$350),0)","v":0},{"$f":"IF($E17>0,SUMIF(個別表!$C$13:$C$350,$B17,個別表!HM$13:HM$350),0)","v":0},{"$f":"IF($E17>0,SUMIF(個別表!$C$13:$C$350,$B17,個別表!HN$13:HN$350),0)","v":0},{"$f":"IF($E17>0,SUMIF(個別表!$C$13:$C$350,$B17,個別表!HO$13:HO$350),0)","v":0},{"$f":"IF($E17>0,SUMIF(個別表!$C$13:$C$350,$B17,個別表!HP$13:HP$350),0)","v":0},{"$f":"IF($E17>0,SUMIF(個別表!$C$13:$C$350,$B17,個別表!HQ$13:HQ$350),0)","v":0},{"$f":"IF($E17>0,SUMIF(個別表!$C$13:$C$350,$B17,個別表!HR$13:HR$350),0)","v":0},{"$f":"IF($E17>0,SUMIF(個別表!$C$13:$C$350,$B17,個別表!HS$13:HS$350),0)","v":0},{"$f":"IF($E17>0,SUMIF(個別表!$C$13:$C$350,$B17,個別表!HT$13:HT$350),0)","v":0},{"$f":"IF($E17>0,SUMIF(個別表!$C$13:$C$350,$B17,個別表!HU$13:HU$350),0)","v":0},{"$f":"IF($E17>0,SUMIF(個別表!$C$13:$C$350,$B17,個別表!HV$13:HV$350),0)","v":0},{"$f":"IF($E17>0,SUMIF(個別表!$C$13:$C$350,$B17,個別表!HW$13:HW$350),0)","v":0},{"$f":"IF($E17>0,SUMIF(個別表!$C$13:$C$350,$B17,個別表!HX$13:HX$350),0)","v":0},{"$f":"IF($E17>0,SUMIF(個別表!$C$13:$C$350,$B17,個別表!HY$13:HY$350),0)","v":0},{"$f":"IF($E17>0,SUMIF(個別表!$C$13:$C$350,$B17,個別表!HZ$13:HZ$350),0)","v":0},{"$f":"IF($E17>0,SUMIF(個別表!$C$13:$C$350,$B17,個別表!IA$13:IA$350),0)","v":0},{"$f":"IF($E17>0,SUMIF(個別表!$C$13:$C$350,$B17,個別表!IB$13:IB$350),0)","v":0},{"$f":"IF($E17>0,SUMIF(個別表!$C$13:$C$350,$B17,個別表!IC$13:IC$350),0)","v":0},{"$f":"IF($E17>0,SUMIF(個別表!$C$13:$C$350,$B17,個別表!ID$13:ID$350),0)","v":0},{"$f":"IF($E17>0,SUMIF(個別表!$C$13:$C$350,$B17,個別表!IE$13:IE$350),0)","v":0},{"$f":"IF($E17>0,SUMIF(個別表!$C$13:$C$350,$B17,個別表!IF$13:IF$350),0)","v":0},{"$f":"IF($E17>0,SUMIF(個別表!$C$13:$C$350,$B17,個別表!IG$13:IG$350),0)","v":0},{"$f":"IF($E17>0,SUMIF(個別表!$C$13:$C$350,$B17,個別表!IH$13:IH$350),0)","v":0},{"$f":"IF($E17>0,SUMIF(個別表!$C$13:$C$350,$B17,個別表!II$13:II$350),0)","v":0},{"$f":"IF($E17>0,SUMIF(個別表!$C$13:$C$350,$B17,個別表!IJ$13:IJ$350),0)","v":0},{"$f":"IF($E17>0,SUMIF(個別表!$C$13:$C$350,$B17,個別表!IK$13:IK$350),0)","v":0},{"$f":"IF($E17>0,SUMIF(個別表!$C$13:$C$350,$B17,個別表!IL$13:IL$350),0)","v":0},{"$f":"IF($E17>0,SUMIF(個別表!$C$13:$C$350,$B17,個別表!IM$13:IM$350),0)","v":0},{"$f":"IF($E17>0,SUMIF(個別表!$C$13:$C$350,$B17,個別表!IN$13:IN$350),0)","v":0},{"$f":"IF($E17>0,SUMIF(個別表!$C$13:$C$350,$B17,個別表!IO$13:IO$350),0)","v":0},{"$f":"IF($E17>0,SUMIF(個別表!$C$13:$C$350,$B17,個別表!IP$13:IP$350),0)","v":0},{"$f":"IF($E17>0,SUMIF(個別表!$C$13:$C$350,$B17,個別表!IQ$13:IQ$350),0)","v":0},{"$f":"IF($E17>0,SUMIF(個別表!$C$13:$C$350,$B17,個別表!IR$13:IR$350),0)","v":0},{"$f":"IF($E17>0,SUMIF(個別表!$C$13:$C$350,$B17,個別表!IS$13:IS$350),0)","v":0},{"$f":"IF($E17>0,SUMIF(個別表!$C$13:$C$350,$B17,個別表!IT$13:IT$350),0)","v":0},{"$f":"IF($E17>0,SUMIF(個別表!$C$13:$C$350,$B17,個別表!IU$13:IU$350),0)","v":0},{"$f":"IF($E17>0,SUMIF(個別表!$C$13:$C$350,$B17,個別表!IV$13:IV$350),0)","v":0},{"$f":"IF($E17>0,SUMIF(個別表!$C$13:$C$350,$B17,個別表!IW$13:IW$350),0)","v":0},{"$f":"IF($E17>0,SUMIF(個別表!$C$13:$C$350,$B17,個別表!IX$13:IX$350),0)","v":0},{"$f":"IF($E17>0,SUMIF(個別表!$C$13:$C$350,$B17,個別表!IY$13:IY$350),0)","v":0},{"$f":"IF($E17>0,SUMIF(個別表!$C$13:$C$350,$B17,個別表!IZ$13:IZ$350),0)","v":0},{"$f":"IF($E17>0,SUMIF(個別表!$C$13:$C$350,$B17,個別表!JA$13:JA$350),0)","v":0},{"$f":"IF($E17>0,SUMIF(個別表!$C$13:$C$350,$B17,個別表!JB$13:JB$350),0)","v":0},{"$f":"IF($E17>0,SUMIF(個別表!$C$13:$C$350,$B17,個別表!JC$13:JC$350),0)","v":0},{"$f":"IF($E17>0,SUMIF(個別表!$C$13:$C$350,$B17,個別表!JD$13:JD$350),0)","v":0},0,0,null,null,0,0,null,null,0,null,null,0,0,null,0,null,0,null,null,null,0,0,null,null,{"$f":"IF($E17>0,COUNTIFS(個別表!$C$13:$C$350,$B17,個別表!$I$13:$I$350,1,個別表!$V$13:$V$350,DX$9),0)","v":0},{"$f":"IF($E17>0,COUNTIFS(個別表!$C$13:$C$350,$B17,個別表!$I$13:$I$350,1,個別表!$V$13:$V$350,DY$9),0)","v":0},{"$f":"IF($E17>0,COUNTIFS(個別表!$C$13:$C$350,$B17,個別表!$I$13:$I$350,1,個別表!$V$13:$V$350,DZ$9),0)","v":0},{"$f":"IF($E17>0,COUNTIFS(個別表!$C$13:$C$350,$B17,個別表!$I$13:$I$350,1,個別表!$V$13:$V$350,EA$9),0)","v":0},""]
[{"$f":"VLOOKUP($B18,個別表!$C$13:$BP$350,2,FALSE)","v":0},0,{"$f":"VLOOKUP($B18,個別表!$C$13:$BP$350,10,FALSE)","v":0},{"$f":"VLOOKUP($B18,個別表!$C$13:$BP$350,11,FALSE)","v":0},{"$f":"VLOOKUP($B18,個別表!$C$13:$BP$350,12,FALSE)","v":0},{"$f":"SUMIF(個別表!$C$13:$C$350,総括表!$B18,個別表!$I$13:$I$350)","v":0},{"$f":"SUMIF(個別表!$C$13:$C$350,総括表!$B18,個別表!$AV$13:$AV$350)","v":0},{"$f":"SUMIF(個別表!$C$13:$C$350,総括表!$B18,個別表!$AX$13:$AX$350)","v":0},{"$f":"SUMIF(個別表!$C$13:$C$350,総括表!$B18,個別表!$J$13:$J$350)","v":0},{"$f":"SUMIF(個別表!$C$13:$C$350,$B18,個別表!$BP$13:$BP$350)","v":0},0,null,null,{"$f":"SUMIFS(個別表!$I$13:$I$350,個別表!$C$13:$C$350,$B18,個別表!$AL$13:$AL$350,1)","v":0},{"$f":"SUMIFS(個別表!$AV$13:$AV$350,個別表!$C$13:$C$350,$B18,個別表!$AL$13:$AL$350,1)","v":0},{"$f":"SUMIFS(個別表!$AW$13:$AW$350,個別表!$C$13:$C$350,$B18,個別表!$AL$13:$AL$350,1)","v":0},{"$f":"SUMIFS(個別表!$J$13:$J$350,個別表!$C$13:$C$350,$B18,個別表!$AL$13:$AL$350,1)","v":0},{"$f":"SUMIFS(個別表!$BP$13:$BP$350,個別表!$C$13:$C$350,$B18,個別表!$AL$13:$AL$350,1)","v":0},0,{"$f":"IF($E18>0,SUMIF(個別表!$C$13:$C$350,$B18,個別表!BQ$13:BQ$350),0)","v":0},{"$f":"IF($E18>0,SUMIF(個別表!$C$13:$C$350,$B18,個別表!BY$13:BY$350),0)","v":0},{"$f":"IF($E18>0,SUMIF(個別表!$C$13:$C$350,$B18,個別表!BZ$13:BZ$350),0)","v":0},{"$f":"IF($E18>0,SUMIF(個別表!$C$13:$C$350,$B18,個別表!CA$13:CA$350),0)","v":0},{"$f":"IF($E18>0,SUMIF(個別表!$C$13:$C$350,$B18,個別表!CB$13:CB$350),0)","v":0},{"$f":"IF($E18>0,SUMIF(個別表!$C$13:$C$350,$B18,個別表!CC$13:CC$350),0)","v":0},{"$f":"IF($E18>0,SUMIF(個別表!$C$13:$C$350,$B18,個別表!CD$13:CD$350),0)","v":0},{"$f":"IF($E18>0,SUMIF(個別表!$C$13:$C$350,$B18,個別表!CE$13:CE$350),0)","v":0},{"$f":"IF($E18>0,SUMIF(個別表!$C$13:$C$350,$B18,個別表!CF$13:CF$350),0)","v":0},{"$f":"IF($E18>0,SUMIF(個別表!$C$13:$C$350,$B18,個別表!CG$13:CG$350),0)","v":0},{"$f":"IF($E18>0,SUMIF(個別表!$C$13:$C$350,$B18,個別表!GI$13:GI$350),0)","v":0},{"$f":"IF($E18>0,SUMIF(個別表!$C$13:$C$350,$B18,個別表!GJ$13:GJ$350),0)","v":0},{"$f":"IF($E18>0,SUMIF(個別表!$C$13:$C$350,$B18,個別表!GK$13:GK$350),0)","v":0},{"$f":"IF($E18>0,SUMIF(個別表!$C$13:$C$350,$B18,個別表!GL$13:GL$350),0)","v":0},{"$f":"IF($E18>0,SUMIF(個別表!$C$13:$C$350,$B18,個別表!GM$13:GM$350),0)","v":0},{"$f":"IF($E18>0,SUMIF(個別表!$C$13:$C$350,$B18,個別表!GN$13:GN$350),0)","v":0},{"$f":"IF($E18>0,SUMIF(個別表!$C$13:$C$350,$B18,個別表!GO$13:GO$350),0)","v":0},{"$f":"IF($E18>0,SUMIF(個別表!$C$13:$C$350,$B18,個別表!GP$13:GP$350),0)","v":0},{"$f":"IF($E18>0,SUMIF(個別表!$C$13:$C$350,$B18,個別表!GQ$13:GQ$350),0)","v":0},{"$f":"IF($E18>0,SUMIF(個別表!$C$13:$C$350,$B18,個別表!GR$13:GR$350),0)","v":0},{"$f":"IF($E18>0,SUMIF(個別表!$C$13:$C$350,$B18,個別表!GS$13:GS$350),0)","v":0},{"$f":"IF($E18>0,SUMIF(個別表!$C$13:$C$350,$B18,個別表!GT$13:GT$350),0)","v":0},{"$f":"IF($E18>0,SUMIF(個別表!$C$13:$C$350,$B18,個別表!GU$13:GU$350),0)","v":0},{"$f":"IF($E18>0,SUMIF(個別表!$C$13:$C$350,$B18,個別表!GV$13:GV$350),0)","v":0},{"$f":"IF($E18>0,SUMIF(個別表!$C$13:$C$350,$B18,個別表!GW$13:GW$350),0)","v":0},{"$f":"IF($E18>0,SUMIF(個別表!$C$13:$C$350,$B18,個別表!GX$13:GX$350),0)","v":0},{"$f":"IF($E18>0,SUMIF(個別表!$C$13:$C$350,$B18,個別表!GY$13:GY$350),0)","v":0},{"$f":"IF($E18>0,SUMIF(個別表!$C$13:$C$350,$B18,個別表!GZ$13:GZ$350),0)","v":0},{"$f":"IF($E18>0,SUMIF(個別表!$C$13:$C$350,$B18,個別表!HA$13:HA$350),0)","v":0},{"$f":"IF($E18>0,SUMIF(個別表!$C$13:$C$350,$B18,個別表!HB$13:HB$350),0)","v":0},{"$f":"IF($E18>0,SUMIF(個別表!$C$13:$C$350,$B18,個別表!HC$13:HC$350),0)","v":0},{"$f":"IF($E18>0,SUMIF(個別表!$C$13:$C$350,$B18,個別表!HD$13:HD$350),0)","v":0},{"$f":"IF($E18>0,SUMIF(個別表!$C$13:$C$350,$B18,個別表!HE$13:HE$350),0)","v":0},{"$f":"IF($E18>0,SUMIF(個別表!$C$13:$C$350,$B18,個別表!HF$13:HF$350),0)","v":0},{"$f":"IF($E18>0,SUMIF(個別表!$C$13:$C$350,$B18,個別表!HG$13:HG$350),0)","v":0},{"$f":"IF($E18>0,SUMIF(個別表!$C$13:$C$350,$B18,個別表!HH$13:HH$350),0)","v":0},{"$f":"IF($E18>0,SUMIF(個別表!$C$13:$C$350,$B18,個別表!HI$13:HI$350),0)","v":0},{"$f":"IF($E18>0,SUMIF(個別表!$C$13:$C$350,$B18,個別表!HJ$13:HJ$350),0)","v":0},{"$f":"IF($E18>0,SUMIF(個別表!$C$13:$C$350,$B18,個別表!HK$13:HK$350),0)","v":0},{"$f":"IF($E18>0,SUMIF(個別表!$C$13:$C$350,$B18,個別表!HL$13:HL$350),0)","v":0},{"$f":"IF($E18>0,SUMIF(個別表!$C$13:$C$350,$B18,個別表!HM$13:HM$350),0)","v":0},{"$f":"IF($E18>0,SUMIF(個別表!$C$13:$C$350,$B18,個別表!HN$13:HN$350),0)","v":0},{"$f":"IF($E18>0,SUMIF(個別表!$C$13:$C$350,$B18,個別表!HO$13:HO$350),0)","v":0},{"$f":"IF($E18>0,SUMIF(個別表!$C$13:$C$350,$B18,個別表!HP$13:HP$350),0)","v":0},{"$f":"IF($E18>0,SUMIF(個別表!$C$13:$C$350,$B18,個別表!HQ$13:HQ$350),0)","v":0},{"$f":"IF($E18>0,SUMIF(個別表!$C$13:$C$350,$B18,個別表!HR$13:HR$350),0)","v":0},{"$f":"IF($E18>0,SUMIF(個別表!$C$13:$C$350,$B18,個別表!HS$13:HS$350),0)","v":0},{"$f":"IF($E18>0,SUMIF(個別表!$C$13:$C$350,$B18,個別表!HT$13:HT$350),0)","v":0},{"$f":"IF($E18>0,SUMIF(個別表!$C$13:$C$350,$B18,個別表!HU$13:HU$350),0)","v":0},{"$f":"IF($E18>0,SUMIF(個別表!$C$13:$C$350,$B18,個別表!HV$13:HV$350),0)","v":0},{"$f":"IF($E18>0,SUMIF(個別表!$C$13:$C$350,$B18,個別表!HW$13:HW$350),0)","v":0},{"$f":"IF($E18>0,SUMIF(個別表!$C$13:$C$350,$B18,個別表!HX$13:HX$350),0)","v":0},{"$f":"IF($E18>0,SUMIF(個別表!$C$13:$C$350,$B18,個別表!HY$13:HY$350),0)","v":0},{"$f":"IF($E18>0,SUMIF(個別表!$C$13:$C$350,$B18,個別表!HZ$13:HZ$350),0)","v":0},{"$f":"IF($E18>0,SUMIF(個別表!$C$13:$C$350,$B18,個別表!IA$13:IA$350),0)","v":0},{"$f":"IF($E18>0,SUMIF(個別表!$C$13:$C$350,$B18,個別表!IB$13:IB$350),0)","v":0},{"$f":"IF($E18>0,SUMIF(個別表!$C$13:$C$350,$B18,個別表!IC$13:IC$350),0)","v":0},{"$f":"IF($E18>0,SUMIF(個別表!$C$13:$C$350,$B18,個別表!ID$13:ID$350),0)","v":0},{"$f":"IF($E18>0,SUMIF(個別表!$C$13:$C$350,$B18,個別表!IE$13:IE$350),0)","v":0},{"$f":"IF($E18>0,SUMIF(個別表!$C$13:$C$350,$B18,個別表!IF$13:IF$350),0)","v":0},{"$f":"IF($E18>0,SUMIF(個別表!$C$13:$C$350,$B18,個別表!IG$13:IG$350),0)","v":0},{"$f":"IF($E18>0,SUMIF(個別表!$C$13:$C$350,$B18,個別表!IH$13:IH$350),0)","v":0},{"$f":"IF($E18>0,SUMIF(個別表!$C$13:$C$350,$B18,個別表!II$13:II$350),0)","v":0},{"$f":"IF($E18>0,SUMIF(個別表!$C$13:$C$350,$B18,個別表!IJ$13:IJ$350),0)","v":0},{"$f":"IF($E18>0,SUMIF(個別表!$C$13:$C$350,$B18,個別表!IK$13:IK$350),0)","v":0},{"$f":"IF($E18>0,SUMIF(個別表!$C$13:$C$350,$B18,個別表!IL$13:IL$350),0)","v":0},{"$f":"IF($E18>0,SUMIF(個別表!$C$13:$C$350,$B18,個別表!IM$13:IM$350),0)","v":0},{"$f":"IF($E18>0,SUMIF(個別表!$C$13:$C$350,$B18,個別表!IN$13:IN$350),0)","v":0},{"$f":"IF($E18>0,SUMIF(個別表!$C$13:$C$350,$B18,個別表!IO$13:IO$350),0)","v":0},{"$f":"IF($E18>0,SUMIF(個別表!$C$13:$C$350,$B18,個別表!IP$13:IP$350),0)","v":0},{"$f":"IF($E18>0,SUMIF(個別表!$C$13:$C$350,$B18,個別表!IQ$13:IQ$350),0)","v":0},{"$f":"IF($E18>0,SUMIF(個別表!$C$13:$C$350,$B18,個別表!IR$13:IR$350),0)","v":0},{"$f":"IF($E18>0,SUMIF(個別表!$C$13:$C$350,$B18,個別表!IS$13:IS$350),0)","v":0},{"$f":"IF($E18>0,SUMIF(個別表!$C$13:$C$350,$B18,個別表!IT$13:IT$350),0)","v":0},{"$f":"IF($E18>0,SUMIF(個別表!$C$13:$C$350,$B18,個別表!IU$13:IU$350),0)","v":0},{"$f":"IF($E18>0,SUMIF(個別表!$C$13:$C$350,$B18,個別表!IV$13:IV$350),0)","v":0},{"$f":"IF($E18>0,SUMIF(個別表!$C$13:$C$350,$B18,個別表!IW$13:IW$350),0)","v":0},{"$f":"IF($E18>0,SUMIF(個別表!$C$13:$C$350,$B18,個別表!IX$13:IX$350),0)","v":0},{"$f":"IF($E18>0,SUMIF(個別表!$C$13:$C$350,$B18,個別表!IY$13:IY$350),0)","v":0},{"$f":"IF($E18>0,SUMIF(個別表!$C$13:$C$350,$B18,個別表!IZ$13:IZ$350),0)","v":0},{"$f":"IF($E18>0,SUMIF(個別表!$C$13:$C$350,$B18,個別表!JA$13:JA$350),0)","v":0},{"$f":"IF($E18>0,SUMIF(個別表!$C$13:$C$350,$B18,個別表!JB$13:JB$350),0)","v":0},{"$f":"IF($E18>0,SUMIF(個別表!$C$13:$C$350,$B18,個別表!JC$13:JC$350),0)","v":0},{"$f":"IF($E18>0,SUMIF(個別表!$C$13:$C$350,$B18,個別表!JD$13:JD$350),0)","v":0},0,0,null,null,0,0,null,null,0,null,null,0,0,null,0,null,0,null,null,null,0,0,null,null,{"$f":"IF($E18>0,COUNTIFS(個別表!$C$13:$C$350,$B18,個別表!$I$13:$I$350,1,個別表!$V$13:$V$350,DX$9),0)","v":0},{"$f":"IF($E18>0,COUNTIFS(個別表!$C$13:$C$350,$B18,個別表!$I$13:$I$350,1,個別表!$V$13:$V$350,DY$9),0)","v":0},{"$f":"IF($E18>0,COUNTIFS(個別表!$C$13:$C$350,$B18,個別表!$I$13:$I$350,1,個別表!$V$13:$V$350,DZ$9),0)","v":0},{"$f":"IF($E18>0,COUNTIFS(個別表!$C$13:$C$350,$B18,個別表!$I$13:$I$350,1,個別表!$V$13:$V$350,EA$9),0)","v":0},""]
[{"$f":"VLOOKUP($B19,個別表!$C$13:$BP$350,2,FALSE)","v":0},0,{"$f":"VLOOKUP($B19,個別表!$C$13:$BP$350,10,FALSE)","v":0},{"$f":"VLOOKUP($B19,個別表!$C$13:$BP$350,11,FALSE)","v":0},{"$f":"VLOOKUP($B19,個別表!$C$13:$BP$350,12,FALSE)","v":0},{"$f":"SUMIF(個別表!$C$13:$C$350,総括表!$B19,個別表!$I$13:$I$350)","v":0},{"$f":"SUMIF(個別表!$C$13:$C$350,総括表!$B19,個別表!$AV$13:$AV$350)","v":0},{"$f":"SUMIF(個別表!$C$13:$C$350,総括表!$B19,個別表!$AX$13:$AX$350)","v":0},{"$f":"SUMIF(個別表!$C$13:$C$350,総括表!$B19,個別表!$J$13:$J$350)","v":0},{"$f":"SUMIF(個別表!$C$13:$C$350,$B19,個別表!$BP$13:$BP$350)","v":0},0,null,null,{"$f":"SUMIFS(個別表!$I$13:$I$350,個別表!$C$13:$C$350,$B19,個別表!$AL$13:$AL$350,1)","v":0},{"$f":"SUMIFS(個別表!$AV$13:$AV$350,個別表!$C$13:$C$350,$B19,個別表!$AL$13:$AL$350,1)","v":0},{"$f":"SUMIFS(個別表!$AW$13:$AW$350,個別表!$C$13:$C$350,$B19,個別表!$AL$13:$AL$350,1)","v":0},{"$f":"SUMIFS(個別表!$J$13:$J$350,個別表!$C$13:$C$350,$B19,個別表!$AL$13:$AL$350,1)","v":0},{"$f":"SUMIFS(個別表!$BP$13:$BP$350,個別表!$C$13:$C$350,$B19,個別表!$AL$13:$AL$350,1)","v":0},0,{"$f":"IF($E19>0,SUMIF(個別表!$C$13:$C$350,$B19,個別表!BQ$13:BQ$350),0)","v":0},{"$f":"IF($E19>0,SUMIF(個別表!$C$13:$C$350,$B19,個別表!BY$13:BY$350),0)","v":0},{"$f":"IF($E19>0,SUMIF(個別表!$C$13:$C$350,$B19,個別表!BZ$13:BZ$350),0)","v":0},{"$f":"IF($E19>0,SUMIF(個別表!$C$13:$C$350,$B19,個別表!CA$13:CA$350),0)","v":0},{"$f":"IF($E19>0,SUMIF(個別表!$C$13:$C$350,$B19,個別表!CB$13:CB$350),0)","v":0},{"$f":"IF($E19>0,SUMIF(個別表!$C$13:$C$350,$B19,個別表!CC$13:CC$350),0)","v":0},{"$f":"IF($E19>0,SUMIF(個別表!$C$13:$C$350,$B19,個別表!CD$13:CD$350),0)","v":0},{"$f":"IF($E19>0,SUMIF(個別表!$C$13:$C$350,$B19,個別表!CE$13:CE$350),0)","v":0},{"$f":"IF($E19>0,SUMIF(個別表!$C$13:$C$350,$B19,個別表!CF$13:CF$350),0)","v":0},{"$f":"IF($E19>0,SUMIF(個別表!$C$13:$C$350,$B19,個別表!CG$13:CG$350),0)","v":0},{"$f":"IF($E19>0,SUMIF(個別表!$C$13:$C$350,$B19,個別表!GI$13:GI$350),0)","v":0},{"$f":"IF($E19>0,SUMIF(個別表!$C$13:$C$350,$B19,個別表!GJ$13:GJ$350),0)","v":0},{"$f":"IF($E19>0,SUMIF(個別表!$C$13:$C$350,$B19,個別表!GK$13:GK$350),0)","v":0},{"$f":"IF($E19>0,SUMIF(個別表!$C$13:$C$350,$B19,個別表!GL$13:GL$350),0)","v":0},{"$f":"IF($E19>0,SUMIF(個別表!$C$13:$C$350,$B19,個別表!GM$13:GM$350),0)","v":0},{"$f":"IF($E19>0,SUMIF(個別表!$C$13:$C$350,$B19,個別表!GN$13:GN$350),0)","v":0},{"$f":"IF($E19>0,SUMIF(個別表!$C$13:$C$350,$B19,個別表!GO$13:GO$350),0)","v":0},{"$f":"IF($E19>0,SUMIF(個別表!$C$13:$C$350,$B19,個別表!GP$13:GP$350),0)","v":0},{"$f":"IF($E19>0,SUMIF(個別表!$C$13:$C$350,$B19,個別表!GQ$13:GQ$350),0)","v":0},{"$f":"IF($E19>0,SUMIF(個別表!$C$13:$C$350,$B19,個別表!GR$13:GR$350),0)","v":0},{"$f":"IF($E19>0,SUMIF(個別表!$C$13:$C$350,$B19,個別表!GS$13:GS$350),0)","v":0},{"$f":"IF($E19>0,SUMIF(個別表!$C$13:$C$350,$B19,個別表!GT$13:GT$350),0)","v":0},{"$f":"IF($E19>0,SUMIF(個別表!$C$13:$C$350,$B19,個別表!GU$13:GU$350),0)","v":0},{"$f":"IF($E19>0,SUMIF(個別表!$C$13:$C$350,$B19,個別表!GV$13:GV$350),0)","v":0},{"$f":"IF($E19>0,SUMIF(個別表!$C$13:$C$350,$B19,個別表!GW$13:GW$350),0)","v":0},{"$f":"IF($E19>0,SUMIF(個別表!$C$13:$C$350,$B19,個別表!GX$13:GX$350),0)","v":0},{"$f":"IF($E19>0,SUMIF(個別表!$C$13:$C$350,$B19,個別表!GY$13:GY$350),0)","v":0},{"$f":"IF($E19>0,SUMIF(個別表!$C$13:$C$350,$B19,個別表!GZ$13:GZ$350),0)","v":0},{"$f":"IF($E19>0,SUMIF(個別表!$C$13:$C$350,$B19,個別表!HA$13:HA$350),0)","v":0},{"$f":"IF($E19>0,SUMIF(個別表!$C$13:$C$350,$B19,個別表!HB$13:HB$350),0)","v":0},{"$f":"IF($E19>0,SUMIF(個別表!$C$13:$C$350,$B19,個別表!HC$13:HC$350),0)","v":0},{"$f":"IF($E19>0,SUMIF(個別表!$C$13:$C$350,$B19,個別表!HD$13:HD$350),0)","v":0},{"$f":"IF($E19>0,SUMIF(個別表!$C$13:$C$350,$B19,個別表!HE$13:HE$350),0)","v":0},{"$f":"IF($E19>0,SUMIF(個別表!$C$13:$C$350,$B19,個別表!HF$13:HF$350),0)","v":0},{"$f":"IF($E19>0,SUMIF(個別表!$C$13:$C$350,$B19,個別表!HG$13:HG$350),0)","v":0},{"$f":"IF($E19>0,SUMIF(個別表!$C$13:$C$350,$B19,個別表!HH$13:HH$350),0)","v":0},{"$f":"IF($E19>0,SUMIF(個別表!$C$13:$C$350,$B19,個別表!HI$13:HI$350),0)","v":0},{"$f":"IF($E19>0,SUMIF(個別表!$C$13:$C$350,$B19,個別表!HJ$13:HJ$350),0)","v":0},{"$f":"IF($E19>0,SUMIF(個別表!$C$13:$C$350,$B19,個別表!HK$13:HK$350),0)","v":0},{"$f":"IF($E19>0,SUMIF(個別表!$C$13:$C$350,$B19,個別表!HL$13:HL$350),0)","v":0},{"$f":"IF($E19>0,SUMIF(個別表!$C$13:$C$350,$B19,個別表!HM$13:HM$350),0)","v":0},{"$f":"IF($E19>0,SUMIF(個別表!$C$13:$C$350,$B19,個別表!HN$13:HN$350),0)","v":0},{"$f":"IF($E19>0,SUMIF(個別表!$C$13:$C$350,$B19,個別表!HO$13:HO$350),0)","v":0},{"$f":"IF($E19>0,SUMIF(個別表!$C$13:$C$350,$B19,個別表!HP$13:HP$350),0)","v":0},{"$f":"IF($E19>0,SUMIF(個別表!$C$13:$C$350,$B19,個別表!HQ$13:HQ$350),0)","v":0},{"$f":"IF($E19>0,SUMIF(個別表!$C$13:$C$350,$B19,個別表!HR$13:HR$350),0)","v":0},{"$f":"IF($E19>0,SUMIF(個別表!$C$13:$C$350,$B19,個別表!HS$13:HS$350),0)","v":0},{"$f":"IF($E19>0,SUMIF(個別表!$C$13:$C$350,$B19,個別表!HT$13:HT$350),0)","v":0},{"$f":"IF($E19>0,SUMIF(個別表!$C$13:$C$350,$B19,個別表!HU$13:HU$350),0)","v":0},{"$f":"IF($E19>0,SUMIF(個別表!$C$13:$C$350,$B19,個別表!HV$13:HV$350),0)","v":0},{"$f":"IF($E19>0,SUMIF(個別表!$C$13:$C$350,$B19,個別表!HW$13:HW$350),0)","v":0},{"$f":"IF($E19>0,SUMIF(個別表!$C$13:$C$350,$B19,個別表!HX$13:HX$350),0)","v":0},{"$f":"IF($E19>0,SUMIF(個別表!$C$13:$C$350,$B19,個別表!HY$13:HY$350),0)","v":0},{"$f":"IF($E19>0,SUMIF(個別表!$C$13:$C$350,$B19,個別表!HZ$13:HZ$350),0)","v":0},{"$f":"IF($E19>0,SUMIF(個別表!$C$13:$C$350,$B19,個別表!IA$13:IA$350),0)","v":0},{"$f":"IF($E19>0,SUMIF(個別表!$C$13:$C$350,$B19,個別表!IB$13:IB$350),0)","v":0},{"$f":"IF($E19>0,SUMIF(個別表!$C$13:$C$350,$B19,個別表!IC$13:IC$350),0)","v":0},{"$f":"IF($E19>0,SUMIF(個別表!$C$13:$C$350,$B19,個別表!ID$13:ID$350),0)","v":0},{"$f":"IF($E19>0,SUMIF(個別表!$C$13:$C$350,$B19,個別表!IE$13:IE$350),0)","v":0},{"$f":"IF($E19>0,SUMIF(個別表!$C$13:$C$350,$B19,個別表!IF$13:IF$350),0)","v":0},{"$f":"IF($E19>0,SUMIF(個別表!$C$13:$C$350,$B19,個別表!IG$13:IG$350),0)","v":0},{"$f":"IF($E19>0,SUMIF(個別表!$C$13:$C$350,$B19,個別表!IH$13:IH$350),0)","v":0},{"$f":"IF($E19>0,SUMIF(個別表!$C$13:$C$350,$B19,個別表!II$13:II$350),0)","v":0},{"$f":"IF($E19>0,SUMIF(個別表!$C$13:$C$350,$B19,個別表!IJ$13:IJ$350),0)","v":0},{"$f":"IF($E19>0,SUMIF(個別表!$C$13:$C$350,$B19,個別表!IK$13:IK$350),0)","v":0},{"$f":"IF($E19>0,SUMIF(個別表!$C$13:$C$350,$B19,個別表!IL$13:IL$350),0)","v":0},{"$f":"IF($E19>0,SUMIF(個別表!$C$13:$C$350,$B19,個別表!IM$13:IM$350),0)","v":0},{"$f":"IF($E19>0,SUMIF(個別表!$C$13:$C$350,$B19,個別表!IN$13:IN$350),0)","v":0},{"$f":"IF($E19>0,SUMIF(個別表!$C$13:$C$350,$B19,個別表!IO$13:IO$350),0)","v":0},{"$f":"IF($E19>0,SUMIF(個別表!$C$13:$C$350,$B19,個別表!IP$13:IP$350),0)","v":0},{"$f":"IF($E19>0,SUMIF(個別表!$C$13:$C$350,$B19,個別表!IQ$13:IQ$350),0)","v":0},{"$f":"IF($E19>0,SUMIF(個別表!$C$13:$C$350,$B19,個別表!IR$13:IR$350),0)","v":0},{"$f":"IF($E19>0,SUMIF(個別表!$C$13:$C$350,$B19,個別表!IS$13:IS$350),0)","v":0},{"$f":"IF($E19>0,SUMIF(個別表!$C$13:$C$350,$B19,個別表!IT$13:IT$350),0)","v":0},{"$f":"IF($E19>0,SUMIF(個別表!$C$13:$C$350,$B19,個別表!IU$13:IU$350),0)","v":0},{"$f":"IF($E19>0,SUMIF(個別表!$C$13:$C$350,$B19,個別表!IV$13:IV$350),0)","v":0},{"$f":"IF($E19>0,SUMIF(個別表!$C$13:$C$350,$B19,個別表!IW$13:IW$350),0)","v":0},{"$f":"IF($E19>0,SUMIF(個別表!$C$13:$C$350,$B19,個別表!IX$13:IX$350),0)","v":0},{"$f":"IF($E19>0,SUMIF(個別表!$C$13:$C$350,$B19,個別表!IY$13:IY$350),0)","v":0},{"$f":"IF($E19>0,SUMIF(個別表!$C$13:$C$350,$B19,個別表!IZ$13:IZ$350),0)","v":0},{"$f":"IF($E19>0,SUMIF(個別表!$C$13:$C$350,$B19,個別表!JA$13:JA$350),0)","v":0},{"$f":"IF($E19>0,SUMIF(個別表!$C$13:$C$350,$B19,個別表!JB$13:JB$350),0)","v":0},{"$f":"IF($E19>0,SUMIF(個別表!$C$13:$C$350,$B19,個別表!JC$13:JC$350),0)","v":0},{"$f":"IF($E19>0,SUMIF(個別表!$C$13:$C$350,$B19,個別表!JD$13:JD$350),0)","v":0},0,0,null,null,0,0,null,null,0,null,null,0,0,null,0,null,0,null,null,null,0,0,null,null,{"$f":"IF($E19>0,COUNTIFS(個別表!$C$13:$C$350,$B19,個別表!$I$13:$I$350,1,個別表!$V$13:$V$350,DX$9),0)","v":0},{"$f":"IF($E19>0,COUNTIFS(個別表!$C$13:$C$350,$B19,個別表!$I$13:$I$350,1,個別表!$V$13:$V$350,DY$9),0)","v":0},{"$f":"IF($E19>0,COUNTIFS(個別表!$C$13:$C$350,$B19,個別表!$I$13:$I$350,1,個別表!$V$13:$V$350,DZ$9),0)","v":0},{"$f":"IF($E19>0,COUNTIFS(個別表!$C$13:$C$350,$B19,個別表!$I$13:$I$350,1,個別表!$V$13:$V$350,EA$9),0)","v":0},""]
[{"$f":"VLOOKUP($B20,個別表!$C$13:$BP$350,2,FALSE)","v":0},0,{"$f":"VLOOKUP($B20,個別表!$C$13:$BP$350,10,FALSE)","v":0},{"$f":"VLOOKUP($B20,個別表!$C$13:$BP$350,11,FALSE)","v":0},{"$f":"VLOOKUP($B20,個別表!$C$13:$BP$350,12,FALSE)","v":0},{"$f":"SUMIF(個別表!$C$13:$C$350,総括表!$B20,個別表!$I$13:$I$350)","v":0},{"$f":"SUMIF(個別表!$C$13:$C$350,総括表!$B20,個別表!$AV$13:$AV$350)","v":0},{"$f":"SUMIF(個別表!$C$13:$C$350,総括表!$B20,個別表!$AX$13:$AX$350)","v":0},{"$f":"SUMIF(個別表!$C$13:$C$350,総括表!$B20,個別表!$J$13:$J$350)","v":0},{"$f":"SUMIF(個別表!$C$13:$C$350,$B20,個別表!$BP$13:$BP$350)","v":0},0,null,null,{"$f":"SUMIFS(個別表!$I$13:$I$350,個別表!$C$13:$C$350,$B20,個別表!$AL$13:$AL$350,1)","v":0},{"$f":"SUMIFS(個別表!$AV$13:$AV$350,個別表!$C$13:$C$350,$B20,個別表!$AL$13:$AL$350,1)","v":0},{"$f":"SUMIFS(個別表!$AW$13:$AW$350,個別表!$C$13:$C$350,$B20,個別表!$AL$13:$AL$350,1)","v":0},{"$f":"SUMIFS(個別表!$J$13:$J$350,個別表!$C$13:$C$350,$B20,個別表!$AL$13:$AL$350,1)","v":0},{"$f":"SUMIFS(個別表!$BP$13:$BP$350,個別表!$C$13:$C$350,$B20,個別表!$AL$13:$AL$350,1)","v":0},0,{"$f":"IF($E20>0,SUMIF(個別表!$C$13:$C$350,$B20,個別表!BQ$13:BQ$350),0)","v":0},{"$f":"IF($E20>0,SUMIF(個別表!$C$13:$C$350,$B20,個別表!BY$13:BY$350),0)","v":0},{"$f":"IF($E20>0,SUMIF(個別表!$C$13:$C$350,$B20,個別表!BZ$13:BZ$350),0)","v":0},{"$f":"IF($E20>0,SUMIF(個別表!$C$13:$C$350,$B20,個別表!CA$13:CA$350),0)","v":0},{"$f":"IF($E20>0,SUMIF(個別表!$C$13:$C$350,$B20,個別表!CB$13:CB$350),0)","v":0},{"$f":"IF($E20>0,SUMIF(個別表!$C$13:$C$350,$B20,個別表!CC$13:CC$350),0)","v":0},{"$f":"IF($E20>0,SUMIF(個別表!$C$13:$C$350,$B20,個別表!CD$13:CD$350),0)","v":0},{"$f":"IF($E20>0,SUMIF(個別表!$C$13:$C$350,$B20,個別表!CE$13:CE$350),0)","v":0},{"$f":"IF($E20>0,SUMIF(個別表!$C$13:$C$350,$B20,個別表!CF$13:CF$350),0)","v":0},{"$f":"IF($E20>0,SUMIF(個別表!$C$13:$C$350,$B20,個別表!CG$13:CG$350),0)","v":0},{"$f":"IF($E20>0,SUMIF(個別表!$C$13:$C$350,$B20,個別表!GI$13:GI$350),0)","v":0},{"$f":"IF($E20>0,SUMIF(個別表!$C$13:$C$350,$B20,個別表!GJ$13:GJ$350),0)","v":0},{"$f":"IF($E20>0,SUMIF(個別表!$C$13:$C$350,$B20,個別表!GK$13:GK$350),0)","v":0},{"$f":"IF($E20>0,SUMIF(個別表!$C$13:$C$350,$B20,個別表!GL$13:GL$350),0)","v":0},{"$f":"IF($E20>0,SUMIF(個別表!$C$13:$C$350,$B20,個別表!GM$13:GM$350),0)","v":0},{"$f":"IF($E20>0,SUMIF(個別表!$C$13:$C$350,$B20,個別表!GN$13:GN$350),0)","v":0},{"$f":"IF($E20>0,SUMIF(個別表!$C$13:$C$350,$B20,個別表!GO$13:GO$350),0)","v":0},{"$f":"IF($E20>0,SUMIF(個別表!$C$13:$C$350,$B20,個別表!GP$13:GP$350),0)","v":0},{"$f":"IF($E20>0,SUMIF(個別表!$C$13:$C$350,$B20,個別表!GQ$13:GQ$350),0)","v":0},{"$f":"IF($E20>0,SUMIF(個別表!$C$13:$C$350,$B20,個別表!GR$13:GR$350),0)","v":0},{"$f":"IF($E20>0,SUMIF(個別表!$C$13:$C$350,$B20,個別表!GS$13:GS$350),0)","v":0},{"$f":"IF($E20>0,SUMIF(個別表!$C$13:$C$350,$B20,個別表!GT$13:GT$350),0)","v":0},{"$f":"IF($E20>0,SUMIF(個別表!$C$13:$C$350,$B20,個別表!GU$13:GU$350),0)","v":0},{"$f":"IF($E20>0,SUMIF(個別表!$C$13:$C$350,$B20,個別表!GV$13:GV$350),0)","v":0},{"$f":"IF($E20>0,SUMIF(個別表!$C$13:$C$350,$B20,個別表!GW$13:GW$350),0)","v":0},{"$f":"IF($E20>0,SUMIF(個別表!$C$13:$C$350,$B20,個別表!GX$13:GX$350),0)","v":0},{"$f":"IF($E20>0,SUMIF(個別表!$C$13:$C$350,$B20,個別表!GY$13:GY$350),0)","v":0},{"$f":"IF($E20>0,SUMIF(個別表!$C$13:$C$350,$B20,個別表!GZ$13:GZ$350),0)","v":0},{"$f":"IF($E20>0,SUMIF(個別表!$C$13:$C$350,$B20,個別表!HA$13:HA$350),0)","v":0},{"$f":"IF($E20>0,SUMIF(個別表!$C$13:$C$350,$B20,個別表!HB$13:HB$350),0)","v":0},{"$f":"IF($E20>0,SUMIF(個別表!$C$13:$C$350,$B20,個別表!HC$13:HC$350),0)","v":0},{"$f":"IF($E20>0,SUMIF(個別表!$C$13:$C$350,$B20,個別表!HD$13:HD$350),0)","v":0},{"$f":"IF($E20>0,SUMIF(個別表!$C$13:$C$350,$B20,個別表!HE$13:HE$350),0)","v":0},{"$f":"IF($E20>0,SUMIF(個別表!$C$13:$C$350,$B20,個別表!HF$13:HF$350),0)","v":0},{"$f":"IF($E20>0,SUMIF(個別表!$C$13:$C$350,$B20,個別表!HG$13:HG$350),0)","v":0},{"$f":"IF($E20>0,SUMIF(個別表!$C$13:$C$350,$B20,個別表!HH$13:HH$350),0)","v":0},{"$f":"IF($E20>0,SUMIF(個別表!$C$13:$C$350,$B20,個別表!HI$13:HI$350),0)","v":0},{"$f":"IF($E20>0,SUMIF(個別表!$C$13:$C$350,$B20,個別表!HJ$13:HJ$350),0)","v":0},{"$f":"IF($E20>0,SUMIF(個別表!$C$13:$C$350,$B20,個別表!HK$13:HK$350),0)","v":0},{"$f":"IF($E20>0,SUMIF(個別表!$C$13:$C$350,$B20,個別表!HL$13:HL$350),0)","v":0},{"$f":"IF($E20>0,SUMIF(個別表!$C$13:$C$350,$B20,個別表!HM$13:HM$350),0)","v":0},{"$f":"IF($E20>0,SUMIF(個別表!$C$13:$C$350,$B20,個別表!HN$13:HN$350),0)","v":0},{"$f":"IF($E20>0,SUMIF(個別表!$C$13:$C$350,$B20,個別表!HO$13:HO$350),0)","v":0},{"$f":"IF($E20>0,SUMIF(個別表!$C$13:$C$350,$B20,個別表!HP$13:HP$350),0)","v":0},{"$f":"IF($E20>0,SUMIF(個別表!$C$13:$C$350,$B20,個別表!HQ$13:HQ$350),0)","v":0},{"$f":"IF($E20>0,SUMIF(個別表!$C$13:$C$350,$B20,個別表!HR$13:HR$350),0)","v":0},{"$f":"IF($E20>0,SUMIF(個別表!$C$13:$C$350,$B20,個別表!HS$13:HS$350),0)","v":0},{"$f":"IF($E20>0,SUMIF(個別表!$C$13:$C$350,$B20,個別表!HT$13:HT$350),0)","v":0},{"$f":"IF($E20>0,SUMIF(個別表!$C$13:$C$350,$B20,個別表!HU$13:HU$350),0)","v":0},{"$f":"IF($E20>0,SUMIF(個別表!$C$13:$C$350,$B20,個別表!HV$13:HV$350),0)","v":0},{"$f":"IF($E20>0,SUMIF(個別表!$C$13:$C$350,$B20,個別表!HW$13:HW$350),0)","v":0},{"$f":"IF($E20>0,SUMIF(個別表!$C$13:$C$350,$B20,個別表!HX$13:HX$350),0)","v":0},{"$f":"IF($E20>0,SUMIF(個別表!$C$13:$C$350,$B20,個別表!HY$13:HY$350),0)","v":0},{"$f":"IF($E20>0,SUMIF(個別表!$C$13:$C$350,$B20,個別表!HZ$13:HZ$350),0)","v":0},{"$f":"IF($E20>0,SUMIF(個別表!$C$13:$C$350,$B20,個別表!IA$13:IA$350),0)","v":0},{"$f":"IF($E20>0,SUMIF(個別表!$C$13:$C$350,$B20,個別表!IB$13:IB$350),0)","v":0},{"$f":"IF($E20>0,SUMIF(個別表!$C$13:$C$350,$B20,個別表!IC$13:IC$350),0)","v":0},{"$f":"IF($E20>0,SUMIF(個別表!$C$13:$C$350,$B20,個別表!ID$13:ID$350),0)","v":0},{"$f":"IF($E20>0,SUMIF(個別表!$C$13:$C$350,$B20,個別表!IE$13:IE$350),0)","v":0},{"$f":"IF($E20>0,SUMIF(個別表!$C$13:$C$350,$B20,個別表!IF$13:IF$350),0)","v":0},{"$f":"IF($E20>0,SUMIF(個別表!$C$13:$C$350,$B20,個別表!IG$13:IG$350),0)","v":0},{"$f":"IF($E20>0,SUMIF(個別表!$C$13:$C$350,$B20,個別表!IH$13:IH$350),0)","v":0},{"$f":"IF($E20>0,SUMIF(個別表!$C$13:$C$350,$B20,個別表!II$13:II$350),0)","v":0},{"$f":"IF($E20>0,SUMIF(個別表!$C$13:$C$350,$B20,個別表!IJ$13:IJ$350),0)","v":0},{"$f":"IF($E20>0,SUMIF(個別表!$C$13:$C$350,$B20,個別表!IK$13:IK$350),0)","v":0},{"$f":"IF($E20>0,SUMIF(個別表!$C$13:$C$350,$B20,個別表!IL$13:IL$350),0)","v":0},{"$f":"IF($E20>0,SUMIF(個別表!$C$13:$C$350,$B20,個別表!IM$13:IM$350),0)","v":0},{"$f":"IF($E20>0,SUMIF(個別表!$C$13:$C$350,$B20,個別表!IN$13:IN$350),0)","v":0},{"$f":"IF($E20>0,SUMIF(個別表!$C$13:$C$350,$B20,個別表!IO$13:IO$350),0)","v":0},{"$f":"IF($E20>0,SUMIF(個別表!$C$13:$C$350,$B20,個別表!IP$13:IP$350),0)","v":0},{"$f":"IF($E20>0,SUMIF(個別表!$C$13:$C$350,$B20,個別表!IQ$13:IQ$350),0)","v":0},{"$f":"IF($E20>0,SUMIF(個別表!$C$13:$C$350,$B20,個別表!IR$13:IR$350),0)","v":0},{"$f":"IF($E20>0,SUMIF(個別表!$C$13:$C$350,$B20,個別表!IS$13:IS$350),0)","v":0},{"$f":"IF($E20>0,SUMIF(個別表!$C$13:$C$350,$B20,個別表!IT$13:IT$350),0)","v":0},{"$f":"IF($E20>0,SUMIF(個別表!$C$13:$C$350,$B20,個別表!IU$13:IU$350),0)","v":0},{"$f":"IF($E20>0,SUMIF(個別表!$C$13:$C$350,$B20,個別表!IV$13:IV$350),0)","v":0},{"$f":"IF($E20>0,SUMIF(個別表!$C$13:$C$350,$B20,個別表!IW$13:IW$350),0)","v":0},{"$f":"IF($E20>0,SUMIF(個別表!$C$13:$C$350,$B20,個別表!IX$13:IX$350),0)","v":0},{"$f":"IF($E20>0,SUMIF(個別表!$C$13:$C$350,$B20,個別表!IY$13:IY$350),0)","v":0},{"$f":"IF($E20>0,SUMIF(個別表!$C$13:$C$350,$B20,個別表!IZ$13:IZ$350),0)","v":0},{"$f":"IF($E20>0,SUMIF(個別表!$C$13:$C$350,$B20,個別表!JA$13:JA$350),0)","v":0},{"$f":"IF($E20>0,SUMIF(個別表!$C$13:$C$350,$B20,個別表!JB$13:JB$350),0)","v":0},{"$f":"IF($E20>0,SUMIF(個別表!$C$13:$C$350,$B20,個別表!JC$13:JC$350),0)","v":0},{"$f":"IF($E20>0,SUMIF(個別表!$C$13:$C$350,$B20,個別表!JD$13:JD$350),0)","v":0},0,0,null,null,0,0,null,null,0,null,null,0,0,null,0,null,0,null,null,null,0,0,null,null,{"$f":"IF($E20>0,COUNTIFS(個別表!$C$13:$C$350,$B20,個別表!$I$13:$I$350,1,個別表!$V$13:$V$350,DX$9),0)","v":0},{"$f":"IF($E20>0,COUNTIFS(個別表!$C$13:$C$350,$B20,個別表!$I$13:$I$350,1,個別表!$V$13:$V$350,DY$9),0)","v":0},{"$f":"IF($E20>0,COUNTIFS(個別表!$C$13:$C$350,$B20,個別表!$I$13:$I$350,1,個別表!$V$13:$V$350,DZ$9),0)","v":0},{"$f":"IF($E20>0,COUNTIFS(個別表!$C$13:$C$350,$B20,個別表!$I$13:$I$350,1,個別表!$V$13:$V$350,EA$9),0)","v":0},""]
[{"$f":"VLOOKUP($B21,個別表!$C$13:$BP$350,2,FALSE)","v":0},0,{"$f":"VLOOKUP($B21,個別表!$C$13:$BP$350,10,FALSE)","v":0},{"$f":"VLOOKUP($B21,個別表!$C$13:$BP$350,11,FALSE)","v":0},{"$f":"VLOOKUP($B21,個別表!$C$13:$BP$350,12,FALSE)","v":0},{"$f":"SUMIF(個別表!$C$13:$C$350,総括表!$B21,個別表!$I$13:$I$350)","v":0},{"$f":"SUMIF(個別表!$C$13:$C$350,総括表!$B21,個別表!$AV$13:$AV$350)","v":0},{"$f":"SUMIF(個別表!$C$13:$C$350,総括表!$B21,個別表!$AX$13:$AX$350)","v":0},{"$f":"SUMIF(個別表!$C$13:$C$350,総括表!$B21,個別表!$J$13:$J$350)","v":0},{"$f":"SUMIF(個別表!$C$13:$C$350,$B21,個別表!$BP$13:$BP$350)","v":0},0,null,null,{"$f":"SUMIFS(個別表!$I$13:$I$350,個別表!$C$13:$C$350,$B21,個別表!$AL$13:$AL$350,1)","v":0},{"$f":"SUMIFS(個別表!$AV$13:$AV$350,個別表!$C$13:$C$350,$B21,個別表!$AL$13:$AL$350,1)","v":0},{"$f":"SUMIFS(個別表!$AW$13:$AW$350,個別表!$C$13:$C$350,$B21,個別表!$AL$13:$AL$350,1)","v":0},{"$f":"SUMIFS(個別表!$J$13:$J$350,個別表!$C$13:$C$350,$B21,個別表!$AL$13:$AL$350,1)","v":0},{"$f":"SUMIFS(個別表!$BP$13:$BP$350,個別表!$C$13:$C$350,$B21,個別表!$AL$13:$AL$350,1)","v":0},0,{"$f":"IF($E21>0,SUMIF(個別表!$C$13:$C$350,$B21,個別表!BQ$13:BQ$350),0)","v":0},{"$f":"IF($E21>0,SUMIF(個別表!$C$13:$C$350,$B21,個別表!BY$13:BY$350),0)","v":0},{"$f":"IF($E21>0,SUMIF(個別表!$C$13:$C$350,$B21,個別表!BZ$13:BZ$350),0)","v":0},{"$f":"IF($E21>0,SUMIF(個別表!$C$13:$C$350,$B21,個別表!CA$13:CA$350),0)","v":0},{"$f":"IF($E21>0,SUMIF(個別表!$C$13:$C$350,$B21,個別表!CB$13:CB$350),0)","v":0},{"$f":"IF($E21>0,SUMIF(個別表!$C$13:$C$350,$B21,個別表!CC$13:CC$350),0)","v":0},{"$f":"IF($E21>0,SUMIF(個別表!$C$13:$C$350,$B21,個別表!CD$13:CD$350),0)","v":0},{"$f":"IF($E21>0,SUMIF(個別表!$C$13:$C$350,$B21,個別表!CE$13:CE$350),0)","v":0},{"$f":"IF($E21>0,SUMIF(個別表!$C$13:$C$350,$B21,個別表!CF$13:CF$350),0)","v":0},{"$f":"IF($E21>0,SUMIF(個別表!$C$13:$C$350,$B21,個別表!CG$13:CG$350),0)","v":0},{"$f":"IF($E21>0,SUMIF(個別表!$C$13:$C$350,$B21,個別表!GI$13:GI$350),0)","v":0},{"$f":"IF($E21>0,SUMIF(個別表!$C$13:$C$350,$B21,個別表!GJ$13:GJ$350),0)","v":0},{"$f":"IF($E21>0,SUMIF(個別表!$C$13:$C$350,$B21,個別表!GK$13:GK$350),0)","v":0},{"$f":"IF($E21>0,SUMIF(個別表!$C$13:$C$350,$B21,個別表!GL$13:GL$350),0)","v":0},{"$f":"IF($E21>0,SUMIF(個別表!$C$13:$C$350,$B21,個別表!GM$13:GM$350),0)","v":0},{"$f":"IF($E21>0,SUMIF(個別表!$C$13:$C$350,$B21,個別表!GN$13:GN$350),0)","v":0},{"$f":"IF($E21>0,SUMIF(個別表!$C$13:$C$350,$B21,個別表!GO$13:GO$350),0)","v":0},{"$f":"IF($E21>0,SUMIF(個別表!$C$13:$C$350,$B21,個別表!GP$13:GP$350),0)","v":0},{"$f":"IF($E21>0,SUMIF(個別表!$C$13:$C$350,$B21,個別表!GQ$13:GQ$350),0)","v":0},{"$f":"IF($E21>0,SUMIF(個別表!$C$13:$C$350,$B21,個別表!GR$13:GR$350),0)","v":0},{"$f":"IF($E21>0,SUMIF(個別表!$C$13:$C$350,$B21,個別表!GS$13:GS$350),0)","v":0},{"$f":"IF($E21>0,SUMIF(個別表!$C$13:$C$350,$B21,個別表!GT$13:GT$350),0)","v":0},{"$f":"IF($E21>0,SUMIF(個別表!$C$13:$C$350,$B21,個別表!GU$13:GU$350),0)","v":0},{"$f":"IF($E21>0,SUMIF(個別表!$C$13:$C$350,$B21,個別表!GV$13:GV$350),0)","v":0},{"$f":"IF($E21>0,SUMIF(個別表!$C$13:$C$350,$B21,個別表!GW$13:GW$350),0)","v":0},{"$f":"IF($E21>0,SUMIF(個別表!$C$13:$C$350,$B21,個別表!GX$13:GX$350),0)","v":0},{"$f":"IF($E21>0,SUMIF(個別表!$C$13:$C$350,$B21,個別表!GY$13:GY$350),0)","v":0},{"$f":"IF($E21>0,SUMIF(個別表!$C$13:$C$350,$B21,個別表!GZ$13:GZ$350),0)","v":0},{"$f":"IF($E21>0,SUMIF(個別表!$C$13:$C$350,$B21,個別表!HA$13:HA$350),0)","v":0},{"$f":"IF($E21>0,SUMIF(個別表!$C$13:$C$350,$B21,個別表!HB$13:HB$350),0)","v":0},{"$f":"IF($E21>0,SUMIF(個別表!$C$13:$C$350,$B21,個別表!HC$13:HC$350),0)","v":0},{"$f":"IF($E21>0,SUMIF(個別表!$C$13:$C$350,$B21,個別表!HD$13:HD$350),0)","v":0},{"$f":"IF($E21>0,SUMIF(個別表!$C$13:$C$350,$B21,個別表!HE$13:HE$350),0)","v":0},{"$f":"IF($E21>0,SUMIF(個別表!$C$13:$C$350,$B21,個別表!HF$13:HF$350),0)","v":0},{"$f":"IF($E21>0,SUMIF(個別表!$C$13:$C$350,$B21,個別表!HG$13:HG$350),0)","v":0},{"$f":"IF($E21>0,SUMIF(個別表!$C$13:$C$350,$B21,個別表!HH$13:HH$350),0)","v":0},{"$f":"IF($E21>0,SUMIF(個別表!$C$13:$C$350,$B21,個別表!HI$13:HI$350),0)","v":0},{"$f":"IF($E21>0,SUMIF(個別表!$C$13:$C$350,$B21,個別表!HJ$13:HJ$350),0)","v":0},{"$f":"IF($E21>0,SUMIF(個別表!$C$13:$C$350,$B21,個別表!HK$13:HK$350),0)","v":0},{"$f":"IF($E21>0,SUMIF(個別表!$C$13:$C$350,$B21,個別表!HL$13:HL$350),0)","v":0},{"$f":"IF($E21>0,SUMIF(個別表!$C$13:$C$350,$B21,個別表!HM$13:HM$350),0)","v":0},{"$f":"IF($E21>0,SUMIF(個別表!$C$13:$C$350,$B21,個別表!HN$13:HN$350),0)","v":0},{"$f":"IF($E21>0,SUMIF(個別表!$C$13:$C$350,$B21,個別表!HO$13:HO$350),0)","v":0},{"$f":"IF($E21>0,SUMIF(個別表!$C$13:$C$350,$B21,個別表!HP$13:HP$350),0)","v":0},{"$f":"IF($E21>0,SUMIF(個別表!$C$13:$C$350,$B21,個別表!HQ$13:HQ$350),0)","v":0},{"$f":"IF($E21>0,SUMIF(個別表!$C$13:$C$350,$B21,個別表!HR$13:HR$350),0)","v":0},{"$f":"IF($E21>0,SUMIF(個別表!$C$13:$C$350,$B21,個別表!HS$13:HS$350),0)","v":0},{"$f":"IF($E21>0,SUMIF(個別表!$C$13:$C$350,$B21,個別表!HT$13:HT$350),0)","v":0},{"$f":"IF($E21>0,SUMIF(個別表!$C$13:$C$350,$B21,個別表!HU$13:HU$350),0)","v":0},{"$f":"IF($E21>0,SUMIF(個別表!$C$13:$C$350,$B21,個別表!HV$13:HV$350),0)","v":0},{"$f":"IF($E21>0,SUMIF(個別表!$C$13:$C$350,$B21,個別表!HW$13:HW$350),0)","v":0},{"$f":"IF($E21>0,SUMIF(個別表!$C$13:$C$350,$B21,個別表!HX$13:HX$350),0)","v":0},{"$f":"IF($E21>0,SUMIF(個別表!$C$13:$C$350,$B21,個別表!HY$13:HY$350),0)","v":0},{"$f":"IF($E21>0,SUMIF(個別表!$C$13:$C$350,$B21,個別表!HZ$13:HZ$350),0)","v":0},{"$f":"IF($E21>0,SUMIF(個別表!$C$13:$C$350,$B21,個別表!IA$13:IA$350),0)","v":0},{"$f":"IF($E21>0,SUMIF(個別表!$C$13:$C$350,$B21,個別表!IB$13:IB$350),0)","v":0},{"$f":"IF($E21>0,SUMIF(個別表!$C$13:$C$350,$B21,個別表!IC$13:IC$350),0)","v":0},{"$f":"IF($E21>0,SUMIF(個別表!$C$13:$C$350,$B21,個別表!ID$13:ID$350),0)","v":0},{"$f":"IF($E21>0,SUMIF(個別表!$C$13:$C$350,$B21,個別表!IE$13:IE$350),0)","v":0},{"$f":"IF($E21>0,SUMIF(個別表!$C$13:$C$350,$B21,個別表!IF$13:IF$350),0)","v":0},{"$f":"IF($E21>0,SUMIF(個別表!$C$13:$C$350,$B21,個別表!IG$13:IG$350),0)","v":0},{"$f":"IF($E21>0,SUMIF(個別表!$C$13:$C$350,$B21,個別表!IH$13:IH$350),0)","v":0},{"$f":"IF($E21>0,SUMIF(個別表!$C$13:$C$350,$B21,個別表!II$13:II$350),0)","v":0},{"$f":"IF($E21>0,SUMIF(個別表!$C$13:$C$350,$B21,個別表!IJ$13:IJ$350),0)","v":0},{"$f":"IF($E21>0,SUMIF(個別表!$C$13:$C$350,$B21,個別表!IK$13:IK$350),0)","v":0},{"$f":"IF($E21>0,SUMIF(個別表!$C$13:$C$350,$B21,個別表!IL$13:IL$350),0)","v":0},{"$f":"IF($E21>0,SUMIF(個別表!$C$13:$C$350,$B21,個別表!IM$13:IM$350),0)","v":0},{"$f":"IF($E21>0,SUMIF(個別表!$C$13:$C$350,$B21,個別表!IN$13:IN$350),0)","v":0},{"$f":"IF($E21>0,SUMIF(個別表!$C$13:$C$350,$B21,個別表!IO$13:IO$350),0)","v":0},{"$f":"IF($E21>0,SUMIF(個別表!$C$13:$C$350,$B21,個別表!IP$13:IP$350),0)","v":0},{"$f":"IF($E21>0,SUMIF(個別表!$C$13:$C$350,$B21,個別表!IQ$13:IQ$350),0)","v":0},{"$f":"IF($E21>0,SUMIF(個別表!$C$13:$C$350,$B21,個別表!IR$13:IR$350),0)","v":0},{"$f":"IF($E21>0,SUMIF(個別表!$C$13:$C$350,$B21,個別表!IS$13:IS$350),0)","v":0},{"$f":"IF($E21>0,SUMIF(個別表!$C$13:$C$350,$B21,個別表!IT$13:IT$350),0)","v":0},{"$f":"IF($E21>0,SUMIF(個別表!$C$13:$C$350,$B21,個別表!IU$13:IU$350),0)","v":0},{"$f":"IF($E21>0,SUMIF(個別表!$C$13:$C$350,$B21,個別表!IV$13:IV$350),0)","v":0},{"$f":"IF($E21>0,SUMIF(個別表!$C$13:$C$350,$B21,個別表!IW$13:IW$350),0)","v":0},{"$f":"IF($E21>0,SUMIF(個別表!$C$13:$C$350,$B21,個別表!IX$13:IX$350),0)","v":0},{"$f":"IF($E21>0,SUMIF(個別表!$C$13:$C$350,$B21,個別表!IY$13:IY$350),0)","v":0},{"$f":"IF($E21>0,SUMIF(個別表!$C$13:$C$350,$B21,個別表!IZ$13:IZ$350),0)","v":0},{"$f":"IF($E21>0,SUMIF(個別表!$C$13:$C$350,$B21,個別表!JA$13:JA$350),0)","v":0},{"$f":"IF($E21>0,SUMIF(個別表!$C$13:$C$350,$B21,個別表!JB$13:JB$350),0)","v":0},{"$f":"IF($E21>0,SUMIF(個別表!$C$13:$C$350,$B21,個別表!JC$13:JC$350),0)","v":0},{"$f":"IF($E21>0,SUMIF(個別表!$C$13:$C$350,$B21,個別表!JD$13:JD$350),0)","v":0},0,0,null,null,0,0,null,null,0,null,null,0,0,null,0,null,0,null,null,null,0,0,null,null,{"$f":"IF($E21>0,COUNTIFS(個別表!$C$13:$C$350,$B21,個別表!$I$13:$I$350,1,個別表!$V$13:$V$350,DX$9),0)","v":0},{"$f":"IF($E21>0,COUNTIFS(個別表!$C$13:$C$350,$B21,個別表!$I$13:$I$350,1,個別表!$V$13:$V$350,DY$9),0)","v":0},{"$f":"IF($E21>0,COUNTIFS(個別表!$C$13:$C$350,$B21,個別表!$I$13:$I$350,1,個別表!$V$13:$V$350,DZ$9),0)","v":0},{"$f":"IF($E21>0,COUNTIFS(個別表!$C$13:$C$350,$B21,個別表!$I$13:$I$350,1,個別表!$V$13:$V$350,EA$9),0)","v":0},""]
[{"$f":"VLOOKUP($B22,個別表!$C$13:$BP$350,2,FALSE)","v":0},0,{"$f":"VLOOKUP($B22,個別表!$C$13:$BP$350,10,FALSE)","v":0},{"$f":"VLOOKUP($B22,個別表!$C$13:$BP$350,11,FALSE)","v":0},{"$f":"VLOOKUP($B22,個別表!$C$13:$BP$350,12,FALSE)","v":0},{"$f":"SUMIF(個別表!$C$13:$C$350,総括表!$B22,個別表!$I$13:$I$350)","v":0},{"$f":"SUMIF(個別表!$C$13:$C$350,総括表!$B22,個別表!$AV$13:$AV$350)","v":0},{"$f":"SUMIF(個別表!$C$13:$C$350,総括表!$B22,個別表!$AX$13:$AX$350)","v":0},{"$f":"SUMIF(個別表!$C$13:$C$350,総括表!$B22,個別表!$J$13:$J$350)","v":0},{"$f":"SUMIF(個別表!$C$13:$C$350,$B22,個別表!$BP$13:$BP$350)","v":0},0,null,null,{"$f":"SUMIFS(個別表!$I$13:$I$350,個別表!$C$13:$C$350,$B22,個別表!$AL$13:$AL$350,1)","v":0},{"$f":"SUMIFS(個別表!$AV$13:$AV$350,個別表!$C$13:$C$350,$B22,個別表!$AL$13:$AL$350,1)","v":0},{"$f":"SUMIFS(個別表!$AW$13:$AW$350,個別表!$C$13:$C$350,$B22,個別表!$AL$13:$AL$350,1)","v":0},{"$f":"SUMIFS(個別表!$J$13:$J$350,個別表!$C$13:$C$350,$B22,個別表!$AL$13:$AL$350,1)","v":0},{"$f":"SUMIFS(個別表!$BP$13:$BP$350,個別表!$C$13:$C$350,$B22,個別表!$AL$13:$AL$350,1)","v":0},0,{"$f":"IF($E22>0,SUMIF(個別表!$C$13:$C$350,$B22,個別表!BQ$13:BQ$350),0)","v":0},{"$f":"IF($E22>0,SUMIF(個別表!$C$13:$C$350,$B22,個別表!BY$13:BY$350),0)","v":0},{"$f":"IF($E22>0,SUMIF(個別表!$C$13:$C$350,$B22,個別表!BZ$13:BZ$350),0)","v":0},{"$f":"IF($E22>0,SUMIF(個別表!$C$13:$C$350,$B22,個別表!CA$13:CA$350),0)","v":0},{"$f":"IF($E22>0,SUMIF(個別表!$C$13:$C$350,$B22,個別表!CB$13:CB$350),0)","v":0},{"$f":"IF($E22>0,SUMIF(個別表!$C$13:$C$350,$B22,個別表!CC$13:CC$350),0)","v":0},{"$f":"IF($E22>0,SUMIF(個別表!$C$13:$C$350,$B22,個別表!CD$13:CD$350),0)","v":0},{"$f":"IF($E22>0,SUMIF(個別表!$C$13:$C$350,$B22,個別表!CE$13:CE$350),0)","v":0},{"$f":"IF($E22>0,SUMIF(個別表!$C$13:$C$350,$B22,個別表!CF$13:CF$350),0)","v":0},{"$f":"IF($E22>0,SUMIF(個別表!$C$13:$C$350,$B22,個別表!CG$13:CG$350),0)","v":0},{"$f":"IF($E22>0,SUMIF(個別表!$C$13:$C$350,$B22,個別表!GI$13:GI$350),0)","v":0},{"$f":"IF($E22>0,SUMIF(個別表!$C$13:$C$350,$B22,個別表!GJ$13:GJ$350),0)","v":0},{"$f":"IF($E22>0,SUMIF(個別表!$C$13:$C$350,$B22,個別表!GK$13:GK$350),0)","v":0},{"$f":"IF($E22>0,SUMIF(個別表!$C$13:$C$350,$B22,個別表!GL$13:GL$350),0)","v":0},{"$f":"IF($E22>0,SUMIF(個別表!$C$13:$C$350,$B22,個別表!GM$13:GM$350),0)","v":0},{"$f":"IF($E22>0,SUMIF(個別表!$C$13:$C$350,$B22,個別表!GN$13:GN$350),0)","v":0},{"$f":"IF($E22>0,SUMIF(個別表!$C$13:$C$350,$B22,個別表!GO$13:GO$350),0)","v":0},{"$f":"IF($E22>0,SUMIF(個別表!$C$13:$C$350,$B22,個別表!GP$13:GP$350),0)","v":0},{"$f":"IF($E22>0,SUMIF(個別表!$C$13:$C$350,$B22,個別表!GQ$13:GQ$350),0)","v":0},{"$f":"IF($E22>0,SUMIF(個別表!$C$13:$C$350,$B22,個別表!GR$13:GR$350),0)","v":0},{"$f":"IF($E22>0,SUMIF(個別表!$C$13:$C$350,$B22,個別表!GS$13:GS$350),0)","v":0},{"$f":"IF($E22>0,SUMIF(個別表!$C$13:$C$350,$B22,個別表!GT$13:GT$350),0)","v":0},{"$f":"IF($E22>0,SUMIF(個別表!$C$13:$C$350,$B22,個別表!GU$13:GU$350),0)","v":0},{"$f":"IF($E22>0,SUMIF(個別表!$C$13:$C$350,$B22,個別表!GV$13:GV$350),0)","v":0},{"$f":"IF($E22>0,SUMIF(個別表!$C$13:$C$350,$B22,個別表!GW$13:GW$350),0)","v":0},{"$f":"IF($E22>0,SUMIF(個別表!$C$13:$C$350,$B22,個別表!GX$13:GX$350),0)","v":0},{"$f":"IF($E22>0,SUMIF(個別表!$C$13:$C$350,$B22,個別表!GY$13:GY$350),0)","v":0},{"$f":"IF($E22>0,SUMIF(個別表!$C$13:$C$350,$B22,個別表!GZ$13:GZ$350),0)","v":0},{"$f":"IF($E22>0,SUMIF(個別表!$C$13:$C$350,$B22,個別表!HA$13:HA$350),0)","v":0},{"$f":"IF($E22>0,SUMIF(個別表!$C$13:$C$350,$B22,個別表!HB$13:HB$350),0)","v":0},{"$f":"IF($E22>0,SUMIF(個別表!$C$13:$C$350,$B22,個別表!HC$13:HC$350),0)","v":0},{"$f":"IF($E22>0,SUMIF(個別表!$C$13:$C$350,$B22,個別表!HD$13:HD$350),0)","v":0},{"$f":"IF($E22>0,SUMIF(個別表!$C$13:$C$350,$B22,個別表!HE$13:HE$350),0)","v":0},{"$f":"IF($E22>0,SUMIF(個別表!$C$13:$C$350,$B22,個別表!HF$13:HF$350),0)","v":0},{"$f":"IF($E22>0,SUMIF(個別表!$C$13:$C$350,$B22,個別表!HG$13:HG$350),0)","v":0},{"$f":"IF($E22>0,SUMIF(個別表!$C$13:$C$350,$B22,個別表!HH$13:HH$350),0)","v":0},{"$f":"IF($E22>0,SUMIF(個別表!$C$13:$C$350,$B22,個別表!HI$13:HI$350),0)","v":0},{"$f":"IF($E22>0,SUMIF(個別表!$C$13:$C$350,$B22,個別表!HJ$13:HJ$350),0)","v":0},{"$f":"IF($E22>0,SUMIF(個別表!$C$13:$C$350,$B22,個別表!HK$13:HK$350),0)","v":0},{"$f":"IF($E22>0,SUMIF(個別表!$C$13:$C$350,$B22,個別表!HL$13:HL$350),0)","v":0},{"$f":"IF($E22>0,SUMIF(個別表!$C$13:$C$350,$B22,個別表!HM$13:HM$350),0)","v":0},{"$f":"IF($E22>0,SUMIF(個別表!$C$13:$C$350,$B22,個別表!HN$13:HN$350),0)","v":0},{"$f":"IF($E22>0,SUMIF(個別表!$C$13:$C$350,$B22,個別表!HO$13:HO$350),0)","v":0},{"$f":"IF($E22>0,SUMIF(個別表!$C$13:$C$350,$B22,個別表!HP$13:HP$350),0)","v":0},{"$f":"IF($E22>0,SUMIF(個別表!$C$13:$C$350,$B22,個別表!HQ$13:HQ$350),0)","v":0},{"$f":"IF($E22>0,SUMIF(個別表!$C$13:$C$350,$B22,個別表!HR$13:HR$350),0)","v":0},{"$f":"IF($E22>0,SUMIF(個別表!$C$13:$C$350,$B22,個別表!HS$13:HS$350),0)","v":0},{"$f":"IF($E22>0,SUMIF(個別表!$C$13:$C$350,$B22,個別表!HT$13:HT$350),0)","v":0},{"$f":"IF($E22>0,SUMIF(個別表!$C$13:$C$350,$B22,個別表!HU$13:HU$350),0)","v":0},{"$f":"IF($E22>0,SUMIF(個別表!$C$13:$C$350,$B22,個別表!HV$13:HV$350),0)","v":0},{"$f":"IF($E22>0,SUMIF(個別表!$C$13:$C$350,$B22,個別表!HW$13:HW$350),0)","v":0},{"$f":"IF($E22>0,SUMIF(個別表!$C$13:$C$350,$B22,個別表!HX$13:HX$350),0)","v":0},{"$f":"IF($E22>0,SUMIF(個別表!$C$13:$C$350,$B22,個別表!HY$13:HY$350),0)","v":0},{"$f":"IF($E22>0,SUMIF(個別表!$C$13:$C$350,$B22,個別表!HZ$13:HZ$350),0)","v":0},{"$f":"IF($E22>0,SUMIF(個別表!$C$13:$C$350,$B22,個別表!IA$13:IA$350),0)","v":0},{"$f":"IF($E22>0,SUMIF(個別表!$C$13:$C$350,$B22,個別表!IB$13:IB$350),0)","v":0},{"$f":"IF($E22>0,SUMIF(個別表!$C$13:$C$350,$B22,個別表!IC$13:IC$350),0)","v":0},{"$f":"IF($E22>0,SUMIF(個別表!$C$13:$C$350,$B22,個別表!ID$13:ID$350),0)","v":0},{"$f":"IF($E22>0,SUMIF(個別表!$C$13:$C$350,$B22,個別表!IE$13:IE$350),0)","v":0},{"$f":"IF($E22>0,SUMIF(個別表!$C$13:$C$350,$B22,個別表!IF$13:IF$350),0)","v":0},{"$f":"IF($E22>0,SUMIF(個別表!$C$13:$C$350,$B22,個別表!IG$13:IG$350),0)","v":0},{"$f":"IF($E22>0,SUMIF(個別表!$C$13:$C$350,$B22,個別表!IH$13:IH$350),0)","v":0},{"$f":"IF($E22>0,SUMIF(個別表!$C$13:$C$350,$B22,個別表!II$13:II$350),0)","v":0},{"$f":"IF($E22>0,SUMIF(個別表!$C$13:$C$350,$B22,個別表!IJ$13:IJ$350),0)","v":0},{"$f":"IF($E22>0,SUMIF(個別表!$C$13:$C$350,$B22,個別表!IK$13:IK$350),0)","v":0},{"$f":"IF($E22>0,SUMIF(個別表!$C$13:$C$350,$B22,個別表!IL$13:IL$350),0)","v":0},{"$f":"IF($E22>0,SUMIF(個別表!$C$13:$C$350,$B22,個別表!IM$13:IM$350),0)","v":0},{"$f":"IF($E22>0,SUMIF(個別表!$C$13:$C$350,$B22,個別表!IN$13:IN$350),0)","v":0},{"$f":"IF($E22>0,SUMIF(個別表!$C$13:$C$350,$B22,個別表!IO$13:IO$350),0)","v":0},{"$f":"IF($E22>0,SUMIF(個別表!$C$13:$C$350,$B22,個別表!IP$13:IP$350),0)","v":0},{"$f":"IF($E22>0,SUMIF(個別表!$C$13:$C$350,$B22,個別表!IQ$13:IQ$350),0)","v":0},{"$f":"IF($E22>0,SUMIF(個別表!$C$13:$C$350,$B22,個別表!IR$13:IR$350),0)","v":0},{"$f":"IF($E22>0,SUMIF(個別表!$C$13:$C$350,$B22,個別表!IS$13:IS$350),0)","v":0},{"$f":"IF($E22>0,SUMIF(個別表!$C$13:$C$350,$B22,個別表!IT$13:IT$350),0)","v":0},{"$f":"IF($E22>0,SUMIF(個別表!$C$13:$C$350,$B22,個別表!IU$13:IU$350),0)","v":0},{"$f":"IF($E22>0,SUMIF(個別表!$C$13:$C$350,$B22,個別表!IV$13:IV$350),0)","v":0},{"$f":"IF($E22>0,SUMIF(個別表!$C$13:$C$350,$B22,個別表!IW$13:IW$350),0)","v":0},{"$f":"IF($E22>0,SUMIF(個別表!$C$13:$C$350,$B22,個別表!IX$13:IX$350),0)","v":0},{"$f":"IF($E22>0,SUMIF(個別表!$C$13:$C$350,$B22,個別表!IY$13:IY$350),0)","v":0},{"$f":"IF($E22>0,SUMIF(個別表!$C$13:$C$350,$B22,個別表!IZ$13:IZ$350),0)","v":0},{"$f":"IF($E22>0,SUMIF(個別表!$C$13:$C$350,$B22,個別表!JA$13:JA$350),0)","v":0},{"$f":"IF($E22>0,SUMIF(個別表!$C$13:$C$350,$B22,個別表!JB$13:JB$350),0)","v":0},{"$f":"IF($E22>0,SUMIF(個別表!$C$13:$C$350,$B22,個別表!JC$13:JC$350),0)","v":0},{"$f":"IF($E22>0,SUMIF(個別表!$C$13:$C$350,$B22,個別表!JD$13:JD$350),0)","v":0},0,0,null,null,0,0,null,null,0,null,null,0,0,null,0,null,0,null,null,null,0,0,null,null,{"$f":"IF($E22>0,COUNTIFS(個別表!$C$13:$C$350,$B22,個別表!$I$13:$I$350,1,個別表!$V$13:$V$350,DX$9),0)","v":0},{"$f":"IF($E22>0,COUNTIFS(個別表!$C$13:$C$350,$B22,個別表!$I$13:$I$350,1,個別表!$V$13:$V$350,DY$9),0)","v":0},{"$f":"IF($E22>0,COUNTIFS(個別表!$C$13:$C$350,$B22,個別表!$I$13:$I$350,1,個別表!$V$13:$V$350,DZ$9),0)","v":0},{"$f":"IF($E22>0,COUNTIFS(個別表!$C$13:$C$350,$B22,個別表!$I$13:$I$350,1,個別表!$V$13:$V$350,EA$9),0)","v":0},""]
[{"$f":"VLOOKUP($B23,個別表!$C$13:$BP$350,2,FALSE)","v":0},0,{"$f":"VLOOKUP($B23,個別表!$C$13:$BP$350,10,FALSE)","v":0},{"$f":"VLOOKUP($B23,個別表!$C$13:$BP$350,11,FALSE)","v":0},{"$f":"VLOOKUP($B23,個別表!$C$13:$BP$350,12,FALSE)","v":0},{"$f":"SUMIF(個別表!$C$13:$C$350,総括表!$B23,個別表!$I$13:$I$350)","v":0},{"$f":"SUMIF(個別表!$C$13:$C$350,総括表!$B23,個別表!$AV$13:$AV$350)","v":0},{"$f":"SUMIF(個別表!$C$13:$C$350,総括表!$B23,個別表!$AX$13:$AX$350)","v":0},{"$f":"SUMIF(個別表!$C$13:$C$350,総括表!$B23,個別表!$J$13:$J$350)","v":0},{"$f":"SUMIF(個別表!$C$13:$C$350,$B23,個別表!$BP$13:$BP$350)","v":0},0,null,null,{"$f":"SUMIFS(個別表!$I$13:$I$350,個別表!$C$13:$C$350,$B23,個別表!$AL$13:$AL$350,1)","v":0},{"$f":"SUMIFS(個別表!$AV$13:$AV$350,個別表!$C$13:$C$350,$B23,個別表!$AL$13:$AL$350,1)","v":0},{"$f":"SUMIFS(個別表!$AW$13:$AW$350,個別表!$C$13:$C$350,$B23,個別表!$AL$13:$AL$350,1)","v":0},{"$f":"SUMIFS(個別表!$J$13:$J$350,個別表!$C$13:$C$350,$B23,個別表!$AL$13:$AL$350,1)","v":0},{"$f":"SUMIFS(個別表!$BP$13:$BP$350,個別表!$C$13:$C$350,$B23,個別表!$AL$13:$AL$350,1)","v":0},0,{"$f":"IF($E23>0,SUMIF(個別表!$C$13:$C$350,$B23,個別表!BQ$13:BQ$350),0)","v":0},{"$f":"IF($E23>0,SUMIF(個別表!$C$13:$C$350,$B23,個別表!BY$13:BY$350),0)","v":0},{"$f":"IF($E23>0,SUMIF(個別表!$C$13:$C$350,$B23,個別表!BZ$13:BZ$350),0)","v":0},{"$f":"IF($E23>0,SUMIF(個別表!$C$13:$C$350,$B23,個別表!CA$13:CA$350),0)","v":0},{"$f":"IF($E23>0,SUMIF(個別表!$C$13:$C$350,$B23,個別表!CB$13:CB$350),0)","v":0},{"$f":"IF($E23>0,SUMIF(個別表!$C$13:$C$350,$B23,個別表!CC$13:CC$350),0)","v":0},{"$f":"IF($E23>0,SUMIF(個別表!$C$13:$C$350,$B23,個別表!CD$13:CD$350),0)","v":0},{"$f":"IF($E23>0,SUMIF(個別表!$C$13:$C$350,$B23,個別表!CE$13:CE$350),0)","v":0},{"$f":"IF($E23>0,SUMIF(個別表!$C$13:$C$350,$B23,個別表!CF$13:CF$350),0)","v":0},{"$f":"IF($E23>0,SUMIF(個別表!$C$13:$C$350,$B23,個別表!CG$13:CG$350),0)","v":0},{"$f":"IF($E23>0,SUMIF(個別表!$C$13:$C$350,$B23,個別表!GI$13:GI$350),0)","v":0},{"$f":"IF($E23>0,SUMIF(個別表!$C$13:$C$350,$B23,個別表!GJ$13:GJ$350),0)","v":0},{"$f":"IF($E23>0,SUMIF(個別表!$C$13:$C$350,$B23,個別表!GK$13:GK$350),0)","v":0},{"$f":"IF($E23>0,SUMIF(個別表!$C$13:$C$350,$B23,個別表!GL$13:GL$350),0)","v":0},{"$f":"IF($E23>0,SUMIF(個別表!$C$13:$C$350,$B23,個別表!GM$13:GM$350),0)","v":0},{"$f":"IF($E23>0,SUMIF(個別表!$C$13:$C$350,$B23,個別表!GN$13:GN$350),0)","v":0},{"$f":"IF($E23>0,SUMIF(個別表!$C$13:$C$350,$B23,個別表!GO$13:GO$350),0)","v":0},{"$f":"IF($E23>0,SUMIF(個別表!$C$13:$C$350,$B23,個別表!GP$13:GP$350),0)","v":0},{"$f":"IF($E23>0,SUMIF(個別表!$C$13:$C$350,$B23,個別表!GQ$13:GQ$350),0)","v":0},{"$f":"IF($E23>0,SUMIF(個別表!$C$13:$C$350,$B23,個別表!GR$13:GR$350),0)","v":0},{"$f":"IF($E23>0,SUMIF(個別表!$C$13:$C$350,$B23,個別表!GS$13:GS$350),0)","v":0},{"$f":"IF($E23>0,SUMIF(個別表!$C$13:$C$350,$B23,個別表!GT$13:GT$350),0)","v":0},{"$f":"IF($E23>0,SUMIF(個別表!$C$13:$C$350,$B23,個別表!GU$13:GU$350),0)","v":0},{"$f":"IF($E23>0,SUMIF(個別表!$C$13:$C$350,$B23,個別表!GV$13:GV$350),0)","v":0},{"$f":"IF($E23>0,SUMIF(個別表!$C$13:$C$350,$B23,個別表!GW$13:GW$350),0)","v":0},{"$f":"IF($E23>0,SUMIF(個別表!$C$13:$C$350,$B23,個別表!GX$13:GX$350),0)","v":0},{"$f":"IF($E23>0,SUMIF(個別表!$C$13:$C$350,$B23,個別表!GY$13:GY$350),0)","v":0},{"$f":"IF($E23>0,SUMIF(個別表!$C$13:$C$350,$B23,個別表!GZ$13:GZ$350),0)","v":0},{"$f":"IF($E23>0,SUMIF(個別表!$C$13:$C$350,$B23,個別表!HA$13:HA$350),0)","v":0},{"$f":"IF($E23>0,SUMIF(個別表!$C$13:$C$350,$B23,個別表!HB$13:HB$350),0)","v":0},{"$f":"IF($E23>0,SUMIF(個別表!$C$13:$C$350,$B23,個別表!HC$13:HC$350),0)","v":0},{"$f":"IF($E23>0,SUMIF(個別表!$C$13:$C$350,$B23,個別表!HD$13:HD$350),0)","v":0},{"$f":"IF($E23>0,SUMIF(個別表!$C$13:$C$350,$B23,個別表!HE$13:HE$350),0)","v":0},{"$f":"IF($E23>0,SUMIF(個別表!$C$13:$C$350,$B23,個別表!HF$13:HF$350),0)","v":0},{"$f":"IF($E23>0,SUMIF(個別表!$C$13:$C$350,$B23,個別表!HG$13:HG$350),0)","v":0},{"$f":"IF($E23>0,SUMIF(個別表!$C$13:$C$350,$B23,個別表!HH$13:HH$350),0)","v":0},{"$f":"IF($E23>0,SUMIF(個別表!$C$13:$C$350,$B23,個別表!HI$13:HI$350),0)","v":0},{"$f":"IF($E23>0,SUMIF(個別表!$C$13:$C$350,$B23,個別表!HJ$13:HJ$350),0)","v":0},{"$f":"IF($E23>0,SUMIF(個別表!$C$13:$C$350,$B23,個別表!HK$13:HK$350),0)","v":0},{"$f":"IF($E23>0,SUMIF(個別表!$C$13:$C$350,$B23,個別表!HL$13:HL$350),0)","v":0},{"$f":"IF($E23>0,SUMIF(個別表!$C$13:$C$350,$B23,個別表!HM$13:HM$350),0)","v":0},{"$f":"IF($E23>0,SUMIF(個別表!$C$13:$C$350,$B23,個別表!HN$13:HN$350),0)","v":0},{"$f":"IF($E23>0,SUMIF(個別表!$C$13:$C$350,$B23,個別表!HO$13:HO$350),0)","v":0},{"$f":"IF($E23>0,SUMIF(個別表!$C$13:$C$350,$B23,個別表!HP$13:HP$350),0)","v":0},{"$f":"IF($E23>0,SUMIF(個別表!$C$13:$C$350,$B23,個別表!HQ$13:HQ$350),0)","v":0},{"$f":"IF($E23>0,SUMIF(個別表!$C$13:$C$350,$B23,個別表!HR$13:HR$350),0)","v":0},{"$f":"IF($E23>0,SUMIF(個別表!$C$13:$C$350,$B23,個別表!HS$13:HS$350),0)","v":0},{"$f":"IF($E23>0,SUMIF(個別表!$C$13:$C$350,$B23,個別表!HT$13:HT$350),0)","v":0},{"$f":"IF($E23>0,SUMIF(個別表!$C$13:$C$350,$B23,個別表!HU$13:HU$350),0)","v":0},{"$f":"IF($E23>0,SUMIF(個別表!$C$13:$C$350,$B23,個別表!HV$13:HV$350),0)","v":0},{"$f":"IF($E23>0,SUMIF(個別表!$C$13:$C$350,$B23,個別表!HW$13:HW$350),0)","v":0},{"$f":"IF($E23>0,SUMIF(個別表!$C$13:$C$350,$B23,個別表!HX$13:HX$350),0)","v":0},{"$f":"IF($E23>0,SUMIF(個別表!$C$13:$C$350,$B23,個別表!HY$13:HY$350),0)","v":0},{"$f":"IF($E23>0,SUMIF(個別表!$C$13:$C$350,$B23,個別表!HZ$13:HZ$350),0)","v":0},{"$f":"IF($E23>0,SUMIF(個別表!$C$13:$C$350,$B23,個別表!IA$13:IA$350),0)","v":0},{"$f":"IF($E23>0,SUMIF(個別表!$C$13:$C$350,$B23,個別表!IB$13:IB$350),0)","v":0},{"$f":"IF($E23>0,SUMIF(個別表!$C$13:$C$350,$B23,個別表!IC$13:IC$350),0)","v":0},{"$f":"IF($E23>0,SUMIF(個別表!$C$13:$C$350,$B23,個別表!ID$13:ID$350),0)","v":0},{"$f":"IF($E23>0,SUMIF(個別表!$C$13:$C$350,$B23,個別表!IE$13:IE$350),0)","v":0},{"$f":"IF($E23>0,SUMIF(個別表!$C$13:$C$350,$B23,個別表!IF$13:IF$350),0)","v":0},{"$f":"IF($E23>0,SUMIF(個別表!$C$13:$C$350,$B23,個別表!IG$13:IG$350),0)","v":0},{"$f":"IF($E23>0,SUMIF(個別表!$C$13:$C$350,$B23,個別表!IH$13:IH$350),0)","v":0},{"$f":"IF($E23>0,SUMIF(個別表!$C$13:$C$350,$B23,個別表!II$13:II$350),0)","v":0},{"$f":"IF($E23>0,SUMIF(個別表!$C$13:$C$350,$B23,個別表!IJ$13:IJ$350),0)","v":0},{"$f":"IF($E23>0,SUMIF(個別表!$C$13:$C$350,$B23,個別表!IK$13:IK$350),0)","v":0},{"$f":"IF($E23>0,SUMIF(個別表!$C$13:$C$350,$B23,個別表!IL$13:IL$350),0)","v":0},{"$f":"IF($E23>0,SUMIF(個別表!$C$13:$C$350,$B23,個別表!IM$13:IM$350),0)","v":0},{"$f":"IF($E23>0,SUMIF(個別表!$C$13:$C$350,$B23,個別表!IN$13:IN$350),0)","v":0},{"$f":"IF($E23>0,SUMIF(個別表!$C$13:$C$350,$B23,個別表!IO$13:IO$350),0)","v":0},{"$f":"IF($E23>0,SUMIF(個別表!$C$13:$C$350,$B23,個別表!IP$13:IP$350),0)","v":0},{"$f":"IF($E23>0,SUMIF(個別表!$C$13:$C$350,$B23,個別表!IQ$13:IQ$350),0)","v":0},{"$f":"IF($E23>0,SUMIF(個別表!$C$13:$C$350,$B23,個別表!IR$13:IR$350),0)","v":0},{"$f":"IF($E23>0,SUMIF(個別表!$C$13:$C$350,$B23,個別表!IS$13:IS$350),0)","v":0},{"$f":"IF($E23>0,SUMIF(個別表!$C$13:$C$350,$B23,個別表!IT$13:IT$350),0)","v":0},{"$f":"IF($E23>0,SUMIF(個別表!$C$13:$C$350,$B23,個別表!IU$13:IU$350),0)","v":0},{"$f":"IF($E23>0,SUMIF(個別表!$C$13:$C$350,$B23,個別表!IV$13:IV$350),0)","v":0},{"$f":"IF($E23>0,SUMIF(個別表!$C$13:$C$350,$B23,個別表!IW$13:IW$350),0)","v":0},{"$f":"IF($E23>0,SUMIF(個別表!$C$13:$C$350,$B23,個別表!IX$13:IX$350),0)","v":0},{"$f":"IF($E23>0,SUMIF(個別表!$C$13:$C$350,$B23,個別表!IY$13:IY$350),0)","v":0},{"$f":"IF($E23>0,SUMIF(個別表!$C$13:$C$350,$B23,個別表!IZ$13:IZ$350),0)","v":0},{"$f":"IF($E23>0,SUMIF(個別表!$C$13:$C$350,$B23,個別表!JA$13:JA$350),0)","v":0},{"$f":"IF($E23>0,SUMIF(個別表!$C$13:$C$350,$B23,個別表!JB$13:JB$350),0)","v":0},{"$f":"IF($E23>0,SUMIF(個別表!$C$13:$C$350,$B23,個別表!JC$13:JC$350),0)","v":0},{"$f":"IF($E23>0,SUMIF(個別表!$C$13:$C$350,$B23,個別表!JD$13:JD$350),0)","v":0},0,0,null,null,0,0,null,null,0,null,null,0,0,null,0,null,0,null,null,null,0,0,null,null,{"$f":"IF($E23>0,COUNTIFS(個別表!$C$13:$C$350,$B23,個別表!$I$13:$I$350,1,個別表!$V$13:$V$350,DX$9),0)","v":0},{"$f":"IF($E23>0,COUNTIFS(個別表!$C$13:$C$350,$B23,個別表!$I$13:$I$350,1,個別表!$V$13:$V$350,DY$9),0)","v":0},{"$f":"IF($E23>0,COUNTIFS(個別表!$C$13:$C$350,$B23,個別表!$I$13:$I$350,1,個別表!$V$13:$V$350,DZ$9),0)","v":0},{"$f":"IF($E23>0,COUNTIFS(個別表!$C$13:$C$350,$B23,個別表!$I$13:$I$350,1,個別表!$V$13:$V$350,EA$9),0)","v":0},""]
[{"$f":"VLOOKUP($B24,個別表!$C$13:$BP$350,2,FALSE)","v":0},0,{"$f":"VLOOKUP($B24,個別表!$C$13:$BP$350,10,FALSE)","v":0},{"$f":"VLOOKUP($B24,個別表!$C$13:$BP$350,11,FALSE)","v":0},{"$f":"VLOOKUP($B24,個別表!$C$13:$BP$350,12,FALSE)","v":0},{"$f":"SUMIF(個別表!$C$13:$C$350,総括表!$B24,個別表!$I$13:$I$350)","v":0},{"$f":"SUMIF(個別表!$C$13:$C$350,総括表!$B24,個別表!$AV$13:$AV$350)","v":0},{"$f":"SUMIF(個別表!$C$13:$C$350,総括表!$B24,個別表!$AX$13:$AX$350)","v":0},{"$f":"SUMIF(個別表!$C$13:$C$350,総括表!$B24,個別表!$J$13:$J$350)","v":0},{"$f":"SUMIF(個別表!$C$13:$C$350,$B24,個別表!$BP$13:$BP$350)","v":0},0,null,null,{"$f":"SUMIFS(個別表!$I$13:$I$350,個別表!$C$13:$C$350,$B24,個別表!$AL$13:$AL$350,1)","v":0},{"$f":"SUMIFS(個別表!$AV$13:$AV$350,個別表!$C$13:$C$350,$B24,個別表!$AL$13:$AL$350,1)","v":0},{"$f":"SUMIFS(個別表!$AW$13:$AW$350,個別表!$C$13:$C$350,$B24,個別表!$AL$13:$AL$350,1)","v":0},{"$f":"SUMIFS(個別表!$J$13:$J$350,個別表!$C$13:$C$350,$B24,個別表!$AL$13:$AL$350,1)","v":0},{"$f":"SUMIFS(個別表!$BP$13:$BP$350,個別表!$C$13:$C$350,$B24,個別表!$AL$13:$AL$350,1)","v":0},0,{"$f":"IF($E24>0,SUMIF(個別表!$C$13:$C$350,$B24,個別表!BQ$13:BQ$350),0)","v":0},{"$f":"IF($E24>0,SUMIF(個別表!$C$13:$C$350,$B24,個別表!BY$13:BY$350),0)","v":0},{"$f":"IF($E24>0,SUMIF(個別表!$C$13:$C$350,$B24,個別表!BZ$13:BZ$350),0)","v":0},{"$f":"IF($E24>0,SUMIF(個別表!$C$13:$C$350,$B24,個別表!CA$13:CA$350),0)","v":0},{"$f":"IF($E24>0,SUMIF(個別表!$C$13:$C$350,$B24,個別表!CB$13:CB$350),0)","v":0},{"$f":"IF($E24>0,SUMIF(個別表!$C$13:$C$350,$B24,個別表!CC$13:CC$350),0)","v":0},{"$f":"IF($E24>0,SUMIF(個別表!$C$13:$C$350,$B24,個別表!CD$13:CD$350),0)","v":0},{"$f":"IF($E24>0,SUMIF(個別表!$C$13:$C$350,$B24,個別表!CE$13:CE$350),0)","v":0},{"$f":"IF($E24>0,SUMIF(個別表!$C$13:$C$350,$B24,個別表!CF$13:CF$350),0)","v":0},{"$f":"IF($E24>0,SUMIF(個別表!$C$13:$C$350,$B24,個別表!CG$13:CG$350),0)","v":0},{"$f":"IF($E24>0,SUMIF(個別表!$C$13:$C$350,$B24,個別表!GI$13:GI$350),0)","v":0},{"$f":"IF($E24>0,SUMIF(個別表!$C$13:$C$350,$B24,個別表!GJ$13:GJ$350),0)","v":0},{"$f":"IF($E24>0,SUMIF(個別表!$C$13:$C$350,$B24,個別表!GK$13:GK$350),0)","v":0},{"$f":"IF($E24>0,SUMIF(個別表!$C$13:$C$350,$B24,個別表!GL$13:GL$350),0)","v":0},{"$f":"IF($E24>0,SUMIF(個別表!$C$13:$C$350,$B24,個別表!GM$13:GM$350),0)","v":0},{"$f":"IF($E24>0,SUMIF(個別表!$C$13:$C$350,$B24,個別表!GN$13:GN$350),0)","v":0},{"$f":"IF($E24>0,SUMIF(個別表!$C$13:$C$350,$B24,個別表!GO$13:GO$350),0)","v":0},{"$f":"IF($E24>0,SUMIF(個別表!$C$13:$C$350,$B24,個別表!GP$13:GP$350),0)","v":0},{"$f":"IF($E24>0,SUMIF(個別表!$C$13:$C$350,$B24,個別表!GQ$13:GQ$350),0)","v":0},{"$f":"IF($E24>0,SUMIF(個別表!$C$13:$C$350,$B24,個別表!GR$13:GR$350),0)","v":0},{"$f":"IF($E24>0,SUMIF(個別表!$C$13:$C$350,$B24,個別表!GS$13:GS$350),0)","v":0},{"$f":"IF($E24>0,SUMIF(個別表!$C$13:$C$350,$B24,個別表!GT$13:GT$350),0)","v":0},{"$f":"IF($E24>0,SUMIF(個別表!$C$13:$C$350,$B24,個別表!GU$13:GU$350),0)","v":0},{"$f":"IF($E24>0,SUMIF(個別表!$C$13:$C$350,$B24,個別表!GV$13:GV$350),0)","v":0},{"$f":"IF($E24>0,SUMIF(個別表!$C$13:$C$350,$B24,個別表!GW$13:GW$350),0)","v":0},{"$f":"IF($E24>0,SUMIF(個別表!$C$13:$C$350,$B24,個別表!GX$13:GX$350),0)","v":0},{"$f":"IF($E24>0,SUMIF(個別表!$C$13:$C$350,$B24,個別表!GY$13:GY$350),0)","v":0},{"$f":"IF($E24>0,SUMIF(個別表!$C$13:$C$350,$B24,個別表!GZ$13:GZ$350),0)","v":0},{"$f":"IF($E24>0,SUMIF(個別表!$C$13:$C$350,$B24,個別表!HA$13:HA$350),0)","v":0},{"$f":"IF($E24>0,SUMIF(個別表!$C$13:$C$350,$B24,個別表!HB$13:HB$350),0)","v":0},{"$f":"IF($E24>0,SUMIF(個別表!$C$13:$C$350,$B24,個別表!HC$13:HC$350),0)","v":0},{"$f":"IF($E24>0,SUMIF(個別表!$C$13:$C$350,$B24,個別表!HD$13:HD$350),0)","v":0},{"$f":"IF($E24>0,SUMIF(個別表!$C$13:$C$350,$B24,個別表!HE$13:HE$350),0)","v":0},{"$f":"IF($E24>0,SUMIF(個別表!$C$13:$C$350,$B24,個別表!HF$13:HF$350),0)","v":0},{"$f":"IF($E24>0,SUMIF(個別表!$C$13:$C$350,$B24,個別表!HG$13:HG$350),0)","v":0},{"$f":"IF($E24>0,SUMIF(個別表!$C$13:$C$350,$B24,個別表!HH$13:HH$350),0)","v":0},{"$f":"IF($E24>0,SUMIF(個別表!$C$13:$C$350,$B24,個別表!HI$13:HI$350),0)","v":0},{"$f":"IF($E24>0,SUMIF(個別表!$C$13:$C$350,$B24,個別表!HJ$13:HJ$350),0)","v":0},{"$f":"IF($E24>0,SUMIF(個別表!$C$13:$C$350,$B24,個別表!HK$13:HK$350),0)","v":0},{"$f":"IF($E24>0,SUMIF(個別表!$C$13:$C$350,$B24,個別表!HL$13:HL$350),0)","v":0},{"$f":"IF($E24>0,SUMIF(個別表!$C$13:$C$350,$B24,個別表!HM$13:HM$350),0)","v":0},{"$f":"IF($E24>0,SUMIF(個別表!$C$13:$C$350,$B24,個別表!HN$13:HN$350),0)","v":0},{"$f":"IF($E24>0,SUMIF(個別表!$C$13:$C$350,$B24,個別表!HO$13:HO$350),0)","v":0},{"$f":"IF($E24>0,SUMIF(個別表!$C$13:$C$350,$B24,個別表!HP$13:HP$350),0)","v":0},{"$f":"IF($E24>0,SUMIF(個別表!$C$13:$C$350,$B24,個別表!HQ$13:HQ$350),0)","v":0},{"$f":"IF($E24>0,SUMIF(個別表!$C$13:$C$350,$B24,個別表!HR$13:HR$350),0)","v":0},{"$f":"IF($E24>0,SUMIF(個別表!$C$13:$C$350,$B24,個別表!HS$13:HS$350),0)","v":0},{"$f":"IF($E24>0,SUMIF(個別表!$C$13:$C$350,$B24,個別表!HT$13:HT$350),0)","v":0},{"$f":"IF($E24>0,SUMIF(個別表!$C$13:$C$350,$B24,個別表!HU$13:HU$350),0)","v":0},{"$f":"IF($E24>0,SUMIF(個別表!$C$13:$C$350,$B24,個別表!HV$13:HV$350),0)","v":0},{"$f":"IF($E24>0,SUMIF(個別表!$C$13:$C$350,$B24,個別表!HW$13:HW$350),0)","v":0},{"$f":"IF($E24>0,SUMIF(個別表!$C$13:$C$350,$B24,個別表!HX$13:HX$350),0)","v":0},{"$f":"IF($E24>0,SUMIF(個別表!$C$13:$C$350,$B24,個別表!HY$13:HY$350),0)","v":0},{"$f":"IF($E24>0,SUMIF(個別表!$C$13:$C$350,$B24,個別表!HZ$13:HZ$350),0)","v":0},{"$f":"IF($E24>0,SUMIF(個別表!$C$13:$C$350,$B24,個別表!IA$13:IA$350),0)","v":0},{"$f":"IF($E24>0,SUMIF(個別表!$C$13:$C$350,$B24,個別表!IB$13:IB$350),0)","v":0},{"$f":"IF($E24>0,SUMIF(個別表!$C$13:$C$350,$B24,個別表!IC$13:IC$350),0)","v":0},{"$f":"IF($E24>0,SUMIF(個別表!$C$13:$C$350,$B24,個別表!ID$13:ID$350),0)","v":0},{"$f":"IF($E24>0,SUMIF(個別表!$C$13:$C$350,$B24,個別表!IE$13:IE$350),0)","v":0},{"$f":"IF($E24>0,SUMIF(個別表!$C$13:$C$350,$B24,個別表!IF$13:IF$350),0)","v":0},{"$f":"IF($E24>0,SUMIF(個別表!$C$13:$C$350,$B24,個別表!IG$13:IG$350),0)","v":0},{"$f":"IF($E24>0,SUMIF(個別表!$C$13:$C$350,$B24,個別表!IH$13:IH$350),0)","v":0},{"$f":"IF($E24>0,SUMIF(個別表!$C$13:$C$350,$B24,個別表!II$13:II$350),0)","v":0},{"$f":"IF($E24>0,SUMIF(個別表!$C$13:$C$350,$B24,個別表!IJ$13:IJ$350),0)","v":0},{"$f":"IF($E24>0,SUMIF(個別表!$C$13:$C$350,$B24,個別表!IK$13:IK$350),0)","v":0},{"$f":"IF($E24>0,SUMIF(個別表!$C$13:$C$350,$B24,個別表!IL$13:IL$350),0)","v":0},{"$f":"IF($E24>0,SUMIF(個別表!$C$13:$C$350,$B24,個別表!IM$13:IM$350),0)","v":0},{"$f":"IF($E24>0,SUMIF(個別表!$C$13:$C$350,$B24,個別表!IN$13:IN$350),0)","v":0},{"$f":"IF($E24>0,SUMIF(個別表!$C$13:$C$350,$B24,個別表!IO$13:IO$350),0)","v":0},{"$f":"IF($E24>0,SUMIF(個別表!$C$13:$C$350,$B24,個別表!IP$13:IP$350),0)","v":0},{"$f":"IF($E24>0,SUMIF(個別表!$C$13:$C$350,$B24,個別表!IQ$13:IQ$350),0)","v":0},{"$f":"IF($E24>0,SUMIF(個別表!$C$13:$C$350,$B24,個別表!IR$13:IR$350),0)","v":0},{"$f":"IF($E24>0,SUMIF(個別表!$C$13:$C$350,$B24,個別表!IS$13:IS$350),0)","v":0},{"$f":"IF($E24>0,SUMIF(個別表!$C$13:$C$350,$B24,個別表!IT$13:IT$350),0)","v":0},{"$f":"IF($E24>0,SUMIF(個別表!$C$13:$C$350,$B24,個別表!IU$13:IU$350),0)","v":0},{"$f":"IF($E24>0,SUMIF(個別表!$C$13:$C$350,$B24,個別表!IV$13:IV$350),0)","v":0},{"$f":"IF($E24>0,SUMIF(個別表!$C$13:$C$350,$B24,個別表!IW$13:IW$350),0)","v":0},{"$f":"IF($E24>0,SUMIF(個別表!$C$13:$C$350,$B24,個別表!IX$13:IX$350),0)","v":0},{"$f":"IF($E24>0,SUMIF(個別表!$C$13:$C$350,$B24,個別表!IY$13:IY$350),0)","v":0},{"$f":"IF($E24>0,SUMIF(個別表!$C$13:$C$350,$B24,個別表!IZ$13:IZ$350),0)","v":0},{"$f":"IF($E24>0,SUMIF(個別表!$C$13:$C$350,$B24,個別表!JA$13:JA$350),0)","v":0},{"$f":"IF($E24>0,SUMIF(個別表!$C$13:$C$350,$B24,個別表!JB$13:JB$350),0)","v":0},{"$f":"IF($E24>0,SUMIF(個別表!$C$13:$C$350,$B24,個別表!JC$13:JC$350),0)","v":0},{"$f":"IF($E24>0,SUMIF(個別表!$C$13:$C$350,$B24,個別表!JD$13:JD$350),0)","v":0},0,0,null,null,0,0,null,null,0,null,null,0,0,null,0,null,0,null,null,null,0,0,null,null,{"$f":"IF($E24>0,COUNTIFS(個別表!$C$13:$C$350,$B24,個別表!$I$13:$I$350,1,個別表!$V$13:$V$350,DX$9),0)","v":0},{"$f":"IF($E24>0,COUNTIFS(個別表!$C$13:$C$350,$B24,個別表!$I$13:$I$350,1,個別表!$V$13:$V$350,DY$9),0)","v":0},{"$f":"IF($E24>0,COUNTIFS(個別表!$C$13:$C$350,$B24,個別表!$I$13:$I$350,1,個別表!$V$13:$V$350,DZ$9),0)","v":0},{"$f":"IF($E24>0,COUNTIFS(個別表!$C$13:$C$350,$B24,個別表!$I$13:$I$350,1,個別表!$V$13:$V$350,EA$9),0)","v":0},""]
[{"$f":"VLOOKUP($B25,個別表!$C$13:$BP$350,2,FALSE)","v":0},0,{"$f":"VLOOKUP($B25,個別表!$C$13:$BP$350,10,FALSE)","v":0},{"$f":"VLOOKUP($B25,個別表!$C$13:$BP$350,11,FALSE)","v":0},{"$f":"VLOOKUP($B25,個別表!$C$13:$BP$350,12,FALSE)","v":0},{"$f":"SUMIF(個別表!$C$13:$C$350,総括表!$B25,個別表!$I$13:$I$350)","v":0},{"$f":"SUMIF(個別表!$C$13:$C$350,総括表!$B25,個別表!$AV$13:$AV$350)","v":0},{"$f":"SUMIF(個別表!$C$13:$C$350,総括表!$B25,個別表!$AX$13:$AX$350)","v":0},{"$f":"SUMIF(個別表!$C$13:$C$350,総括表!$B25,個別表!$J$13:$J$350)","v":0},{"$f":"SUMIF(個別表!$C$13:$C$350,$B25,個別表!$BP$13:$BP$350)","v":0},0,null,null,{"$f":"SUMIFS(個別表!$I$13:$I$350,個別表!$C$13:$C$350,$B25,個別表!$AL$13:$AL$350,1)","v":0},{"$f":"SUMIFS(個別表!$AV$13:$AV$350,個別表!$C$13:$C$350,$B25,個別表!$AL$13:$AL$350,1)","v":0},{"$f":"SUMIFS(個別表!$AW$13:$AW$350,個別表!$C$13:$C$350,$B25,個別表!$AL$13:$AL$350,1)","v":0},{"$f":"SUMIFS(個別表!$J$13:$J$350,個別表!$C$13:$C$350,$B25,個別表!$AL$13:$AL$350,1)","v":0},{"$f":"SUMIFS(個別表!$BP$13:$BP$350,個別表!$C$13:$C$350,$B25,個別表!$AL$13:$AL$350,1)","v":0},0,{"$f":"IF($E25>0,SUMIF(個別表!$C$13:$C$350,$B25,個別表!BQ$13:BQ$350),0)","v":0},{"$f":"IF($E25>0,SUMIF(個別表!$C$13:$C$350,$B25,個別表!BY$13:BY$350),0)","v":0},{"$f":"IF($E25>0,SUMIF(個別表!$C$13:$C$350,$B25,個別表!BZ$13:BZ$350),0)","v":0},{"$f":"IF($E25>0,SUMIF(個別表!$C$13:$C$350,$B25,個別表!CA$13:CA$350),0)","v":0},{"$f":"IF($E25>0,SUMIF(個別表!$C$13:$C$350,$B25,個別表!CB$13:CB$350),0)","v":0},{"$f":"IF($E25>0,SUMIF(個別表!$C$13:$C$350,$B25,個別表!CC$13:CC$350),0)","v":0},{"$f":"IF($E25>0,SUMIF(個別表!$C$13:$C$350,$B25,個別表!CD$13:CD$350),0)","v":0},{"$f":"IF($E25>0,SUMIF(個別表!$C$13:$C$350,$B25,個別表!CE$13:CE$350),0)","v":0},{"$f":"IF($E25>0,SUMIF(個別表!$C$13:$C$350,$B25,個別表!CF$13:CF$350),0)","v":0},{"$f":"IF($E25>0,SUMIF(個別表!$C$13:$C$350,$B25,個別表!CG$13:CG$350),0)","v":0},{"$f":"IF($E25>0,SUMIF(個別表!$C$13:$C$350,$B25,個別表!GI$13:GI$350),0)","v":0},{"$f":"IF($E25>0,SUMIF(個別表!$C$13:$C$350,$B25,個別表!GJ$13:GJ$350),0)","v":0},{"$f":"IF($E25>0,SUMIF(個別表!$C$13:$C$350,$B25,個別表!GK$13:GK$350),0)","v":0},{"$f":"IF($E25>0,SUMIF(個別表!$C$13:$C$350,$B25,個別表!GL$13:GL$350),0)","v":0},{"$f":"IF($E25>0,SUMIF(個別表!$C$13:$C$350,$B25,個別表!GM$13:GM$350),0)","v":0},{"$f":"IF($E25>0,SUMIF(個別表!$C$13:$C$350,$B25,個別表!GN$13:GN$350),0)","v":0},{"$f":"IF($E25>0,SUMIF(個別表!$C$13:$C$350,$B25,個別表!GO$13:GO$350),0)","v":0},{"$f":"IF($E25>0,SUMIF(個別表!$C$13:$C$350,$B25,個別表!GP$13:GP$350),0)","v":0},{"$f":"IF($E25>0,SUMIF(個別表!$C$13:$C$350,$B25,個別表!GQ$13:GQ$350),0)","v":0},{"$f":"IF($E25>0,SUMIF(個別表!$C$13:$C$350,$B25,個別表!GR$13:GR$350),0)","v":0},{"$f":"IF($E25>0,SUMIF(個別表!$C$13:$C$350,$B25,個別表!GS$13:GS$350),0)","v":0},{"$f":"IF($E25>0,SUMIF(個別表!$C$13:$C$350,$B25,個別表!GT$13:GT$350),0)","v":0},{"$f":"IF($E25>0,SUMIF(個別表!$C$13:$C$350,$B25,個別表!GU$13:GU$350),0)","v":0},{"$f":"IF($E25>0,SUMIF(個別表!$C$13:$C$350,$B25,個別表!GV$13:GV$350),0)","v":0},{"$f":"IF($E25>0,SUMIF(個別表!$C$13:$C$350,$B25,個別表!GW$13:GW$350),0)","v":0},{"$f":"IF($E25>0,SUMIF(個別表!$C$13:$C$350,$B25,個別表!GX$13:GX$350),0)","v":0},{"$f":"IF($E25>0,SUMIF(個別表!$C$13:$C$350,$B25,個別表!GY$13:GY$350),0)","v":0},{"$f":"IF($E25>0,SUMIF(個別表!$C$13:$C$350,$B25,個別表!GZ$13:GZ$350),0)","v":0},{"$f":"IF($E25>0,SUMIF(個別表!$C$13:$C$350,$B25,個別表!HA$13:HA$350),0)","v":0},{"$f":"IF($E25>0,SUMIF(個別表!$C$13:$C$350,$B25,個別表!HB$13:HB$350),0)","v":0},{"$f":"IF($E25>0,SUMIF(個別表!$C$13:$C$350,$B25,個別表!HC$13:HC$350),0)","v":0},{"$f":"IF($E25>0,SUMIF(個別表!$C$13:$C$350,$B25,個別表!HD$13:HD$350),0)","v":0},{"$f":"IF($E25>0,SUMIF(個別表!$C$13:$C$350,$B25,個別表!HE$13:HE$350),0)","v":0},{"$f":"IF($E25>0,SUMIF(個別表!$C$13:$C$350,$B25,個別表!HF$13:HF$350),0)","v":0},{"$f":"IF($E25>0,SUMIF(個別表!$C$13:$C$350,$B25,個別表!HG$13:HG$350),0)","v":0},{"$f":"IF($E25>0,SUMIF(個別表!$C$13:$C$350,$B25,個別表!HH$13:HH$350),0)","v":0},{"$f":"IF($E25>0,SUMIF(個別表!$C$13:$C$350,$B25,個別表!HI$13:HI$350),0)","v":0},{"$f":"IF($E25>0,SUMIF(個別表!$C$13:$C$350,$B25,個別表!HJ$13:HJ$350),0)","v":0},{"$f":"IF($E25>0,SUMIF(個別表!$C$13:$C$350,$B25,個別表!HK$13:HK$350),0)","v":0},{"$f":"IF($E25>0,SUMIF(個別表!$C$13:$C$350,$B25,個別表!HL$13:HL$350),0)","v":0},{"$f":"IF($E25>0,SUMIF(個別表!$C$13:$C$350,$B25,個別表!HM$13:HM$350),0)","v":0},{"$f":"IF($E25>0,SUMIF(個別表!$C$13:$C$350,$B25,個別表!HN$13:HN$350),0)","v":0},{"$f":"IF($E25>0,SUMIF(個別表!$C$13:$C$350,$B25,個別表!HO$13:HO$350),0)","v":0},{"$f":"IF($E25>0,SUMIF(個別表!$C$13:$C$350,$B25,個別表!HP$13:HP$350),0)","v":0},{"$f":"IF($E25>0,SUMIF(個別表!$C$13:$C$350,$B25,個別表!HQ$13:HQ$350),0)","v":0},{"$f":"IF($E25>0,SUMIF(個別表!$C$13:$C$350,$B25,個別表!HR$13:HR$350),0)","v":0},{"$f":"IF($E25>0,SUMIF(個別表!$C$13:$C$350,$B25,個別表!HS$13:HS$350),0)","v":0},{"$f":"IF($E25>0,SUMIF(個別表!$C$13:$C$350,$B25,個別表!HT$13:HT$350),0)","v":0},{"$f":"IF($E25>0,SUMIF(個別表!$C$13:$C$350,$B25,個別表!HU$13:HU$350),0)","v":0},{"$f":"IF($E25>0,SUMIF(個別表!$C$13:$C$350,$B25,個別表!HV$13:HV$350),0)","v":0},{"$f":"IF($E25>0,SUMIF(個別表!$C$13:$C$350,$B25,個別表!HW$13:HW$350),0)","v":0},{"$f":"IF($E25>0,SUMIF(個別表!$C$13:$C$350,$B25,個別表!HX$13:HX$350),0)","v":0},{"$f":"IF($E25>0,SUMIF(個別表!$C$13:$C$350,$B25,個別表!HY$13:HY$350),0)","v":0},{"$f":"IF($E25>0,SUMIF(個別表!$C$13:$C$350,$B25,個別表!HZ$13:HZ$350),0)","v":0},{"$f":"IF($E25>0,SUMIF(個別表!$C$13:$C$350,$B25,個別表!IA$13:IA$350),0)","v":0},{"$f":"IF($E25>0,SUMIF(個別表!$C$13:$C$350,$B25,個別表!IB$13:IB$350),0)","v":0},{"$f":"IF($E25>0,SUMIF(個別表!$C$13:$C$350,$B25,個別表!IC$13:IC$350),0)","v":0},{"$f":"IF($E25>0,SUMIF(個別表!$C$13:$C$350,$B25,個別表!ID$13:ID$350),0)","v":0},{"$f":"IF($E25>0,SUMIF(個別表!$C$13:$C$350,$B25,個別表!IE$13:IE$350),0)","v":0},{"$f":"IF($E25>0,SUMIF(個別表!$C$13:$C$350,$B25,個別表!IF$13:IF$350),0)","v":0},{"$f":"IF($E25>0,SUMIF(個別表!$C$13:$C$350,$B25,個別表!IG$13:IG$350),0)","v":0},{"$f":"IF($E25>0,SUMIF(個別表!$C$13:$C$350,$B25,個別表!IH$13:IH$350),0)","v":0},{"$f":"IF($E25>0,SUMIF(個別表!$C$13:$C$350,$B25,個別表!II$13:II$350),0)","v":0},{"$f":"IF($E25>0,SUMIF(個別表!$C$13:$C$350,$B25,個別表!IJ$13:IJ$350),0)","v":0},{"$f":"IF($E25>0,SUMIF(個別表!$C$13:$C$350,$B25,個別表!IK$13:IK$350),0)","v":0},{"$f":"IF($E25>0,SUMIF(個別表!$C$13:$C$350,$B25,個別表!IL$13:IL$350),0)","v":0},{"$f":"IF($E25>0,SUMIF(個別表!$C$13:$C$350,$B25,個別表!IM$13:IM$350),0)","v":0},{"$f":"IF($E25>0,SUMIF(個別表!$C$13:$C$350,$B25,個別表!IN$13:IN$350),0)","v":0},{"$f":"IF($E25>0,SUMIF(個別表!$C$13:$C$350,$B25,個別表!IO$13:IO$350),0)","v":0},{"$f":"IF($E25>0,SUMIF(個別表!$C$13:$C$350,$B25,個別表!IP$13:IP$350),0)","v":0},{"$f":"IF($E25>0,SUMIF(個別表!$C$13:$C$350,$B25,個別表!IQ$13:IQ$350),0)","v":0},{"$f":"IF($E25>0,SUMIF(個別表!$C$13:$C$350,$B25,個別表!IR$13:IR$350),0)","v":0},{"$f":"IF($E25>0,SUMIF(個別表!$C$13:$C$350,$B25,個別表!IS$13:IS$350),0)","v":0},{"$f":"IF($E25>0,SUMIF(個別表!$C$13:$C$350,$B25,個別表!IT$13:IT$350),0)","v":0},{"$f":"IF($E25>0,SUMIF(個別表!$C$13:$C$350,$B25,個別表!IU$13:IU$350),0)","v":0},{"$f":"IF($E25>0,SUMIF(個別表!$C$13:$C$350,$B25,個別表!IV$13:IV$350),0)","v":0},{"$f":"IF($E25>0,SUMIF(個別表!$C$13:$C$350,$B25,個別表!IW$13:IW$350),0)","v":0},{"$f":"IF($E25>0,SUMIF(個別表!$C$13:$C$350,$B25,個別表!IX$13:IX$350),0)","v":0},{"$f":"IF($E25>0,SUMIF(個別表!$C$13:$C$350,$B25,個別表!IY$13:IY$350),0)","v":0},{"$f":"IF($E25>0,SUMIF(個別表!$C$13:$C$350,$B25,個別表!IZ$13:IZ$350),0)","v":0},{"$f":"IF($E25>0,SUMIF(個別表!$C$13:$C$350,$B25,個別表!JA$13:JA$350),0)","v":0},{"$f":"IF($E25>0,SUMIF(個別表!$C$13:$C$350,$B25,個別表!JB$13:JB$350),0)","v":0},{"$f":"IF($E25>0,SUMIF(個別表!$C$13:$C$350,$B25,個別表!JC$13:JC$350),0)","v":0},{"$f":"IF($E25>0,SUMIF(個別表!$C$13:$C$350,$B25,個別表!JD$13:JD$350),0)","v":0},0,0,null,null,0,0,null,null,0,null,null,0,0,null,0,null,0,null,null,null,0,0,null,null,{"$f":"IF($E25>0,COUNTIFS(個別表!$C$13:$C$350,$B25,個別表!$I$13:$I$350,1,個別表!$V$13:$V$350,DX$9),0)","v":0},{"$f":"IF($E25>0,COUNTIFS(個別表!$C$13:$C$350,$B25,個別表!$I$13:$I$350,1,個別表!$V$13:$V$350,DY$9),0)","v":0},{"$f":"IF($E25>0,COUNTIFS(個別表!$C$13:$C$350,$B25,個別表!$I$13:$I$350,1,個別表!$V$13:$V$350,DZ$9),0)","v":0},{"$f":"IF($E25>0,COUNTIFS(個別表!$C$13:$C$350,$B25,個別表!$I$13:$I$350,1,個別表!$V$13:$V$350,EA$9),0)","v":0},""]
[]
[null,"合計",null,null,null,{"$f":"SUBTOTAL(9,F12:F25)","v":6},{"$f":"SUBTOTAL(9,G12:G25)","v":184000000},81227000,3,56500000,3766000,40000,20000,{"$f":"SUBTOTAL(9,N12:N25)","v":2},{"$f":"SUBTOTAL(9,O12:O25)","v":90000000},42271000,2,39000000,2599000]
[null,null,null,null,null,"市町村附帯事務費",{"$f":"L27","v":40000},{"$f":"M27","v":20000},"0.4％以内"]
[null,null,null,null,null,"都道府県附帯事務費",null,null,"1.7％以内"]

{"sheet":"個別表","index":1,"n_rows":352,"n_cols":303,"rows_kept":281,"cut":true,"hidden":false,"merged":[[7,146,10,146],[8,147,10,147],[6,128,6,132],[7,129,10,129],[7,128,10,128],[8,126,10,126],[8,119,10,119],[8,120,10,120],[8,121,10,121],[8,122,10,122],[8,123,10,123],[6,118,6,123],[7,132,10,132],[8,125,10,125],[7,58,10,58],[7,59,8,59],[8,106,8,112],[7,145,10,145],[7,142,10,142],[7,137,10,137],[7,50,8,50],[7,83,10,83],[6,64,7,65],[6,52,6,54],[7,99,7,117],[7,84,10,84],[7,77,10,77],[7,78,10,78],[7,79,10,79],[8,127,10,127],[7,118,7,122],[8,118,10,118],[8,92,8,98],[7,130,10,130],[7,131,10,131],[7,140,10,140],[7,124,10,124],[7,68,8,75],[9,25,10,25],[9,26,10,26],[9,27,10,27],[6,153,6,155],[8,152,10,152],[8,154,10,154],[8,155,10,155],[8,151,10,151],[6,76,6,84],[6,141,6,142],[6,139,6,140],[6,50,6,51],[6,66,7,67],[6,68,6,74],[8,113,8,117],[8,62,10,62],[8,63,10,63],[7,85,7,98],[7,81,10,81],[7,80,10,80],[7,143,10,143],[6,143,6,145],[7,144,10,144],[7,51,8,51],[8,30,10,30],[7,54,8,54],[7,48,8,48],[5,35,10,35],[6,40,8,40],[6,41,8,41],[7,47,8,47],[8,43,10,43],[7,42,7,43],[7,52,8,52],[7,53,8,53],[4,11,10,11],[4,12,10,12],[4,13,10,13],[4,16,4,20],[6,33,10,33],[5,16,10,16],[5,17,10,17],[5,18,7,18],[5,21,7,22],[5,25,7,29],[5,30,7,31],[4,15,10,15],[8,18,10,18],[8,19,9,19],[8,20,10,20],[8,31,10,31],[8,22,10,22],[8,23,10,23],[5,23,7,24],[8,25,8,27],[4,14,10,14],[8,21,10,21],[9,28,10,28],[8,28,8,29],[9,29,10,29],[5,32,10,32],[8,24,10,24],[4,68,5,84],[6,62,7,63],[7,82,10,82],[8,64,10,64],[8,85,8,91],[8,99,8,105],[7,60,8,61],[7,49,8,49],[8,42,10,42],[7,76,10,76],[8,66,8,67],[8,65,10,65],[6,39,8,39],[5,46,10,46],[8,34,10,34],[9,36,10,36],[6,38,8,38],[7,55,8,55],[7,56,8,56],[7,57,8,57],[5,42,5,45],[8,148,10,148],[8,149,10,149],[7,133,10,133],[7,135,10,135],[6,190,6,222],[7,190,7,203],[7,204,7,222],[8,190,8,196],[8,197,8,203],[8,204,8,210],[8,165,10,165],[8,167,9,171],[9,166,10,166],[8,172,8,187],[9,172,9,176],[6,146,6,149],[6,133,6,138],[7,141,10,141],[7,156,10,156],[7,160,10,160],[7,161,10,161],[8,162,10,162],[7,157,10,157],[7,158,10,158],[6,251,6,254],[4,85,5,102],[6,85,6,117],[6,124,6,127],[6,150,6,152],[4,160,5,188],[6,160,6,188],[7,172,7,188],[6,233,6,237],[7,236,10,236],[7,237,10,237],[7,136,10,136],[7,138,10,138],[7,139,10,139],[7,134,10,134],[8,218,8,222],[7,153,10,153],[7,150,10,150],[8,228,10,228],[8,211,8,217],[9,178,9,182],[9,183,9,187],[8,163,10,163],[8,164,10,164],[6,258,6,260],[7,223,7,227],[7,233,10,233],[7,234,10,234],[7,235,10,235],[7,238,10,238],[7,240,10,240],[7,241,10,241],[7,243,10,243],[7,244,10,244],[7,246,10,246],[7,248,10,248],[7,249,10,249],[7,239,10,239],[6,223,6,228],[6,238,6,243],[6,248,6,250],[6,255,6,257],[6,229,6,232],[8,232,10,232],[7,242,10,242],[6,244,6,245],[7,245,10,245],[6,246,6,247],[8,297,10,297],[8,284,10,284],[8,292,10,292],[8,296,10,296],[9,293,10,293],[9,295,10,295],[9,286,10,286],[9,285,10,285],[9,287,10,287],[9,291,10,291],[9,288,9,290],[9,294,10,294],[8,227,10,227],[9,281,10,281],[9,282,10,282],[9,283,10,283],[9,274,9,275],[8,268,10,268],[8,269,10,269],[8,270,10,270],[8,271,10,271],[8,272,10,272],[8,273,10,273],[9,276,10,276],[9,277,10,277],[9,278,10,278],[8,274,8,283],[8,230,10,230],[8,301,9,302],[7,261,10,261],[7,262,10,262],[7,263,10,263],[8,223,10,223],[8,224,10,224],[8,225,10,225],[8,226,10,226],[9,279,10,279],[9,280,10,280],[8,252,10,252],[8,253,10,253],[8,254,10,254],[8,256,10,256],[8,257,10,257],[8,259,10,259],[8,231,10,231],[8,260,10,260],[7,229,10,229],[7,250,10,250],[7,251,10,251],[7,255,10,255],[7,258,10,258],[7,247,10,247]],"bounds":{"rows_first":125,"rows_last":31,"rows_between":125,"halvings":4}}
[1,2,3,4,5,6,7,8,9,10,11,12,13,14,15,16,17,18,19,20,21,22,23,24,25,26,27,28,29,30,31,32,33,34,35,36,37,38,39,40,41,42,43,44,45,46,47,48,49,50,51,52,53,54,55,56,57,58,59,60,61,62,63,64,65,66,67,68,69,70,71,72,73,74,75,76,77,78,79,80,81,82,83,84,85,86,87,88,89,90,91,92,93,94,95,96,97,98,99,100,101,102,103,104,105,106,107,108,109,110,111,112,113,114,115,116,117,118,119,120,121,122,123,124,125,126,127,128,129,130,131,132,133,134,135,136,137,138,139,140,141,142,143,144,145,146,147,148,149,150,151,152,153,154,155,156,157,158,159,160,161,162,163,164,165,166,167,168,169,170,171,172,173,174,175,176,177,178,179,180,181,182,183,184,185,186,187,188,189,190,191,192,193,194,195,196,197,198,199,200,201,202,203,204,205,206,207,208,209,210,211,212,213,214,215,216,217,218,219,220,221,222,223,224,225,226,227,228,229,230,231,232,233,234,235,236,237,238,239,240,241,242,243,244,245,246,247,248,249,250,251,252,253,254,255,256,257,258,259,260,261,262,263,264,265,266,267,268,269,270,271,272,273,274,275,276,277,278,279,280,281,282,283,284,285,286,287,288,289,290,291,292,293,294,295,296,297,298,299,300,301]
[null,null,null,null,null,null,null,null,null,null,null,null,null,null,null,null,null,null,null,null,null,null,null,null,null,null,null,null,null,null,null,null,null,null,null,null,null,null,null,null,null,null,null,null,null,null,null,null,null,null,null,null,null,null,null,null,null,null,null,null,null,null,null,null,null,null,null,null,null,null,null,null,null,null,null,null,null,null,null,null,null,null,null,null,null,0.1,0.15,0.2,0.3,0.4,0.5,0.6,0.03,0.1,0.16,0.21,0.25,0.28000000000000003,0.3,1000000,1500000,3000000,4000000,6500000,10000000,15000000,500000,600000,700000,800000,1000000,1200000,1500000]
[null,null,null,null,null,null,null,null,null,null,null,"別紙様式第３号別添１"]
[null,null,null,null,null,null,null,null,null,null,null,"融資主体型補助事業実施内容（内訳）",null,null,null,null,null,null,null,null,null,null,null,null,null,null,null,null,null,null,null,null,null,null,null,null,null,null,null,null,null,null,null,null,null,null,null,null,null,null,null,null,null,null,null,null,null,null,null,null,null,null,null,null,null,null,null,null,null,null,null,null,null,null,null,null,null,null,null,null,null,null,null,null,null,null,null,null,null,null,null,null,null,null,null,null,null,null,null,null,null,null,null,null,null,null,null,null,null,null,null,null,null,null,null,null,null,null,null,null,null,null,null,null,null,null,null,null,null,null,null,null,null,null,null,null,null,null,null,null,null,null,null,null,null,null,null,null,null,null,null,null,null,null,null,null,null,null,null,null,"経営面積等入力",null,null,null,null,null,null,null,null,null,null,null,null,null,null,null,null,null,null,null,null,null,null,null,null,null,null,null,null,null,"ポイント算出",null,null,null,null,null,null,null,null,null,null,null,null,null,null,null,null,null,null,null,null,null,null,null,null,null,null,null,null,null,null,null,null,null,null,null,null,null,null,null,null,null,null,null,null,null,null,null,null,null,null,null,null,null,null,null,null,null,null,null,null,null,null,null,null,null,null,null,null,null,null,null,null,null,"ポイント集計"]
[null,null,null,null,null,null,null,null,null,null,null,"都道府県名","市町村名","地区名（人・農地プラン名）","農業地域類型コード（第1次分類）を入力","農業地域類型\n（複数類型が該当する場合、主となる地域類型を選択）","助成対象者毎の実施内容",null,null,null,null,null,null,null,null,null,null,null,null,null,null,null,null,null,null,null,null,null,null,null,null,null,null,null,null,null,null,null,null,null,null,null,null,null,null,null,null,null,null,null,null,null,null,null,null,null,null,null,"成果目標の設定状況\n（目標設定している項目に「1」を記入。）",null,null,null,null,null,null,null,null,null,null,null,null,null,null,null,null,"配分基準項目\n（該当する項目に「1」を記入（⑪ｂ，⑫以外））",null,null,null,null,null,null,null,null,null,null,null,null,null,null,null,null,null,null,null,null,null,null,null,null,null,null,null,null,null,null,null,null,null,null,null,null,null,null,null,null,null,null,null,null,null,null,null,null,null,null,null,null,null,null,null,null,null,null,null,null,null,null,null,null,null,null,null,null,null,null,null,null,null,null,"配分基準項目　②経営面積の拡大　ア～オの分類（入力により区分を②経営面積の拡大の該当欄に表示。実態に応じて必要な場合は手入力も可）",null,null,null,null,null,null,null,null,null,null,null,null,null,null,null,null,null,null,null,null,null,null,null,null,null,null,null,null,null,1,2,3,4,5,6,7,1,2,3,4,5,6,7,1,2,3,4,5,6,7,1,2,3,4,5,6,7,2,3,4,5,6,5,4,3,2,1,2,1,1,1,1,1,1,1,2,2,2,2,1,1,1,1,1,1,2,2,1,2,3,1,1,1,1,2,3,1,3,1,1,3,1,0.5]
[null,null,null,null,null,null,null,null,null,null,null,null,null,null,null,null,"地区毎の助成対象者の整理番号(合計は経営体数)","助成対象者名","年代（任意）",null,null,"対象者区分\n（整理番号は融資主体型補助事業整理番号表（以下「番号表」という。）を参照）",null,"補助上限額\n（整理番号は番号表を参照）",null,"農業者の詳細\n（整理番号は番号表を参照）",null,null,null,null,"整備内容\n（整理番号は番号表を参照）",null,"中古、新品の別等（中古の場合は「１」を記入）",null,null,"スマート農機等（対象となる機械等の種類の番号を記する）",null,null,null,null,null,null,"被災等に備えた措置",null,null,null,"本則の課税事業者は「1」、簡易課税事業者又は課税事業者でない場合は｢2｣を記入",null,null,null,null,null,null,null,null,null,null,null,null,null,null,null,null,null,null,"融資概要"]
[null,null,null,null,null,null,null,null,null,null,null,null,null,null,null,null,null,null,null,null,null,null,null,null,null,null,null,null,null,null,null,null,null,"助成対象者毎の事業内容の整理番号（合計は件数）","事業内容（機械等名、規模、台数等）",null,null,null,"規模決定の根拠","着工（契約）予定年月日","竣工予定年月日","機械等の保管・設置・施工住所",null,null,null,null,null,null,null,null,"対象経営体負担",null,"地方公共団体等",null,null,null,null,null,null,null,null,null,"金融機関\n（「整理番号」は番号表を参照）",null,"金融（資金）種類\n（整理番号は番号表を参照）",null,"機関保証活用状況\n（活用する場合「1」を記入）",null,"必須目標",null,null,null,null,null,null,null,"選択目標",null,null,null,null,null,null,null,null,"①付加価値額の拡大",null,null,null,null,null,null,null,null,null,null,null,null,null,null,null,null,null,null,null,null,null,null,null,null,null,null,null,null,null,null,null,null,"②経営面積の拡大",null,null,null,null,null," ③農産物の価値向上",null,null,null,"④農業経営の複合化",null,null,null,null,"⑤経営管理の高度化",null,null,null,null,null,"⑥環境配慮の取組",null,"⑦農作業の共同化",null,"⑧労働時間の縮減（対象：事業実施主体が認める者）",null,null,"⑨輸出の取組",null,null,null,"⑩新規就農者",null,null,"⑪農業者の育成",null,null,"⑫女性の取組","⑬関係機関等によるサポート体制の構築","⑭中山間地域での取組",null,"特定助成対象者以外の者にあってはア、特定助成対象者にあってはイのいずれかの取組に該当していること。",null,null,null,null,null,null,null,null,null,null,null,null,null,null,null,null,null,null,null,null,null,null,null,null,null,null,null,null,null,"①付加価値額の拡大",null,null,null,null,null,null,null,null,null,null,null,null,null,null,null,null,null,null,null,null,null,null,null,null,null,null,null,null,null,null,null,null,"②経営面積の拡大",null,null,null,null,null," ③農産物の価値向上",null,null,null,"④農業経営の複合化",null,null,null,null,"⑤経営管理の高度化",null,null,null,null,null,"⑥環境配慮の取組",null,"⑦農作業の共同化",null,"⑧労働時間の縮減（対象：事業実施主体が認める者）",null,null,"⑨輸出の取組",null,null,null,"⑩新規就農者",null,null,"⑪農業者の育成",null,null,"⑫女性の取組","⑬関係機関等によるサポート体制の構築","⑭中山間地域での取組"]
[null,null,null,null,null,null,null,null,null,null,null,null,null,null,null,null,null,null,null,null,null,null,null,null,null,null,null,null,null,null,null,null,null,null,"※○台、馬力・○条刈り、○棟○㎡等",null,null,null,null,null,null,null,"加入保険等の種類等",null,"保険会社等の名称","保険加入年月日",null,"事業費\n　　　　（円）","スマート農機要望額\n　　　　　（円）","助成金\n　　　　　（円）","融資\n　　　　　　（円）","自己資金\n\n（円）","都道府県\n　　　　　　（円）","市町村\n\n（円）","その他\n　　　　（円）","配分積算額\n（本省入力欄）","助成率（％）","融資率（％）","担保措置の有無（該当の場合｢1｣を記入）","耐用年数（年）","備　考",null,null,null,null,null,null,null,"付加価値額（円）の拡大",null,null,null,null,null,null,null,"\n①経営面積の拡大","\n②農産物の価値向上","\n③農業経営の複合化","\n④農業経営の法人化","\n⑤青色申告の取組","\n⑥環境配慮の取組","\n⑦農作業の共同化","\n⑧労働時間の縮減","\n⑨輸出の取組","ア　付加価値額の拡大率の目標ポイント",null,null,null,null,null,null,null,null,null,null,null,null,null,"イ　付加価値額の拡大額の目標ポイント",null,null,null,null,null,null,null,null,null,null,null,null,null,null,null,null,null,null,"ア　経営面積拡大（対象：事業実施主体が認める者以外の者）",null,null,null,null,"イ　経営面積拡大（対象：事業実施主体が認める者）","事業実施前3年度以内に新品種の導入、栽培管理技術の改善、新たな加工又は販売の取組等により、農産物の価値向上等に取り組んでいる",null,null,null,"\nア　土地利用型作物の生産、園芸作物の生産などを組み合わせ、複合的に経営を展開している","\nイ-a　事業実施前３年度内に経営面積又は農産物売上高の３割以上の品目転換を行っている","\nイ-a　事業実施前３年度内に経営面積又は農産物売上高の３割以上の品目転換を目標年度までに行うこととしている","\nイ-b　事業実施前３年度内に経営面積又は農産物売上向上の４割以上の品目転換を行っている","\nイ-b　事業実施前３年度内に経営面積又は農産物売上向上の４割以上の品目転換を行うこととしている","\nア　現在、法人化している","\nア　目標年度までに法人化することとしている","\nイ　ＧＬＯＢＡＬＧ．Ａ．Ｐ又はＡＳＩＡＧＡＰの認証を取得している","\nウ　青色申告を行っている","\nウ　青色申告を行うこととしている","\nエ　農業版ＢＣＰ（事業継続計画）を策定している","\n事業実施前３年度以内に化石燃料を使用しない園芸施設への移行による温室効果ガスの削減等を行っている","\n化石燃料を使用しない園芸施設への移行による温室効果ガスの削減等を目標年度までに行うこととしている","\n自らの経営に係る農作業について他の農業者と共同して農作業を行っている（対象：事業実施主体が認める者）","\n自らの経営に係る農作業について他の農業者と共同して農作業を目標年度までに行うこととしている（対象：事業実施主体が認める者）","\nａ　目標年度までに10%以上縮減する","\nb　目標年度までに20%以上縮減する","\nc　目標年度までに50%以上縮減する","農産物の輸出を行う",null,null,null,"新規就農のポイント加点を受ける",null,null,"農業研修生（国内で農業を生業とする予定の者に限り、外国人技能実習制度に基づく者を除く。）を受け入れている",null,null,"\nア　女性農業者\nイ　代表者が女性又は役員若しくは構成員のうち女性が過半を占める\nウ　区分経理を行っており、女性が当該部門の責任者\n（※ア，イ，ウを記入）\n","\n経営発展に向けた取組について、農協等の支援機関のサポート体制が構築されている（対象：事業実施主体が認める者）","\n機械等を活用する農地等の概ね８割が中山間地域等直接支払交付金実施要領第４の対象、かつ対象農が存在する地域内の農地（対象：事業実施主体が認める者）",null,"特定助成対象者","農地中間管理機構からの賃借件等の設定等",null,null,null,null,null,null,null,null,null,null,"区分に応じた加点の整理表",null,null,null,null,null,null,null,null,null,null,null,null,null,null,null,null,null,"ア　付加価値額の拡大率の目標ポイント",null,null,null,null,null,null,null,null,null,null,null,null,null,"イ　付加価値額の拡大額の目標ポイント",null,null,null,null,null,null,null,null,null,null,null,null,null,null,null,null,null,null,"ア　経営面積拡大（対象：事業実施主体が認める者以外の者）",null,null,null,null,"イ　経営面積拡大（対象：事業実施主体が認める者）","事業実施前3年度以内に新品種の導入、栽培管理技術の改善、新たな加工又は販売の取組等により、農産物の価値向上等に取り組んでいる",null,null,null,"\nア　土地利用型作物の生産、園芸作物の生産などを組み合わせ、複合的に経営を展開している","\nイ-a　事業実施前３年度内に経営面積又は農産物売上高の３割以上の品目転換を行っている","\nイ-a　事業実施前３年度内に経営面積又は農産物売上高の３割以上の品目転換を目標年度までに行うこととしている","\nイ-b　事業実施前３年度内に経営面積又は農産物売上向上の４割以上の品目転換を行っている","\nイ-b　事業実施前３年度内に経営面積又は農産物売上向上の４割以上の品目転換を行うこととしている","\nア　現在、法人化している","\nア　目標年度までに法人化することとしている","\nイ　ＧＬＯＢＡＬＧ．Ａ．Ｐ又はＡＳＩＡＧＡＰの認証を取得している","\nウ　青色申告を行っている","\nウ　青色申告を行うこととしている","\nエ　農業版ＢＣＰ（事業継続計画）を策定している","\n事業実施前３年度以内に化石燃料を使用しない園芸施設への移行による温室効果ガスの削減等を行っている","\n化石燃料を使用しない園芸施設への移行による温室効果ガスの削減等を目標年度までに行うこととしている","\n自らの経営に係る農作業について他の農業者と共同して農作業を行っている（対象：事業実施主体が認める者）","\n自らの経営に係る農作業について他の農業者と共同して農作業を目標年度までに行うこととしている（対象：事業実施主体が認める者）","\nａ　目標年度までに10%以上縮減する","\nb　目標年度までに20%以上縮減する","\nc　目標年度までに50%以上縮減する","農産物の輸出を行う",null,null,null,"新規就農のポイント加点を受ける",null,null,"農業研修生（国内で農業を生業とする予定の者に限り、外国人技能実習制度に基づく者を除く。）を受け入れている",null,null,"\nア　女性農業者\nイ　代表者が女性又は役員若しくは構成員のうち女性が過半を占める\nウ　区分経理を行っており、女性が当該部門の責任者\n（※ア，イ，ウを記入）\n","\n経営発展に向けた取組について、農協等の支援機関のサポート体制が構築されている（対象：事業実施主体が認める者）","\n機械等を活用する農地等の概ね８割が中山間地域等直接支払交付金実施要領第４の対象、かつ対象農が存在する地域内の農地（対象：事業実施主体が認める者）",null,null,null,null,"要件確認"]
[null,null,null,null,null,null,null,null,null,null,null,null,null,null,null,null,null,null,"個人経営の場合のみ１０代単位で記載","住所","代表者名（法人等の場合）","整理番号","（確認用）","整理番号","（確認用）","認定農業者等の区分",null,null,"対象者区分\n（整理番号は融資主体型補助事業整理番号表（以下「番号表」という。）を参照）",null,"整理番号","（確認用）",null,null,null,null,null,null,null,null,null,null,"整理番号","（確認用）",null,null,null,null,null,null,null,null,null,null,null,null,null,null,null,null,null,null,"整理番号","（確認用）","整理番号","（確認用）","追加的信用供与事業活用の有無　　　　",null,null,null,null,null,null,null,null,null,null,null,null,null,null,null,null,null,null,"（ア）付加価値額の拡大率の目標ポイント（対象：事業実施主体が認める者以外の者（⑩新規就農のポイント加点を受ける者を除く。））",null,null,null,null,null,null,"（イ）付加価値額の拡大率の目標ポイント（対象：事業実施主体が認める者（新規就農のポイントを受ける者を除く。））",null,null,null,null,null,null,"（ア）付加価値額の拡大額の目標（対象：⑩新規就農のポイント加点を受ける者以外の者であって事業実施主体が認める者以外の者）",null,null,null,null,null,null,"（イ）付加価値額の拡大額の目標（対象：⑩新規就農のポイント加点を受ける者以外の者であって事業実施主体が認める者）",null,null,null,null,null,null,"（ウ）付加価値額の目標（対象：⑩新規就農のポイント加点を受ける者）",null,null,null,null,"\nａ　農地中間管理機構等からの賃借権等の設定等かつ現状より4ha以上(施設20%､果樹10%)の経営面積の拡大","\nｂ　農地中間管理機構等からの賃借権等の設定等かつ現状より2ha以上(施設10%､果樹５%)の経営面積の拡大","\nｃ　農地中間管理機構等からの賃借権等の設定等かつ現状より経営面積の拡大、又は現状より4ha以上(施設20%､果樹10%)の経営面積の拡大","\nｄ　農地中間管理機構等からの賃借権等の設定等又は現状より2ha(施設10%､果樹５%)以上の経営面積の拡大","\nｅ　aからd以外の経営体で目標年度に現状より経営面積の拡大","\n経営面積の拡大を行うこととしている",null,"\nうち事業実施主体が認める者である場合","\n\nうち有機ＪＡＳの認証を受けている","\n\nうち有機ＪＡＳの認証を受ける場合",null,null,null,null,null,null,null,null,null,null,null,null,null,null,null,null,null,null,null,"\n\na　現在、農産物の輸出の取組（他者との連携による取組を含む）を行っている。","\n\nｂ　輸出事業計画の認定を受けている、又は輸出事業計画に連携者として位置付けられている","\n\nｃ　目標年度までに農産物売上高の15％以上を輸出に振り向ける",null,"\n\nａ　50歳までに就農した者である","\n\nｂ　農業次世代人材投資資金（経営開始型）等の交付期間中に交付終了",null,"\n\nａ　就農に向けて必要な技術等を習得できる経営体として都道府県が認めた者である","\n\nｂ　過去５年以内に独立した認定就農者又は認定農業者（※農業研修生数を記入）",null,null,null,null,null,null,"現状面積\n(ha)","目標面積\n(ha)","拡大面積\n(ha)","拡大率\n（％）",null,"面積拡大を\n行う区分",null,null,null,null,"ア",null,null,null,null,null,null,null,null,null,null,null,null,null,null,null,"イ",null,"（ア）付加価値額の拡大目標率（対象：事業実施主体が認める者以外の者）",null,null,null,null,null,null,"（イ）付加価値額の拡大率の目標ポイント（対象：事業実施主体が認める者）",null,null,null,null,null,null,"（ア）付加価値額の拡大額の目標（対象：⑩新規就農のポイント加点を受ける者以外の者であって事業実施主体が認める者以外の者）",null,null,null,null,null,null,"（イ）付加価値額の拡大額の目標（対象：⑩新規就農のポイント加点を受ける者以外の者であって事業実施主体が認める者）",null,null,null,null,null,null,"（ウ）付加価値額の拡大額の目標（対象：⑩新規就農のポイント加点を受ける者）",null,null,null,null,"\nａ　農地中間管理機構等からの賃借権等の設定等かつ現状より4ha以上(施設20%､果樹10%)の経営面積の拡大","\nｂ　農地中間管理機構等からの賃借権等の設定等かつ現状より2ha以上(施設10%､果樹５%)の経営面積の拡大","\nｃ　農地中間管理機構等からの賃借権等の設定等かつ現状より経営面積の拡大、又は現状より4ha以上(施設20%､果樹10%)の経営面積の拡大","\nｄ　農地中間管理機構等からの賃借権等の設定等又は現状より2ha(施設10%､果樹５%)以上の経営面積の拡大","\nｅ　アからエ以外の経営体で目標年度に現状より経営面積の拡大","\n経営面積の拡大を行うこととしている",null,"\nうち事業実施主体が認める者である場合","\n\nうち有機ＪＡＳの認証を受けている","\n\nうち有機ＪＡＳの認証を受ける場合",null,null,null,null,null,null,null,null,null,null,null,null,null,null,null,null,null,null,null,"\n\na　現在、農産物の輸出の取組（他者との連携による取組を含む）を行っている。","\n\nｂ　輸出事業計画の認定を受けている、又は輸出事業計画に連携者として位置付けられている","\n\nｃ　目標年度までに農産物売上高の15％以上を輸出に振り向ける",null,"\n\nａ　50歳までに就農した者である","\n\nｂ　農業次世代人材投資資金（経営開始型）等の交付期間中に交付終了",null,"\n\nａ　就農に向けて必要な技術等を習得できる経営体として都道府県が認めた者である","\n\nｂ　過去５年以内に独立した認定就農者又は認定農業者（※農業研修生数を記入）",null,null,null,null,null,null,null,"事業実施主体が認める者","融資活用（認める者除く）","事業費50万円以上","耐用年数5~20年（△はプラマイ2割・基盤整備の一部・中古）","共済等加入","必須目標（△は現状無し＝新規就農or記載漏れ？）","選択目標",null,null,null,null,null,null,null,null,null,"要件確認","事業費算出",null,null,null,null,null,null,"機械ごと上限確認",null,null,null,"対象者ごと上限確認","総合確認",null,null,null,"R4年度に完了する可能性がある場合"]
[null,null,null,null,null,null,null,null,null,null,null,null,null,null,null,null,null,null,null,null,null,null,null,null,null,"整理番号","（確認用）","法人、法人以外の別","整理番号","（確認用）",null,null,null,null,null,null,"（確認用）",null,null,null,null,null,null,null,null,null,null,null,null,null,null,null,null,null,null,null,null,null,null,null,null,null,null,null,null,null,null,null,null,null,null,null,null,null,null,null,null,null,null,null,null,null,null,null,null,"ａ","ｂ","ｃ","d","ｅ","f","ｇ","ａ","ｂ","ｃ","d","ｅ","f","ｇ","ａ","ｂ","ｃ","ｄ","ｅ","ｆ","ｇ","ａ","ｂ","ｃ","ｄ","ｅ","ｆ","ｇ","ａ","ｂ","ｃ","ｄ","ｅ",null,null,null,null,null,null,null,null,null,null,null,null,null,null,null,null,null,null,null,null,null,null,null,null,null,null,null,null,null,null,null,null,null,null,null,null,null,null,null,null,null,null,null,null,null,null,null,null,"整理番号：営農類型の整理番号を準用",null,null,null,null,null,"土地利用",null,null,null,null,"畜産","施設園芸",null,null,null,null,"果樹",null,null,null,null,"特定助成対象者",null,"ａ","ｂ","ｃ","d","ｅ","f","ｇ","ａ","ｂ","ｃ","d","ｅ","f","ｇ","ａ","ｂ","ｃ","ｄ","ｅ","ｆ","ｇ","ａ","ｂ","ｃ","ｄ","ｅ","ｆ","ｇ","ａ","ｂ","ｃ","ｄ","ｅ",null,null,null,null,null,null,null,null,null,null,null,null,null,null,null,null,null,null,null,null,null,null,null,null,null,null,null,null,null,null,null,null,null,null,null,null,null,null,null,null,null,null,null,null,null,null,null,null,null,null,null,"経営面積",null,"価値向上（JAS）","複合化","法人化","青色申告","環境配慮","共同化","労働時間","輸出",null,"課税区分","事業費","事業費（除税）","上限確認",null,null,"機械ごと限度額",null,"対象者ごと上限（法人3000万円、法人以外1500万円、認める者100万円）","対象者ごとスマート助成金","対象者ごと助成金"]
["データ行個別番号（参考）","都道府県個別番号","地区個別番号","市町村個別番号","対象者個別番号","うち信用供与","地区先頭行","市町村先頭行","対象者先頭行","うち信用供与","行番号",null,null,null,null,null,null,null,null,null,null,null,null,null,null,null,null,null,null,null,null,null,null,null,null,null,null,"集計用",null,null,null,null,null,null,null,null,null,null,null,null,null,null,null,null,null,null,null,null,null,null,null,null,null,null,null,null,null,"保証希望\n融資額(円)",null,"現状","現状\n年度","1年度目","2年度目","3年度目","拡大率","拡大額",null,null,null,null,null,null,null,null,null,"現状の付加価値額の10%以上の増加","現状の付加価値額の15%以上の増加","現状の付加価値額の20%以上の増加","現状の付加価値額の30%以上の増加","現状の付加価値額の40%以上の増加","現状の付加価値額の50%以上の増加","現状の付加価値額の60%以上の増加","現状から３％以上の増加","現状から10％以上の増加","現状から16％以上の増加","現状から21％以上の増加","現状から25％以上の増加","現状から28％以上の増加","現状から30％以上の増加","100万円以上","150万円以上","300万円以上","400万円以上","650万円以上","1,000万円以上","1,500万円以上","50万円以上","60万円以上","70万円以上","80万円以上","100万円以上","120万円以上","150万円以上","基準額（目標年度における就農後経過年数×50万円）以上","基準額の10%増し以上","基準額の20%増し以上","基準額の30%増し以上","基準額の40%増し以上",null,null,null,null,null,null,null,null,null,null,null,null,null,null,null,null,null,null,null,null,null,null,null,null,null,null,null,null,null,null,null,null,null,null,null,null,null,null,null,null,null,null,null,null,null,null,null,null,null,"1土地利用","2施設","3果樹","4畜産・養鶏","集計用","a","b","c","d","e","e","a","b","c","d","e","a","b","c","d","e",null,null,"現状の付加価値額の10%以上の増加","現状の付加価値額の15%以上の増加","現状の付加価値額の20%以上の増加","現状の付加価値額の30%以上の増加","現状の付加価値額の40%以上の増加","現状の付加価値額の50%以上の増加","現状の付加価値額の60%以上の増加","現状から３％以上の増加","現状から10％以上の増加","現状から16％以上の増加","現状から21％以上の増加","現状から25％以上の増加","現状から28％以上の増加","現状から30％以上の増加","100万円以上","150万円以上","300万円以上","400万円以上","650万円以上","1,000万円以上","1,500万円以上","50万円以上","60万円以上","70万円以上","80万円以上","100万円以上","120万円以上","150万円以上","基準額（目標年度における就農後経過年数×50万円）以上","基準額の10%増し以上","基準額の20%増し以上","基準額の30%増し以上","基準額の40%増し以上",null,null,null,null,null,null,null,null,null,null,null,null,null,null,null,null,null,null,null,null,null,null,null,null,null,null,null,null,null,null,null,null,null,null,null,null,null,null,null,null,null,"合計","地区合計","地区人数","地区平均",null,null,null,null,null,null,"目標未設定","面積未記入",null,null,null,null,null,null,null,null,null,null,null,null,"（ア）事業費＊1/2","（イ）融資額（認める者除く）","（ウ）融資及び地公体控除",null,null,null,null,null,null,null,null,"地区個別番号","市町村個別番号","着工（契約予定年月日","竣工予定年月日"]
[null,null,null,null,null,null,{"$f":"SUBTOTAL(9,G$13:G$350)","v":5},{"$f":"SUBTOTAL(9,H$13:H$350)","v":4},{"$f":"SUBTOTAL(9,I$13:I$350)","v":6},{"$f":"SUBTOTAL(9,J$13:J$350)","v":3}]
[{"$f":"D13*1000000+C13*10000+Q13*100+AH13","v":1010101},{"$f":"IF(L13<>\"\",IF(L13<>L12,B12+1,B12),0)","v":1},{"$f":"IF(N13<>\"\",IF(N13<>N12,C12+1,C12),0)","v":1},{"$f":"IF(M13<>\"\",IF(M13<>M12,D12+1,D12),0)","v":1},{"$f":"IF(R13<>\"\",IF(OR(R13<>R12,N13<>N12),E12+1,E12),0)","v":1},{"$f":"IF(BP13>0,E13,0)","v":1},{"$f":"IF(N13<>\"\",IF(N13<>N12,1,0),0)","v":1},{"$f":"IF(M13<>\"\",IF(M13<>M12,1,0),0)","v":1},{"$f":"IF(R13<>\"\",IF(R13<>R12,1,0),0)","v":1},{"$f":"IF(AND(I13=1,SUMIF($E$13:$E$350,E13,$F$13:$F$350)>0),1,0)","v":1},{"$f":"ROW()-ROW($K$12)","v":1},"北海道","あ","甲",2,{"$f":"IF(O13<>\"\",VLOOKUP(O13,整理番号表!$Z$17:$AA$20,2,FALSE),)","v":"平地農業地域"},{"$f":"IF(R13<>\"\",IF(N13<>N12,1,IF(R13<>R12,Q12+1,Q12)),)","v":1},"法人A",null,"北海道","a",1,{"$f":"IF(V13<>0,VLOOKUP(V13,整理番号表!$B$6:$L$13,2,FALSE),)","v":"中心経営体であり、農地中間管理機構から賃借権等の設定等を受けた者"},{"$f":"IF(V13<>0,IF(V13=4,2,1),)","v":1},{"$f":"IF(X13<>0,VLOOKUP(X13,整理番号表!$B$16:$C$18,2,FALSE),)","v":"1,500万円（法人3,000万円）"},1,{"$f":"IF(Z13<>0,VLOOKUP(Z13,整理番号表!$B$22:$C$29,2,FALSE),)","v":"認定農業者"},"法人",1,{"$f":"IF(AC13<>0,VLOOKUP(AC13,整理番号表!$B$32:$G$60,2,FALSE),)","v":"水田作"},1,{"$f":"IF(AE13<>0,VLOOKUP(AE13,整理番号表!$P$5:$R$39,2,FALSE),)","v":"トラクター"},null,{"$f":"IF(AI13<>\"\",IF(OR(U13<>U12,R13<>R12),1,AH12+1),0)","v":1},"クローラトラクター　135ps　1台　自動操舵機能付き","①",{"$f":"IF(AJ13<>\"\",VLOOKUP(AJ13,整理番号表!$Z$6:$AA$14,2,FALSE),\"\")","v":"農業用機械の自動操舵システム"},{"$f":"IF(AJ13<>0,1,)","v":1},"規模決定根拠資料","2022-03-03","2022-03-03","○○町1-1-1",2,{"$f":"IF(AQ13<>0,VLOOKUP(AQ13,整理番号表!$P$43:$Q$49,2,FALSE),)","v":"農機具共済"},"北海道農機共済","2022-03-03",1,40000000,{"$f":"IF(AL13=1,IF(KC13>0,MIN(ROUNDDOWN(KC13,-3),IF(AND(X13=1,AB13=\"法人\"),30000000,IF(AND(X13=1,AB13=\"法人以外\"),15000000,IF(X13=2,1000000,0)))),0),0)","v":18181000},{"$f":"IF(KF13>0,ROUNDDOWN(KF13,-3),0)","v":18000000},18000000,{"$f":"AV13-SUM(AX13,AY13,BA13,BB13,BC13)","v":4000000},null,null,null,{"$f":"IF(I13=1,MIN(KH13,KJ13),0)","v":27000000},{"$f":"IF(AV13<>0,AX13/AV13,)","v":0.45},{"$f":"IF(AV13<>0,AY13/AV13,)","v":0.45},null,7,{"$f":"IF(AX13>0,IF(AU13=1,ROUNDDOWN(AV13*10/110,0),IF(AU13=2,\"該当なし\",\"含税額\")),0)","v":3636363},{"$f":"IF(AX13>0,IF(AU13<>1,\" \",IF(AU13=1,ROUNDDOWN(ROUNDDOWN((AX13/(AV13-BI13)),5)*BI13,0))),0)","v":1799963},1,{"$f":"IF(BK13<>0,VLOOKUP(BK13,整理番号表!$T$5:$U$16,2,FALSE),)","v":"農協"},1,{"$f":"IF(BM13<>0,VLOOKUP(BM13,整理番号表!$T$22:$U$30,2,FALSE),)","v":"近代化資金"},1,{"$f":"IF(BO13=1,AY13,)","v":18000000},{"$f":"IF(AND(R13<>\"\",I13=1),1,\"\")","v":1},10000000,2,11000000,13000000,17000000,{"$f":"IF(BS13=2,ROUNDDOWN((BV13-BR13)/ABS(BR13),2),IF(BS13=1,ROUNDDOWN((BV13-BR13)/ABS(BR13)*3/4,2),\"\"))","v":0.7},{"$f":"IF(BR13>0,IF(BS13=2,ROUNDDOWN((BV13-BR13),0),IF(BS13=1,ROUNDDOWN((BV13-BR13)*3/4,0),\"\")),IF(BV13>0,BV13,0))","v":7000000},1,null,null,null,null,null,null,null,1,{"$f":"IF(OR($BR13<=0,$BV13<=0),0,IF(AND($X13=1,$I13=1,$EU13<>1,CH$2<=$BW13,$BW13<CI$2),1,))","v":0},0,0,0,0,0,{"$f":"IF(OR($BR13<=0,$BV13<=0),0,IF(AND($X13=1,$I13=1,$EU13<>1,CN$2<=$BW13),1,))","v":1},{"$f":"IF(OR($BR13<=0,$BV13<=0),0,IF(AND($X13=2,$I13=1,$EU13<>1,CO$2<=$BW13,$BW13<CP$2),1,))","v":0},0,0,0,0,0,{"$f":"IF(OR($BR13<=0,$BV13<=0),0,IF(AND($X13=2,$I13=1,$EU13<>1,CU$2<=$BW13),1,))","v":0},{"$f":"IF($BV13<0,0,IF(AND($X13=1,$I13=1,$EU13<>1,CV$2<=$BX13,$BX13<CW$2),1,))","v":0},0,0,0,1,0,{"$f":"IF($BV13<0,0,IF(AND($X13=1,$I13=1,$EU13<>1,DB$2<=$BX13),1,))","v":0},{"$f":"IF($BV13<0,0,IF(AND($X13=2,$I13=1,$EU13<>1,DC$2<=$BX13,$BX13<DD$2),1,))","v":0},0,0,0,0,0,{"$f":"IF($BV13<0,0,IF(AND($X13=2,$I13=1,$EU13<>1,DI$2<=$BX13),1,))","v":0},null,null,null,null,null,{"$f":"SUM(FQ13,FW13,GB13)","v":0},{"$f":"SUM(FR13,FX13,GC13)","v":1},0,0,{"$f":"SUM(FU13,FV13,GA13,GF13)","v":0},{"$f":"GG13","v":0},null,{"$f":"IF(AND(DU13=1,X13=2),1,0)","v":0},null,null,null,null,null,null,null,{"$f":"IF(AND(I13=1,AB13=\"法人\"),1,)","v":1},null,null,1,null,1,null,null,null,null,null,null,null,1,1,null,null,null,null,null,1,null,5,null,null,null,null,{"$f":"IF(X13=2,1,)","v":0},{"$f":"IF(AND(I13=1,OR(V13=1,V13=3)),1,)","v":1},40,43,{"$f":"IF(AND(I13=1,FG13<>FH13),FH13-FG13,0)","v":3},{"$f":"IF(AND(I13=1,FG13>0),ROUNDDOWN(FI13/FG13,2),0)","v":7.0000000000000007E-2},{"$f":"IF(I13=1,AC13,)","v":1},{"$f":"IF(OR(AND(1<=$FK13,$FK13<=3),$FK13=6),VLOOKUP($FK13,整理番号表!$B$32:$G$60,2,FALSE),)","v":"水田作"},{"$f":"IF(OR($FK13=4,$FK13=7),VLOOKUP($FK13,整理番号表!$B$32:$G$60,2,FALSE),)","v":0},{"$f":"IF($FK13=5,VLOOKUP($FK13,整理番号表!$B$32:$G$60,2,FALSE),)","v":0},{"$f":"IF(AND(8<=$FK13,$FK13<=13),VLOOKUP($FK13,整理番号表!$B$32:$G$60,2,FALSE),)","v":0},{"$f":"IF(FL13<>0,1,IF(FM13<>0,2,IF(FN13<>0,3,IF(FO13<>0,4,))))","v":1},{"$f":"IF(AND(FE13<>1,$FP13=1,$FF13=1,$FI13>=4),1,)","v":0},{"$f":"IF(AND(FE13<>1,$FP13=1,SUM($FQ13:FQ13)=0,$FF13=1,$FI13>=2),1,)","v":1},{"$f":"IF(AND(FE13<>1,$FP13=1,SUM($FQ13:FR13)=0,OR(AND($FF13=1,$FI13>0),$FI13>=4)),1,)","v":0},{"$f":"IF(AND(FE13<>1,$FP13=1,SUM($FQ13:FS13)=0,OR($FF13=1,$FI13>=2)),1,)","v":0},{"$f":"IF(AND(FE13<>1,$FP13=1,SUM($FQ13:FT13)=0,$FI13>0),1,)","v":0},{"$f":"IF(AND(FE13<>1,$FP13=4,$FI13>0),1,)","v":0},{"$f":"IF(AND(FE13<>1,$FP13=2,$FF13=1,$FJ13>=0.2),1,)","v":0},{"$f":"IF(AND(FE13<>1,$FP13=2,SUM($FW13:FW13)=0,$FF13=1,$FJ13>=0.1),1,)","v":0},{"$f":"IF(AND(FE13<>1,$FP13=2,SUM($FW13:FX13)=0,OR(AND($FF13=1,$FI13>0),$FJ13>=0.2)),1,)","v":0},{"$f":"IF(AND(FE13<>1,$FP13=2,SUM($FW13:FY13)=0,OR($FF13=1,$FJ13>=0.1)),1,)","v":0},{"$f":"IF(AND(FE13<>1,$FP13=2,SUM($FW13:FZ13)=0,$FI13>0),1,)","v":0},{"$f":"IF(AND(FE13<>1,$FP13=3,$FF13=1,$FJ13>=0.1),1,)","v":0},{"$f":"IF(AND(FE13<>1,$FP13=3,SUM($GB13:GB13)=0,AND($FF13=1,$FJ13>=0.05)),1,)","v":0},{"$f":"IF(AND(FE13<>1,$FP13=3,SUM($GB13:GC13)=0,OR(AND($FF13=1,$FI13>0),$FJ13>=0.1)),1,)","v":0},{"$f":"IF(AND(FE13<>1,$FP13=3,SUM($GB13:GD13)=0,OR($FF13=1,$FJ13>=0.05)),1,)","v":0},{"$f":"IF(AND(FE13<>1,$FP13=3,SUM($GB13:GE13)=0,$FI13>0),1,)","v":0},{"$f":"IF(AND($FE13=1,$FI13>0),1,)","v":0},null,{"$f":"IF($I13=1,CH13*GI$5,0)","v":0},{"$f":"IF($I13=1,CI13*GJ$5,0)","v":0},0,0,0,0,7,0,0,0,0,0,0,0,0,0,0,0,5,{"$f":"IF($I13=1,DA13*HB$5,0)","v":0},0,0,0,0,0,0,0,0,0,0,0,0,0,0,4,{"$f":"IF($I13=1,DQ13*HR$5,0)","v":0},0,0,0,0,0,0,0,0,0,0,0,0,2,0,0,{"$f":"IF($I13=1,EG13*IH$5,0)","v":1},0,1,0,0,0,0,0,0,0,1,1,0,0,0,0,{"$f":"IF($I13=1,EW13*IX$5,0)","v":0},3,0,{"$f":"IF($I13=1,IF($EZ13>=3,3,$EZ13*JA$5),0)","v":3},{"$f":"IF($I13=1,IF(FA13<>\"\",JB$5,0),0)","v":0},{"$f":"IF($I13=1,FB13*JC$5,0)","v":0},0,{"$f":"SUM(GI13:JD13)","v":28},{"$f":"IF(G13=1,SUMIF($C$13:$C$350,C13,$JE$13:$JE$350),0)","v":28},{"$f":"IF(G13=1,SUMIF($C$13:$C$350,C13,$I$13:$I$350),0)","v":1},{"$f":"IF(JG13>0,JF13/JG13,0)","v":28},{"$f":"IF(X13=2,1,0)","v":0},{"$f":"IF(AI13<>\"\",IF(X13=2,\"認\",IF(AND(X13=1,AY13>0),\"○\",\"×\")),\"\")","v":"○"},{"$f":"IF(AI13<>\"\",IF(AV13>=500000,\"○\",\"×\"),\"\")","v":"○"},{"$f":"IF(AI13<>\"\",IF(AND(5<=BH13,BH13<=20),\"○\",IF(OR(AND(4<=BH13,BH13<=24),OR(AE13=30,AE13=31),AG13=1),\"△\",\"×\")),\"\")","v":"○"},{"$f":"IF(AI13<>\"\",IF(AT13>0,\"○\",\"×\"),\"\")","v":"○"},{"$f":"IF(I13=1,IF(BR13=0,\"△\",IF(OR(AND(X13=1,BW13>=0.1),AND(X13=2,BW13>0)),\"○\",\"×\")),\"\")","v":"○"},{"$f":"IF(SUM(DO13:DT13)>0,IF(BY13=1,\"○\",\"×\"),\"\")","v":"○"},{"$f":"IF(BY13=1,IF(AND(FI13>0,FJ13>0),\"○\",\"×\"),\"\")","v":"○"},{"$f":"IF(SUM(DX13)>0,IF(BZ13=1,\"○\",\"×\"),\"\")","v":""},{"$f":"IF(SUM(EA13,EC13)>0,IF(CA13=1,\"○\",\"×\"),\"\")","v":""},{"$f":"IF(SUM(EE13)>0,IF(CB13=1,\"○\",\"×\"),\"\")","v":""},{"$f":"IF(SUM(EH13)>0,IF(CC13=1,\"○\",\"×\"),\"\")","v":""},{"$f":"IF(SUM(EK13)>0,IF(CD13=1,\"○\",\"×\"),\"\")","v":""},{"$f":"IF(SUM(EM13)>0,IF(CE13=1,\"○\",\"×\"),\"\")","v":""},{"$f":"IF(SUM(EN13:EP13)>0,IF(CF13=1,\"○\",\"×\"),\"\")","v":""},{"$f":"IF(EQ13=1,IF(CG13=1,\"○\",\"×\"),\"\")","v":"○"},{"$f":"IF(COUNTIF(JJ13:JX13,\"×\")>=1,\"×\",\"○\")","v":"○"},{"$f":"AU13","v":1},{"$f":"AV13","v":40000000},{"$f":"IF(JZ13=1,ROUNDUP(KA13*100/110,0),KA13)","v":36363637},{"$f":"ROUNDDOWN(KB13*1/2,0)","v":18181818},{"$f":"IF(X13=2,\"認める者\",AY13)","v":18000000},{"$f":"AV13-SUM(AY13,BA13:BC13)","v":22000000},{"$f":"IF(X13=1,MIN(KC13:KE13),IF(X13=2,MIN(KC13,KE13),0))","v":18000000},{"$f":"IF(AX13<=KF13,\"○\",\"×\")","v":"○"},{"$f":"IF(I13=1,IF(X13=2,1000000,IF(AND(X13=1,AB13=\"法人\"),30000000,IF(AND(X13=1,AB13=\"法人以外\"),15000000,0))),0)","v":30000000},{"$f":"IF(I13=1,SUMIF($E$13:$E$350,E13,$AW$13:$AW$350),0)","v":27271000},{"$f":"IF(I13=1,SUMIF($E$13:$E$350,E13,$AX$13:$AX$350),0)","v":27000000},{"$f":"IF(OR(AND(KJ13>0,KH13<KJ13),AND(KI13>0,KH13<KI13)),\"×\",\"○\")","v":"○"},{"$f":"IF(OR(JY13=\"×\",KG13=\"×\",KK13=\"×\"),\"×\",\"○\")","v":"○"},null,{"$f":"C13","v":1},{"$f":"D13","v":1}]
[{"$f":"D14*1000000+C14*10000+Q14*100+AH14","v":1010102},{"$f":"IF(L14<>\"\",IF(L14<>L13,B13+1,B13),0)","v":1},{"$f":"IF(N14<>\"\",IF(N14<>N13,C13+1,C13),0)","v":1},{"$f":"IF(M14<>\"\",IF(M14<>M13,D13+1,D13),0)","v":1},{"$f":"IF(R14<>\"\",IF(OR(R14<>R13,N14<>N13),E13+1,E13),0)","v":1},{"$f":"IF(BP14>0,E14,0)","v":1},{"$f":"IF(N14<>\"\",IF(N14<>N13,1,0),0)","v":0},{"$f":"IF(M14<>\"\",IF(M14<>M13,1,0),0)","v":0},{"$f":"IF(R14<>\"\",IF(R14<>R13,1,0),0)","v":0},0,{"$f":"ROW()-ROW($K$12)","v":2},"北海道","あ","甲",2,{"$f":"IF(O14<>\"\",VLOOKUP(O14,整理番号表!$Z$17:$AA$20,2,FALSE),)","v":"平地農業地域"},{"$f":"IF(R14<>\"\",IF(N14<>N13,1,IF(R14<>R13,Q13+1,Q13)),)","v":1},"法人A",null,"北海道","a",1,{"$f":"IF(V14<>0,VLOOKUP(V14,整理番号表!$B$6:$L$13,2,FALSE),)","v":"中心経営体であり、農地中間管理機構から賃借権等の設定等を受けた者"},{"$f":"IF(V14<>0,IF(V14=4,2,1),)","v":1},{"$f":"IF(X14<>0,VLOOKUP(X14,整理番号表!$B$16:$C$18,2,FALSE),)","v":"1,500万円（法人3,000万円）"},1,{"$f":"IF(Z14<>0,VLOOKUP(Z14,整理番号表!$B$22:$C$29,2,FALSE),)","v":"認定農業者"},"法人",1,{"$f":"IF(AC14<>0,VLOOKUP(AC14,整理番号表!$B$32:$G$60,2,FALSE),)","v":"水田作"},6,{"$f":"IF(AE14<>0,VLOOKUP(AE14,整理番号表!$P$5:$R$39,2,FALSE),)","v":"アタッチメント"},null,{"$f":"IF(AI14<>\"\",IF(OR(U14<>U13,R14<>R13),1,AH13+1),0)","v":2},"グレンドリル　4m　1台","②",{"$f":"IF(AJ14<>\"\",VLOOKUP(AJ14,整理番号表!$Z$6:$AA$14,2,FALSE),\"\")","v":"土壌センサー搭載型可変施肥田植機"},{"$f":"IF(AJ14<>0,1,)","v":1},"規模決定根拠資料","2022-03-03","2022-03-03","○○町1-1-1",2,{"$f":"IF(AQ14<>0,VLOOKUP(AQ14,整理番号表!$P$43:$Q$49,2,FALSE),)","v":"農機具共済"},"北海道農機共済","2022-03-03",1,20000000,{"$f":"IF(AL14=1,IF(KC14>0,MIN(ROUNDDOWN(KC14,-3),IF(AND(X14=1,AB14=\"法人\"),30000000,IF(AND(X14=1,AB14=\"法人以外\"),15000000,IF(X14=2,1000000,0)))),0),0)","v":9090000},9000000,11000000,{"$f":"AV14-SUM(AX14,AY14,BA14,BB14,BC14)","v":0},null,null,null,{"$f":"IF(I14=1,MIN(KH14,KJ14),0)","v":0},{"$f":"IF(AV14<>0,AX14/AV14,)","v":0.45},{"$f":"IF(AV14<>0,AY14/AV14,)","v":0.55000000000000004},null,7,{"$f":"IF(AX14>0,IF(AU14=1,ROUNDDOWN(AV14*10/110,0),IF(AU14=2,\"該当なし\",\"含税額\")),0)","v":1818181},{"$f":"IF(AX14>0,IF(AU14<>1,\" \",IF(AU14=1,ROUNDDOWN(ROUNDDOWN((AX14/(AV14-BI14)),5)*BI14,0))),0)","v":899981},1,{"$f":"IF(BK14<>0,VLOOKUP(BK14,整理番号表!$T$5:$U$16,2,FALSE),)","v":"農協"},1,{"$f":"IF(BM14<>0,VLOOKUP(BM14,整理番号表!$T$22:$U$30,2,FALSE),)","v":"近代化資金"},1,{"$f":"IF(BO14=1,AY14,)","v":11000000},{"$f":"IF(AND(R14<>\"\",I14=1),1,\"\")","v":""},null,null,null,null,null,{"$f":"IF(BS14=2,ROUNDDOWN((BV14-BR14)/ABS(BR14),2),IF(BS14=1,ROUNDDOWN((BV14-BR14)/ABS(BR14)*3/4,2),\"\"))","v":""},{"$f":"IF(BR14>0,IF(BS14=2,ROUNDDOWN((BV14-BR14),0),IF(BS14=1,ROUNDDOWN((BV14-BR14)*3/4,0),\"\")),IF(BV14>0,BV14,0))","v":0},null,null,null,null,null,null,null,null,null,0,0,0,0,0,0,{"$f":"IF(OR($BR14<=0,$BV14<=0),0,IF(AND($X14=1,$I14=1,$EU14<>1,CN$2<=$BW14),1,))","v":0},0,0,0,0,0,0,{"$f":"IF(OR($BR14<=0,$BV14<=0),0,IF(AND($X14=2,$I14=1,$EU14<>1,CU$2<=$BW14),1,))","v":0},0,0,0,0,0,0,{"$f":"IF($BV14<0,0,IF(AND($X14=1,$I14=1,$EU14<>1,DB$2<=$BX14),1,))","v":0},0,0,0,0,0,0,{"$f":"IF($BV14<0,0,IF(AND($X14=2,$I14=1,$EU14<>1,DI$2<=$BX14),1,))","v":0},null,null,null,null,null,{"$f":"SUM(FQ14,FW14,GB14)","v":0},{"$f":"SUM(FR14,FX14,GC14)","v":0},{"$f":"SUM(FS14,FY14,GD14)","v":0},{"$f":"SUM(FT14,FZ14,GE14)","v":0},{"$f":"SUM(FU14,FV14,GA14,GF14)","v":0},{"$f":"GG14","v":0},null,{"$f":"IF(AND(DU14=1,X14=2),1,0)","v":0},null,null,null,null,null,null,null,0,null,null,null,null,null,null,null,null,null,null,null,null,null,null,null,null,null,null,null,null,null,null,null,null,null,null,{"$f":"IF(X14=2,1,)","v":0},{"$f":"IF(AND(I14=1,OR(V14=1,V14=3)),1,)","v":0},null,null,{"$f":"IF(AND(I14=1,FG14<>FH14),FH14-FG14,0)","v":0},{"$f":"IF(AND(I14=1,FG14>0),ROUNDDOWN(FI14/FG14,2),0)","v":0},{"$f":"IF(I14=1,AC14,)","v":0},{"$f":"IF(OR(AND(1<=$FK14,$FK14<=3),$FK14=6),VLOOKUP($FK14,整理番号表!$B$32:$G$60,2,FALSE),)","v":0},{"$f":"IF(OR($FK14=4,$FK14=7),VLOOKUP($FK14,整理番号表!$B$32:$G$60,2,FALSE),)","v":0},{"$f":"IF($FK14=5,VLOOKUP($FK14,整理番号表!$B$32:$G$60,2,FALSE),)","v":0},{"$f":"IF(AND(8<=$FK14,$FK14<=13),VLOOKUP($FK14,整理番号表!$B$32:$G$60,2,FALSE),)","v":0},{"$f":"IF(FL14<>0,1,IF(FM14<>0,2,IF(FN14<>0,3,IF(FO14<>0,4,))))","v":0},{"$f":"IF(AND(FE14<>1,$FP14=1,$FF14=1,$FI14>=4),1,)","v":0},{"$f":"IF(AND(FE14<>1,$FP14=1,SUM($FQ14:FQ14)=0,$FF14=1,$FI14>=2),1,)","v":0},{"$f":"IF(AND(FE14<>1,$FP14=1,SUM($FQ14:FR14)=0,OR(AND($FF14=1,$FI14>0),$FI14>=4)),1,)","v":0},{"$f":"IF(AND(FE14<>1,$FP14=1,SUM($FQ14:FS14)=0,OR($FF14=1,$FI14>=2)),1,)","v":0},{"$f":"IF(AND(FE14<>1,$FP14=1,SUM($FQ14:FT14)=0,$FI14>0),1,)","v":0},{"$f":"IF(AND(FE14<>1,$FP14=4,$FI14>0),1,)","v":0},{"$f":"IF(AND(FE14<>1,$FP14=2,$FF14=1,$FJ14>=0.2),1,)","v":0},{"$f":"IF(AND(FE14<>1,$FP14=2,SUM($FW14:FW14)=0,$FF14=1,$FJ14>=0.1),1,)","v":0},{"$f":"IF(AND(FE14<>1,$FP14=2,SUM($FW14:FX14)=0,OR(AND($FF14=1,$FI14>0),$FJ14>=0.2)),1,)","v":0},{"$f":"IF(AND(FE14<>1,$FP14=2,SUM($FW14:FY14)=0,OR($FF14=1,$FJ14>=0.1)),1,)","v":0},{"$f":"IF(AND(FE14<>1,$FP14=2,SUM($FW14:FZ14)=0,$FI14>0),1,)","v":0},{"$f":"IF(AND(FE14<>1,$FP14=3,$FF14=1,$FJ14>=0.1),1,)","v":0},{"$f":"IF(AND(FE14<>1,$FP14=3,SUM($GB14:GB14)=0,AND($FF14=1,$FJ14>=0.05)),1,)","v":0},{"$f":"IF(AND(FE14<>1,$FP14=3,SUM($GB14:GC14)=0,OR(AND($FF14=1,$FI14>0),$FJ14>=0.1)),1,)","v":0},{"$f":"IF(AND(FE14<>1,$FP14=3,SUM($GB14:GD14)=0,OR($FF14=1,$FJ14>=0.05)),1,)","v":0},{"$f":"IF(AND(FE14<>1,$FP14=3,SUM($GB14:GE14)=0,$FI14>0),1,)","v":0},{"$f":"IF(AND($FE14=1,$FI14>0),1,)","v":0},null,{"$f":"IF($I14=1,CH14*GI$5,0)","v":0},0,0,0,0,0,0,0,0,0,0,0,0,0,0,0,0,0,0,0,0,0,0,0,0,0,0,0,0,0,0,0,0,0,0,0,0,0,0,0,0,0,0,0,0,0,0,0,0,0,0,0,0,0,0,0,0,0,0,0,0,0,0,0,0,0,0,0,0,0,{"$f":"IF($I14=1,IF($EZ14>=3,3,$EZ14*JA$5),0)","v":0},{"$f":"IF($I14=1,IF(FA14<>\"\",JB$5,0),0)","v":0},0,0,0,0,0,{"$f":"IF(JG14>0,JF14/JG14,0)","v":0},0,{"$f":"IF(AI14<>\"\",IF(X14=2,\"認\",IF(AND(X14=1,AY14>0),\"○\",\"×\")),\"\")","v":"○"},"○","○","○",{"$f":"IF(I14=1,IF(BR14=0,\"△\",IF(OR(AND(X14=1,BW14>=0.1),AND(X14=2,BW14>0)),\"○\",\"×\")),\"\")","v":""},"","","","","","","","","",{"$f":"IF(EQ14=1,IF(CG14=1,\"○\",\"×\"),\"\")","v":""},{"$f":"IF(COUNTIF(JJ14:JX14,\"×\")>=1,\"×\",\"○\")","v":"○"},1,20000000,{"$f":"IF(JZ14=1,ROUNDUP(KA14*100/110,0),KA14)","v":18181819},{"$f":"ROUNDDOWN(KB14*1/2,0)","v":9090909},{"$f":"IF(X14=2,\"認める者\",AY14)","v":11000000},9000000,9000000,"○",0,0,0,{"$f":"IF(OR(AND(KJ14>0,KH14<KJ14),AND(KI14>0,KH14<KI14)),\"×\",\"○\")","v":"○"},{"$f":"IF(OR(JY14=\"×\",KG14=\"×\",KK14=\"×\"),\"×\",\"○\")","v":"○"},null,{"$f":"C14","v":1},{"$f":"D14","v":1}]
[2020101,1,{"$f":"IF(N15<>\"\",IF(N15<>N14,C14+1,C14),0)","v":2},2,2,0,1,1,1,0,3,"北海道","い","乙",3,{"$f":"IF(O15<>\"\",VLOOKUP(O15,整理番号表!$Z$17:$AA$20,2,FALSE),)","v":"中間農業地域"},1,"法人B",null,"北海道","b",2,{"$f":"IF(V15<>0,VLOOKUP(V15,整理番号表!$B$6:$L$13,2,FALSE),)","v":"中心経営体"},1,{"$f":"IF(X15<>0,VLOOKUP(X15,整理番号表!$B$16:$C$18,2,FALSE),)","v":"1,500万円（法人3,000万円）"},1,{"$f":"IF(Z15<>0,VLOOKUP(Z15,整理番号表!$B$22:$C$29,2,FALSE),)","v":"認定農業者"},"法人",12,{"$f":"IF(AC15<>0,VLOOKUP(AC15,整理番号表!$B$32:$G$60,2,FALSE),)","v":"採卵養鶏"},19,{"$f":"IF(AE15<>0,VLOOKUP(AE15,整理番号表!$P$5:$R$39,2,FALSE),)","v":"畜舎（養鶏）"},null,1,"畜舎　512㎡　1棟",null,{"$f":"IF(AJ15<>\"\",VLOOKUP(AJ15,整理番号表!$Z$6:$AA$14,2,FALSE),\"\")","v":""},0,"規模決定根拠資料","2022-03-03","2022-03-04","○○町1-1-2",3,{"$f":"IF(AQ15<>0,VLOOKUP(AQ15,整理番号表!$P$43:$Q$49,2,FALSE),)","v":"損害保険"},"北海道損害保険","2022-03-04",1,50000000,0,22727000,25000000,2273000,null,null,null,22727000,0.45454,0.5,1,19,{"$f":"IF(AX15>0,IF(AU15=1,ROUNDDOWN(AV15*10/110,0),IF(AU15=2,\"該当なし\",\"含税額\")),0)","v":4545454},2272681,4,{"$f":"IF(BK15<>0,VLOOKUP(BK15,整理番号表!$T$5:$U$16,2,FALSE),)","v":"日本公庫"},4,{"$f":"IF(BM15<>0,VLOOKUP(BM15,整理番号表!$T$22:$U$30,2,FALSE),)","v":"公庫資金（スーパーＬ）直貸"},null,0,1,-10000000,2,11000000,13000000,17000000,2.7,17000000,1,null,null,null,1,1,null,null,1,0,0,0,0,0,0,0,0,0,0,0,0,0,0,0,0,0,0,0,0,1,0,0,0,0,0,0,0,null,null,null,null,null,0,0,0,0,1,0,null,0,null,null,null,null,null,null,null,1,null,null,null,1,null,null,1,null,null,null,null,null,1,null,null,null,null,null,null,1,null,2,null,null,null,null,0,0,100,120,20,0.2,12,{"$f":"IF(OR(AND(1<=$FK15,$FK15<=3),$FK15=6),VLOOKUP($FK15,整理番号表!$B$32:$G$60,2,FALSE),)","v":0},{"$f":"IF(OR($FK15=4,$FK15=7),VLOOKUP($FK15,整理番号表!$B$32:$G$60,2,FALSE),)","v":0},{"$f":"IF($FK15=5,VLOOKUP($FK15,整理番号表!$B$32:$G$60,2,FALSE),)","v":0},{"$f":"IF(AND(8<=$FK15,$FK15<=13),VLOOKUP($FK15,整理番号表!$B$32:$G$60,2,FALSE),)","v":"採卵養鶏"},4,0,{"$f":"IF(AND(FE15<>1,$FP15=1,SUM($FQ15:FQ15)=0,$FF15=1,$FI15>=2),1,)","v":0},{"$f":"IF(AND(FE15<>1,$FP15=1,SUM($FQ15:FR15)=0,OR(AND($FF15=1,$FI15>0),$FI15>=4)),1,)","v":0},{"$f":"IF(AND(FE15<>1,$FP15=1,SUM($FQ15:FS15)=0,OR($FF15=1,$FI15>=2)),1,)","v":0},{"$f":"IF(AND(FE15<>1,$FP15=1,SUM($FQ15:FT15)=0,$FI15>0),1,)","v":0},1,0,{"$f":"IF(AND(FE15<>1,$FP15=2,SUM($FW15:FW15)=0,$FF15=1,$FJ15>=0.1),1,)","v":0},{"$f":"IF(AND(FE15<>1,$FP15=2,SUM($FW15:FX15)=0,OR(AND($FF15=1,$FI15>0),$FJ15>=0.2)),1,)","v":0},{"$f":"IF(AND(FE15<>1,$FP15=2,SUM($FW15:FY15)=0,OR($FF15=1,$FJ15>=0.1)),1,)","v":0},{"$f":"IF(AND(FE15<>1,$FP15=2,SUM($FW15:FZ15)=0,$FI15>0),1,)","v":0},0,{"$f":"IF(AND(FE15<>1,$FP15=3,SUM($GB15:GB15)=0,AND($FF15=1,$FJ15>=0.05)),1,)","v":0},{"$f":"IF(AND(FE15<>1,$FP15=3,SUM($GB15:GC15)=0,OR(AND($FF15=1,$FI15>0),$FJ15>=0.1)),1,)","v":0},{"$f":"IF(AND(FE15<>1,$FP15=3,SUM($GB15:GD15)=0,OR($FF15=1,$FJ15>=0.05)),1,)","v":0},{"$f":"IF(AND(FE15<>1,$FP15=3,SUM($GB15:GE15)=0,$FI15>0),1,)","v":0},0,null,0,0,0,0,0,0,0,0,0,0,0,0,0,0,0,0,0,0,0,0,7,0,0,0,0,0,0,0,0,0,0,0,0,0,0,0,0,1,0,0,0,0,0,0,0,0,0,0,2,0,0,0,1,0,0,1,0,0,0,0,0,1,0,0,0,0,0,0,3,0,2,0,0,0,18,32.5,2,16.25,0,"○","○","○","○","○","○","○","","","","○","○","","","○","○",1,50000000,45454546,22727273,25000000,25000000,22727273,"○",30000000,0,22727000,"○","○",null,2,2]
[2020201,1,{"$f":"IF(N16<>\"\",IF(N16<>N15,C15+1,C15),0)","v":2},2,3,0,0,0,1,0,4,"北海道","い","乙",3,{"$f":"IF(O16<>\"\",VLOOKUP(O16,整理番号表!$Z$17:$AA$20,2,FALSE),)","v":"中間農業地域"},2,"個人C",null,"北海道",null,4,{"$f":"IF(V16<>0,VLOOKUP(V16,整理番号表!$B$6:$L$13,2,FALSE),)","v":"事業実施主体が認める者"},2,{"$f":"IF(X16<>0,VLOOKUP(X16,整理番号表!$B$16:$C$18,2,FALSE),)","v":"100万円"},5,{"$f":"IF(Z16<>0,VLOOKUP(Z16,整理番号表!$B$22:$C$29,2,FALSE),)","v":"事業実施主体が認める者のうち中心経営体又は認定農業者"},"法人以外",2,{"$f":"IF(AC16<>0,VLOOKUP(AC16,整理番号表!$B$32:$G$60,2,FALSE),)","v":"畑作"},1,{"$f":"IF(AE16<>0,VLOOKUP(AE16,整理番号表!$P$5:$R$39,2,FALSE),)","v":"トラクター"},1,1,"トラクター（中古）　108ps　1台",null,{"$f":"IF(AJ16<>\"\",VLOOKUP(AJ16,整理番号表!$Z$6:$AA$14,2,FALSE),\"\")","v":""},0,"規模決定根拠資料","2022-03-03","2022-03-05","○○町1-1-3",2,{"$f":"IF(AQ16<>0,VLOOKUP(AQ16,整理番号表!$P$43:$Q$49,2,FALSE),)","v":"農機具共済"},"北海道農機共済","2022-03-05",null,2000000,0,1000000,null,1000000,null,null,null,1000000,0.5,0,null,"7(2)","含税額"," ",null,{"$f":"IF(BK16<>0,VLOOKUP(BK16,整理番号表!$T$5:$U$16,2,FALSE),)","v":0},null,{"$f":"IF(BM16<>0,VLOOKUP(BM16,整理番号表!$T$22:$U$30,2,FALSE),)","v":0},null,0,1,7000000,1,7300000,7400000,7720000,7.0000000000000007E-2,540000,1,null,null,null,null,null,1,1,null,0,0,0,0,0,0,0,1,0,0,0,0,0,0,0,0,0,0,0,0,0,1,0,0,0,0,0,0,null,null,null,null,null,0,0,0,0,0,1,1,1,null,null,null,null,null,null,null,0,null,null,null,null,null,null,null,null,1,null,1,null,null,null,null,null,null,null,null,null,null,null,"ア",1,1,null,1,0,0.9,1,9.9999999999999978E-2,0.11,2,{"$f":"IF(OR(AND(1<=$FK16,$FK16<=3),$FK16=6),VLOOKUP($FK16,整理番号表!$B$32:$G$60,2,FALSE),)","v":"畑作"},{"$f":"IF(OR($FK16=4,$FK16=7),VLOOKUP($FK16,整理番号表!$B$32:$G$60,2,FALSE),)","v":0},{"$f":"IF($FK16=5,VLOOKUP($FK16,整理番号表!$B$32:$G$60,2,FALSE),)","v":0},{"$f":"IF(AND(8<=$FK16,$FK16<=13),VLOOKUP($FK16,整理番号表!$B$32:$G$60,2,FALSE),)","v":0},1,0,{"$f":"IF(AND(FE16<>1,$FP16=1,SUM($FQ16:FQ16)=0,$FF16=1,$FI16>=2),1,)","v":0},{"$f":"IF(AND(FE16<>1,$FP16=1,SUM($FQ16:FR16)=0,OR(AND($FF16=1,$FI16>0),$FI16>=4)),1,)","v":0},{"$f":"IF(AND(FE16<>1,$FP16=1,SUM($FQ16:FS16)=0,OR($FF16=1,$FI16>=2)),1,)","v":0},{"$f":"IF(AND(FE16<>1,$FP16=1,SUM($FQ16:FT16)=0,$FI16>0),1,)","v":0},0,0,{"$f":"IF(AND(FE16<>1,$FP16=2,SUM($FW16:FW16)=0,$FF16=1,$FJ16>=0.1),1,)","v":0},{"$f":"IF(AND(FE16<>1,$FP16=2,SUM($FW16:FX16)=0,OR(AND($FF16=1,$FI16>0),$FJ16>=0.2)),1,)","v":0},{"$f":"IF(AND(FE16<>1,$FP16=2,SUM($FW16:FY16)=0,OR($FF16=1,$FJ16>=0.1)),1,)","v":0},{"$f":"IF(AND(FE16<>1,$FP16=2,SUM($FW16:FZ16)=0,$FI16>0),1,)","v":0},0,{"$f":"IF(AND(FE16<>1,$FP16=3,SUM($GB16:GB16)=0,AND($FF16=1,$FJ16>=0.05)),1,)","v":0},{"$f":"IF(AND(FE16<>1,$FP16=3,SUM($GB16:GC16)=0,OR(AND($FF16=1,$FI16>0),$FJ16>=0.1)),1,)","v":0},{"$f":"IF(AND(FE16<>1,$FP16=3,SUM($GB16:GD16)=0,OR($FF16=1,$FJ16>=0.05)),1,)","v":0},{"$f":"IF(AND(FE16<>1,$FP16=3,SUM($GB16:GE16)=0,$FI16>0),1,)","v":0},1,null,0,0,0,0,0,0,0,1,0,0,0,0,0,0,0,0,0,0,0,0,0,1,0,0,0,0,0,0,0,0,0,0,0,0,0,0,0,0,2,1,1,0,0,0,0,0,0,0,0,0,0,0,0,0,0,0,0,2,0,2,0,0,0,0,0,0,0,0,0,0,0,3,1,0.5,14.5,0,0,{"$f":"IF(JG16>0,JF16/JG16,0)","v":0},1,"認","○","△","○","○","○","○","","","","","","○","○","","○",0,2000000,2000000,1000000,"認める者",2000000,1000000,"○",1000000,0,1000000,"○","○",null,2,2]
[3030101,2,{"$f":"IF(N17<>\"\",IF(N17<>N16,C16+1,C16),0)","v":3},3,4,0,1,1,1,0,5,"青森県","う","丙",2,{"$f":"IF(O17<>\"\",VLOOKUP(O17,整理番号表!$Z$17:$AA$20,2,FALSE),)","v":"平地農業地域"},1,"個人D",null,"青森県",null,2,{"$f":"IF(V17<>0,VLOOKUP(V17,整理番号表!$B$6:$L$13,2,FALSE),)","v":"中心経営体"},1,{"$f":"IF(X17<>0,VLOOKUP(X17,整理番号表!$B$16:$C$18,2,FALSE),)","v":"1,500万円（法人3,000万円）"},2,{"$f":"IF(Z17<>0,VLOOKUP(Z17,整理番号表!$B$22:$C$29,2,FALSE),)","v":"認定就農者"},"法人以外",5,{"$f":"IF(AC17<>0,VLOOKUP(AC17,整理番号表!$B$32:$G$60,2,FALSE),)","v":"果樹作"},12,{"$f":"IF(AE17<>0,VLOOKUP(AE17,整理番号表!$P$5:$R$39,2,FALSE),)","v":"果樹棚"},null,1,"果樹棚　86a分",null,{"$f":"IF(AJ17<>\"\",VLOOKUP(AJ17,整理番号表!$Z$6:$AA$14,2,FALSE),\"\")","v":""},0,"規模決定根拠資料","2022-03-03","2022-03-06","○○町1-1-4",4,{"$f":"IF(AQ17<>0,VLOOKUP(AQ17,整理番号表!$P$43:$Q$49,2,FALSE),)","v":"その他の保険等"},"(株)民間保険","2022-03-06",1,7000000,0,3000000,3000000,1000000,null,null,null,3000000,0.42857142857142855,0.42857142857142855,null,14,636363,299994,2,{"$f":"IF(BK17<>0,VLOOKUP(BK17,整理番号表!$T$5:$U$16,2,FALSE),)","v":"農協連"},2,{"$f":"IF(BM17<>0,VLOOKUP(BM17,整理番号表!$T$22:$U$30,2,FALSE),)","v":"青年等就農資金"},null,0,1,null,2,5000000,10000000,15000000,{"$error":"#DIV/0!"},15000000,null,null,null,null,null,null,null,null,null,0,0,0,0,0,0,0,0,0,0,0,0,0,0,0,0,0,0,0,0,1,0,0,0,0,0,0,0,null,null,null,null,null,0,0,0,0,0,0,1,0,1,null,1,null,null,null,null,0,null,1,1,null,null,null,null,null,null,null,null,null,null,null,null,null,null,null,null,null,null,null,null,null,null,null,0,0,1,1,0,0,5,{"$f":"IF(OR(AND(1<=$FK17,$FK17<=3),$FK17=6),VLOOKUP($FK17,整理番号表!$B$32:$G$60,2,FALSE),)","v":0},{"$f":"IF(OR($FK17=4,$FK17=7),VLOOKUP($FK17,整理番号表!$B$32:$G$60,2,FALSE),)","v":0},{"$f":"IF($FK17=5,VLOOKUP($FK17,整理番号表!$B$32:$G$60,2,FALSE),)","v":"果樹作"},{"$f":"IF(AND(8<=$FK17,$FK17<=13),VLOOKUP($FK17,整理番号表!$B$32:$G$60,2,FALSE),)","v":0},3,0,{"$f":"IF(AND(FE17<>1,$FP17=1,SUM($FQ17:FQ17)=0,$FF17=1,$FI17>=2),1,)","v":0},{"$f":"IF(AND(FE17<>1,$FP17=1,SUM($FQ17:FR17)=0,OR(AND($FF17=1,$FI17>0),$FI17>=4)),1,)","v":0},{"$f":"IF(AND(FE17<>1,$FP17=1,SUM($FQ17:FS17)=0,OR($FF17=1,$FI17>=2)),1,)","v":0},{"$f":"IF(AND(FE17<>1,$FP17=1,SUM($FQ17:FT17)=0,$FI17>0),1,)","v":0},0,0,{"$f":"IF(AND(FE17<>1,$FP17=2,SUM($FW17:FW17)=0,$FF17=1,$FJ17>=0.1),1,)","v":0},{"$f":"IF(AND(FE17<>1,$FP17=2,SUM($FW17:FX17)=0,OR(AND($FF17=1,$FI17>0),$FJ17>=0.2)),1,)","v":0},{"$f":"IF(AND(FE17<>1,$FP17=2,SUM($FW17:FY17)=0,OR($FF17=1,$FJ17>=0.1)),1,)","v":0},{"$f":"IF(AND(FE17<>1,$FP17=2,SUM($FW17:FZ17)=0,$FI17>0),1,)","v":0},0,{"$f":"IF(AND(FE17<>1,$FP17=3,SUM($GB17:GB17)=0,AND($FF17=1,$FJ17>=0.05)),1,)","v":0},{"$f":"IF(AND(FE17<>1,$FP17=3,SUM($GB17:GC17)=0,OR(AND($FF17=1,$FI17>0),$FJ17>=0.1)),1,)","v":0},{"$f":"IF(AND(FE17<>1,$FP17=3,SUM($GB17:GD17)=0,OR($FF17=1,$FJ17>=0.05)),1,)","v":0},{"$f":"IF(AND(FE17<>1,$FP17=3,SUM($GB17:GE17)=0,$FI17>0),1,)","v":0},0,null,0,0,0,0,0,0,0,0,0,0,0,0,0,0,0,0,0,0,0,0,7,0,0,0,0,0,0,0,0,0,0,0,0,0,0,0,0,0,0,1,0,1,0,1,0,0,0,0,0,0,1,1,0,0,0,0,0,0,0,0,0,0,0,0,0,0,0,0,0,0,0,0,0,0,12,12,1,12,0,"○","○","○","○","△","","","","","","","","","","","○",1,7000000,6363637,3181818,3000000,4000000,3000000,"○",15000000,0,3000000,"○","○",null,3,3]
[3040101,2,{"$f":"IF(N18<>\"\",IF(N18<>N17,C17+1,C17),0)","v":4},3,5,5,1,0,1,1,6,"青森県","う","丁",3,{"$f":"IF(O18<>\"\",VLOOKUP(O18,整理番号表!$Z$17:$AA$20,2,FALSE),)","v":"中間農業地域"},1,"組織E",null,"青森県","e",2,{"$f":"IF(V18<>0,VLOOKUP(V18,整理番号表!$B$6:$L$13,2,FALSE),)","v":"中心経営体"},1,{"$f":"IF(X18<>0,VLOOKUP(X18,整理番号表!$B$16:$C$18,2,FALSE),)","v":"1,500万円（法人3,000万円）"},3,{"$f":"IF(Z18<>0,VLOOKUP(Z18,整理番号表!$B$22:$C$29,2,FALSE),)","v":"集落営農組織（任意組織）"},"法人以外",4,{"$f":"IF(AC18<>0,VLOOKUP(AC18,整理番号表!$B$32:$G$60,2,FALSE),)","v":"施設野菜作"},9,{"$f":"IF(AE18<>0,VLOOKUP(AE18,整理番号表!$P$5:$R$39,2,FALSE),)","v":"ハウス"},null,1,"パイプハウス　間口6.3ｍ奥行50m　1棟",null,{"$f":"IF(AJ18<>\"\",VLOOKUP(AJ18,整理番号表!$Z$6:$AA$14,2,FALSE),\"\")","v":""},0,"規模決定根拠資料","2022-03-03","2022-03-07","○○町1-1-5",1,{"$f":"IF(AQ18<>0,VLOOKUP(AQ18,整理番号表!$P$43:$Q$49,2,FALSE),)","v":"園芸施設共済"},"青森園芸共済","2022-03-07",2,25000000,0,12500000,12500000,0,null,null,null,12500000,0.5,0.5,null,10,"該当なし"," ",8,{"$f":"IF(BK18<>0,VLOOKUP(BK18,整理番号表!$T$5:$U$16,2,FALSE),)","v":"銀行"},8,{"$f":"IF(BM18<>0,VLOOKUP(BM18,整理番号表!$T$22:$U$30,2,FALSE),)","v":"一般資金（プロパー資金）"},1,12500000,1,18000000,2,21000000,22000000,28000000,0.55000000000000004,10000000,null,1,null,1,null,null,null,null,null,0,0,0,0,0,1,0,0,0,0,0,0,0,0,0,0,0,0,0,1,0,0,0,0,0,0,0,0,null,null,null,null,null,0,0,0,0,0,0,1,0,null,1,null,null,null,null,null,0,1,null,null,null,null,null,null,null,null,null,null,null,null,null,null,null,null,null,null,null,null,null,null,null,null,null,0,0,10,10,0,0,4,{"$f":"IF(OR(AND(1<=$FK18,$FK18<=3),$FK18=6),VLOOKUP($FK18,整理番号表!$B$32:$G$60,2,FALSE),)","v":0},{"$f":"IF(OR($FK18=4,$FK18=7),VLOOKUP($FK18,整理番号表!$B$32:$G$60,2,FALSE),)","v":"施設野菜作"},{"$f":"IF($FK18=5,VLOOKUP($FK18,整理番号表!$B$32:$G$60,2,FALSE),)","v":0},{"$f":"IF(AND(8<=$FK18,$FK18<=13),VLOOKUP($FK18,整理番号表!$B$32:$G$60,2,FALSE),)","v":0},2,0,{"$f":"IF(AND(FE18<>1,$FP18=1,SUM($FQ18:FQ18)=0,$FF18=1,$FI18>=2),1,)","v":0},{"$f":"IF(AND(FE18<>1,$FP18=1,SUM($FQ18:FR18)=0,OR(AND($FF18=1,$FI18>0),$FI18>=4)),1,)","v":0},{"$f":"IF(AND(FE18<>1,$FP18=1,SUM($FQ18:FS18)=0,OR($FF18=1,$FI18>=2)),1,)","v":0},{"$f":"IF(AND(FE18<>1,$FP18=1,SUM($FQ18:FT18)=0,$FI18>0),1,)","v":0},0,0,{"$f":"IF(AND(FE18<>1,$FP18=2,SUM($FW18:FW18)=0,$FF18=1,$FJ18>=0.1),1,)","v":0},{"$f":"IF(AND(FE18<>1,$FP18=2,SUM($FW18:FX18)=0,OR(AND($FF18=1,$FI18>0),$FJ18>=0.2)),1,)","v":0},{"$f":"IF(AND(FE18<>1,$FP18=2,SUM($FW18:FY18)=0,OR($FF18=1,$FJ18>=0.1)),1,)","v":0},{"$f":"IF(AND(FE18<>1,$FP18=2,SUM($FW18:FZ18)=0,$FI18>0),1,)","v":0},0,{"$f":"IF(AND(FE18<>1,$FP18=3,SUM($GB18:GB18)=0,AND($FF18=1,$FJ18>=0.05)),1,)","v":0},{"$f":"IF(AND(FE18<>1,$FP18=3,SUM($GB18:GC18)=0,OR(AND($FF18=1,$FI18>0),$FJ18>=0.1)),1,)","v":0},{"$f":"IF(AND(FE18<>1,$FP18=3,SUM($GB18:GD18)=0,OR($FF18=1,$FJ18>=0.05)),1,)","v":0},{"$f":"IF(AND(FE18<>1,$FP18=3,SUM($GB18:GE18)=0,$FI18>0),1,)","v":0},0,null,0,0,0,0,0,6,0,0,0,0,0,0,0,0,0,0,0,0,0,6,0,0,0,0,0,0,0,0,0,0,0,0,0,0,0,0,0,0,0,1,0,0,1,0,0,0,0,0,0,2,0,0,0,0,0,0,0,0,0,0,0,0,0,0,0,0,0,0,0,0,0,0,0,0,{"$f":"SUM(GI18:JD18)","v":16},16,1,{"$f":"IF(JG18>0,JF18/JG18,0)","v":16},{"$f":"IF(X18=2,1,0)","v":0},"○",{"$f":"IF(AI18<>\"\",IF(AV18>=500000,\"○\",\"×\"),\"\")","v":"○"},{"$f":"IF(AI18<>\"\",IF(AND(5<=BH18,BH18<=20),\"○\",IF(OR(AND(4<=BH18,BH18<=24),OR(AE18=30,AE18=31),AG18=1),\"△\",\"×\")),\"\")","v":"○"},{"$f":"IF(AI18<>\"\",IF(AT18>0,\"○\",\"×\"),\"\")","v":"○"},"○",{"$f":"IF(SUM(DO18:DT18)>0,IF(BY18=1,\"○\",\"×\"),\"\")","v":""},{"$f":"IF(BY18=1,IF(AND(FI18>0,FJ18>0),\"○\",\"×\"),\"\")","v":""},{"$f":"IF(SUM(DX18)>0,IF(BZ18=1,\"○\",\"×\"),\"\")","v":"○"},{"$f":"IF(SUM(EA18,EC18)>0,IF(CA18=1,\"○\",\"×\"),\"\")","v":""},{"$f":"IF(SUM(EE18)>0,IF(CB18=1,\"○\",\"×\"),\"\")","v":"○"},{"$f":"IF(SUM(EH18)>0,IF(CC18=1,\"○\",\"×\"),\"\")","v":""},{"$f":"IF(SUM(EK18)>0,IF(CD18=1,\"○\",\"×\"),\"\")","v":""},{"$f":"IF(SUM(EM18)>0,IF(CE18=1,\"○\",\"×\"),\"\")","v":""},{"$f":"IF(SUM(EN18:EP18)>0,IF(CF18=1,\"○\",\"×\"),\"\")","v":""},"",{"$f":"IF(COUNTIF(JJ18:JX18,\"×\")>=1,\"×\",\"○\")","v":"○"},{"$f":"AU18","v":2},{"$f":"AV18","v":25000000},{"$f":"IF(JZ18=1,ROUNDUP(KA18*100/110,0),KA18)","v":25000000},{"$f":"ROUNDDOWN(KB18*1/2,0)","v":12500000},12500000,{"$f":"AV18-SUM(AY18,BA18:BC18)","v":12500000},{"$f":"IF(X18=1,MIN(KC18:KE18),IF(X18=2,MIN(KC18,KE18),0))","v":12500000},{"$f":"IF(AX18<=KF18,\"○\",\"×\")","v":"○"},{"$f":"IF(I18=1,IF(X18=2,1000000,IF(AND(X18=1,AB18=\"法人\"),30000000,IF(AND(X18=1,AB18=\"法人以外\"),15000000,0))),0)","v":15000000},0,12500000,{"$f":"IF(OR(AND(KJ18>0,KH18<KJ18),AND(KI18>0,KH18<KI18)),\"×\",\"○\")","v":"○"},{"$f":"IF(OR(JY18=\"×\",KG18=\"×\",KK18=\"×\"),\"×\",\"○\")","v":"○"},null,4,3]
[{"$f":"D19*1000000+C19*10000+Q19*100+AH19","v":4050101},{"$f":"IF(L19<>\"\",IF(L19<>L18,B18+1,B18),0)","v":3},{"$f":"IF(N19<>\"\",IF(N19<>N18,C18+1,C18),0)","v":5},{"$f":"IF(M19<>\"\",IF(M19<>M18,D18+1,D18),0)","v":4},{"$f":"IF(R19<>\"\",IF(OR(R19<>R18,N19<>N18),E18+1,E18),0)","v":6},{"$f":"IF(BP19>0,E19,0)","v":6},{"$f":"IF(N19<>\"\",IF(N19<>N18,1,0),0)","v":1},{"$f":"IF(M19<>\"\",IF(M19<>M18,1,0),0)","v":1},{"$f":"IF(R19<>\"\",IF(R19<>R18,1,0),0)","v":1},1,7,"埼玉県","え","戊",2,{"$f":"IF(O19<>\"\",VLOOKUP(O19,整理番号表!$Z$17:$AA$20,2,FALSE),)","v":"平地農業地域"},1,"個人F",null,"埼玉県",null,3,{"$f":"IF(V19<>0,VLOOKUP(V19,整理番号表!$B$6:$L$13,2,FALSE),)","v":"中間管理機構から賃借権等の設定等を受けた者"},1,{"$f":"IF(X19<>0,VLOOKUP(X19,整理番号表!$B$16:$C$18,2,FALSE),)","v":"1,500万円（法人3,000万円）"},2,{"$f":"IF(Z19<>0,VLOOKUP(Z19,整理番号表!$B$22:$C$29,2,FALSE),)","v":"認定就農者"},"法人以外",7,{"$f":"IF(AC19<>0,VLOOKUP(AC19,整理番号表!$B$32:$G$60,2,FALSE),)","v":"施設花き"},9,{"$f":"IF(AE19<>0,VLOOKUP(AE19,整理番号表!$P$5:$R$39,2,FALSE),)","v":"ハウス"},null,1,"パイプハウス　間口10ｍ奥行50m　1棟　高度環境制御システム付き","⑥",{"$f":"IF(AJ19<>\"\",VLOOKUP(AJ19,整理番号表!$Z$6:$AA$14,2,FALSE),\"\")","v":"施設園芸の高度環境制御システム"},{"$f":"IF(AJ19<>0,1,)","v":1},"規模決定根拠資料","2022-03-03","2022-03-08","○○町1-1-6",1,{"$f":"IF(AQ19<>0,VLOOKUP(AQ19,整理番号表!$P$43:$Q$49,2,FALSE),)","v":"園芸施設共済"},"埼玉園芸共済","2022-03-08",2,30000000,15000000,10000000,10000000,{"$f":"AV19-SUM(AX19,AY19,BA19,BB19,BC19)","v":10000000},null,null,null,15000000,{"$f":"IF(AV19<>0,AX19/AV19,)","v":0.33333333333333331},{"$f":"IF(AV19<>0,AY19/AV19,)","v":0.33333333333333331},null,14,{"$f":"IF(AX19>0,IF(AU19=1,ROUNDDOWN(AV19*10/110,0),IF(AU19=2,\"該当なし\",\"含税額\")),0)","v":"該当なし"},{"$f":"IF(AX19>0,IF(AU19<>1,\" \",IF(AU19=1,ROUNDDOWN(ROUNDDOWN((AX19/(AV19-BI19)),5)*BI19,0))),0)","v":" "},1,{"$f":"IF(BK19<>0,VLOOKUP(BK19,整理番号表!$T$5:$U$16,2,FALSE),)","v":"農協"},1,{"$f":"IF(BM19<>0,VLOOKUP(BM19,整理番号表!$T$22:$U$30,2,FALSE),)","v":"近代化資金"},1,{"$f":"IF(BO19=1,AY19,)","v":10000000},1,3500000,2,3200000,3800000,4400000,0.25,900000,1,null,1,null,null,null,null,null,null,{"$f":"IF(OR($BR19<=0,$BV19<=0),0,IF(AND($X19=1,$I19=1,$EU19<>1,CH$2<=$BW19,$BW19<CI$2),1,))","v":0},{"$f":"IF(OR($BR19<=0,$BV19<=0),0,IF(AND($X19=1,$I19=1,$EU19<>1,CI$2<=$BW19,$BW19<CJ$2),1,))","v":0},{"$f":"IF(OR($BR19<=0,$BV19<=0),0,IF(AND($X19=1,$I19=1,$EU19<>1,CJ$2<=$BW19,$BW19<CK$2),1,))","v":0},{"$f":"IF(OR($BR19<=0,$BV19<=0),0,IF(AND($X19=1,$I19=1,$EU19<>1,CK$2<=$BW19,$BW19<CL$2),1,))","v":0},{"$f":"IF(OR($BR19<=0,$BV19<=0),0,IF(AND($X19=1,$I19=1,$EU19<>1,CL$2<=$BW19,$BW19<CM$2),1,))","v":0},{"$f":"IF(OR($BR19<=0,$BV19<=0),0,IF(AND($X19=1,$I19=1,$EU19<>1,CM$2<=$BW19,$BW19<CN$2),1,))","v":0},0,{"$f":"IF(OR($BR19<=0,$BV19<=0),0,IF(AND($X19=2,$I19=1,$EU19<>1,CO$2<=$BW19,$BW19<CP$2),1,))","v":0},{"$f":"IF(OR($BR19<=0,$BV19<=0),0,IF(AND($X19=2,$I19=1,$EU19<>1,CP$2<=$BW19,$BW19<CQ$2),1,))","v":0},{"$f":"IF(OR($BR19<=0,$BV19<=0),0,IF(AND($X19=2,$I19=1,$EU19<>1,CQ$2<=$BW19,$BW19<CR$2),1,))","v":0},{"$f":"IF(OR($BR19<=0,$BV19<=0),0,IF(AND($X19=2,$I19=1,$EU19<>1,CR$2<=$BW19,$BW19<CS$2),1,))","v":0},{"$f":"IF(OR($BR19<=0,$BV19<=0),0,IF(AND($X19=2,$I19=1,$EU19<>1,CS$2<=$BW19,$BW19<CT$2),1,))","v":0},{"$f":"IF(OR($BR19<=0,$BV19<=0),0,IF(AND($X19=2,$I19=1,$EU19<>1,CT$2<=$BW19,$BW19<CU$2),1,))","v":0},0,{"$f":"IF($BV19<0,0,IF(AND($X19=1,$I19=1,$EU19<>1,CV$2<=$BX19,$BX19<CW$2),1,))","v":0},{"$f":"IF($BV19<0,0,IF(AND($X19=1,$I19=1,$EU19<>1,CW$2<=$BX19,$BX19<CX$2),1,))","v":0},{"$f":"IF($BV19<0,0,IF(AND($X19=1,$I19=1,$EU19<>1,CX$2<=$BX19,$BX19<CY$2),1,))","v":0},{"$f":"IF($BV19<0,0,IF(AND($X19=1,$I19=1,$EU19<>1,CY$2<=$BX19,$BX19<CZ$2),1,))","v":0},{"$f":"IF($BV19<0,0,IF(AND($X19=1,$I19=1,$EU19<>1,CZ$2<=$BX19,$BX19<DA$2),1,))","v":0},{"$f":"IF($BV19<0,0,IF(AND($X19=1,$I19=1,$EU19<>1,DA$2<=$BX19,$BX19<DB$2),1,))","v":0},0,{"$f":"IF($BV19<0,0,IF(AND($X19=2,$I19=1,$EU19<>1,DC$2<=$BX19,$BX19<DD$2),1,))","v":0},{"$f":"IF($BV19<0,0,IF(AND($X19=2,$I19=1,$EU19<>1,DD$2<=$BX19,$BX19<DE$2),1,))","v":0},{"$f":"IF($BV19<0,0,IF(AND($X19=2,$I19=1,$EU19<>1,DE$2<=$BX19,$BX19<DF$2),1,))","v":0},{"$f":"IF($BV19<0,0,IF(AND($X19=2,$I19=1,$EU19<>1,DF$2<=$BX19,$BX19<DG$2),1,))","v":0},{"$f":"IF($BV19<0,0,IF(AND($X19=2,$I19=1,$EU19<>1,DG$2<=$BX19,$BX19<DH$2),1,))","v":0},{"$f":"IF($BV19<0,0,IF(AND($X19=2,$I19=1,$EU19<>1,DH$2<=$BX19,$BX19<DI$2),1,))","v":0},0,null,null,null,null,1,{"$f":"SUM(FQ19,FW19,GB19)","v":1},{"$f":"SUM(FR19,FX19,GC19)","v":0},{"$f":"SUM(FS19,FY19,GD19)","v":0},{"$f":"SUM(FT19,FZ19,GE19)","v":0},{"$f":"SUM(FU19,FV19,GA19,GF19)","v":0},{"$f":"GG19","v":0},null,0,null,null,null,null,1,null,null,0,null,null,null,null,null,null,null,null,null,null,null,null,null,null,null,null,1,1,null,null,null,null,null,null,null,null,0,1,0.3,0.4,0.10000000000000003,0.33,7,{"$f":"IF(OR(AND(1<=$FK19,$FK19<=3),$FK19=6),VLOOKUP($FK19,整理番号表!$B$32:$G$60,2,FALSE),)","v":0},{"$f":"IF(OR($FK19=4,$FK19=7),VLOOKUP($FK19,整理番号表!$B$32:$G$60,2,FALSE),)","v":"施設花き"},{"$f":"IF($FK19=5,VLOOKUP($FK19,整理番号表!$B$32:$G$60,2,FALSE),)","v":0},{"$f":"IF(AND(8<=$FK19,$FK19<=13),VLOOKUP($FK19,整理番号表!$B$32:$G$60,2,FALSE),)","v":0},2,0,{"$f":"IF(AND(FE19<>1,$FP19=1,SUM($FQ19:FQ19)=0,$FF19=1,$FI19>=2),1,)","v":0},{"$f":"IF(AND(FE19<>1,$FP19=1,SUM($FQ19:FR19)=0,OR(AND($FF19=1,$FI19>0),$FI19>=4)),1,)","v":0},{"$f":"IF(AND(FE19<>1,$FP19=1,SUM($FQ19:FS19)=0,OR($FF19=1,$FI19>=2)),1,)","v":0},{"$f":"IF(AND(FE19<>1,$FP19=1,SUM($FQ19:FT19)=0,$FI19>0),1,)","v":0},0,1,{"$f":"IF(AND(FE19<>1,$FP19=2,SUM($FW19:FW19)=0,$FF19=1,$FJ19>=0.1),1,)","v":0},{"$f":"IF(AND(FE19<>1,$FP19=2,SUM($FW19:FX19)=0,OR(AND($FF19=1,$FI19>0),$FJ19>=0.2)),1,)","v":0},{"$f":"IF(AND(FE19<>1,$FP19=2,SUM($FW19:FY19)=0,OR($FF19=1,$FJ19>=0.1)),1,)","v":0},{"$f":"IF(AND(FE19<>1,$FP19=2,SUM($FW19:FZ19)=0,$FI19>0),1,)","v":0},0,{"$f":"IF(AND(FE19<>1,$FP19=3,SUM($GB19:GB19)=0,AND($FF19=1,$FJ19>=0.05)),1,)","v":0},{"$f":"IF(AND(FE19<>1,$FP19=3,SUM($GB19:GC19)=0,OR(AND($FF19=1,$FI19>0),$FJ19>=0.1)),1,)","v":0},{"$f":"IF(AND(FE19<>1,$FP19=3,SUM($GB19:GD19)=0,OR($FF19=1,$FJ19>=0.05)),1,)","v":0},{"$f":"IF(AND(FE19<>1,$FP19=3,SUM($GB19:GE19)=0,$FI19>0),1,)","v":0},0,null,0,0,0,0,0,0,0,0,0,0,0,0,0,0,0,0,0,0,0,0,0,0,0,0,0,0,0,0,0,0,0,0,6,5,0,0,0,0,0,0,0,0,0,0,0,1,0,0,0,0,0,0,0,0,0,0,0,0,0,0,0,0,0,0,0,2,3,0,0,0,0,0,0,0,17,17,1,17,0,"○","○","○","○","○","○","○","","○","","","","","","","○",2,30000000,30000000,15000000,10000000,20000000,10000000,"○",15000000,15000000,15000000,"○","○",null,5,4]
[4050102,3,5,4,6,6,0,0,{"$f":"IF(R20<>\"\",IF(R20<>R19,1,0),0)","v":0},0,8,"埼玉県","え","戊",2,{"$f":"IF(O20<>\"\",VLOOKUP(O20,整理番号表!$Z$17:$AA$20,2,FALSE),)","v":"平地農業地域"},1,"個人F",null,"埼玉県",null,3,{"$f":"IF(V20<>0,VLOOKUP(V20,整理番号表!$B$6:$L$13,2,FALSE),)","v":"中間管理機構から賃借権等の設定等を受けた者"},1,{"$f":"IF(X20<>0,VLOOKUP(X20,整理番号表!$B$16:$C$18,2,FALSE),)","v":"1,500万円（法人3,000万円）"},2,{"$f":"IF(Z20<>0,VLOOKUP(Z20,整理番号表!$B$22:$C$29,2,FALSE),)","v":"認定就農者"},"法人以外",7,{"$f":"IF(AC20<>0,VLOOKUP(AC20,整理番号表!$B$32:$G$60,2,FALSE),)","v":"施設花き"},1,{"$f":"IF(AE20<>0,VLOOKUP(AE20,整理番号表!$P$5:$R$39,2,FALSE),)","v":"トラクター"},1,2,"トラクター（中古）　80ps　1台",null,{"$f":"IF(AJ20<>\"\",VLOOKUP(AJ20,整理番号表!$Z$6:$AA$14,2,FALSE),\"\")","v":""},{"$f":"IF(AJ20<>0,1,)","v":0},"規模決定根拠資料","2022-03-03","2022-03-08","○○町1-1-6",2,{"$f":"IF(AQ20<>0,VLOOKUP(AQ20,整理番号表!$P$43:$Q$49,2,FALSE),)","v":"農機具共済"},"埼玉農機共済","2022-03-09",2,10000000,0,5000000,5000000,0,null,null,null,0,0.5,0.5,null,"7(4)","該当なし"," ",1,{"$f":"IF(BK20<>0,VLOOKUP(BK20,整理番号表!$T$5:$U$16,2,FALSE),)","v":"農協"},1,{"$f":"IF(BM20<>0,VLOOKUP(BM20,整理番号表!$T$22:$U$30,2,FALSE),)","v":"近代化資金"},1,{"$f":"IF(BO20=1,AY20,)","v":5000000},{"$f":"IF(AND(R20<>\"\",I20=1),1,\"\")","v":""},null,null,null,null,null,{"$f":"IF(BS20=2,ROUNDDOWN((BV20-BR20)/ABS(BR20),2),IF(BS20=1,ROUNDDOWN((BV20-BR20)/ABS(BR20)*3/4,2),\"\"))","v":""},0,null,null,null,null,null,null,null,null,null,0,0,0,0,0,0,0,0,0,0,0,0,0,0,0,0,0,0,0,0,0,0,0,0,0,0,0,0,null,null,null,null,null,{"$f":"SUM(FQ20,FW20,GB20)","v":0},{"$f":"SUM(FR20,FX20,GC20)","v":0},{"$f":"SUM(FS20,FY20,GD20)","v":0},{"$f":"SUM(FT20,FZ20,GE20)","v":0},{"$f":"SUM(FU20,FV20,GA20,GF20)","v":0},{"$f":"GG20","v":0},null,0,null,null,null,null,null,null,null,0,null,null,null,null,null,null,null,null,null,null,null,null,null,null,null,null,null,null,null,null,null,null,null,null,null,null,0,0,null,null,0,0,0,{"$f":"IF(OR(AND(1<=$FK20,$FK20<=3),$FK20=6),VLOOKUP($FK20,整理番号表!$B$32:$G$60,2,FALSE),)","v":0},{"$f":"IF(OR($FK20=4,$FK20=7),VLOOKUP($FK20,整理番号表!$B$32:$G$60,2,FALSE),)","v":0},{"$f":"IF($FK20=5,VLOOKUP($FK20,整理番号表!$B$32:$G$60,2,FALSE),)","v":0},{"$f":"IF(AND(8<=$FK20,$FK20<=13),VLOOKUP($FK20,整理番号表!$B$32:$G$60,2,FALSE),)","v":0},0,0,{"$f":"IF(AND(FE20<>1,$FP20=1,SUM($FQ20:FQ20)=0,$FF20=1,$FI20>=2),1,)","v":0},{"$f":"IF(AND(FE20<>1,$FP20=1,SUM($FQ20:FR20)=0,OR(AND($FF20=1,$FI20>0),$FI20>=4)),1,)","v":0},{"$f":"IF(AND(FE20<>1,$FP20=1,SUM($FQ20:FS20)=0,OR($FF20=1,$FI20>=2)),1,)","v":0},{"$f":"IF(AND(FE20<>1,$FP20=1,SUM($FQ20:FT20)=0,$FI20>0),1,)","v":0},0,0,{"$f":"IF(AND(FE20<>1,$FP20=2,SUM($FW20:FW20)=0,$FF20=1,$FJ20>=0.1),1,)","v":0},{"$f":"IF(AND(FE20<>1,$FP20=2,SUM($FW20:FX20)=0,OR(AND($FF20=1,$FI20>0),$FJ20>=0.2)),1,)","v":0},{"$f":"IF(AND(FE20<>1,$FP20=2,SUM($FW20:FY20)=0,OR($FF20=1,$FJ20>=0.1)),1,)","v":0},{"$f":"IF(AND(FE20<>1,$FP20=2,SUM($FW20:FZ20)=0,$FI20>0),1,)","v":0},0,{"$f":"IF(AND(FE20<>1,$FP20=3,SUM($GB20:GB20)=0,AND($FF20=1,$FJ20>=0.05)),1,)","v":0},{"$f":"IF(AND(FE20<>1,$FP20=3,SUM($GB20:GC20)=0,OR(AND($FF20=1,$FI20>0),$FJ20>=0.1)),1,)","v":0},{"$f":"IF(AND(FE20<>1,$FP20=3,SUM($GB20:GD20)=0,OR($FF20=1,$FJ20>=0.05)),1,)","v":0},{"$f":"IF(AND(FE20<>1,$FP20=3,SUM($GB20:GE20)=0,$FI20>0),1,)","v":0},0,null,{"$f":"IF($I20=1,CH20*GI$5,0)","v":0},{"$f":"IF($I20=1,CI20*GJ$5,0)","v":0},{"$f":"IF($I20=1,CJ20*GK$5,0)","v":0},{"$f":"IF($I20=1,CK20*GL$5,0)","v":0},{"$f":"IF($I20=1,CL20*GM$5,0)","v":0},{"$f":"IF($I20=1,CM20*GN$5,0)","v":0},{"$f":"IF($I20=1,CN20*GO$5,0)","v":0},{"$f":"IF($I20=1,CO20*GP$5,0)","v":0},{"$f":"IF($I20=1,CP20*GQ$5,0)","v":0},{"$f":"IF($I20=1,CQ20*GR$5,0)","v":0},{"$f":"IF($I20=1,CR20*GS$5,0)","v":0},{"$f":"IF($I20=1,CS20*GT$5,0)","v":0},{"$f":"IF($I20=1,CT20*GU$5,0)","v":0},{"$f":"IF($I20=1,CU20*GV$5,0)","v":0},{"$f":"IF($I20=1,CV20*GW$5,0)","v":0},{"$f":"IF($I20=1,CW20*GX$5,0)","v":0},{"$f":"IF($I20=1,CX20*GY$5,0)","v":0},{"$f":"IF($I20=1,CY20*GZ$5,0)","v":0},{"$f":"IF($I20=1,CZ20*HA$5,0)","v":0},{"$f":"IF($I20=1,DA20*HB$5,0)","v":0},{"$f":"IF($I20=1,DB20*HC$5,0)","v":0},{"$f":"IF($I20=1,DC20*HD$5,0)","v":0},{"$f":"IF($I20=1,DD20*HE$5,0)","v":0},{"$f":"IF($I20=1,DE20*HF$5,0)","v":0},{"$f":"IF($I20=1,DF20*HG$5,0)","v":0},{"$f":"IF($I20=1,DG20*HH$5,0)","v":0},{"$f":"IF($I20=1,DH20*HI$5,0)","v":0},{"$f":"IF($I20=1,DI20*HJ$5,0)","v":0},{"$f":"IF($I20=1,DJ20*HK$5,0)","v":0},{"$f":"IF($I20=1,DK20*HL$5,0)","v":0},{"$f":"IF($I20=1,DL20*HM$5,0)","v":0},{"$f":"IF($I20=1,DM20*HN$5,0)","v":0},{"$f":"IF($I20=1,DN20*HO$5,0)","v":0},{"$f":"IF($I20=1,DO20*HP$5,0)","v":0},{"$f":"IF($I20=1,DP20*HQ$5,0)","v":0},{"$f":"IF($I20=1,DQ20*HR$5,0)","v":0},{"$f":"IF($I20=1,DR20*HS$5,0)","v":0},{"$f":"IF($I20=1,DS20*HT$5,0)","v":0},{"$f":"IF($I20=1,DT20*HU$5,0)","v":0},{"$f":"IF($I20=1,DU20*HV$5,0)","v":0},{"$f":"IF($I20=1,DV20*HW$5,0)","v":0},{"$f":"IF($I20=1,DW20*HX$5,0)","v":0},{"$f":"IF($I20=1,DX20*HY$5,0)","v":0},{"$f":"IF($I20=1,DY20*HZ$5,0)","v":0},{"$f":"IF($I20=1,DZ20*IA$5,0)","v":0},{"$f":"IF($I20=1,EA20*IB$5,0)","v":0},{"$f":"IF($I20=1,EB20*IC$5,0)","v":0},{"$f":"IF($I20=1,EC20*ID$5,0)","v":0},{"$f":"IF($I20=1,ED20*IE$5,0)","v":0},{"$f":"IF($I20=1,EE20*IF$5,0)","v":0},{"$f":"IF($I20=1,EF20*IG$5,0)","v":0},{"$f":"IF($I20=1,EG20*IH$5,0)","v":0},{"$f":"IF($I20=1,EH20*II$5,0)","v":0},{"$f":"IF($I20=1,EI20*IJ$5,0)","v":0},{"$f":"IF($I20=1,EJ20*IK$5,0)","v":0},{"$f":"IF($I20=1,EK20*IL$5,0)","v":0},{"$f":"IF($I20=1,EL20*IM$5,0)","v":0},{"$f":"IF($I20=1,EM20*IN$5,0)","v":0},{"$f":"IF($I20=1,EN20*IO$5,0)","v":0},{"$f":"IF($I20=1,EO20*IP$5,0)","v":0},{"$f":"IF($I20=1,EP20*IQ$5,0)","v":0},{"$f":"IF($I20=1,EQ20*IR$5,0)","v":0},{"$f":"IF($I20=1,ER20*IS$5,0)","v":0},{"$f":"IF($I20=1,ES20*IT$5,0)","v":0},{"$f":"IF($I20=1,ET20*IU$5,0)","v":0},{"$f":"IF($I20=1,EU20*IV$5,0)","v":0},{"$f":"IF($I20=1,EV20*IW$5,0)","v":0},{"$f":"IF($I20=1,EW20*IX$5,0)","v":0},{"$f":"IF($I20=1,EX20*IY$5,0)","v":0},{"$f":"IF($I20=1,EY20*IZ$5,0)","v":0},0,{"$f":"IF($I20=1,IF(FA20<>\"\",JB$5,0),0)","v":0},{"$f":"IF($I20=1,FB20*JC$5,0)","v":0},{"$f":"IF($I20=1,FC20*JD$5,0)","v":0},{"$f":"SUM(GI20:JD20)","v":0},{"$f":"IF(G20=1,SUMIF($C$13:$C$350,C20,$JE$13:$JE$350),0)","v":0},{"$f":"IF(G20=1,SUMIF($C$13:$C$350,C20,$I$13:$I$350),0)","v":0},{"$f":"IF(JG20>0,JF20/JG20,0)","v":0},0,"○","○","△","○","","","","","","","","","","","","○",2,10000000,10000000,5000000,5000000,5000000,5000000,"○",0,0,0,"○","○",null,5,4]
[{"$f":"D21*1000000+C21*10000+Q21*100+AH21","v":0},{"$f":"IF(L21<>\"\",IF(L21<>L20,B20+1,B20),0)","v":0},{"$f":"IF(N21<>\"\",IF(N21<>N20,C20+1,C20),0)","v":0},{"$f":"IF(M21<>\"\",IF(M21<>M20,D20+1,D20),0)","v":0},{"$f":"IF(R21<>\"\",IF(OR(R21<>R20,N21<>N20),E20+1,E20),0)","v":0},{"$f":"IF(BP21>0,E21,0)","v":0},{"$f":"IF(N21<>\"\",IF(N21<>N20,1,0),0)","v":0},{"$f":"IF(M21<>\"\",IF(M21<>M20,1,0),0)","v":0},{"$f":"IF(R21<>\"\",IF(R21<>R20,1,0),0)","v":0},{"$f":"IF(AND(I21=1,SUMIF($E$13:$E$350,E21,$F$13:$F$350)>0),1,0)","v":0},9,null,null,null,null,{"$f":"IF(O21<>\"\",VLOOKUP(O21,整理番号表!$Z$17:$AA$20,2,FALSE),)","v":0},{"$f":"IF(R21<>\"\",IF(N21<>N20,1,IF(R21<>R20,Q20+1,Q20)),)","v":0},null,null,null,null,null,{"$f":"IF(V21<>0,VLOOKUP(V21,整理番号表!$B$6:$L$13,2,FALSE),)","v":0},{"$f":"IF(V21<>0,IF(V21=4,2,1),)","v":0},{"$f":"IF(X21<>0,VLOOKUP(X21,整理番号表!$B$16:$C$18,2,FALSE),)","v":0},null,{"$f":"IF(Z21<>0,VLOOKUP(Z21,整理番号表!$B$22:$C$29,2,FALSE),)","v":0},null,null,{"$f":"IF(AC21<>0,VLOOKUP(AC21,整理番号表!$B$32:$G$60,2,FALSE),)","v":0},null,{"$f":"IF(AE21<>0,VLOOKUP(AE21,整理番号表!$P$5:$R$39,2,FALSE),)","v":0},null,0,null,null,{"$f":"IF(AJ21<>\"\",VLOOKUP(AJ21,整理番号表!$Z$6:$AA$14,2,FALSE),\"\")","v":""},0,null,null,null,null,null,{"$f":"IF(AQ21<>0,VLOOKUP(AQ21,整理番号表!$P$43:$Q$49,2,FALSE),)","v":0},null,null,null,null,{"$f":"IF(AL21=1,IF(KC21>0,MIN(ROUNDDOWN(KC21,-3),IF(AND(X21=1,AB21=\"法人\"),30000000,IF(AND(X21=1,AB21=\"法人以外\"),15000000,IF(X21=2,1000000,0)))),0),0)","v":0},{"$f":"IF(KF21>0,ROUNDDOWN(KF21,-3),0)","v":0},null,0,null,null,null,{"$f":"IF(I21=1,MIN(KH21,KJ21),0)","v":0},{"$f":"IF(AV21<>0,AX21/AV21,)","v":0},{"$f":"IF(AV21<>0,AY21/AV21,)","v":0},null,null,{"$f":"IF(AX21>0,IF(AU21=1,ROUNDDOWN(AV21*10/110,0),IF(AU21=2,\"該当なし\",\"含税額\")),0)","v":0},{"$f":"IF(AX21>0,IF(AU21<>1,\" \",IF(AU21=1,ROUNDDOWN(ROUNDDOWN((AX21/(AV21-BI21)),5)*BI21,0))),0)","v":0},null,{"$f":"IF(BK21<>0,VLOOKUP(BK21,整理番号表!$T$5:$U$16,2,FALSE),)","v":0},null,{"$f":"IF(BM21<>0,VLOOKUP(BM21,整理番号表!$T$22:$U$30,2,FALSE),)","v":0},null,0,"",null,null,null,null,null,"",0,null,null,null,null,null,null,null,null,null,0,0,0,0,0,0,0,0,0,0,0,0,0,0,0,0,0,0,0,0,0,0,0,0,0,0,0,0,null,null,null,null,null,0,0,0,0,0,0,null,0,null,null,null,null,null,null,null,0,null,null,null,null,null,null,null,null,null,null,null,null,null,null,null,null,null,null,null,null,null,null,null,null,null,null,0,0,null,null,0,0,0,{"$f":"IF(OR(AND(1<=$FK21,$FK21<=3),$FK21=6),VLOOKUP($FK21,整理番号表!$B$32:$G$60,2,FALSE),)","v":0},{"$f":"IF(OR($FK21=4,$FK21=7),VLOOKUP($FK21,整理番号表!$B$32:$G$60,2,FALSE),)","v":0},{"$f":"IF($FK21=5,VLOOKUP($FK21,整理番号表!$B$32:$G$60,2,FALSE),)","v":0},{"$f":"IF(AND(8<=$FK21,$FK21<=13),VLOOKUP($FK21,整理番号表!$B$32:$G$60,2,FALSE),)","v":0},0,0,{"$f":"IF(AND(FE21<>1,$FP21=1,SUM($FQ21:FQ21)=0,$FF21=1,$FI21>=2),1,)","v":0},{"$f":"IF(AND(FE21<>1,$FP21=1,SUM($FQ21:FR21)=0,OR(AND($FF21=1,$FI21>0),$FI21>=4)),1,)","v":0},{"$f":"IF(AND(FE21<>1,$FP21=1,SUM($FQ21:FS21)=0,OR($FF21=1,$FI21>=2)),1,)","v":0},{"$f":"IF(AND(FE21<>1,$FP21=1,SUM($FQ21:FT21)=0,$FI21>0),1,)","v":0},0,0,{"$f":"IF(AND(FE21<>1,$FP21=2,SUM($FW21:FW21)=0,$FF21=1,$FJ21>=0.1),1,)","v":0},{"$f":"IF(AND(FE21<>1,$FP21=2,SUM($FW21:FX21)=0,OR(AND($FF21=1,$FI21>0),$FJ21>=0.2)),1,)","v":0},{"$f":"IF(AND(FE21<>1,$FP21=2,SUM($FW21:FY21)=0,OR($FF21=1,$FJ21>=0.1)),1,)","v":0},{"$f":"IF(AND(FE21<>1,$FP21=2,SUM($FW21:FZ21)=0,$FI21>0),1,)","v":0},0,{"$f":"IF(AND(FE21<>1,$FP21=3,SUM($GB21:GB21)=0,AND($FF21=1,$FJ21>=0.05)),1,)","v":0},{"$f":"IF(AND(FE21<>1,$FP21=3,SUM($GB21:GC21)=0,OR(AND($FF21=1,$FI21>0),$FJ21>=0.1)),1,)","v":0},{"$f":"IF(AND(FE21<>1,$FP21=3,SUM($GB21:GD21)=0,OR($FF21=1,$FJ21>=0.05)),1,)","v":0},{"$f":"IF(AND(FE21<>1,$FP21=3,SUM($GB21:GE21)=0,$FI21>0),1,)","v":0},0,null,0,0,0,0,0,0,0,0,0,0,0,0,0,0,0,0,0,0,0,0,0,0,0,0,0,0,0,0,0,0,0,0,0,0,0,0,0,0,0,0,0,0,0,0,0,0,0,0,0,0,0,0,0,0,0,0,0,0,0,0,0,0,0,0,0,0,0,0,0,0,0,0,0,0,0,0,0,0,{"$f":"IF(X21=2,1,0)","v":0},{"$f":"IF(AI21<>\"\",IF(X21=2,\"認\",IF(AND(X21=1,AY21>0),\"○\",\"×\")),\"\")","v":""},{"$f":"IF(AI21<>\"\",IF(AV21>=500000,\"○\",\"×\"),\"\")","v":""},{"$f":"IF(AI21<>\"\",IF(AND(5<=BH21,BH21<=20),\"○\",IF(OR(AND(4<=BH21,BH21<=24),OR(AE21=30,AE21=31),AG21=1),\"△\",\"×\")),\"\")","v":""},{"$f":"IF(AI21<>\"\",IF(AT21>0,\"○\",\"×\"),\"\")","v":""},{"$f":"IF(I21=1,IF(BR21=0,\"△\",IF(OR(AND(X21=1,BW21>=0.1),AND(X21=2,BW21>0)),\"○\",\"×\")),\"\")","v":""},{"$f":"IF(SUM(DO21:DT21)>0,IF(BY21=1,\"○\",\"×\"),\"\")","v":""},{"$f":"IF(BY21=1,IF(AND(FI21>0,FJ21>0),\"○\",\"×\"),\"\")","v":""},{"$f":"IF(SUM(DX21)>0,IF(BZ21=1,\"○\",\"×\"),\"\")","v":""},{"$f":"IF(SUM(EA21,EC21)>0,IF(CA21=1,\"○\",\"×\"),\"\")","v":""},{"$f":"IF(SUM(EE21)>0,IF(CB21=1,\"○\",\"×\"),\"\")","v":""},{"$f":"IF(SUM(EH21)>0,IF(CC21=1,\"○\",\"×\"),\"\")","v":""},{"$f":"IF(SUM(EK21)>0,IF(CD21=1,\"○\",\"×\"),\"\")","v":""},{"$f":"IF(SUM(EM21)>0,IF(CE21=1,\"○\",\"×\"),\"\")","v":""},{"$f":"IF(SUM(EN21:EP21)>0,IF(CF21=1,\"○\",\"×\"),\"\")","v":""},"",{"$f":"IF(COUNTIF(JJ21:JX21,\"×\")>=1,\"×\",\"○\")","v":"○"},{"$f":"AU21","v":0},{"$f":"AV21","v":0},{"$f":"IF(JZ21=1,ROUNDUP(KA21*100/110,0),KA21)","v":0},{"$f":"ROUNDDOWN(KB21*1/2,0)","v":0},{"$f":"IF(X21=2,\"認める者\",AY21)","v":0},{"$f":"AV21-SUM(AY21,BA21:BC21)","v":0},{"$f":"IF(X21=1,MIN(KC21:KE21),IF(X21=2,MIN(KC21,KE21),0))","v":0},{"$f":"IF(AX21<=KF21,\"○\",\"×\")","v":"○"},{"$f":"IF(I21=1,IF(X21=2,1000000,IF(AND(X21=1,AB21=\"法人\"),30000000,IF(AND(X21=1,AB21=\"法人以外\"),15000000,0))),0)","v":0},{"$f":"IF(I21=1,SUMIF($E$13:$E$350,E21,$AW$13:$AW$350),0)","v":0},{"$f":"IF(I21=1,SUMIF($E$13:$E$350,E21,$AX$13:$AX$350),0)","v":0},{"$f":"IF(OR(AND(KJ21>0,KH21<KJ21),AND(KI21>0,KH21<KI21)),\"×\",\"○\")","v":"○"},{"$f":"IF(OR(JY21=\"×\",KG21=\"×\",KK21=\"×\"),\"×\",\"○\")","v":"○"},null,{"$f":"C21","v":0},{"$f":"D21","v":0}]
[0,0,0,0,0,0,0,0,0,0,10,null,null,null,null,{"$f":"IF(O22<>\"\",VLOOKUP(O22,整理番号表!$Z$17:$AA$20,2,FALSE),)","v":0},0,null,null,null,null,null,{"$f":"IF(V22<>0,VLOOKUP(V22,整理番号表!$B$6:$L$13,2,FALSE),)","v":0},0,{"$f":"IF(X22<>0,VLOOKUP(X22,整理番号表!$B$16:$C$18,2,FALSE),)","v":0},null,{"$f":"IF(Z22<>0,VLOOKUP(Z22,整理番号表!$B$22:$C$29,2,FALSE),)","v":0},null,null,{"$f":"IF(AC22<>0,VLOOKUP(AC22,整理番号表!$B$32:$G$60,2,FALSE),)","v":0},null,{"$f":"IF(AE22<>0,VLOOKUP(AE22,整理番号表!$P$5:$R$39,2,FALSE),)","v":0},null,0,null,null,{"$f":"IF(AJ22<>\"\",VLOOKUP(AJ22,整理番号表!$Z$6:$AA$14,2,FALSE),\"\")","v":""},0,null,null,null,null,null,{"$f":"IF(AQ22<>0,VLOOKUP(AQ22,整理番号表!$P$43:$Q$49,2,FALSE),)","v":0},null,null,null,null,0,0,null,0,null,null,null,0,0,0,null,null,0,0,null,{"$f":"IF(BK22<>0,VLOOKUP(BK22,整理番号表!$T$5:$U$16,2,FALSE),)","v":0},null,{"$f":"IF(BM22<>0,VLOOKUP(BM22,整理番号表!$T$22:$U$30,2,FALSE),)","v":0},null,0,"",null,null,null,null,null,"",0,null,null,null,null,null,null,null,null,null,0,0,0,0,0,0,0,0,0,0,0,0,0,0,0,0,0,0,0,0,0,0,0,0,0,0,0,0,null,null,null,null,null,0,0,0,0,0,0,null,0,null,null,null,null,null,null,null,0,null,null,null,null,null,null,null,null,null,null,null,null,null,null,null,null,null,null,null,null,null,null,null,null,null,null,0,0,null,null,0,0,0,{"$f":"IF(OR(AND(1<=$FK22,$FK22<=3),$FK22=6),VLOOKUP($FK22,整理番号表!$B$32:$G$60,2,FALSE),)","v":0},{"$f":"IF(OR($FK22=4,$FK22=7),VLOOKUP($FK22,整理番号表!$B$32:$G$60,2,FALSE),)","v":0},{"$f":"IF($FK22=5,VLOOKUP($FK22,整理番号表!$B$32:$G$60,2,FALSE),)","v":0},{"$f":"IF(AND(8<=$FK22,$FK22<=13),VLOOKUP($FK22,整理番号表!$B$32:$G$60,2,FALSE),)","v":0},0,0,{"$f":"IF(AND(FE22<>1,$FP22=1,SUM($FQ22:FQ22)=0,$FF22=1,$FI22>=2),1,)","v":0},{"$f":"IF(AND(FE22<>1,$FP22=1,SUM($FQ22:FR22)=0,OR(AND($FF22=1,$FI22>0),$FI22>=4)),1,)","v":0},{"$f":"IF(AND(FE22<>1,$FP22=1,SUM($FQ22:FS22)=0,OR($FF22=1,$FI22>=2)),1,)","v":0},{"$f":"IF(AND(FE22<>1,$FP22=1,SUM($FQ22:FT22)=0,$FI22>0),1,)","v":0},0,0,{"$f":"IF(AND(FE22<>1,$FP22=2,SUM($FW22:FW22)=0,$FF22=1,$FJ22>=0.1),1,)","v":0},{"$f":"IF(AND(FE22<>1,$FP22=2,SUM($FW22:FX22)=0,OR(AND($FF22=1,$FI22>0),$FJ22>=0.2)),1,)","v":0},{"$f":"IF(AND(FE22<>1,$FP22=2,SUM($FW22:FY22)=0,OR($FF22=1,$FJ22>=0.1)),1,)","v":0},{"$f":"IF(AND(FE22<>1,$FP22=2,SUM($FW22:FZ22)=0,$FI22>0),1,)","v":0},0,{"$f":"IF(AND(FE22<>1,$FP22=3,SUM($GB22:GB22)=0,AND($FF22=1,$FJ22>=0.05)),1,)","v":0},{"$f":"IF(AND(FE22<>1,$FP22=3,SUM($GB22:GC22)=0,OR(AND($FF22=1,$FI22>0),$FJ22>=0.1)),1,)","v":0},{"$f":"IF(AND(FE22<>1,$FP22=3,SUM($GB22:GD22)=0,OR($FF22=1,$FJ22>=0.05)),1,)","v":0},{"$f":"IF(AND(FE22<>1,$FP22=3,SUM($GB22:GE22)=0,$FI22>0),1,)","v":0},0,null,0,0,0,0,0,0,0,0,0,0,0,0,0,0,0,0,0,0,0,0,0,0,0,0,0,0,0,0,0,0,0,0,0,0,0,0,0,0,0,0,0,0,0,0,0,0,0,0,0,0,0,0,0,0,0,0,0,0,0,0,0,0,0,0,0,0,0,0,0,0,0,0,0,0,0,0,0,0,0,"","","","","","","","","","","","","","","","○",0,0,0,0,0,0,0,"○",0,0,0,"○","○",null,0,0]
[0,0,0,0,0,0,0,0,0,0,11,null,null,null,null,{"$f":"IF(O23<>\"\",VLOOKUP(O23,整理番号表!$Z$17:$AA$20,2,FALSE),)","v":0},0,null,null,null,null,null,{"$f":"IF(V23<>0,VLOOKUP(V23,整理番号表!$B$6:$L$13,2,FALSE),)","v":0},0,{"$f":"IF(X23<>0,VLOOKUP(X23,整理番号表!$B$16:$C$18,2,FALSE),)","v":0},null,{"$f":"IF(Z23<>0,VLOOKUP(Z23,整理番号表!$B$22:$C$29,2,FALSE),)","v":0},null,null,{"$f":"IF(AC23<>0,VLOOKUP(AC23,整理番号表!$B$32:$G$60,2,FALSE),)","v":0},null,{"$f":"IF(AE23<>0,VLOOKUP(AE23,整理番号表!$P$5:$R$39,2,FALSE),)","v":0},null,0,null,null,{"$f":"IF(AJ23<>\"\",VLOOKUP(AJ23,整理番号表!$Z$6:$AA$14,2,FALSE),\"\")","v":""},0,null,null,null,null,null,{"$f":"IF(AQ23<>0,VLOOKUP(AQ23,整理番号表!$P$43:$Q$49,2,FALSE),)","v":0},null,null,null,null,0,0,null,0,null,null,null,0,0,0,null,null,0,0,null,{"$f":"IF(BK23<>0,VLOOKUP(BK23,整理番号表!$T$5:$U$16,2,FALSE),)","v":0},null,{"$f":"IF(BM23<>0,VLOOKUP(BM23,整理番号表!$T$22:$U$30,2,FALSE),)","v":0},null,0,"",null,null,null,null,null,"",0,null,null,null,null,null,null,null,null,null,0,0,0,0,0,0,0,0,0,0,0,0,0,0,0,0,0,0,0,0,0,0,0,0,0,0,0,0,null,null,null,null,null,0,0,0,0,0,0,null,0,null,null,null,null,null,null,null,0,null,null,null,null,null,null,null,null,null,null,null,null,null,null,null,null,null,null,null,null,null,null,null,null,null,null,0,0,null,null,0,0,0,{"$f":"IF(OR(AND(1<=$FK23,$FK23<=3),$FK23=6),VLOOKUP($FK23,整理番号表!$B$32:$G$60,2,FALSE),)","v":0},{"$f":"IF(OR($FK23=4,$FK23=7),VLOOKUP($FK23,整理番号表!$B$32:$G$60,2,FALSE),)","v":0},{"$f":"IF($FK23=5,VLOOKUP($FK23,整理番号表!$B$32:$G$60,2,FALSE),)","v":0},{"$f":"IF(AND(8<=$FK23,$FK23<=13),VLOOKUP($FK23,整理番号表!$B$32:$G$60,2,FALSE),)","v":0},0,0,{"$f":"IF(AND(FE23<>1,$FP23=1,SUM($FQ23:FQ23)=0,$FF23=1,$FI23>=2),1,)","v":0},{"$f":"IF(AND(FE23<>1,$FP23=1,SUM($FQ23:FR23)=0,OR(AND($FF23=1,$FI23>0),$FI23>=4)),1,)","v":0},{"$f":"IF(AND(FE23<>1,$FP23=1,SUM($FQ23:FS23)=0,OR($FF23=1,$FI23>=2)),1,)","v":0},{"$f":"IF(AND(FE23<>1,$FP23=1,SUM($FQ23:FT23)=0,$FI23>0),1,)","v":0},0,0,{"$f":"IF(AND(FE23<>1,$FP23=2,SUM($FW23:FW23)=0,$FF23=1,$FJ23>=0.1),1,)","v":0},{"$f":"IF(AND(FE23<>1,$FP23=2,SUM($FW23:FX23)=0,OR(AND($FF23=1,$FI23>0),$FJ23>=0.2)),1,)","v":0},{"$f":"IF(AND(FE23<>1,$FP23=2,SUM($FW23:FY23)=0,OR($FF23=1,$FJ23>=0.1)),1,)","v":0},{"$f":"IF(AND(FE23<>1,$FP23=2,SUM($FW23:FZ23)=0,$FI23>0),1,)","v":0},0,{"$f":"IF(AND(FE23<>1,$FP23=3,SUM($GB23:GB23)=0,AND($FF23=1,$FJ23>=0.05)),1,)","v":0},{"$f":"IF(AND(FE23<>1,$FP23=3,SUM($GB23:GC23)=0,OR(AND($FF23=1,$FI23>0),$FJ23>=0.1)),1,)","v":0},{"$f":"IF(AND(FE23<>1,$FP23=3,SUM($GB23:GD23)=0,OR($FF23=1,$FJ23>=0.05)),1,)","v":0},{"$f":"IF(AND(FE23<>1,$FP23=3,SUM($GB23:GE23)=0,$FI23>0),1,)","v":0},0,null,0,0,0,0,0,0,0,0,0,0,0,0,0,0,0,0,0,0,0,0,0,0,0,0,0,0,0,0,0,0,0,0,0,0,0,0,0,0,0,0,0,0,0,0,0,0,0,0,0,0,0,0,0,0,0,0,0,0,0,0,0,0,0,0,0,0,0,0,0,0,0,0,0,0,0,0,0,0,0,"","","","","","","","","","","","","","","","○",0,0,0,0,0,0,0,"○",0,0,0,"○","○",null,0,0]
[0,0,0,0,0,0,0,0,0,0,12,null,null,null,null,{"$f":"IF(O24<>\"\",VLOOKUP(O24,整理番号表!$Z$17:$AA$20,2,FALSE),)","v":0},0,null,null,null,null,null,{"$f":"IF(V24<>0,VLOOKUP(V24,整理番号表!$B$6:$L$13,2,FALSE),)","v":0},0,{"$f":"IF(X24<>0,VLOOKUP(X24,整理番号表!$B$16:$C$18,2,FALSE),)","v":0},null,{"$f":"IF(Z24<>0,VLOOKUP(Z24,整理番号表!$B$22:$C$29,2,FALSE),)","v":0},null,null,{"$f":"IF(AC24<>0,VLOOKUP(AC24,整理番号表!$B$32:$G$60,2,FALSE),)","v":0},null,{"$f":"IF(AE24<>0,VLOOKUP(AE24,整理番号表!$P$5:$R$39,2,FALSE),)","v":0},null,0,null,null,{"$f":"IF(AJ24<>\"\",VLOOKUP(AJ24,整理番号表!$Z$6:$AA$14,2,FALSE),\"\")","v":""},0,null,null,null,null,null,{"$f":"IF(AQ24<>0,VLOOKUP(AQ24,整理番号表!$P$43:$Q$49,2,FALSE),)","v":0},null,null,null,null,0,0,null,0,null,null,null,0,0,0,null,null,0,0,null,{"$f":"IF(BK24<>0,VLOOKUP(BK24,整理番号表!$T$5:$U$16,2,FALSE),)","v":0},null,{"$f":"IF(BM24<>0,VLOOKUP(BM24,整理番号表!$T$22:$U$30,2,FALSE),)","v":0},null,0,"",null,null,null,null,null,"",0,null,null,null,null,null,null,null,null,null,0,0,0,0,0,0,0,0,0,0,0,0,0,0,0,0,0,0,0,0,0,0,0,0,0,0,0,0,null,null,null,null,null,0,0,0,0,0,0,null,0,null,null,null,null,null,null,null,0,null,null,null,null,null,null,null,null,null,null,null,null,null,null,null,null,null,null,null,null,null,null,null,null,null,null,0,0,null,null,0,0,0,{"$f":"IF(OR(AND(1<=$FK24,$FK24<=3),$FK24=6),VLOOKUP($FK24,整理番号表!$B$32:$G$60,2,FALSE),)","v":0},{"$f":"IF(OR($FK24=4,$FK24=7),VLOOKUP($FK24,整理番号表!$B$32:$G$60,2,FALSE),)","v":0},{"$f":"IF($FK24=5,VLOOKUP($FK24,整理番号表!$B$32:$G$60,2,FALSE),)","v":0},{"$f":"IF(AND(8<=$FK24,$FK24<=13),VLOOKUP($FK24,整理番号表!$B$32:$G$60,2,FALSE),)","v":0},0,0,{"$f":"IF(AND(FE24<>1,$FP24=1,SUM($FQ24:FQ24)=0,$FF24=1,$FI24>=2),1,)","v":0},{"$f":"IF(AND(FE24<>1,$FP24=1,SUM($FQ24:FR24)=0,OR(AND($FF24=1,$FI24>0),$FI24>=4)),1,)","v":0},{"$f":"IF(AND(FE24<>1,$FP24=1,SUM($FQ24:FS24)=0,OR($FF24=1,$FI24>=2)),1,)","v":0},{"$f":"IF(AND(FE24<>1,$FP24=1,SUM($FQ24:FT24)=0,$FI24>0),1,)","v":0},0,0,{"$f":"IF(AND(FE24<>1,$FP24=2,SUM($FW24:FW24)=0,$FF24=1,$FJ24>=0.1),1,)","v":0},{"$f":"IF(AND(FE24<>1,$FP24=2,SUM($FW24:FX24)=0,OR(AND($FF24=1,$FI24>0),$FJ24>=0.2)),1,)","v":0},{"$f":"IF(AND(FE24<>1,$FP24=2,SUM($FW24:FY24)=0,OR($FF24=1,$FJ24>=0.1)),1,)","v":0},{"$f":"IF(AND(FE24<>1,$FP24=2,SUM($FW24:FZ24)=0,$FI24>0),1,)","v":0},0,{"$f":"IF(AND(FE24<>1,$FP24=3,SUM($GB24:GB24)=0,AND($FF24=1,$FJ24>=0.05)),1,)","v":0},{"$f":"IF(AND(FE24<>1,$FP24=3,SUM($GB24:GC24)=0,OR(AND($FF24=1,$FI24>0),$FJ24>=0.1)),1,)","v":0},{"$f":"IF(AND(FE24<>1,$FP24=3,SUM($GB24:GD24)=0,OR($FF24=1,$FJ24>=0.05)),1,)","v":0},{"$f":"IF(AND(FE24<>1,$FP24=3,SUM($GB24:GE24)=0,$FI24>0),1,)","v":0},0,null,0,0,0,0,0,0,0,0,0,0,0,0,0,0,0,0,0,0,0,0,0,0,0,0,0,0,0,0,0,0,0,0,0,0,0,0,0,0,0,0,0,0,0,0,0,0,0,0,0,0,0,0,0,0,0,0,0,0,0,0,0,0,0,0,0,0,0,0,0,0,0,0,0,0,0,0,0,0,0,"","","","","","","","","","","","","","","","○",0,0,0,0,0,0,0,"○",0,0,0,"○","○",null,0,0]
[0,0,0,0,0,0,0,0,0,0,13,null,null,null,null,{"$f":"IF(O25<>\"\",VLOOKUP(O25,整理番号表!$Z$17:$AA$20,2,FALSE),)","v":0},0,null,null,null,null,null,{"$f":"IF(V25<>0,VLOOKUP(V25,整理番号表!$B$6:$L$13,2,FALSE),)","v":0},0,{"$f":"IF(X25<>0,VLOOKUP(X25,整理番号表!$B$16:$C$18,2,FALSE),)","v":0},null,{"$f":"IF(Z25<>0,VLOOKUP(Z25,整理番号表!$B$22:$C$29,2,FALSE),)","v":0},null,null,{"$f":"IF(AC25<>0,VLOOKUP(AC25,整理番号表!$B$32:$G$60,2,FALSE),)","v":0},null,{"$f":"IF(AE25<>0,VLOOKUP(AE25,整理番号表!$P$5:$R$39,2,FALSE),)","v":0},null,0,null,null,{"$f":"IF(AJ25<>\"\",VLOOKUP(AJ25,整理番号表!$Z$6:$AA$14,2,FALSE),\"\")","v":""},0,null,null,null,null,null,{"$f":"IF(AQ25<>0,VLOOKUP(AQ25,整理番号表!$P$43:$Q$49,2,FALSE),)","v":0},null,null,null,null,0,0,null,0,null,null,null,0,0,0,null,null,0,0,null,{"$f":"IF(BK25<>0,VLOOKUP(BK25,整理番号表!$T$5:$U$16,2,FALSE),)","v":0},null,{"$f":"IF(BM25<>0,VLOOKUP(BM25,整理番号表!$T$22:$U$30,2,FALSE),)","v":0},null,0,"",null,null,null,null,null,"",0,null,null,null,null,null,null,null,null,null,0,0,0,0,0,0,0,0,0,0,0,0,0,0,0,0,0,0,0,0,0,0,0,0,0,0,0,0,null,null,null,null,null,0,0,0,0,0,0,null,0,null,null,null,null,null,null,null,0,null,null,null,null,null,null,null,null,null,null,null,null,null,null,null,null,null,null,null,null,null,null,null,null,null,null,0,0,null,null,0,0,0,{"$f":"IF(OR(AND(1<=$FK25,$FK25<=3),$FK25=6),VLOOKUP($FK25,整理番号表!$B$32:$G$60,2,FALSE),)","v":0},{"$f":"IF(OR($FK25=4,$FK25=7),VLOOKUP($FK25,整理番号表!$B$32:$G$60,2,FALSE),)","v":0},{"$f":"IF($FK25=5,VLOOKUP($FK25,整理番号表!$B$32:$G$60,2,FALSE),)","v":0},{"$f":"IF(AND(8<=$FK25,$FK25<=13),VLOOKUP($FK25,整理番号表!$B$32:$G$60,2,FALSE),)","v":0},0,0,{"$f":"IF(AND(FE25<>1,$FP25=1,SUM($FQ25:FQ25)=0,$FF25=1,$FI25>=2),1,)","v":0},{"$f":"IF(AND(FE25<>1,$FP25=1,SUM($FQ25:FR25)=0,OR(AND($FF25=1,$FI25>0),$FI25>=4)),1,)","v":0},{"$f":"IF(AND(FE25<>1,$FP25=1,SUM($FQ25:FS25)=0,OR($FF25=1,$FI25>=2)),1,)","v":0},{"$f":"IF(AND(FE25<>1,$FP25=1,SUM($FQ25:FT25)=0,$FI25>0),1,)","v":0},0,0,{"$f":"IF(AND(FE25<>1,$FP25=2,SUM($FW25:FW25)=0,$FF25=1,$FJ25>=0.1),1,)","v":0},{"$f":"IF(AND(FE25<>1,$FP25=2,SUM($FW25:FX25)=0,OR(AND($FF25=1,$FI25>0),$FJ25>=0.2)),1,)","v":0},{"$f":"IF(AND(FE25<>1,$FP25=2,SUM($FW25:FY25)=0,OR($FF25=1,$FJ25>=0.1)),1,)","v":0},{"$f":"IF(AND(FE25<>1,$FP25=2,SUM($FW25:FZ25)=0,$FI25>0),1,)","v":0},0,{"$f":"IF(AND(FE25<>1,$FP25=3,SUM($GB25:GB25)=0,AND($FF25=1,$FJ25>=0.05)),1,)","v":0},{"$f":"IF(AND(FE25<>1,$FP25=3,SUM($GB25:GC25)=0,OR(AND($FF25=1,$FI25>0),$FJ25>=0.1)),1,)","v":0},{"$f":"IF(AND(FE25<>1,$FP25=3,SUM($GB25:GD25)=0,OR($FF25=1,$FJ25>=0.05)),1,)","v":0},{"$f":"IF(AND(FE25<>1,$FP25=3,SUM($GB25:GE25)=0,$FI25>0),1,)","v":0},0,null,0,0,0,0,0,0,0,0,0,0,0,0,0,0,0,0,0,0,0,0,0,0,0,0,0,0,0,0,0,0,0,0,0,0,0,0,0,0,0,0,0,0,0,0,0,0,0,0,0,0,0,0,0,0,0,0,0,0,0,0,0,0,0,0,0,0,0,0,0,0,0,0,0,0,0,0,0,0,0,"","","","","","","","","","","","","","","","○",0,0,0,0,0,0,0,"○",0,0,0,"○","○",null,0,0]
[0,0,0,0,0,0,0,0,0,0,14,null,null,null,null,{"$f":"IF(O26<>\"\",VLOOKUP(O26,整理番号表!$Z$17:$AA$20,2,FALSE),)","v":0},0,null,null,null,null,null,{"$f":"IF(V26<>0,VLOOKUP(V26,整理番号表!$B$6:$L$13,2,FALSE),)","v":0},0,{"$f":"IF(X26<>0,VLOOKUP(X26,整理番号表!$B$16:$C$18,2,FALSE),)","v":0},null,{"$f":"IF(Z26<>0,VLOOKUP(Z26,整理番号表!$B$22:$C$29,2,FALSE),)","v":0},null,null,{"$f":"IF(AC26<>0,VLOOKUP(AC26,整理番号表!$B$32:$G$60,2,FALSE),)","v":0},null,{"$f":"IF(AE26<>0,VLOOKUP(AE26,整理番号表!$P$5:$R$39,2,FALSE),)","v":0},null,0,null,null,{"$f":"IF(AJ26<>\"\",VLOOKUP(AJ26,整理番号表!$Z$6:$AA$14,2,FALSE),\"\")","v":""},0,null,null,null,null,null,{"$f":"IF(AQ26<>0,VLOOKUP(AQ26,整理番号表!$P$43:$Q$49,2,FALSE),)","v":0},null,null,null,null,0,0,null,0,null,null,null,0,0,0,null,null,0,0,null,{"$f":"IF(BK26<>0,VLOOKUP(BK26,整理番号表!$T$5:$U$16,2,FALSE),)","v":0},null,{"$f":"IF(BM26<>0,VLOOKUP(BM26,整理番号表!$T$22:$U$30,2,FALSE),)","v":0},null,0,"",null,null,null,null,null,"",0,null,null,null,null,null,null,null,null,null,0,0,0,0,0,0,0,0,0,0,0,0,0,0,0,0,0,0,0,0,0,0,0,0,0,0,0,0,null,null,null,null,null,0,0,0,0,0,0,null,0,null,null,null,null,null,null,null,0,null,null,null,null,null,null,null,null,null,null,null,null,null,null,null,null,null,null,null,null,null,null,null,null,null,null,0,0,null,null,0,0,0,{"$f":"IF(OR(AND(1<=$FK26,$FK26<=3),$FK26=6),VLOOKUP($FK26,整理番号表!$B$32:$G$60,2,FALSE),)","v":0},{"$f":"IF(OR($FK26=4,$FK26=7),VLOOKUP($FK26,整理番号表!$B$32:$G$60,2,FALSE),)","v":0},{"$f":"IF($FK26=5,VLOOKUP($FK26,整理番号表!$B$32:$G$60,2,FALSE),)","v":0},{"$f":"IF(AND(8<=$FK26,$FK26<=13),VLOOKUP($FK26,整理番号表!$B$32:$G$60,2,FALSE),)","v":0},0,0,{"$f":"IF(AND(FE26<>1,$FP26=1,SUM($FQ26:FQ26)=0,$FF26=1,$FI26>=2),1,)","v":0},{"$f":"IF(AND(FE26<>1,$FP26=1,SUM($FQ26:FR26)=0,OR(AND($FF26=1,$FI26>0),$FI26>=4)),1,)","v":0},{"$f":"IF(AND(FE26<>1,$FP26=1,SUM($FQ26:FS26)=0,OR($FF26=1,$FI26>=2)),1,)","v":0},{"$f":"IF(AND(FE26<>1,$FP26=1,SUM($FQ26:FT26)=0,$FI26>0),1,)","v":0},0,0,{"$f":"IF(AND(FE26<>1,$FP26=2,SUM($FW26:FW26)=0,$FF26=1,$FJ26>=0.1),1,)","v":0},{"$f":"IF(AND(FE26<>1,$FP26=2,SUM($FW26:FX26)=0,OR(AND($FF26=1,$FI26>0),$FJ26>=0.2)),1,)","v":0},{"$f":"IF(AND(FE26<>1,$FP26=2,SUM($FW26:FY26)=0,OR($FF26=1,$FJ26>=0.1)),1,)","v":0},{"$f":"IF(AND(FE26<>1,$FP26=2,SUM($FW26:FZ26)=0,$FI26>0),1,)","v":0},0,{"$f":"IF(AND(FE26<>1,$FP26=3,SUM($GB26:GB26)=0,AND($FF26=1,$FJ26>=0.05)),1,)","v":0},{"$f":"IF(AND(FE26<>1,$FP26=3,SUM($GB26:GC26)=0,OR(AND($FF26=1,$FI26>0),$FJ26>=0.1)),1,)","v":0},{"$f":"IF(AND(FE26<>1,$FP26=3,SUM($GB26:GD26)=0,OR($FF26=1,$FJ26>=0.05)),1,)","v":0},{"$f":"IF(AND(FE26<>1,$FP26=3,SUM($GB26:GE26)=0,$FI26>0),1,)","v":0},0,null,0,0,0,0,0,0,0,0,0,0,0,0,0,0,0,0,0,0,0,0,0,0,0,0,0,0,0,0,0,0,0,0,0,0,0,0,0,0,0,0,0,0,0,0,0,0,0,0,0,0,0,0,0,0,0,0,0,0,0,0,0,0,0,0,0,0,0,0,0,0,0,0,0,0,0,0,0,0,0,"","","","","","","","","","","","","","","","○",0,0,0,0,0,0,0,"○",0,0,0,"○","○",null,0,0]
[0,0,0,0,0,0,0,0,0,0,15,null,null,null,null,{"$f":"IF(O27<>\"\",VLOOKUP(O27,整理番号表!$Z$17:$AA$20,2,FALSE),)","v":0},0,null,null,null,null,null,{"$f":"IF(V27<>0,VLOOKUP(V27,整理番号表!$B$6:$L$13,2,FALSE),)","v":0},0,{"$f":"IF(X27<>0,VLOOKUP(X27,整理番号表!$B$16:$C$18,2,FALSE),)","v":0},null,{"$f":"IF(Z27<>0,VLOOKUP(Z27,整理番号表!$B$22:$C$29,2,FALSE),)","v":0},null,null,{"$f":"IF(AC27<>0,VLOOKUP(AC27,整理番号表!$B$32:$G$60,2,FALSE),)","v":0},null,{"$f":"IF(AE27<>0,VLOOKUP(AE27,整理番号表!$P$5:$R$39,2,FALSE),)","v":0},null,0,null,null,{"$f":"IF(AJ27<>\"\",VLOOKUP(AJ27,整理番号表!$Z$6:$AA$14,2,FALSE),\"\")","v":""},0,null,null,null,null,null,{"$f":"IF(AQ27<>0,VLOOKUP(AQ27,整理番号表!$P$43:$Q$49,2,FALSE),)","v":0},null,null,null,null,0,0,null,0,null,null,null,0,0,0,null,null,0,0,null,{"$f":"IF(BK27<>0,VLOOKUP(BK27,整理番号表!$T$5:$U$16,2,FALSE),)","v":0},null,{"$f":"IF(BM27<>0,VLOOKUP(BM27,整理番号表!$T$22:$U$30,2,FALSE),)","v":0},null,0,"",null,null,null,null,null,"",0,null,null,null,null,null,null,null,null,null,0,0,0,0,0,0,0,0,0,0,0,0,0,0,0,0,0,0,0,0,0,0,0,0,0,0,0,0,null,null,null,null,null,0,0,0,0,0,0,null,0,null,null,null,null,null,null,null,0,null,null,null,null,null,null,null,null,null,null,null,null,null,null,null,null,null,null,null,null,null,null,null,null,null,null,0,0,null,null,0,0,0,{"$f":"IF(OR(AND(1<=$FK27,$FK27<=3),$FK27=6),VLOOKUP($FK27,整理番号表!$B$32:$G$60,2,FALSE),)","v":0},{"$f":"IF(OR($FK27=4,$FK27=7),VLOOKUP($FK27,整理番号表!$B$32:$G$60,2,FALSE),)","v":0},{"$f":"IF($FK27=5,VLOOKUP($FK27,整理番号表!$B$32:$G$60,2,FALSE),)","v":0},{"$f":"IF(AND(8<=$FK27,$FK27<=13),VLOOKUP($FK27,整理番号表!$B$32:$G$60,2,FALSE),)","v":0},0,0,{"$f":"IF(AND(FE27<>1,$FP27=1,SUM($FQ27:FQ27)=0,$FF27=1,$FI27>=2),1,)","v":0},{"$f":"IF(AND(FE27<>1,$FP27=1,SUM($FQ27:FR27)=0,OR(AND($FF27=1,$FI27>0),$FI27>=4)),1,)","v":0},{"$f":"IF(AND(FE27<>1,$FP27=1,SUM($FQ27:FS27)=0,OR($FF27=1,$FI27>=2)),1,)","v":0},{"$f":"IF(AND(FE27<>1,$FP27=1,SUM($FQ27:FT27)=0,$FI27>0),1,)","v":0},0,0,{"$f":"IF(AND(FE27<>1,$FP27=2,SUM($FW27:FW27)=0,$FF27=1,$FJ27>=0.1),1,)","v":0},{"$f":"IF(AND(FE27<>1,$FP27=2,SUM($FW27:FX27)=0,OR(AND($FF27=1,$FI27>0),$FJ27>=0.2)),1,)","v":0},{"$f":"IF(AND(FE27<>1,$FP27=2,SUM($FW27:FY27)=0,OR($FF27=1,$FJ27>=0.1)),1,)","v":0},{"$f":"IF(AND(FE27<>1,$FP27=2,SUM($FW27:FZ27)=0,$FI27>0),1,)","v":0},0,{"$f":"IF(AND(FE27<>1,$FP27=3,SUM($GB27:GB27)=0,AND($FF27=1,$FJ27>=0.05)),1,)","v":0},{"$f":"IF(AND(FE27<>1,$FP27=3,SUM($GB27:GC27)=0,OR(AND($FF27=1,$FI27>0),$FJ27>=0.1)),1,)","v":0},{"$f":"IF(AND(FE27<>1,$FP27=3,SUM($GB27:GD27)=0,OR($FF27=1,$FJ27>=0.05)),1,)","v":0},{"$f":"IF(AND(FE27<>1,$FP27=3,SUM($GB27:GE27)=0,$FI27>0),1,)","v":0},0,null,0,0,0,0,0,0,0,0,0,0,0,0,0,0,0,0,0,0,0,0,0,0,0,0,0,0,0,0,0,0,0,0,0,0,0,0,0,0,0,0,0,0,0,0,0,0,0,0,0,0,0,0,0,0,0,0,0,0,0,0,0,0,0,0,0,0,0,0,0,0,0,0,0,0,0,0,0,0,0,"","","","","","","","","","","","","","","","○",0,0,0,0,0,0,0,"○",0,0,0,"○","○",null,0,0]
[0,0,0,0,0,0,0,0,0,0,16,null,null,null,null,{"$f":"IF(O28<>\"\",VLOOKUP(O28,整理番号表!$Z$17:$AA$20,2,FALSE),)","v":0},0,null,null,null,null,null,{"$f":"IF(V28<>0,VLOOKUP(V28,整理番号表!$B$6:$L$13,2,FALSE),)","v":0},0,{"$f":"IF(X28<>0,VLOOKUP(X28,整理番号表!$B$16:$C$18,2,FALSE),)","v":0},null,{"$f":"IF(Z28<>0,VLOOKUP(Z28,整理番号表!$B$22:$C$29,2,FALSE),)","v":0},null,null,{"$f":"IF(AC28<>0,VLOOKUP(AC28,整理番号表!$B$32:$G$60,2,FALSE),)","v":0},null,{"$f":"IF(AE28<>0,VLOOKUP(AE28,整理番号表!$P$5:$R$39,2,FALSE),)","v":0},null,0,null,null,{"$f":"IF(AJ28<>\"\",VLOOKUP(AJ28,整理番号表!$Z$6:$AA$14,2,FALSE),\"\")","v":""},0,null,null,null,null,null,{"$f":"IF(AQ28<>0,VLOOKUP(AQ28,整理番号表!$P$43:$Q$49,2,FALSE),)","v":0},null,null,null,null,0,0,null,0,null,null,null,0,0,0,null,null,0,0,null,{"$f":"IF(BK28<>0,VLOOKUP(BK28,整理番号表!$T$5:$U$16,2,FALSE),)","v":0},null,{"$f":"IF(BM28<>0,VLOOKUP(BM28,整理番号表!$T$22:$U$30,2,FALSE),)","v":0},null,0,"",null,null,null,null,null,"",0,null,null,null,null,null,null,null,null,null,0,0,0,0,0,0,0,0,0,0,0,0,0,0,0,0,0,0,0,0,0,0,0,0,0,0,0,0,null,null,null,null,null,0,0,0,0,0,0,null,0,null,null,null,null,null,null,null,0,null,null,null,null,null,null,null,null,null,null,null,null,null,null,null,null,null,null,null,null,null,null,null,null,null,null,0,0,null,null,0,0,0,{"$f":"IF(OR(AND(1<=$FK28,$FK28<=3),$FK28=6),VLOOKUP($FK28,整理番号表!$B$32:$G$60,2,FALSE),)","v":0},{"$f":"IF(OR($FK28=4,$FK28=7),VLOOKUP($FK28,整理番号表!$B$32:$G$60,2,FALSE),)","v":0},{"$f":"IF($FK28=5,VLOOKUP($FK28,整理番号表!$B$32:$G$60,2,FALSE),)","v":0},{"$f":"IF(AND(8<=$FK28,$FK28<=13),VLOOKUP($FK28,整理番号表!$B$32:$G$60,2,FALSE),)","v":0},0,0,{"$f":"IF(AND(FE28<>1,$FP28=1,SUM($FQ28:FQ28)=0,$FF28=1,$FI28>=2),1,)","v":0},{"$f":"IF(AND(FE28<>1,$FP28=1,SUM($FQ28:FR28)=0,OR(AND($FF28=1,$FI28>0),$FI28>=4)),1,)","v":0},{"$f":"IF(AND(FE28<>1,$FP28=1,SUM($FQ28:FS28)=0,OR($FF28=1,$FI28>=2)),1,)","v":0},{"$f":"IF(AND(FE28<>1,$FP28=1,SUM($FQ28:FT28)=0,$FI28>0),1,)","v":0},0,0,{"$f":"IF(AND(FE28<>1,$FP28=2,SUM($FW28:FW28)=0,$FF28=1,$FJ28>=0.1),1,)","v":0},{"$f":"IF(AND(FE28<>1,$FP28=2,SUM($FW28:FX28)=0,OR(AND($FF28=1,$FI28>0),$FJ28>=0.2)),1,)","v":0},{"$f":"IF(AND(FE28<>1,$FP28=2,SUM($FW28:FY28)=0,OR($FF28=1,$FJ28>=0.1)),1,)","v":0},{"$f":"IF(AND(FE28<>1,$FP28=2,SUM($FW28:FZ28)=0,$FI28>0),1,)","v":0},0,{"$f":"IF(AND(FE28<>1,$FP28=3,SUM($GB28:GB28)=0,AND($FF28=1,$FJ28>=0.05)),1,)","v":0},{"$f":"IF(AND(FE28<>1,$FP28=3,SUM($GB28:GC28)=0,OR(AND($FF28=1,$FI28>0),$FJ28>=0.1)),1,)","v":0},{"$f":"IF(AND(FE28<>1,$FP28=3,SUM($GB28:GD28)=0,OR($FF28=1,$FJ28>=0.05)),1,)","v":0},{"$f":"IF(AND(FE28<>1,$FP28=3,SUM($GB28:GE28)=0,$FI28>0),1,)","v":0},0,null,0,0,0,0,0,0,0,0,0,0,0,0,0,0,0,0,0,0,0,0,0,0,0,0,0,0,0,0,0,0,0,0,0,0,0,0,0,0,0,0,0,0,0,0,0,0,0,0,0,0,0,0,0,0,0,0,0,0,0,0,0,0,0,0,0,0,0,0,0,0,0,0,0,0,0,0,0,0,0,"","","","","","","","","","","","","","","","○",0,0,0,0,0,0,0,"○",0,0,0,"○","○",null,0,0]
[0,0,0,0,0,0,0,0,0,0,17,null,null,null,null,{"$f":"IF(O29<>\"\",VLOOKUP(O29,整理番号表!$Z$17:$AA$20,2,FALSE),)","v":0},0,null,null,null,null,null,{"$f":"IF(V29<>0,VLOOKUP(V29,整理番号表!$B$6:$L$13,2,FALSE),)","v":0},0,{"$f":"IF(X29<>0,VLOOKUP(X29,整理番号表!$B$16:$C$18,2,FALSE),)","v":0},null,{"$f":"IF(Z29<>0,VLOOKUP(Z29,整理番号表!$B$22:$C$29,2,FALSE),)","v":0},null,null,{"$f":"IF(AC29<>0,VLOOKUP(AC29,整理番号表!$B$32:$G$60,2,FALSE),)","v":0},null,{"$f":"IF(AE29<>0,VLOOKUP(AE29,整理番号表!$P$5:$R$39,2,FALSE),)","v":0},null,0,null,null,{"$f":"IF(AJ29<>\"\",VLOOKUP(AJ29,整理番号表!$Z$6:$AA$14,2,FALSE),\"\")","v":""},0,null,null,null,null,null,{"$f":"IF(AQ29<>0,VLOOKUP(AQ29,整理番号表!$P$43:$Q$49,2,FALSE),)","v":0},null,null,null,null,0,0,null,0,null,null,null,0,0,0,null,null,0,0,null,{"$f":"IF(BK29<>0,VLOOKUP(BK29,整理番号表!$T$5:$U$16,2,FALSE),)","v":0},null,{"$f":"IF(BM29<>0,VLOOKUP(BM29,整理番号表!$T$22:$U$30,2,FALSE),)","v":0},null,0,"",null,null,null,null,null,"",0,null,null,null,null,null,null,null,null,null,0,0,0,0,0,0,0,0,0,0,0,0,0,0,0,0,0,0,0,0,0,0,0,0,0,0,0,0,null,null,null,null,null,0,0,0,0,0,0,null,0,null,null,null,null,null,null,null,0,null,null,null,null,null,null,null,null,null,null,null,null,null,null,null,null,null,null,null,null,null,null,null,null,null,null,0,0,null,null,0,0,0,{"$f":"IF(OR(AND(1<=$FK29,$FK29<=3),$FK29=6),VLOOKUP($FK29,整理番号表!$B$32:$G$60,2,FALSE),)","v":0},{"$f":"IF(OR($FK29=4,$FK29=7),VLOOKUP($FK29,整理番号表!$B$32:$G$60,2,FALSE),)","v":0},{"$f":"IF($FK29=5,VLOOKUP($FK29,整理番号表!$B$32:$G$60,2,FALSE),)","v":0},{"$f":"IF(AND(8<=$FK29,$FK29<=13),VLOOKUP($FK29,整理番号表!$B$32:$G$60,2,FALSE),)","v":0},0,0,{"$f":"IF(AND(FE29<>1,$FP29=1,SUM($FQ29:FQ29)=0,$FF29=1,$FI29>=2),1,)","v":0},{"$f":"IF(AND(FE29<>1,$FP29=1,SUM($FQ29:FR29)=0,OR(AND($FF29=1,$FI29>0),$FI29>=4)),1,)","v":0},{"$f":"IF(AND(FE29<>1,$FP29=1,SUM($FQ29:FS29)=0,OR($FF29=1,$FI29>=2)),1,)","v":0},{"$f":"IF(AND(FE29<>1,$FP29=1,SUM($FQ29:FT29)=0,$FI29>0),1,)","v":0},0,0,{"$f":"IF(AND(FE29<>1,$FP29=2,SUM($FW29:FW29)=0,$FF29=1,$FJ29>=0.1),1,)","v":0},{"$f":"IF(AND(FE29<>1,$FP29=2,SUM($FW29:FX29)=0,OR(AND($FF29=1,$FI29>0),$FJ29>=0.2)),1,)","v":0},{"$f":"IF(AND(FE29<>1,$FP29=2,SUM($FW29:FY29)=0,OR($FF29=1,$FJ29>=0.1)),1,)","v":0},{"$f":"IF(AND(FE29<>1,$FP29=2,SUM($FW29:FZ29)=0,$FI29>0),1,)","v":0},0,{"$f":"IF(AND(FE29<>1,$FP29=3,SUM($GB29:GB29)=0,AND($FF29=1,$FJ29>=0.05)),1,)","v":0},{"$f":"IF(AND(FE29<>1,$FP29=3,SUM($GB29:GC29)=0,OR(AND($FF29=1,$FI29>0),$FJ29>=0.1)),1,)","v":0},{"$f":"IF(AND(FE29<>1,$FP29=3,SUM($GB29:GD29)=0,OR($FF29=1,$FJ29>=0.05)),1,)","v":0},{"$f":"IF(AND(FE29<>1,$FP29=3,SUM($GB29:GE29)=0,$FI29>0),1,)","v":0},0,null,0,0,0,0,0,0,0,0,0,0,0,0,0,0,0,0,0,0,0,0,0,0,0,0,0,0,0,0,0,0,0,0,0,0,0,0,0,0,0,0,0,0,0,0,0,0,0,0,0,0,0,0,0,0,0,0,0,0,0,0,0,0,0,0,0,0,0,0,0,0,0,0,0,0,0,0,0,0,0,"","","","","","","","","","","","","","","","○",0,0,0,0,0,0,0,"○",0,0,0,"○","○",null,0,0]
[0,0,0,0,0,0,0,0,0,0,18,null,null,null,null,{"$f":"IF(O30<>\"\",VLOOKUP(O30,整理番号表!$Z$17:$AA$20,2,FALSE),)","v":0},0,null,null,null,null,null,{"$f":"IF(V30<>0,VLOOKUP(V30,整理番号表!$B$6:$L$13,2,FALSE),)","v":0},0,{"$f":"IF(X30<>0,VLOOKUP(X30,整理番号表!$B$16:$C$18,2,FALSE),)","v":0},null,{"$f":"IF(Z30<>0,VLOOKUP(Z30,整理番号表!$B$22:$C$29,2,FALSE),)","v":0},null,null,{"$f":"IF(AC30<>0,VLOOKUP(AC30,整理番号表!$B$32:$G$60,2,FALSE),)","v":0},null,{"$f":"IF(AE30<>0,VLOOKUP(AE30,整理番号表!$P$5:$R$39,2,FALSE),)","v":0},null,0,null,null,{"$f":"IF(AJ30<>\"\",VLOOKUP(AJ30,整理番号表!$Z$6:$AA$14,2,FALSE),\"\")","v":""},0,null,null,null,null,null,{"$f":"IF(AQ30<>0,VLOOKUP(AQ30,整理番号表!$P$43:$Q$49,2,FALSE),)","v":0},null,null,null,null,0,0,null,0,null,null,null,0,0,0,null,null,0,0,null,{"$f":"IF(BK30<>0,VLOOKUP(BK30,整理番号表!$T$5:$U$16,2,FALSE),)","v":0},null,{"$f":"IF(BM30<>0,VLOOKUP(BM30,整理番号表!$T$22:$U$30,2,FALSE),)","v":0},null,0,"",null,null,null,null,null,"",0,null,null,null,null,null,null,null,null,null,0,0,0,0,0,0,0,0,0,0,0,0,0,0,0,0,0,0,0,0,0,0,0,0,0,0,0,0,null,null,null,null,null,0,0,0,0,0,0,null,0,null,null,null,null,null,null,null,0,null,null,null,null,null,null,null,null,null,null,null,null,null,null,null,null,null,null,null,null,null,null,null,null,null,null,0,0,null,null,0,0,0,{"$f":"IF(OR(AND(1<=$FK30,$FK30<=3),$FK30=6),VLOOKUP($FK30,整理番号表!$B$32:$G$60,2,FALSE),)","v":0},{"$f":"IF(OR($FK30=4,$FK30=7),VLOOKUP($FK30,整理番号表!$B$32:$G$60,2,FALSE),)","v":0},{"$f":"IF($FK30=5,VLOOKUP($FK30,整理番号表!$B$32:$G$60,2,FALSE),)","v":0},{"$f":"IF(AND(8<=$FK30,$FK30<=13),VLOOKUP($FK30,整理番号表!$B$32:$G$60,2,FALSE),)","v":0},0,0,{"$f":"IF(AND(FE30<>1,$FP30=1,SUM($FQ30:FQ30)=0,$FF30=1,$FI30>=2),1,)","v":0},{"$f":"IF(AND(FE30<>1,$FP30=1,SUM($FQ30:FR30)=0,OR(AND($FF30=1,$FI30>0),$FI30>=4)),1,)","v":0},{"$f":"IF(AND(FE30<>1,$FP30=1,SUM($FQ30:FS30)=0,OR($FF30=1,$FI30>=2)),1,)","v":0},{"$f":"IF(AND(FE30<>1,$FP30=1,SUM($FQ30:FT30)=0,$FI30>0),1,)","v":0},0,0,{"$f":"IF(AND(FE30<>1,$FP30=2,SUM($FW30:FW30)=0,$FF30=1,$FJ30>=0.1),1,)","v":0},{"$f":"IF(AND(FE30<>1,$FP30=2,SUM($FW30:FX30)=0,OR(AND($FF30=1,$FI30>0),$FJ30>=0.2)),1,)","v":0},{"$f":"IF(AND(FE30<>1,$FP30=2,SUM($FW30:FY30)=0,OR($FF30=1,$FJ30>=0.1)),1,)","v":0},{"$f":"IF(AND(FE30<>1,$FP30=2,SUM($FW30:FZ30)=0,$FI30>0),1,)","v":0},0,{"$f":"IF(AND(FE30<>1,$FP30=3,SUM($GB30:GB30)=0,AND($FF30=1,$FJ30>=0.05)),1,)","v":0},{"$f":"IF(AND(FE30<>1,$FP30=3,SUM($GB30:GC30)=0,OR(AND($FF30=1,$FI30>0),$FJ30>=0.1)),1,)","v":0},{"$f":"IF(AND(FE30<>1,$FP30=3,SUM($GB30:GD30)=0,OR($FF30=1,$FJ30>=0.05)),1,)","v":0},{"$f":"IF(AND(FE30<>1,$FP30=3,SUM($GB30:GE30)=0,$FI30>0),1,)","v":0},0,null,0,0,0,0,0,0,0,0,0,0,0,0,0,0,0,0,0,0,0,0,0,0,0,0,0,0,0,0,0,0,0,0,0,0,0,0,0,0,0,0,0,0,0,0,0,0,0,0,0,0,0,0,0,0,0,0,0,0,0,0,0,0,0,0,0,0,0,0,0,0,0,0,0,0,0,0,0,0,0,"","","","","","","","","","","","","","","","○",0,0,0,0,0,0,0,"○",0,0,0,"○","○",null,0,0]
[0,0,0,0,0,0,0,0,0,0,19,null,null,null,null,{"$f":"IF(O31<>\"\",VLOOKUP(O31,整理番号表!$Z$17:$AA$20,2,FALSE),)","v":0},0,null,null,null,null,null,{"$f":"IF(V31<>0,VLOOKUP(V31,整理番号表!$B$6:$L$13,2,FALSE),)","v":0},0,{"$f":"IF(X31<>0,VLOOKUP(X31,整理番号表!$B$16:$C$18,2,FALSE),)","v":0},null,{"$f":"IF(Z31<>0,VLOOKUP(Z31,整理番号表!$B$22:$C$29,2,FALSE),)","v":0},null,null,{"$f":"IF(AC31<>0,VLOOKUP(AC31,整理番号表!$B$32:$G$60,2,FALSE),)","v":0},null,{"$f":"IF(AE31<>0,VLOOKUP(AE31,整理番号表!$P$5:$R$39,2,FALSE),)","v":0},null,0,null,null,{"$f":"IF(AJ31<>\"\",VLOOKUP(AJ31,整理番号表!$Z$6:$AA$14,2,FALSE),\"\")","v":""},0,null,null,null,null,null,{"$f":"IF(AQ31<>0,VLOOKUP(AQ31,整理番号表!$P$43:$Q$49,2,FALSE),)","v":0},null,null,null,null,0,0,null,0,null,null,null,0,0,0,null,null,0,0,null,{"$f":"IF(BK31<>0,VLOOKUP(BK31,整理番号表!$T$5:$U$16,2,FALSE),)","v":0},null,{"$f":"IF(BM31<>0,VLOOKUP(BM31,整理番号表!$T$22:$U$30,2,FALSE),)","v":0},null,0,"",null,null,null,null,null,"",0,null,null,null,null,null,null,null,null,null,0,0,0,0,0,0,0,0,0,0,0,0,0,0,0,0,0,0,0,0,0,0,0,0,0,0,0,0,null,null,null,null,null,0,0,0,0,0,0,null,0,null,null,null,null,null,null,null,0,null,null,null,null,null,null,null,null,null,null,null,null,null,null,null,null,null,null,null,null,null,null,null,null,null,null,0,0,null,null,0,0,0,{"$f":"IF(OR(AND(1<=$FK31,$FK31<=3),$FK31=6),VLOOKUP($FK31,整理番号表!$B$32:$G$60,2,FALSE),)","v":0},{"$f":"IF(OR($FK31=4,$FK31=7),VLOOKUP($FK31,整理番号表!$B$32:$G$60,2,FALSE),)","v":0},{"$f":"IF($FK31=5,VLOOKUP($FK31,整理番号表!$B$32:$G$60,2,FALSE),)","v":0},{"$f":"IF(AND(8<=$FK31,$FK31<=13),VLOOKUP($FK31,整理番号表!$B$32:$G$60,2,FALSE),)","v":0},0,0,{"$f":"IF(AND(FE31<>1,$FP31=1,SUM($FQ31:FQ31)=0,$FF31=1,$FI31>=2),1,)","v":0},{"$f":"IF(AND(FE31<>1,$FP31=1,SUM($FQ31:FR31)=0,OR(AND($FF31=1,$FI31>0),$FI31>=4)),1,)","v":0},{"$f":"IF(AND(FE31<>1,$FP31=1,SUM($FQ31:FS31)=0,OR($FF31=1,$FI31>=2)),1,)","v":0},{"$f":"IF(AND(FE31<>1,$FP31=1,SUM($FQ31:FT31)=0,$FI31>0),1,)","v":0},0,0,{"$f":"IF(AND(FE31<>1,$FP31=2,SUM($FW31:FW31)=0,$FF31=1,$FJ31>=0.1),1,)","v":0},{"$f":"IF(AND(FE31<>1,$FP31=2,SUM($FW31:FX31)=0,OR(AND($FF31=1,$FI31>0),$FJ31>=0.2)),1,)","v":0},{"$f":"IF(AND(FE31<>1,$FP31=2,SUM($FW31:FY31)=0,OR($FF31=1,$FJ31>=0.1)),1,)","v":0},{"$f":"IF(AND(FE31<>1,$FP31=2,SUM($FW31:FZ31)=0,$FI31>0),1,)","v":0},0,{"$f":"IF(AND(FE31<>1,$FP31=3,SUM($GB31:GB31)=0,AND($FF31=1,$FJ31>=0.05)),1,)","v":0},{"$f":"IF(AND(FE31<>1,$FP31=3,SUM($GB31:GC31)=0,OR(AND($FF31=1,$FI31>0),$FJ31>=0.1)),1,)","v":0},{"$f":"IF(AND(FE31<>1,$FP31=3,SUM($GB31:GD31)=0,OR($FF31=1,$FJ31>=0.05)),1,)","v":0},{"$f":"IF(AND(FE31<>1,$FP31=3,SUM($GB31:GE31)=0,$FI31>0),1,)","v":0},0,null,0,0,0,0,0,0,0,0,0,0,0,0,0,0,0,0,0,0,0,0,0,0,0,0,0,0,0,0,0,0,0,0,0,0,0,0,0,0,0,0,0,0,0,0,0,0,0,0,0,0,0,0,0,0,0,0,0,0,0,0,0,0,0,0,0,0,0,0,0,0,0,0,0,0,0,0,0,0,0,"","","","","","","","","","","","","","","","○",0,0,0,0,0,0,0,"○",0,0,0,"○","○",null,0,0]
[0,0,0,0,0,0,0,0,0,0,20,null,null,null,null,{"$f":"IF(O32<>\"\",VLOOKUP(O32,整理番号表!$Z$17:$AA$20,2,FALSE),)","v":0},0,null,null,null,null,null,{"$f":"IF(V32<>0,VLOOKUP(V32,整理番号表!$B$6:$L$13,2,FALSE),)","v":0},0,{"$f":"IF(X32<>0,VLOOKUP(X32,整理番号表!$B$16:$C$18,2,FALSE),)","v":0},null,{"$f":"IF(Z32<>0,VLOOKUP(Z32,整理番号表!$B$22:$C$29,2,FALSE),)","v":0},null,null,{"$f":"IF(AC32<>0,VLOOKUP(AC32,整理番号表!$B$32:$G$60,2,FALSE),)","v":0},null,{"$f":"IF(AE32<>0,VLOOKUP(AE32,整理番号表!$P$5:$R$39,2,FALSE),)","v":0},null,0,null,null,{"$f":"IF(AJ32<>\"\",VLOOKUP(AJ32,整理番号表!$Z$6:$AA$14,2,FALSE),\"\")","v":""},0,null,null,null,null,null,{"$f":"IF(AQ32<>0,VLOOKUP(AQ32,整理番号表!$P$43:$Q$49,2,FALSE),)","v":0},null,null,null,null,0,0,null,0,null,null,null,0,0,0,null,null,0,0,null,{"$f":"IF(BK32<>0,VLOOKUP(BK32,整理番号表!$T$5:$U$16,2,FALSE),)","v":0},null,{"$f":"IF(BM32<>0,VLOOKUP(BM32,整理番号表!$T$22:$U$30,2,FALSE),)","v":0},null,0,"",null,null,null,null,null,"",0,null,null,null,null,null,null,null,null,null,0,0,0,0,0,0,0,0,0,0,0,0,0,0,0,0,0,0,0,0,0,0,0,0,0,0,0,0,null,null,null,null,null,0,0,0,0,0,0,null,0,null,null,null,null,null,null,null,0,null,null,null,null,null,null,null,null,null,null,null,null,null,null,null,null,null,null,null,null,null,null,null,null,null,null,0,0,null,null,0,0,0,{"$f":"IF(OR(AND(1<=$FK32,$FK32<=3),$FK32=6),VLOOKUP($FK32,整理番号表!$B$32:$G$60,2,FALSE),)","v":0},{"$f":"IF(OR($FK32=4,$FK32=7),VLOOKUP($FK32,整理番号表!$B$32:$G$60,2,FALSE),)","v":0},{"$f":"IF($FK32=5,VLOOKUP($FK32,整理番号表!$B$32:$G$60,2,FALSE),)","v":0},{"$f":"IF(AND(8<=$FK32,$FK32<=13),VLOOKUP($FK32,整理番号表!$B$32:$G$60,2,FALSE),)","v":0},0,0,{"$f":"IF(AND(FE32<>1,$FP32=1,SUM($FQ32:FQ32)=0,$FF32=1,$FI32>=2),1,)","v":0},{"$f":"IF(AND(FE32<>1,$FP32=1,SUM($FQ32:FR32)=0,OR(AND($FF32=1,$FI32>0),$FI32>=4)),1,)","v":0},{"$f":"IF(AND(FE32<>1,$FP32=1,SUM($FQ32:FS32)=0,OR($FF32=1,$FI32>=2)),1,)","v":0},{"$f":"IF(AND(FE32<>1,$FP32=1,SUM($FQ32:FT32)=0,$FI32>0),1,)","v":0},0,0,{"$f":"IF(AND(FE32<>1,$FP32=2,SUM($FW32:FW32)=0,$FF32=1,$FJ32>=0.1),1,)","v":0},{"$f":"IF(AND(FE32<>1,$FP32=2,SUM($FW32:FX32)=0,OR(AND($FF32=1,$FI32>0),$FJ32>=0.2)),1,)","v":0},{"$f":"IF(AND(FE32<>1,$FP32=2,SUM($FW32:FY32)=0,OR($FF32=1,$FJ32>=0.1)),1,)","v":0},{"$f":"IF(AND(FE32<>1,$FP32=2,SUM($FW32:FZ32)=0,$FI32>0),1,)","v":0},0,{"$f":"IF(AND(FE32<>1,$FP32=3,SUM($GB32:GB32)=0,AND($FF32=1,$FJ32>=0.05)),1,)","v":0},{"$f":"IF(AND(FE32<>1,$FP32=3,SUM($GB32:GC32)=0,OR(AND($FF32=1,$FI32>0),$FJ32>=0.1)),1,)","v":0},{"$f":"IF(AND(FE32<>1,$FP32=3,SUM($GB32:GD32)=0,OR($FF32=1,$FJ32>=0.05)),1,)","v":0},{"$f":"IF(AND(FE32<>1,$FP32=3,SUM($GB32:GE32)=0,$FI32>0),1,)","v":0},0,null,0,0,0,0,0,0,0,0,0,0,0,0,0,0,0,0,0,0,0,0,0,0,0,0,0,0,0,0,0,0,0,0,0,0,0,0,0,0,0,0,0,0,0,0,0,0,0,0,0,0,0,0,0,0,0,0,0,0,0,0,0,0,0,0,0,0,0,0,0,0,0,0,0,0,0,0,0,0,0,"","","","","","","","","","","","","","","","○",0,0,0,0,0,0,0,"○",0,0,0,"○","○",null,0,0]
[0,0,0,0,0,0,0,0,0,0,21,null,null,null,null,{"$f":"IF(O33<>\"\",VLOOKUP(O33,整理番号表!$Z$17:$AA$20,2,FALSE),)","v":0},0,null,null,null,null,null,{"$f":"IF(V33<>0,VLOOKUP(V33,整理番号表!$B$6:$L$13,2,FALSE),)","v":0},0,{"$f":"IF(X33<>0,VLOOKUP(X33,整理番号表!$B$16:$C$18,2,FALSE),)","v":0},null,{"$f":"IF(Z33<>0,VLOOKUP(Z33,整理番号表!$B$22:$C$29,2,FALSE),)","v":0},null,null,{"$f":"IF(AC33<>0,VLOOKUP(AC33,整理番号表!$B$32:$G$60,2,FALSE),)","v":0},null,{"$f":"IF(AE33<>0,VLOOKUP(AE33,整理番号表!$P$5:$R$39,2,FALSE),)","v":0},null,0,null,null,{"$f":"IF(AJ33<>\"\",VLOOKUP(AJ33,整理番号表!$Z$6:$AA$14,2,FALSE),\"\")","v":""},0,null,null,null,null,null,{"$f":"IF(AQ33<>0,VLOOKUP(AQ33,整理番号表!$P$43:$Q$49,2,FALSE),)","v":0},null,null,null,null,0,0,null,0,null,null,null,0,0,0,null,null,0,0,null,{"$f":"IF(BK33<>0,VLOOKUP(BK33,整理番号表!$T$5:$U$16,2,FALSE),)","v":0},null,{"$f":"IF(BM33<>0,VLOOKUP(BM33,整理番号表!$T$22:$U$30,2,FALSE),)","v":0},null,0,"",null,null,null,null,null,"",0,null,null,null,null,null,null,null,null,null,0,0,0,0,0,0,0,0,0,0,0,0,0,0,0,0,0,0,0,0,0,0,0,0,0,0,0,0,null,null,null,null,null,0,0,0,0,0,0,null,0,null,null,null,null,null,null,null,0,null,null,null,null,null,null,null,null,null,null,null,null,null,null,null,null,null,null,null,null,null,null,null,null,null,null,0,0,null,null,0,0,0,{"$f":"IF(OR(AND(1<=$FK33,$FK33<=3),$FK33=6),VLOOKUP($FK33,整理番号表!$B$32:$G$60,2,FALSE),)","v":0},{"$f":"IF(OR($FK33=4,$FK33=7),VLOOKUP($FK33,整理番号表!$B$32:$G$60,2,FALSE),)","v":0},{"$f":"IF($FK33=5,VLOOKUP($FK33,整理番号表!$B$32:$G$60,2,FALSE),)","v":0},{"$f":"IF(AND(8<=$FK33,$FK33<=13),VLOOKUP($FK33,整理番号表!$B$32:$G$60,2,FALSE),)","v":0},0,0,{"$f":"IF(AND(FE33<>1,$FP33=1,SUM($FQ33:FQ33)=0,$FF33=1,$FI33>=2),1,)","v":0},{"$f":"IF(AND(FE33<>1,$FP33=1,SUM($FQ33:FR33)=0,OR(AND($FF33=1,$FI33>0),$FI33>=4)),1,)","v":0},{"$f":"IF(AND(FE33<>1,$FP33=1,SUM($FQ33:FS33)=0,OR($FF33=1,$FI33>=2)),1,)","v":0},{"$f":"IF(AND(FE33<>1,$FP33=1,SUM($FQ33:FT33)=0,$FI33>0),1,)","v":0},0,0,{"$f":"IF(AND(FE33<>1,$FP33=2,SUM($FW33:FW33)=0,$FF33=1,$FJ33>=0.1),1,)","v":0},{"$f":"IF(AND(FE33<>1,$FP33=2,SUM($FW33:FX33)=0,OR(AND($FF33=1,$FI33>0),$FJ33>=0.2)),1,)","v":0},{"$f":"IF(AND(FE33<>1,$FP33=2,SUM($FW33:FY33)=0,OR($FF33=1,$FJ33>=0.1)),1,)","v":0},{"$f":"IF(AND(FE33<>1,$FP33=2,SUM($FW33:FZ33)=0,$FI33>0),1,)","v":0},0,{"$f":"IF(AND(FE33<>1,$FP33=3,SUM($GB33:GB33)=0,AND($FF33=1,$FJ33>=0.05)),1,)","v":0},{"$f":"IF(AND(FE33<>1,$FP33=3,SUM($GB33:GC33)=0,OR(AND($FF33=1,$FI33>0),$FJ33>=0.1)),1,)","v":0},{"$f":"IF(AND(FE33<>1,$FP33=3,SUM($GB33:GD33)=0,OR($FF33=1,$FJ33>=0.05)),1,)","v":0},{"$f":"IF(AND(FE33<>1,$FP33=3,SUM($GB33:GE33)=0,$FI33>0),1,)","v":0},0,null,0,0,0,0,0,0,0,0,0,0,0,0,0,0,0,0,0,0,0,0,0,0,0,0,0,0,0,0,0,0,0,0,0,0,0,0,0,0,0,0,0,0,0,0,0,0,0,0,0,0,0,0,0,0,0,0,0,0,0,0,0,0,0,0,0,0,0,0,0,0,0,0,0,0,0,0,0,0,0,"","","","","","","","","","","","","","","","○",0,0,0,0,0,0,0,"○",0,0,0,"○","○",null,0,0]
[0,0,0,0,0,0,0,0,0,0,22,null,null,null,null,{"$f":"IF(O34<>\"\",VLOOKUP(O34,整理番号表!$Z$17:$AA$20,2,FALSE),)","v":0},0,null,null,null,null,null,{"$f":"IF(V34<>0,VLOOKUP(V34,整理番号表!$B$6:$L$13,2,FALSE),)","v":0},0,{"$f":"IF(X34<>0,VLOOKUP(X34,整理番号表!$B$16:$C$18,2,FALSE),)","v":0},null,{"$f":"IF(Z34<>0,VLOOKUP(Z34,整理番号表!$B$22:$C$29,2,FALSE),)","v":0},null,null,{"$f":"IF(AC34<>0,VLOOKUP(AC34,整理番号表!$B$32:$G$60,2,FALSE),)","v":0},null,{"$f":"IF(AE34<>0,VLOOKUP(AE34,整理番号表!$P$5:$R$39,2,FALSE),)","v":0},null,0,null,null,{"$f":"IF(AJ34<>\"\",VLOOKUP(AJ34,整理番号表!$Z$6:$AA$14,2,FALSE),\"\")","v":""},0,null,null,null,null,null,{"$f":"IF(AQ34<>0,VLOOKUP(AQ34,整理番号表!$P$43:$Q$49,2,FALSE),)","v":0},null,null,null,null,0,0,null,0,null,null,null,0,0,0,null,null,0,0,null,{"$f":"IF(BK34<>0,VLOOKUP(BK34,整理番号表!$T$5:$U$16,2,FALSE),)","v":0},null,{"$f":"IF(BM34<>0,VLOOKUP(BM34,整理番号表!$T$22:$U$30,2,FALSE),)","v":0},null,0,"",null,null,null,null,null,"",0,null,null,null,null,null,null,null,null,null,0,0,0,0,0,0,0,0,0,0,0,0,0,0,0,0,0,0,0,0,0,0,0,0,0,0,0,0,null,null,null,null,null,0,0,0,0,0,0,null,0,null,null,null,null,null,null,null,0,null,null,null,null,null,null,null,null,null,null,null,null,null,null,null,null,null,null,null,null,null,null,null,null,null,null,0,0,null,null,0,0,0,{"$f":"IF(OR(AND(1<=$FK34,$FK34<=3),$FK34=6),VLOOKUP($FK34,整理番号表!$B$32:$G$60,2,FALSE),)","v":0},{"$f":"IF(OR($FK34=4,$FK34=7),VLOOKUP($FK34,整理番号表!$B$32:$G$60,2,FALSE),)","v":0},{"$f":"IF($FK34=5,VLOOKUP($FK34,整理番号表!$B$32:$G$60,2,FALSE),)","v":0},{"$f":"IF(AND(8<=$FK34,$FK34<=13),VLOOKUP($FK34,整理番号表!$B$32:$G$60,2,FALSE),)","v":0},0,0,{"$f":"IF(AND(FE34<>1,$FP34=1,SUM($FQ34:FQ34)=0,$FF34=1,$FI34>=2),1,)","v":0},{"$f":"IF(AND(FE34<>1,$FP34=1,SUM($FQ34:FR34)=0,OR(AND($FF34=1,$FI34>0),$FI34>=4)),1,)","v":0},{"$f":"IF(AND(FE34<>1,$FP34=1,SUM($FQ34:FS34)=0,OR($FF34=1,$FI34>=2)),1,)","v":0},{"$f":"IF(AND(FE34<>1,$FP34=1,SUM($FQ34:FT34)=0,$FI34>0),1,)","v":0},0,0,{"$f":"IF(AND(FE34<>1,$FP34=2,SUM($FW34:FW34)=0,$FF34=1,$FJ34>=0.1),1,)","v":0},{"$f":"IF(AND(FE34<>1,$FP34=2,SUM($FW34:FX34)=0,OR(AND($FF34=1,$FI34>0),$FJ34>=0.2)),1,)","v":0},{"$f":"IF(AND(FE34<>1,$FP34=2,SUM($FW34:FY34)=0,OR($FF34=1,$FJ34>=0.1)),1,)","v":0},{"$f":"IF(AND(FE34<>1,$FP34=2,SUM($FW34:FZ34)=0,$FI34>0),1,)","v":0},0,{"$f":"IF(AND(FE34<>1,$FP34=3,SUM($GB34:GB34)=0,AND($FF34=1,$FJ34>=0.05)),1,)","v":0},{"$f":"IF(AND(FE34<>1,$FP34=3,SUM($GB34:GC34)=0,OR(AND($FF34=1,$FI34>0),$FJ34>=0.1)),1,)","v":0},{"$f":"IF(AND(FE34<>1,$FP34=3,SUM($GB34:GD34)=0,OR($FF34=1,$FJ34>=0.05)),1,)","v":0},{"$f":"IF(AND(FE34<>1,$FP34=3,SUM($GB34:GE34)=0,$FI34>0),1,)","v":0},0,null,0,0,0,0,0,0,0,0,0,0,0,0,0,0,0,0,0,0,0,0,0,0,0,0,0,0,0,0,0,0,0,0,0,0,0,0,0,0,0,0,0,0,0,0,0,0,0,0,0,0,0,0,0,0,0,0,0,0,0,0,0,0,0,0,0,0,0,0,0,0,0,0,0,0,0,0,0,0,0,"","","","","","","","","","","","","","","","○",0,0,0,0,0,0,0,"○",0,0,0,"○","○",null,0,0]
[0,0,0,0,0,0,0,0,0,0,23,null,null,null,null,{"$f":"IF(O35<>\"\",VLOOKUP(O35,整理番号表!$Z$17:$AA$20,2,FALSE),)","v":0},0,null,null,null,null,null,{"$f":"IF(V35<>0,VLOOKUP(V35,整理番号表!$B$6:$L$13,2,FALSE),)","v":0},0,{"$f":"IF(X35<>0,VLOOKUP(X35,整理番号表!$B$16:$C$18,2,FALSE),)","v":0},null,{"$f":"IF(Z35<>0,VLOOKUP(Z35,整理番号表!$B$22:$C$29,2,FALSE),)","v":0},null,null,{"$f":"IF(AC35<>0,VLOOKUP(AC35,整理番号表!$B$32:$G$60,2,FALSE),)","v":0},null,{"$f":"IF(AE35<>0,VLOOKUP(AE35,整理番号表!$P$5:$R$39,2,FALSE),)","v":0},null,0,null,null,{"$f":"IF(AJ35<>\"\",VLOOKUP(AJ35,整理番号表!$Z$6:$AA$14,2,FALSE),\"\")","v":""},0,null,null,null,null,null,{"$f":"IF(AQ35<>0,VLOOKUP(AQ35,整理番号表!$P$43:$Q$49,2,FALSE),)","v":0},null,null,null,null,0,0,null,0,null,null,null,0,0,0,null,null,0,0,null,{"$f":"IF(BK35<>0,VLOOKUP(BK35,整理番号表!$T$5:$U$16,2,FALSE),)","v":0},null,{"$f":"IF(BM35<>0,VLOOKUP(BM35,整理番号表!$T$22:$U$30,2,FALSE),)","v":0},null,0,"",null,null,null,null,null,"",0,null,null,null,null,null,null,null,null,null,0,0,0,0,0,0,0,0,0,0,0,0,0,0,0,0,0,0,0,0,0,0,0,0,0,0,0,0,null,null,null,null,null,0,0,0,0,0,0,null,0,null,null,null,null,null,null,null,0,null,null,null,null,null,null,null,null,null,null,null,null,null,null,null,null,null,null,null,null,null,null,null,null,null,null,0,0,null,null,0,0,0,{"$f":"IF(OR(AND(1<=$FK35,$FK35<=3),$FK35=6),VLOOKUP($FK35,整理番号表!$B$32:$G$60,2,FALSE),)","v":0},{"$f":"IF(OR($FK35=4,$FK35=7),VLOOKUP($FK35,整理番号表!$B$32:$G$60,2,FALSE),)","v":0},{"$f":"IF($FK35=5,VLOOKUP($FK35,整理番号表!$B$32:$G$60,2,FALSE),)","v":0},{"$f":"IF(AND(8<=$FK35,$FK35<=13),VLOOKUP($FK35,整理番号表!$B$32:$G$60,2,FALSE),)","v":0},0,0,{"$f":"IF(AND(FE35<>1,$FP35=1,SUM($FQ35:FQ35)=0,$FF35=1,$FI35>=2),1,)","v":0},{"$f":"IF(AND(FE35<>1,$FP35=1,SUM($FQ35:FR35)=0,OR(AND($FF35=1,$FI35>0),$FI35>=4)),1,)","v":0},{"$f":"IF(AND(FE35<>1,$FP35=1,SUM($FQ35:FS35)=0,OR($FF35=1,$FI35>=2)),1,)","v":0},{"$f":"IF(AND(FE35<>1,$FP35=1,SUM($FQ35:FT35)=0,$FI35>0),1,)","v":0},0,0,{"$f":"IF(AND(FE35<>1,$FP35=2,SUM($FW35:FW35)=0,$FF35=1,$FJ35>=0.1),1,)","v":0},{"$f":"IF(AND(FE35<>1,$FP35=2,SUM($FW35:FX35)=0,OR(AND($FF35=1,$FI35>0),$FJ35>=0.2)),1,)","v":0},{"$f":"IF(AND(FE35<>1,$FP35=2,SUM($FW35:FY35)=0,OR($FF35=1,$FJ35>=0.1)),1,)","v":0},{"$f":"IF(AND(FE35<>1,$FP35=2,SUM($FW35:FZ35)=0,$FI35>0),1,)","v":0},0,{"$f":"IF(AND(FE35<>1,$FP35=3,SUM($GB35:GB35)=0,AND($FF35=1,$FJ35>=0.05)),1,)","v":0},{"$f":"IF(AND(FE35<>1,$FP35=3,SUM($GB35:GC35)=0,OR(AND($FF35=1,$FI35>0),$FJ35>=0.1)),1,)","v":0},{"$f":"IF(AND(FE35<>1,$FP35=3,SUM($GB35:GD35)=0,OR($FF35=1,$FJ35>=0.05)),1,)","v":0},{"$f":"IF(AND(FE35<>1,$FP35=3,SUM($GB35:GE35)=0,$FI35>0),1,)","v":0},0,null,0,0,0,0,0,0,0,0,0,0,0,0,0,0,0,0,0,0,0,0,0,0,0,0,0,0,0,0,0,0,0,0,0,0,0,0,0,0,0,0,0,0,0,0,0,0,0,0,0,0,0,0,0,0,0,0,0,0,0,0,0,0,0,0,0,0,0,0,0,0,0,0,0,0,0,0,0,0,0,"","","","","","","","","","","","","","","","○",0,0,0,0,0,0,0,"○",0,0,0,"○","○",null,0,0]
[0,0,0,0,0,0,0,0,0,0,24,null,null,null,null,{"$f":"IF(O36<>\"\",VLOOKUP(O36,整理番号表!$Z$17:$AA$20,2,FALSE),)","v":0},0,null,null,null,null,null,{"$f":"IF(V36<>0,VLOOKUP(V36,整理番号表!$B$6:$L$13,2,FALSE),)","v":0},0,{"$f":"IF(X36<>0,VLOOKUP(X36,整理番号表!$B$16:$C$18,2,FALSE),)","v":0},null,{"$f":"IF(Z36<>0,VLOOKUP(Z36,整理番号表!$B$22:$C$29,2,FALSE),)","v":0},null,null,{"$f":"IF(AC36<>0,VLOOKUP(AC36,整理番号表!$B$32:$G$60,2,FALSE),)","v":0},null,{"$f":"IF(AE36<>0,VLOOKUP(AE36,整理番号表!$P$5:$R$39,2,FALSE),)","v":0},null,0,null,null,{"$f":"IF(AJ36<>\"\",VLOOKUP(AJ36,整理番号表!$Z$6:$AA$14,2,FALSE),\"\")","v":""},0,null,null,null,null,null,{"$f":"IF(AQ36<>0,VLOOKUP(AQ36,整理番号表!$P$43:$Q$49,2,FALSE),)","v":0},null,null,null,null,0,0,null,0,null,null,null,0,0,0,null,null,0,0,null,{"$f":"IF(BK36<>0,VLOOKUP(BK36,整理番号表!$T$5:$U$16,2,FALSE),)","v":0},null,{"$f":"IF(BM36<>0,VLOOKUP(BM36,整理番号表!$T$22:$U$30,2,FALSE),)","v":0},null,0,"",null,null,null,null,null,"",0,null,null,null,null,null,null,null,null,null,0,0,0,0,0,0,0,0,0,0,0,0,0,0,0,0,0,0,0,0,0,0,0,0,0,0,0,0,null,null,null,null,null,0,0,0,0,0,0,null,0,null,null,null,null,null,null,null,0,null,null,null,null,null,null,null,null,null,null,null,null,null,null,null,null,null,null,null,null,null,null,null,null,null,null,0,0,null,null,0,0,0,{"$f":"IF(OR(AND(1<=$FK36,$FK36<=3),$FK36=6),VLOOKUP($FK36,整理番号表!$B$32:$G$60,2,FALSE),)","v":0},{"$f":"IF(OR($FK36=4,$FK36=7),VLOOKUP($FK36,整理番号表!$B$32:$G$60,2,FALSE),)","v":0},{"$f":"IF($FK36=5,VLOOKUP($FK36,整理番号表!$B$32:$G$60,2,FALSE),)","v":0},{"$f":"IF(AND(8<=$FK36,$FK36<=13),VLOOKUP($FK36,整理番号表!$B$32:$G$60,2,FALSE),)","v":0},0,0,{"$f":"IF(AND(FE36<>1,$FP36=1,SUM($FQ36:FQ36)=0,$FF36=1,$FI36>=2),1,)","v":0},{"$f":"IF(AND(FE36<>1,$FP36=1,SUM($FQ36:FR36)=0,OR(AND($FF36=1,$FI36>0),$FI36>=4)),1,)","v":0},{"$f":"IF(AND(FE36<>1,$FP36=1,SUM($FQ36:FS36)=0,OR($FF36=1,$FI36>=2)),1,)","v":0},{"$f":"IF(AND(FE36<>1,$FP36=1,SUM($FQ36:FT36)=0,$FI36>0),1,)","v":0},0,0,{"$f":"IF(AND(FE36<>1,$FP36=2,SUM($FW36:FW36)=0,$FF36=1,$FJ36>=0.1),1,)","v":0},{"$f":"IF(AND(FE36<>1,$FP36=2,SUM($FW36:FX36)=0,OR(AND($FF36=1,$FI36>0),$FJ36>=0.2)),1,)","v":0},{"$f":"IF(AND(FE36<>1,$FP36=2,SUM($FW36:FY36)=0,OR($FF36=1,$FJ36>=0.1)),1,)","v":0},{"$f":"IF(AND(FE36<>1,$FP36=2,SUM($FW36:FZ36)=0,$FI36>0),1,)","v":0},0,{"$f":"IF(AND(FE36<>1,$FP36=3,SUM($GB36:GB36)=0,AND($FF36=1,$FJ36>=0.05)),1,)","v":0},{"$f":"IF(AND(FE36<>1,$FP36=3,SUM($GB36:GC36)=0,OR(AND($FF36=1,$FI36>0),$FJ36>=0.1)),1,)","v":0},{"$f":"IF(AND(FE36<>1,$FP36=3,SUM($GB36:GD36)=0,OR($FF36=1,$FJ36>=0.05)),1,)","v":0},{"$f":"IF(AND(FE36<>1,$FP36=3,SUM($GB36:GE36)=0,$FI36>0),1,)","v":0},0,null,0,0,0,0,0,0,0,0,0,0,0,0,0,0,0,0,0,0,0,0,0,0,0,0,0,0,0,0,0,0,0,0,0,0,0,0,0,0,0,0,0,0,0,0,0,0,0,0,0,0,0,0,0,0,0,0,0,0,0,0,0,0,0,0,0,0,0,0,0,0,0,0,0,0,0,0,0,0,0,"","","","","","","","","","","","","","","","○",0,0,0,0,0,0,0,"○",0,0,0,"○","○",null,0,0]
[0,0,0,0,0,0,0,0,0,0,25,null,null,null,null,{"$f":"IF(O37<>\"\",VLOOKUP(O37,整理番号表!$Z$17:$AA$20,2,FALSE),)","v":0},0,null,null,null,null,null,{"$f":"IF(V37<>0,VLOOKUP(V37,整理番号表!$B$6:$L$13,2,FALSE),)","v":0},0,{"$f":"IF(X37<>0,VLOOKUP(X37,整理番号表!$B$16:$C$18,2,FALSE),)","v":0},null,{"$f":"IF(Z37<>0,VLOOKUP(Z37,整理番号表!$B$22:$C$29,2,FALSE),)","v":0},null,null,{"$f":"IF(AC37<>0,VLOOKUP(AC37,整理番号表!$B$32:$G$60,2,FALSE),)","v":0},null,{"$f":"IF(AE37<>0,VLOOKUP(AE37,整理番号表!$P$5:$R$39,2,FALSE),)","v":0},null,0,null,null,{"$f":"IF(AJ37<>\"\",VLOOKUP(AJ37,整理番号表!$Z$6:$AA$14,2,FALSE),\"\")","v":""},0,null,null,null,null,null,{"$f":"IF(AQ37<>0,VLOOKUP(AQ37,整理番号表!$P$43:$Q$49,2,FALSE),)","v":0},null,null,null,null,0,0,null,0,null,null,null,0,0,0,null,null,0,0,null,{"$f":"IF(BK37<>0,VLOOKUP(BK37,整理番号表!$T$5:$U$16,2,FALSE),)","v":0},null,{"$f":"IF(BM37<>0,VLOOKUP(BM37,整理番号表!$T$22:$U$30,2,FALSE),)","v":0},null,0,"",null,null,null,null,null,"",0,null,null,null,null,null,null,null,null,null,0,0,0,0,0,0,0,0,0,0,0,0,0,0,0,0,0,0,0,0,0,0,0,0,0,0,0,0,null,null,null,null,null,0,0,0,0,0,0,null,0,null,null,null,null,null,null,null,0,null,null,null,null,null,null,null,null,null,null,null,null,null,null,null,null,null,null,null,null,null,null,null,null,null,null,0,0,null,null,0,0,0,{"$f":"IF(OR(AND(1<=$FK37,$FK37<=3),$FK37=6),VLOOKUP($FK37,整理番号表!$B$32:$G$60,2,FALSE),)","v":0},{"$f":"IF(OR($FK37=4,$FK37=7),VLOOKUP($FK37,整理番号表!$B$32:$G$60,2,FALSE),)","v":0},{"$f":"IF($FK37=5,VLOOKUP($FK37,整理番号表!$B$32:$G$60,2,FALSE),)","v":0},{"$f":"IF(AND(8<=$FK37,$FK37<=13),VLOOKUP($FK37,整理番号表!$B$32:$G$60,2,FALSE),)","v":0},0,0,{"$f":"IF(AND(FE37<>1,$FP37=1,SUM($FQ37:FQ37)=0,$FF37=1,$FI37>=2),1,)","v":0},{"$f":"IF(AND(FE37<>1,$FP37=1,SUM($FQ37:FR37)=0,OR(AND($FF37=1,$FI37>0),$FI37>=4)),1,)","v":0},{"$f":"IF(AND(FE37<>1,$FP37=1,SUM($FQ37:FS37)=0,OR($FF37=1,$FI37>=2)),1,)","v":0},{"$f":"IF(AND(FE37<>1,$FP37=1,SUM($FQ37:FT37)=0,$FI37>0),1,)","v":0},0,0,{"$f":"IF(AND(FE37<>1,$FP37=2,SUM($FW37:FW37)=0,$FF37=1,$FJ37>=0.1),1,)","v":0},{"$f":"IF(AND(FE37<>1,$FP37=2,SUM($FW37:FX37)=0,OR(AND($FF37=1,$FI37>0),$FJ37>=0.2)),1,)","v":0},{"$f":"IF(AND(FE37<>1,$FP37=2,SUM($FW37:FY37)=0,OR($FF37=1,$FJ37>=0.1)),1,)","v":0},{"$f":"IF(AND(FE37<>1,$FP37=2,SUM($FW37:FZ37)=0,$FI37>0),1,)","v":0},0,{"$f":"IF(AND(FE37<>1,$FP37=3,SUM($GB37:GB37)=0,AND($FF37=1,$FJ37>=0.05)),1,)","v":0},{"$f":"IF(AND(FE37<>1,$FP37=3,SUM($GB37:GC37)=0,OR(AND($FF37=1,$FI37>0),$FJ37>=0.1)),1,)","v":0},{"$f":"IF(AND(FE37<>1,$FP37=3,SUM($GB37:GD37)=0,OR($FF37=1,$FJ37>=0.05)),1,)","v":0},{"$f":"IF(AND(FE37<>1,$FP37=3,SUM($GB37:GE37)=0,$FI37>0),1,)","v":0},0,null,0,0,0,0,0,0,0,0,0,0,0,0,0,0,0,0,0,0,0,0,0,0,0,0,0,0,0,0,0,0,0,0,0,0,0,0,0,0,0,0,0,0,0,0,0,0,0,0,0,0,0,0,0,0,0,0,0,0,0,0,0,0,0,0,0,0,0,0,0,0,0,0,0,0,0,0,0,0,0,"","","","","","","","","","","","","","","","○",0,0,0,0,0,0,0,"○",0,0,0,"○","○",null,0,0]
[0,0,0,0,0,0,0,0,0,0,26,null,null,null,null,{"$f":"IF(O38<>\"\",VLOOKUP(O38,整理番号表!$Z$17:$AA$20,2,FALSE),)","v":0},0,null,null,null,null,null,{"$f":"IF(V38<>0,VLOOKUP(V38,整理番号表!$B$6:$L$13,2,FALSE),)","v":0},0,{"$f":"IF(X38<>0,VLOOKUP(X38,整理番号表!$B$16:$C$18,2,FALSE),)","v":0},null,{"$f":"IF(Z38<>0,VLOOKUP(Z38,整理番号表!$B$22:$C$29,2,FALSE),)","v":0},null,null,{"$f":"IF(AC38<>0,VLOOKUP(AC38,整理番号表!$B$32:$G$60,2,FALSE),)","v":0},null,{"$f":"IF(AE38<>0,VLOOKUP(AE38,整理番号表!$P$5:$R$39,2,FALSE),)","v":0},null,0,null,null,{"$f":"IF(AJ38<>\"\",VLOOKUP(AJ38,整理番号表!$Z$6:$AA$14,2,FALSE),\"\")","v":""},0,null,null,null,null,null,{"$f":"IF(AQ38<>0,VLOOKUP(AQ38,整理番号表!$P$43:$Q$49,2,FALSE),)","v":0},null,null,null,null,0,0,null,0,null,null,null,0,0,0,null,null,0,0,null,{"$f":"IF(BK38<>0,VLOOKUP(BK38,整理番号表!$T$5:$U$16,2,FALSE),)","v":0},null,{"$f":"IF(BM38<>0,VLOOKUP(BM38,整理番号表!$T$22:$U$30,2,FALSE),)","v":0},null,0,"",null,null,null,null,null,"",0,null,null,null,null,null,null,null,null,null,0,0,0,0,0,0,0,0,0,0,0,0,0,0,0,0,0,0,0,0,0,0,0,0,0,0,0,0,null,null,null,null,null,0,0,0,0,0,0,null,0,null,null,null,null,null,null,null,0,null,null,null,null,null,null,null,null,null,null,null,null,null,null,null,null,null,null,null,null,null,null,null,null,null,null,0,0,null,null,0,0,0,{"$f":"IF(OR(AND(1<=$FK38,$FK38<=3),$FK38=6),VLOOKUP($FK38,整理番号表!$B$32:$G$60,2,FALSE),)","v":0},{"$f":"IF(OR($FK38=4,$FK38=7),VLOOKUP($FK38,整理番号表!$B$32:$G$60,2,FALSE),)","v":0},{"$f":"IF($FK38=5,VLOOKUP($FK38,整理番号表!$B$32:$G$60,2,FALSE),)","v":0},{"$f":"IF(AND(8<=$FK38,$FK38<=13),VLOOKUP($FK38,整理番号表!$B$32:$G$60,2,FALSE),)","v":0},0,0,{"$f":"IF(AND(FE38<>1,$FP38=1,SUM($FQ38:FQ38)=0,$FF38=1,$FI38>=2),1,)","v":0},{"$f":"IF(AND(FE38<>1,$FP38=1,SUM($FQ38:FR38)=0,OR(AND($FF38=1,$FI38>0),$FI38>=4)),1,)","v":0},{"$f":"IF(AND(FE38<>1,$FP38=1,SUM($FQ38:FS38)=0,OR($FF38=1,$FI38>=2)),1,)","v":0},{"$f":"IF(AND(FE38<>1,$FP38=1,SUM($FQ38:FT38)=0,$FI38>0),1,)","v":0},0,0,{"$f":"IF(AND(FE38<>1,$FP38=2,SUM($FW38:FW38)=0,$FF38=1,$FJ38>=0.1),1,)","v":0},{"$f":"IF(AND(FE38<>1,$FP38=2,SUM($FW38:FX38)=0,OR(AND($FF38=1,$FI38>0),$FJ38>=0.2)),1,)","v":0},{"$f":"IF(AND(FE38<>1,$FP38=2,SUM($FW38:FY38)=0,OR($FF38=1,$FJ38>=0.1)),1,)","v":0},{"$f":"IF(AND(FE38<>1,$FP38=2,SUM($FW38:FZ38)=0,$FI38>0),1,)","v":0},0,{"$f":"IF(AND(FE38<>1,$FP38=3,SUM($GB38:GB38)=0,AND($FF38=1,$FJ38>=0.05)),1,)","v":0},{"$f":"IF(AND(FE38<>1,$FP38=3,SUM($GB38:GC38)=0,OR(AND($FF38=1,$FI38>0),$FJ38>=0.1)),1,)","v":0},{"$f":"IF(AND(FE38<>1,$FP38=3,SUM($GB38:GD38)=0,OR($FF38=1,$FJ38>=0.05)),1,)","v":0},{"$f":"IF(AND(FE38<>1,$FP38=3,SUM($GB38:GE38)=0,$FI38>0),1,)","v":0},0,null,0,0,0,0,0,0,0,0,0,0,0,0,0,0,0,0,0,0,0,0,0,0,0,0,0,0,0,0,0,0,0,0,0,0,0,0,0,0,0,0,0,0,0,0,0,0,0,0,0,0,0,0,0,0,0,0,0,0,0,0,0,0,0,0,0,0,0,0,0,0,0,0,0,0,0,0,0,0,0,"","","","","","","","","","","","","","","","○",0,0,0,0,0,0,0,"○",0,0,0,"○","○",null,0,0]
[0,0,0,0,0,0,0,0,0,0,27,null,null,null,null,{"$f":"IF(O39<>\"\",VLOOKUP(O39,整理番号表!$Z$17:$AA$20,2,FALSE),)","v":0},0,null,null,null,null,null,{"$f":"IF(V39<>0,VLOOKUP(V39,整理番号表!$B$6:$L$13,2,FALSE),)","v":0},0,{"$f":"IF(X39<>0,VLOOKUP(X39,整理番号表!$B$16:$C$18,2,FALSE),)","v":0},null,{"$f":"IF(Z39<>0,VLOOKUP(Z39,整理番号表!$B$22:$C$29,2,FALSE),)","v":0},null,null,{"$f":"IF(AC39<>0,VLOOKUP(AC39,整理番号表!$B$32:$G$60,2,FALSE),)","v":0},null,{"$f":"IF(AE39<>0,VLOOKUP(AE39,整理番号表!$P$5:$R$39,2,FALSE),)","v":0},null,0,null,null,{"$f":"IF(AJ39<>\"\",VLOOKUP(AJ39,整理番号表!$Z$6:$AA$14,2,FALSE),\"\")","v":""},0,null,null,null,null,null,{"$f":"IF(AQ39<>0,VLOOKUP(AQ39,整理番号表!$P$43:$Q$49,2,FALSE),)","v":0},null,null,null,null,0,0,null,0,null,null,null,0,0,0,null,null,0,0,null,{"$f":"IF(BK39<>0,VLOOKUP(BK39,整理番号表!$T$5:$U$16,2,FALSE),)","v":0},null,{"$f":"IF(BM39<>0,VLOOKUP(BM39,整理番号表!$T$22:$U$30,2,FALSE),)","v":0},null,0,"",null,null,null,null,null,"",0,null,null,null,null,null,null,null,null,null,0,0,0,0,0,0,0,0,0,0,0,0,0,0,0,0,0,0,0,0,0,0,0,0,0,0,0,0,null,null,null,null,null,0,0,0,0,0,0,null,0,null,null,null,null,null,null,null,0,null,null,null,null,null,null,null,null,null,null,null,null,null,null,null,null,null,null,null,null,null,null,null,null,null,null,0,0,null,null,0,0,0,{"$f":"IF(OR(AND(1<=$FK39,$FK39<=3),$FK39=6),VLOOKUP($FK39,整理番号表!$B$32:$G$60,2,FALSE),)","v":0},{"$f":"IF(OR($FK39=4,$FK39=7),VLOOKUP($FK39,整理番号表!$B$32:$G$60,2,FALSE),)","v":0},{"$f":"IF($FK39=5,VLOOKUP($FK39,整理番号表!$B$32:$G$60,2,FALSE),)","v":0},{"$f":"IF(AND(8<=$FK39,$FK39<=13),VLOOKUP($FK39,整理番号表!$B$32:$G$60,2,FALSE),)","v":0},0,0,{"$f":"IF(AND(FE39<>1,$FP39=1,SUM($FQ39:FQ39)=0,$FF39=1,$FI39>=2),1,)","v":0},{"$f":"IF(AND(FE39<>1,$FP39=1,SUM($FQ39:FR39)=0,OR(AND($FF39=1,$FI39>0),$FI39>=4)),1,)","v":0},{"$f":"IF(AND(FE39<>1,$FP39=1,SUM($FQ39:FS39)=0,OR($FF39=1,$FI39>=2)),1,)","v":0},{"$f":"IF(AND(FE39<>1,$FP39=1,SUM($FQ39:FT39)=0,$FI39>0),1,)","v":0},0,0,{"$f":"IF(AND(FE39<>1,$FP39=2,SUM($FW39:FW39)=0,$FF39=1,$FJ39>=0.1),1,)","v":0},{"$f":"IF(AND(FE39<>1,$FP39=2,SUM($FW39:FX39)=0,OR(AND($FF39=1,$FI39>0),$FJ39>=0.2)),1,)","v":0},{"$f":"IF(AND(FE39<>1,$FP39=2,SUM($FW39:FY39)=0,OR($FF39=1,$FJ39>=0.1)),1,)","v":0},{"$f":"IF(AND(FE39<>1,$FP39=2,SUM($FW39:FZ39)=0,$FI39>0),1,)","v":0},0,{"$f":"IF(AND(FE39<>1,$FP39=3,SUM($GB39:GB39)=0,AND($FF39=1,$FJ39>=0.05)),1,)","v":0},{"$f":"IF(AND(FE39<>1,$FP39=3,SUM($GB39:GC39)=0,OR(AND($FF39=1,$FI39>0),$FJ39>=0.1)),1,)","v":0},{"$f":"IF(AND(FE39<>1,$FP39=3,SUM($GB39:GD39)=0,OR($FF39=1,$FJ39>=0.05)),1,)","v":0},{"$f":"IF(AND(FE39<>1,$FP39=3,SUM($GB39:GE39)=0,$FI39>0),1,)","v":0},0,null,0,0,0,0,0,0,0,0,0,0,0,0,0,0,0,0,0,0,0,0,0,0,0,0,0,0,0,0,0,0,0,0,0,0,0,0,0,0,0,0,0,0,0,0,0,0,0,0,0,0,0,0,0,0,0,0,0,0,0,0,0,0,0,0,0,0,0,0,0,0,0,0,0,0,0,0,0,0,0,"","","","","","","","","","","","","","","","○",0,0,0,0,0,0,0,"○",0,0,0,"○","○",null,0,0]
[0,0,0,0,0,0,0,0,0,0,28,null,null,null,null,{"$f":"IF(O40<>\"\",VLOOKUP(O40,整理番号表!$Z$17:$AA$20,2,FALSE),)","v":0},0,null,null,null,null,null,{"$f":"IF(V40<>0,VLOOKUP(V40,整理番号表!$B$6:$L$13,2,FALSE),)","v":0},0,{"$f":"IF(X40<>0,VLOOKUP(X40,整理番号表!$B$16:$C$18,2,FALSE),)","v":0},null,{"$f":"IF(Z40<>0,VLOOKUP(Z40,整理番号表!$B$22:$C$29,2,FALSE),)","v":0},null,null,{"$f":"IF(AC40<>0,VLOOKUP(AC40,整理番号表!$B$32:$G$60,2,FALSE),)","v":0},null,{"$f":"IF(AE40<>0,VLOOKUP(AE40,整理番号表!$P$5:$R$39,2,FALSE),)","v":0},null,0,null,null,{"$f":"IF(AJ40<>\"\",VLOOKUP(AJ40,整理番号表!$Z$6:$AA$14,2,FALSE),\"\")","v":""},0,null,null,null,null,null,{"$f":"IF(AQ40<>0,VLOOKUP(AQ40,整理番号表!$P$43:$Q$49,2,FALSE),)","v":0},null,null,null,null,0,0,null,0,null,null,null,0,0,0,null,null,0,0,null,{"$f":"IF(BK40<>0,VLOOKUP(BK40,整理番号表!$T$5:$U$16,2,FALSE),)","v":0},null,{"$f":"IF(BM40<>0,VLOOKUP(BM40,整理番号表!$T$22:$U$30,2,FALSE),)","v":0},null,0,"",null,null,null,null,null,"",0,null,null,null,null,null,null,null,null,null,0,0,0,0,0,0,0,0,0,0,0,0,0,0,0,0,0,0,0,0,0,0,0,0,0,0,0,0,null,null,null,null,null,0,0,0,0,0,0,null,0,null,null,null,null,null,null,null,0,null,null,null,null,null,null,null,null,null,null,null,null,null,null,null,null,null,null,null,null,null,null,null,null,null,null,0,0,null,null,0,0,0,{"$f":"IF(OR(AND(1<=$FK40,$FK40<=3),$FK40=6),VLOOKUP($FK40,整理番号表!$B$32:$G$60,2,FALSE),)","v":0},{"$f":"IF(OR($FK40=4,$FK40=7),VLOOKUP($FK40,整理番号表!$B$32:$G$60,2,FALSE),)","v":0},{"$f":"IF($FK40=5,VLOOKUP($FK40,整理番号表!$B$32:$G$60,2,FALSE),)","v":0},{"$f":"IF(AND(8<=$FK40,$FK40<=13),VLOOKUP($FK40,整理番号表!$B$32:$G$60,2,FALSE),)","v":0},0,0,{"$f":"IF(AND(FE40<>1,$FP40=1,SUM($FQ40:FQ40)=0,$FF40=1,$FI40>=2),1,)","v":0},{"$f":"IF(AND(FE40<>1,$FP40=1,SUM($FQ40:FR40)=0,OR(AND($FF40=1,$FI40>0),$FI40>=4)),1,)","v":0},{"$f":"IF(AND(FE40<>1,$FP40=1,SUM($FQ40:FS40)=0,OR($FF40=1,$FI40>=2)),1,)","v":0},{"$f":"IF(AND(FE40<>1,$FP40=1,SUM($FQ40:FT40)=0,$FI40>0),1,)","v":0},0,0,{"$f":"IF(AND(FE40<>1,$FP40=2,SUM($FW40:FW40)=0,$FF40=1,$FJ40>=0.1),1,)","v":0},{"$f":"IF(AND(FE40<>1,$FP40=2,SUM($FW40:FX40)=0,OR(AND($FF40=1,$FI40>0),$FJ40>=0.2)),1,)","v":0},{"$f":"IF(AND(FE40<>1,$FP40=2,SUM($FW40:FY40)=0,OR($FF40=1,$FJ40>=0.1)),1,)","v":0},{"$f":"IF(AND(FE40<>1,$FP40=2,SUM($FW40:FZ40)=0,$FI40>0),1,)","v":0},0,{"$f":"IF(AND(FE40<>1,$FP40=3,SUM($GB40:GB40)=0,AND($FF40=1,$FJ40>=0.05)),1,)","v":0},{"$f":"IF(AND(FE40<>1,$FP40=3,SUM($GB40:GC40)=0,OR(AND($FF40=1,$FI40>0),$FJ40>=0.1)),1,)","v":0},{"$f":"IF(AND(FE40<>1,$FP40=3,SUM($GB40:GD40)=0,OR($FF40=1,$FJ40>=0.05)),1,)","v":0},{"$f":"IF(AND(FE40<>1,$FP40=3,SUM($GB40:GE40)=0,$FI40>0),1,)","v":0},0,null,0,0,0,0,0,0,0,0,0,0,0,0,0,0,0,0,0,0,0,0,0,0,0,0,0,0,0,0,0,0,0,0,0,0,0,0,0,0,0,0,0,0,0,0,0,0,0,0,0,0,0,0,0,0,0,0,0,0,0,0,0,0,0,0,0,0,0,0,0,0,0,0,0,0,0,0,0,0,0,"","","","","","","","","","","","","","","","○",0,0,0,0,0,0,0,"○",0,0,0,"○","○",null,0,0]
[0,0,0,0,0,0,0,0,0,0,29,null,null,null,null,{"$f":"IF(O41<>\"\",VLOOKUP(O41,整理番号表!$Z$17:$AA$20,2,FALSE),)","v":0},0,null,null,null,null,null,{"$f":"IF(V41<>0,VLOOKUP(V41,整理番号表!$B$6:$L$13,2,FALSE),)","v":0},0,{"$f":"IF(X41<>0,VLOOKUP(X41,整理番号表!$B$16:$C$18,2,FALSE),)","v":0},null,{"$f":"IF(Z41<>0,VLOOKUP(Z41,整理番号表!$B$22:$C$29,2,FALSE),)","v":0},null,null,{"$f":"IF(AC41<>0,VLOOKUP(AC41,整理番号表!$B$32:$G$60,2,FALSE),)","v":0},null,{"$f":"IF(AE41<>0,VLOOKUP(AE41,整理番号表!$P$5:$R$39,2,FALSE),)","v":0},null,0,null,null,{"$f":"IF(AJ41<>\"\",VLOOKUP(AJ41,整理番号表!$Z$6:$AA$14,2,FALSE),\"\")","v":""},0,null,null,null,null,null,{"$f":"IF(AQ41<>0,VLOOKUP(AQ41,整理番号表!$P$43:$Q$49,2,FALSE),)","v":0},null,null,null,null,0,0,null,0,null,null,null,0,0,0,null,null,0,0,null,{"$f":"IF(BK41<>0,VLOOKUP(BK41,整理番号表!$T$5:$U$16,2,FALSE),)","v":0},null,{"$f":"IF(BM41<>0,VLOOKUP(BM41,整理番号表!$T$22:$U$30,2,FALSE),)","v":0},null,0,"",null,null,null,null,null,"",0,null,null,null,null,null,null,null,null,null,0,0,0,0,0,0,0,0,0,0,0,0,0,0,0,0,0,0,0,0,0,0,0,0,0,0,0,0,null,null,null,null,null,0,0,0,0,0,0,null,0,null,null,null,null,null,null,null,0,null,null,null,null,null,null,null,null,null,null,null,null,null,null,null,null,null,null,null,null,null,null,null,null,null,null,0,0,null,null,0,0,0,{"$f":"IF(OR(AND(1<=$FK41,$FK41<=3),$FK41=6),VLOOKUP($FK41,整理番号表!$B$32:$G$60,2,FALSE),)","v":0},{"$f":"IF(OR($FK41=4,$FK41=7),VLOOKUP($FK41,整理番号表!$B$32:$G$60,2,FALSE),)","v":0},{"$f":"IF($FK41=5,VLOOKUP($FK41,整理番号表!$B$32:$G$60,2,FALSE),)","v":0},{"$f":"IF(AND(8<=$FK41,$FK41<=13),VLOOKUP($FK41,整理番号表!$B$32:$G$60,2,FALSE),)","v":0},0,0,{"$f":"IF(AND(FE41<>1,$FP41=1,SUM($FQ41:FQ41)=0,$FF41=1,$FI41>=2),1,)","v":0},{"$f":"IF(AND(FE41<>1,$FP41=1,SUM($FQ41:FR41)=0,OR(AND($FF41=1,$FI41>0),$FI41>=4)),1,)","v":0},{"$f":"IF(AND(FE41<>1,$FP41=1,SUM($FQ41:FS41)=0,OR($FF41=1,$FI41>=2)),1,)","v":0},{"$f":"IF(AND(FE41<>1,$FP41=1,SUM($FQ41:FT41)=0,$FI41>0),1,)","v":0},0,0,{"$f":"IF(AND(FE41<>1,$FP41=2,SUM($FW41:FW41)=0,$FF41=1,$FJ41>=0.1),1,)","v":0},{"$f":"IF(AND(FE41<>1,$FP41=2,SUM($FW41:FX41)=0,OR(AND($FF41=1,$FI41>0),$FJ41>=0.2)),1,)","v":0},{"$f":"IF(AND(FE41<>1,$FP41=2,SUM($FW41:FY41)=0,OR($FF41=1,$FJ41>=0.1)),1,)","v":0},{"$f":"IF(AND(FE41<>1,$FP41=2,SUM($FW41:FZ41)=0,$FI41>0),1,)","v":0},0,{"$f":"IF(AND(FE41<>1,$FP41=3,SUM($GB41:GB41)=0,AND($FF41=1,$FJ41>=0.05)),1,)","v":0},{"$f":"IF(AND(FE41<>1,$FP41=3,SUM($GB41:GC41)=0,OR(AND($FF41=1,$FI41>0),$FJ41>=0.1)),1,)","v":0},{"$f":"IF(AND(FE41<>1,$FP41=3,SUM($GB41:GD41)=0,OR($FF41=1,$FJ41>=0.05)),1,)","v":0},{"$f":"IF(AND(FE41<>1,$FP41=3,SUM($GB41:GE41)=0,$FI41>0),1,)","v":0},0,null,0,0,0,0,0,0,0,0,0,0,0,0,0,0,0,0,0,0,0,0,0,0,0,0,0,0,0,0,0,0,0,0,0,0,0,0,0,0,0,0,0,0,0,0,0,0,0,0,0,0,0,0,0,0,0,0,0,0,0,0,0,0,0,0,0,0,0,0,0,0,0,0,0,0,0,0,0,0,0,"","","","","","","","","","","","","","","","○",0,0,0,0,0,0,0,"○",0,0,0,"○","○",null,0,0]
[0,0,0,0,0,0,0,0,0,0,30,null,null,null,null,{"$f":"IF(O42<>\"\",VLOOKUP(O42,整理番号表!$Z$17:$AA$20,2,FALSE),)","v":0},0,null,null,null,null,null,{"$f":"IF(V42<>0,VLOOKUP(V42,整理番号表!$B$6:$L$13,2,FALSE),)","v":0},0,{"$f":"IF(X42<>0,VLOOKUP(X42,整理番号表!$B$16:$C$18,2,FALSE),)","v":0},null,{"$f":"IF(Z42<>0,VLOOKUP(Z42,整理番号表!$B$22:$C$29,2,FALSE),)","v":0},null,null,{"$f":"IF(AC42<>0,VLOOKUP(AC42,整理番号表!$B$32:$G$60,2,FALSE),)","v":0},null,{"$f":"IF(AE42<>0,VLOOKUP(AE42,整理番号表!$P$5:$R$39,2,FALSE),)","v":0},null,0,null,null,{"$f":"IF(AJ42<>\"\",VLOOKUP(AJ42,整理番号表!$Z$6:$AA$14,2,FALSE),\"\")","v":""},0,null,null,null,null,null,{"$f":"IF(AQ42<>0,VLOOKUP(AQ42,整理番号表!$P$43:$Q$49,2,FALSE),)","v":0},null,null,null,null,0,0,null,0,null,null,null,0,0,0,null,null,0,0,null,{"$f":"IF(BK42<>0,VLOOKUP(BK42,整理番号表!$T$5:$U$16,2,FALSE),)","v":0},null,{"$f":"IF(BM42<>0,VLOOKUP(BM42,整理番号表!$T$22:$U$30,2,FALSE),)","v":0},null,0,"",null,null,null,null,null,"",0,null,null,null,null,null,null,null,null,null,0,0,0,0,0,0,0,0,0,0,0,0,0,0,0,0,0,0,0,0,0,0,0,0,0,0,0,0,null,null,null,null,null,0,0,0,0,0,0,null,0,null,null,null,null,null,null,null,0,null,null,null,null,null,null,null,null,null,null,null,null,null,null,null,null,null,null,null,null,null,null,null,null,null,null,0,0,null,null,0,0,0,{"$f":"IF(OR(AND(1<=$FK42,$FK42<=3),$FK42=6),VLOOKUP($FK42,整理番号表!$B$32:$G$60,2,FALSE),)","v":0},{"$f":"IF(OR($FK42=4,$FK42=7),VLOOKUP($FK42,整理番号表!$B$32:$G$60,2,FALSE),)","v":0},{"$f":"IF($FK42=5,VLOOKUP($FK42,整理番号表!$B$32:$G$60,2,FALSE),)","v":0},{"$f":"IF(AND(8<=$FK42,$FK42<=13),VLOOKUP($FK42,整理番号表!$B$32:$G$60,2,FALSE),)","v":0},0,0,{"$f":"IF(AND(FE42<>1,$FP42=1,SUM($FQ42:FQ42)=0,$FF42=1,$FI42>=2),1,)","v":0},{"$f":"IF(AND(FE42<>1,$FP42=1,SUM($FQ42:FR42)=0,OR(AND($FF42=1,$FI42>0),$FI42>=4)),1,)","v":0},{"$f":"IF(AND(FE42<>1,$FP42=1,SUM($FQ42:FS42)=0,OR($FF42=1,$FI42>=2)),1,)","v":0},{"$f":"IF(AND(FE42<>1,$FP42=1,SUM($FQ42:FT42)=0,$FI42>0),1,)","v":0},0,0,{"$f":"IF(AND(FE42<>1,$FP42=2,SUM($FW42:FW42)=0,$FF42=1,$FJ42>=0.1),1,)","v":0},{"$f":"IF(AND(FE42<>1,$FP42=2,SUM($FW42:FX42)=0,OR(AND($FF42=1,$FI42>0),$FJ42>=0.2)),1,)","v":0},{"$f":"IF(AND(FE42<>1,$FP42=2,SUM($FW42:FY42)=0,OR($FF42=1,$FJ42>=0.1)),1,)","v":0},{"$f":"IF(AND(FE42<>1,$FP42=2,SUM($FW42:FZ42)=0,$FI42>0),1,)","v":0},0,{"$f":"IF(AND(FE42<>1,$FP42=3,SUM($GB42:GB42)=0,AND($FF42=1,$FJ42>=0.05)),1,)","v":0},{"$f":"IF(AND(FE42<>1,$FP42=3,SUM($GB42:GC42)=0,OR(AND($FF42=1,$FI42>0),$FJ42>=0.1)),1,)","v":0},{"$f":"IF(AND(FE42<>1,$FP42=3,SUM($GB42:GD42)=0,OR($FF42=1,$FJ42>=0.05)),1,)","v":0},{"$f":"IF(AND(FE42<>1,$FP42=3,SUM($GB42:GE42)=0,$FI42>0),1,)","v":0},0,null,0,0,0,0,0,0,0,0,0,0,0,0,0,0,0,0,0,0,0,0,0,0,0,0,0,0,0,0,0,0,0,0,0,0,0,0,0,0,0,0,0,0,0,0,0,0,0,0,0,0,0,0,0,0,0,0,0,0,0,0,0,0,0,0,0,0,0,0,0,0,0,0,0,0,0,0,0,0,0,"","","","","","","","","","","","","","","","○",0,0,0,0,0,0,0,"○",0,0,0,"○","○",null,0,0]
[0,0,0,0,0,0,0,0,0,0,31,null,null,null,null,{"$f":"IF(O43<>\"\",VLOOKUP(O43,整理番号表!$Z$17:$AA$20,2,FALSE),)","v":0},0,null,null,null,null,null,{"$f":"IF(V43<>0,VLOOKUP(V43,整理番号表!$B$6:$L$13,2,FALSE),)","v":0},0,{"$f":"IF(X43<>0,VLOOKUP(X43,整理番号表!$B$16:$C$18,2,FALSE),)","v":0},null,{"$f":"IF(Z43<>0,VLOOKUP(Z43,整理番号表!$B$22:$C$29,2,FALSE),)","v":0},null,null,{"$f":"IF(AC43<>0,VLOOKUP(AC43,整理番号表!$B$32:$G$60,2,FALSE),)","v":0},null,{"$f":"IF(AE43<>0,VLOOKUP(AE43,整理番号表!$P$5:$R$39,2,FALSE),)","v":0},null,0,null,null,{"$f":"IF(AJ43<>\"\",VLOOKUP(AJ43,整理番号表!$Z$6:$AA$14,2,FALSE),\"\")","v":""},0,null,null,null,null,null,{"$f":"IF(AQ43<>0,VLOOKUP(AQ43,整理番号表!$P$43:$Q$49,2,FALSE),)","v":0},null,null,null,null,0,0,null,0,null,null,null,0,0,0,null,null,0,0,null,{"$f":"IF(BK43<>0,VLOOKUP(BK43,整理番号表!$T$5:$U$16,2,FALSE),)","v":0},null,{"$f":"IF(BM43<>0,VLOOKUP(BM43,整理番号表!$T$22:$U$30,2,FALSE),)","v":0},null,0,"",null,null,null,null,null,"",0,null,null,null,null,null,null,null,null,null,0,0,0,0,0,0,0,0,0,0,0,0,0,0,0,0,0,0,0,0,0,0,0,0,0,0,0,0,null,null,null,null,null,0,0,0,0,0,0,null,0,null,null,null,null,null,null,null,0,null,null,null,null,null,null,null,null,null,null,null,null,null,null,null,null,null,null,null,null,null,null,null,null,null,null,0,0,null,null,0,0,0,{"$f":"IF(OR(AND(1<=$FK43,$FK43<=3),$FK43=6),VLOOKUP($FK43,整理番号表!$B$32:$G$60,2,FALSE),)","v":0},{"$f":"IF(OR($FK43=4,$FK43=7),VLOOKUP($FK43,整理番号表!$B$32:$G$60,2,FALSE),)","v":0},{"$f":"IF($FK43=5,VLOOKUP($FK43,整理番号表!$B$32:$G$60,2,FALSE),)","v":0},{"$f":"IF(AND(8<=$FK43,$FK43<=13),VLOOKUP($FK43,整理番号表!$B$32:$G$60,2,FALSE),)","v":0},0,0,{"$f":"IF(AND(FE43<>1,$FP43=1,SUM($FQ43:FQ43)=0,$FF43=1,$FI43>=2),1,)","v":0},{"$f":"IF(AND(FE43<>1,$FP43=1,SUM($FQ43:FR43)=0,OR(AND($FF43=1,$FI43>0),$FI43>=4)),1,)","v":0},{"$f":"IF(AND(FE43<>1,$FP43=1,SUM($FQ43:FS43)=0,OR($FF43=1,$FI43>=2)),1,)","v":0},{"$f":"IF(AND(FE43<>1,$FP43=1,SUM($FQ43:FT43)=0,$FI43>0),1,)","v":0},0,0,{"$f":"IF(AND(FE43<>1,$FP43=2,SUM($FW43:FW43)=0,$FF43=1,$FJ43>=0.1),1,)","v":0},{"$f":"IF(AND(FE43<>1,$FP43=2,SUM($FW43:FX43)=0,OR(AND($FF43=1,$FI43>0),$FJ43>=0.2)),1,)","v":0},{"$f":"IF(AND(FE43<>1,$FP43=2,SUM($FW43:FY43)=0,OR($FF43=1,$FJ43>=0.1)),1,)","v":0},{"$f":"IF(AND(FE43<>1,$FP43=2,SUM($FW43:FZ43)=0,$FI43>0),1,)","v":0},0,{"$f":"IF(AND(FE43<>1,$FP43=3,SUM($GB43:GB43)=0,AND($FF43=1,$FJ43>=0.05)),1,)","v":0},{"$f":"IF(AND(FE43<>1,$FP43=3,SUM($GB43:GC43)=0,OR(AND($FF43=1,$FI43>0),$FJ43>=0.1)),1,)","v":0},{"$f":"IF(AND(FE43<>1,$FP43=3,SUM($GB43:GD43)=0,OR($FF43=1,$FJ43>=0.05)),1,)","v":0},{"$f":"IF(AND(FE43<>1,$FP43=3,SUM($GB43:GE43)=0,$FI43>0),1,)","v":0},0,null,0,0,0,0,0,0,0,0,0,0,0,0,0,0,0,0,0,0,0,0,0,0,0,0,0,0,0,0,0,0,0,0,0,0,0,0,0,0,0,0,0,0,0,0,0,0,0,0,0,0,0,0,0,0,0,0,0,0,0,0,0,0,0,0,0,0,0,0,0,0,0,0,0,0,0,0,0,0,0,"","","","","","","","","","","","","","","","○",0,0,0,0,0,0,0,"○",0,0,0,"○","○",null,0,0]
[0,0,0,0,0,0,0,0,0,0,32,null,null,null,null,{"$f":"IF(O44<>\"\",VLOOKUP(O44,整理番号表!$Z$17:$AA$20,2,FALSE),)","v":0},0,null,null,null,null,null,{"$f":"IF(V44<>0,VLOOKUP(V44,整理番号表!$B$6:$L$13,2,FALSE),)","v":0},0,{"$f":"IF(X44<>0,VLOOKUP(X44,整理番号表!$B$16:$C$18,2,FALSE),)","v":0},null,{"$f":"IF(Z44<>0,VLOOKUP(Z44,整理番号表!$B$22:$C$29,2,FALSE),)","v":0},null,null,{"$f":"IF(AC44<>0,VLOOKUP(AC44,整理番号表!$B$32:$G$60,2,FALSE),)","v":0},null,{"$f":"IF(AE44<>0,VLOOKUP(AE44,整理番号表!$P$5:$R$39,2,FALSE),)","v":0},null,0,null,null,{"$f":"IF(AJ44<>\"\",VLOOKUP(AJ44,整理番号表!$Z$6:$AA$14,2,FALSE),\"\")","v":""},0,null,null,null,null,null,{"$f":"IF(AQ44<>0,VLOOKUP(AQ44,整理番号表!$P$43:$Q$49,2,FALSE),)","v":0},null,null,null,null,0,0,null,0,null,null,null,0,0,0,null,null,0,0,null,{"$f":"IF(BK44<>0,VLOOKUP(BK44,整理番号表!$T$5:$U$16,2,FALSE),)","v":0},null,{"$f":"IF(BM44<>0,VLOOKUP(BM44,整理番号表!$T$22:$U$30,2,FALSE),)","v":0},null,0,"",null,null,null,null,null,"",0,null,null,null,null,null,null,null,null,null,0,0,0,0,0,0,0,0,0,0,0,0,0,0,0,0,0,0,0,0,0,0,0,0,0,0,0,0,null,null,null,null,null,0,0,0,0,0,0,null,0,null,null,null,null,null,null,null,0,null,null,null,null,null,null,null,null,null,null,null,null,null,null,null,null,null,null,null,null,null,null,null,null,null,null,0,0,null,null,0,0,0,{"$f":"IF(OR(AND(1<=$FK44,$FK44<=3),$FK44=6),VLOOKUP($FK44,整理番号表!$B$32:$G$60,2,FALSE),)","v":0},{"$f":"IF(OR($FK44=4,$FK44=7),VLOOKUP($FK44,整理番号表!$B$32:$G$60,2,FALSE),)","v":0},{"$f":"IF($FK44=5,VLOOKUP($FK44,整理番号表!$B$32:$G$60,2,FALSE),)","v":0},{"$f":"IF(AND(8<=$FK44,$FK44<=13),VLOOKUP($FK44,整理番号表!$B$32:$G$60,2,FALSE),)","v":0},0,0,{"$f":"IF(AND(FE44<>1,$FP44=1,SUM($FQ44:FQ44)=0,$FF44=1,$FI44>=2),1,)","v":0},{"$f":"IF(AND(FE44<>1,$FP44=1,SUM($FQ44:FR44)=0,OR(AND($FF44=1,$FI44>0),$FI44>=4)),1,)","v":0},{"$f":"IF(AND(FE44<>1,$FP44=1,SUM($FQ44:FS44)=0,OR($FF44=1,$FI44>=2)),1,)","v":0},{"$f":"IF(AND(FE44<>1,$FP44=1,SUM($FQ44:FT44)=0,$FI44>0),1,)","v":0},0,0,{"$f":"IF(AND(FE44<>1,$FP44=2,SUM($FW44:FW44)=0,$FF44=1,$FJ44>=0.1),1,)","v":0},{"$f":"IF(AND(FE44<>1,$FP44=2,SUM($FW44:FX44)=0,OR(AND($FF44=1,$FI44>0),$FJ44>=0.2)),1,)","v":0},{"$f":"IF(AND(FE44<>1,$FP44=2,SUM($FW44:FY44)=0,OR($FF44=1,$FJ44>=0.1)),1,)","v":0},{"$f":"IF(AND(FE44<>1,$FP44=2,SUM($FW44:FZ44)=0,$FI44>0),1,)","v":0},0,{"$f":"IF(AND(FE44<>1,$FP44=3,SUM($GB44:GB44)=0,AND($FF44=1,$FJ44>=0.05)),1,)","v":0},{"$f":"IF(AND(FE44<>1,$FP44=3,SUM($GB44:GC44)=0,OR(AND($FF44=1,$FI44>0),$FJ44>=0.1)),1,)","v":0},{"$f":"IF(AND(FE44<>1,$FP44=3,SUM($GB44:GD44)=0,OR($FF44=1,$FJ44>=0.05)),1,)","v":0},{"$f":"IF(AND(FE44<>1,$FP44=3,SUM($GB44:GE44)=0,$FI44>0),1,)","v":0},0,null,0,0,0,0,0,0,0,0,0,0,0,0,0,0,0,0,0,0,0,0,0,0,0,0,0,0,0,0,0,0,0,0,0,0,0,0,0,0,0,0,0,0,0,0,0,0,0,0,0,0,0,0,0,0,0,0,0,0,0,0,0,0,0,0,0,0,0,0,0,0,0,0,0,0,0,0,0,0,0,"","","","","","","","","","","","","","","","○",0,0,0,0,0,0,0,"○",0,0,0,"○","○",null,0,0]
[0,0,0,0,0,0,0,0,0,0,33,null,null,null,null,{"$f":"IF(O45<>\"\",VLOOKUP(O45,整理番号表!$Z$17:$AA$20,2,FALSE),)","v":0},0,null,null,null,null,null,{"$f":"IF(V45<>0,VLOOKUP(V45,整理番号表!$B$6:$L$13,2,FALSE),)","v":0},0,{"$f":"IF(X45<>0,VLOOKUP(X45,整理番号表!$B$16:$C$18,2,FALSE),)","v":0},null,{"$f":"IF(Z45<>0,VLOOKUP(Z45,整理番号表!$B$22:$C$29,2,FALSE),)","v":0},null,null,{"$f":"IF(AC45<>0,VLOOKUP(AC45,整理番号表!$B$32:$G$60,2,FALSE),)","v":0},null,{"$f":"IF(AE45<>0,VLOOKUP(AE45,整理番号表!$P$5:$R$39,2,FALSE),)","v":0},null,0,null,null,{"$f":"IF(AJ45<>\"\",VLOOKUP(AJ45,整理番号表!$Z$6:$AA$14,2,FALSE),\"\")","v":""},0,null,null,null,null,null,{"$f":"IF(AQ45<>0,VLOOKUP(AQ45,整理番号表!$P$43:$Q$49,2,FALSE),)","v":0},null,null,null,null,0,0,null,0,null,null,null,0,0,0,null,null,0,0,null,{"$f":"IF(BK45<>0,VLOOKUP(BK45,整理番号表!$T$5:$U$16,2,FALSE),)","v":0},null,{"$f":"IF(BM45<>0,VLOOKUP(BM45,整理番号表!$T$22:$U$30,2,FALSE),)","v":0},null,0,"",null,null,null,null,null,"",0,null,null,null,null,null,null,null,null,null,0,0,0,0,0,0,0,0,0,0,0,0,0,0,0,0,0,0,0,0,0,0,0,0,0,0,0,0,null,null,null,null,null,0,0,0,0,0,0,null,0,null,null,null,null,null,null,null,0,null,null,null,null,null,null,null,null,null,null,null,null,null,null,null,null,null,null,null,null,null,null,null,null,null,null,0,0,null,null,0,0,0,{"$f":"IF(OR(AND(1<=$FK45,$FK45<=3),$FK45=6),VLOOKUP($FK45,整理番号表!$B$32:$G$60,2,FALSE),)","v":0},{"$f":"IF(OR($FK45=4,$FK45=7),VLOOKUP($FK45,整理番号表!$B$32:$G$60,2,FALSE),)","v":0},{"$f":"IF($FK45=5,VLOOKUP($FK45,整理番号表!$B$32:$G$60,2,FALSE),)","v":0},{"$f":"IF(AND(8<=$FK45,$FK45<=13),VLOOKUP($FK45,整理番号表!$B$32:$G$60,2,FALSE),)","v":0},0,0,{"$f":"IF(AND(FE45<>1,$FP45=1,SUM($FQ45:FQ45)=0,$FF45=1,$FI45>=2),1,)","v":0},{"$f":"IF(AND(FE45<>1,$FP45=1,SUM($FQ45:FR45)=0,OR(AND($FF45=1,$FI45>0),$FI45>=4)),1,)","v":0},{"$f":"IF(AND(FE45<>1,$FP45=1,SUM($FQ45:FS45)=0,OR($FF45=1,$FI45>=2)),1,)","v":0},{"$f":"IF(AND(FE45<>1,$FP45=1,SUM($FQ45:FT45)=0,$FI45>0),1,)","v":0},0,0,{"$f":"IF(AND(FE45<>1,$FP45=2,SUM($FW45:FW45)=0,$FF45=1,$FJ45>=0.1),1,)","v":0},{"$f":"IF(AND(FE45<>1,$FP45=2,SUM($FW45:FX45)=0,OR(AND($FF45=1,$FI45>0),$FJ45>=0.2)),1,)","v":0},{"$f":"IF(AND(FE45<>1,$FP45=2,SUM($FW45:FY45)=0,OR($FF45=1,$FJ45>=0.1)),1,)","v":0},{"$f":"IF(AND(FE45<>1,$FP45=2,SUM($FW45:FZ45)=0,$FI45>0),1,)","v":0},0,{"$f":"IF(AND(FE45<>1,$FP45=3,SUM($GB45:GB45)=0,AND($FF45=1,$FJ45>=0.05)),1,)","v":0},{"$f":"IF(AND(FE45<>1,$FP45=3,SUM($GB45:GC45)=0,OR(AND($FF45=1,$FI45>0),$FJ45>=0.1)),1,)","v":0},{"$f":"IF(AND(FE45<>1,$FP45=3,SUM($GB45:GD45)=0,OR($FF45=1,$FJ45>=0.05)),1,)","v":0},{"$f":"IF(AND(FE45<>1,$FP45=3,SUM($GB45:GE45)=0,$FI45>0),1,)","v":0},0,null,0,0,0,0,0,0,0,0,0,0,0,0,0,0,0,0,0,0,0,0,0,0,0,0,0,0,0,0,0,0,0,0,0,0,0,0,0,0,0,0,0,0,0,0,0,0,0,0,0,0,0,0,0,0,0,0,0,0,0,0,0,0,0,0,0,0,0,0,0,0,0,0,0,0,0,0,0,0,0,"","","","","","","","","","","","","","","","○",0,0,0,0,0,0,0,"○",0,0,0,"○","○",null,0,0]
[0,0,0,0,0,0,0,0,0,0,34,null,null,null,null,{"$f":"IF(O46<>\"\",VLOOKUP(O46,整理番号表!$Z$17:$AA$20,2,FALSE),)","v":0},0,null,null,null,null,null,{"$f":"IF(V46<>0,VLOOKUP(V46,整理番号表!$B$6:$L$13,2,FALSE),)","v":0},0,{"$f":"IF(X46<>0,VLOOKUP(X46,整理番号表!$B$16:$C$18,2,FALSE),)","v":0},null,{"$f":"IF(Z46<>0,VLOOKUP(Z46,整理番号表!$B$22:$C$29,2,FALSE),)","v":0},null,null,{"$f":"IF(AC46<>0,VLOOKUP(AC46,整理番号表!$B$32:$G$60,2,FALSE),)","v":0},null,{"$f":"IF(AE46<>0,VLOOKUP(AE46,整理番号表!$P$5:$R$39,2,FALSE),)","v":0},null,0,null,null,{"$f":"IF(AJ46<>\"\",VLOOKUP(AJ46,整理番号表!$Z$6:$AA$14,2,FALSE),\"\")","v":""},0,null,null,null,null,null,{"$f":"IF(AQ46<>0,VLOOKUP(AQ46,整理番号表!$P$43:$Q$49,2,FALSE),)","v":0},null,null,null,null,0,0,null,0,null,null,null,0,0,0,null,null,0,0,null,{"$f":"IF(BK46<>0,VLOOKUP(BK46,整理番号表!$T$5:$U$16,2,FALSE),)","v":0},null,{"$f":"IF(BM46<>0,VLOOKUP(BM46,整理番号表!$T$22:$U$30,2,FALSE),)","v":0},null,0,"",null,null,null,null,null,"",0,null,null,null,null,null,null,null,null,null,0,0,0,0,0,0,0,0,0,0,0,0,0,0,0,0,0,0,0,0,0,0,0,0,0,0,0,0,null,null,null,null,null,0,0,0,0,0,0,null,0,null,null,null,null,null,null,null,0,null,null,null,null,null,null,null,null,null,null,null,null,null,null,null,null,null,null,null,null,null,null,null,null,null,null,0,0,null,null,0,0,0,{"$f":"IF(OR(AND(1<=$FK46,$FK46<=3),$FK46=6),VLOOKUP($FK46,整理番号表!$B$32:$G$60,2,FALSE),)","v":0},{"$f":"IF(OR($FK46=4,$FK46=7),VLOOKUP($FK46,整理番号表!$B$32:$G$60,2,FALSE),)","v":0},{"$f":"IF($FK46=5,VLOOKUP($FK46,整理番号表!$B$32:$G$60,2,FALSE),)","v":0},{"$f":"IF(AND(8<=$FK46,$FK46<=13),VLOOKUP($FK46,整理番号表!$B$32:$G$60,2,FALSE),)","v":0},0,0,{"$f":"IF(AND(FE46<>1,$FP46=1,SUM($FQ46:FQ46)=0,$FF46=1,$FI46>=2),1,)","v":0},{"$f":"IF(AND(FE46<>1,$FP46=1,SUM($FQ46:FR46)=0,OR(AND($FF46=1,$FI46>0),$FI46>=4)),1,)","v":0},{"$f":"IF(AND(FE46<>1,$FP46=1,SUM($FQ46:FS46)=0,OR($FF46=1,$FI46>=2)),1,)","v":0},{"$f":"IF(AND(FE46<>1,$FP46=1,SUM($FQ46:FT46)=0,$FI46>0),1,)","v":0},0,0,{"$f":"IF(AND(FE46<>1,$FP46=2,SUM($FW46:FW46)=0,$FF46=1,$FJ46>=0.1),1,)","v":0},{"$f":"IF(AND(FE46<>1,$FP46=2,SUM($FW46:FX46)=0,OR(AND($FF46=1,$FI46>0),$FJ46>=0.2)),1,)","v":0},{"$f":"IF(AND(FE46<>1,$FP46=2,SUM($FW46:FY46)=0,OR($FF46=1,$FJ46>=0.1)),1,)","v":0},{"$f":"IF(AND(FE46<>1,$FP46=2,SUM($FW46:FZ46)=0,$FI46>0),1,)","v":0},0,{"$f":"IF(AND(FE46<>1,$FP46=3,SUM($GB46:GB46)=0,AND($FF46=1,$FJ46>=0.05)),1,)","v":0},{"$f":"IF(AND(FE46<>1,$FP46=3,SUM($GB46:GC46)=0,OR(AND($FF46=1,$FI46>0),$FJ46>=0.1)),1,)","v":0},{"$f":"IF(AND(FE46<>1,$FP46=3,SUM($GB46:GD46)=0,OR($FF46=1,$FJ46>=0.05)),1,)","v":0},{"$f":"IF(AND(FE46<>1,$FP46=3,SUM($GB46:GE46)=0,$FI46>0),1,)","v":0},0,null,0,0,0,0,0,0,0,0,0,0,0,0,0,0,0,0,0,0,0,0,0,0,0,0,0,0,0,0,0,0,0,0,0,0,0,0,0,0,0,0,0,0,0,0,0,0,0,0,0,0,0,0,0,0,0,0,0,0,0,0,0,0,0,0,0,0,0,0,0,0,0,0,0,0,0,0,0,0,0,"","","","","","","","","","","","","","","","○",0,0,0,0,0,0,0,"○",0,0,0,"○","○",null,0,0]
[0,0,0,0,0,0,0,0,0,0,35,null,null,null,null,{"$f":"IF(O47<>\"\",VLOOKUP(O47,整理番号表!$Z$17:$AA$20,2,FALSE),)","v":0},0,null,null,null,null,null,{"$f":"IF(V47<>0,VLOOKUP(V47,整理番号表!$B$6:$L$13,2,FALSE),)","v":0},0,{"$f":"IF(X47<>0,VLOOKUP(X47,整理番号表!$B$16:$C$18,2,FALSE),)","v":0},null,{"$f":"IF(Z47<>0,VLOOKUP(Z47,整理番号表!$B$22:$C$29,2,FALSE),)","v":0},null,null,{"$f":"IF(AC47<>0,VLOOKUP(AC47,整理番号表!$B$32:$G$60,2,FALSE),)","v":0},null,{"$f":"IF(AE47<>0,VLOOKUP(AE47,整理番号表!$P$5:$R$39,2,FALSE),)","v":0},null,0,null,null,{"$f":"IF(AJ47<>\"\",VLOOKUP(AJ47,整理番号表!$Z$6:$AA$14,2,FALSE),\"\")","v":""},0,null,null,null,null,null,{"$f":"IF(AQ47<>0,VLOOKUP(AQ47,整理番号表!$P$43:$Q$49,2,FALSE),)","v":0},null,null,null,null,0,0,null,0,null,null,null,0,0,0,null,null,0,0,null,{"$f":"IF(BK47<>0,VLOOKUP(BK47,整理番号表!$T$5:$U$16,2,FALSE),)","v":0},null,{"$f":"IF(BM47<>0,VLOOKUP(BM47,整理番号表!$T$22:$U$30,2,FALSE),)","v":0},null,0,"",null,null,null,null,null,"",0,null,null,null,null,null,null,null,null,null,0,0,0,0,0,0,0,0,0,0,0,0,0,0,0,0,0,0,0,0,0,0,0,0,0,0,0,0,null,null,null,null,null,0,0,0,0,0,0,null,0,null,null,null,null,null,null,null,0,null,null,null,null,null,null,null,null,null,null,null,null,null,null,null,null,null,null,null,null,null,null,null,null,null,null,0,0,null,null,0,0,0,{"$f":"IF(OR(AND(1<=$FK47,$FK47<=3),$FK47=6),VLOOKUP($FK47,整理番号表!$B$32:$G$60,2,FALSE),)","v":0},{"$f":"IF(OR($FK47=4,$FK47=7),VLOOKUP($FK47,整理番号表!$B$32:$G$60,2,FALSE),)","v":0},{"$f":"IF($FK47=5,VLOOKUP($FK47,整理番号表!$B$32:$G$60,2,FALSE),)","v":0},{"$f":"IF(AND(8<=$FK47,$FK47<=13),VLOOKUP($FK47,整理番号表!$B$32:$G$60,2,FALSE),)","v":0},0,0,{"$f":"IF(AND(FE47<>1,$FP47=1,SUM($FQ47:FQ47)=0,$FF47=1,$FI47>=2),1,)","v":0},{"$f":"IF(AND(FE47<>1,$FP47=1,SUM($FQ47:FR47)=0,OR(AND($FF47=1,$FI47>0),$FI47>=4)),1,)","v":0},{"$f":"IF(AND(FE47<>1,$FP47=1,SUM($FQ47:FS47)=0,OR($FF47=1,$FI47>=2)),1,)","v":0},{"$f":"IF(AND(FE47<>1,$FP47=1,SUM($FQ47:FT47)=0,$FI47>0),1,)","v":0},0,0,{"$f":"IF(AND(FE47<>1,$FP47=2,SUM($FW47:FW47)=0,$FF47=1,$FJ47>=0.1),1,)","v":0},{"$f":"IF(AND(FE47<>1,$FP47=2,SUM($FW47:FX47)=0,OR(AND($FF47=1,$FI47>0),$FJ47>=0.2)),1,)","v":0},{"$f":"IF(AND(FE47<>1,$FP47=2,SUM($FW47:FY47)=0,OR($FF47=1,$FJ47>=0.1)),1,)","v":0},{"$f":"IF(AND(FE47<>1,$FP47=2,SUM($FW47:FZ47)=0,$FI47>0),1,)","v":0},0,{"$f":"IF(AND(FE47<>1,$FP47=3,SUM($GB47:GB47)=0,AND($FF47=1,$FJ47>=0.05)),1,)","v":0},{"$f":"IF(AND(FE47<>1,$FP47=3,SUM($GB47:GC47)=0,OR(AND($FF47=1,$FI47>0),$FJ47>=0.1)),1,)","v":0},{"$f":"IF(AND(FE47<>1,$FP47=3,SUM($GB47:GD47)=0,OR($FF47=1,$FJ47>=0.05)),1,)","v":0},{"$f":"IF(AND(FE47<>1,$FP47=3,SUM($GB47:GE47)=0,$FI47>0),1,)","v":0},0,null,0,0,0,0,0,0,0,0,0,0,0,0,0,0,0,0,0,0,0,0,0,0,0,0,0,0,0,0,0,0,0,0,0,0,0,0,0,0,0,0,0,0,0,0,0,0,0,0,0,0,0,0,0,0,0,0,0,0,0,0,0,0,0,0,0,0,0,0,0,0,0,0,0,0,0,0,0,0,0,"","","","","","","","","","","","","","","","○",0,0,0,0,0,0,0,"○",0,0,0,"○","○",null,0,0]
[0,0,0,0,0,0,0,0,0,0,36,null,null,null,null,{"$f":"IF(O48<>\"\",VLOOKUP(O48,整理番号表!$Z$17:$AA$20,2,FALSE),)","v":0},0,null,null,null,null,null,{"$f":"IF(V48<>0,VLOOKUP(V48,整理番号表!$B$6:$L$13,2,FALSE),)","v":0},0,{"$f":"IF(X48<>0,VLOOKUP(X48,整理番号表!$B$16:$C$18,2,FALSE),)","v":0},null,{"$f":"IF(Z48<>0,VLOOKUP(Z48,整理番号表!$B$22:$C$29,2,FALSE),)","v":0},null,null,{"$f":"IF(AC48<>0,VLOOKUP(AC48,整理番号表!$B$32:$G$60,2,FALSE),)","v":0},null,{"$f":"IF(AE48<>0,VLOOKUP(AE48,整理番号表!$P$5:$R$39,2,FALSE),)","v":0},null,0,null,null,{"$f":"IF(AJ48<>\"\",VLOOKUP(AJ48,整理番号表!$Z$6:$AA$14,2,FALSE),\"\")","v":""},0,null,null,null,null,null,{"$f":"IF(AQ48<>0,VLOOKUP(AQ48,整理番号表!$P$43:$Q$49,2,FALSE),)","v":0},null,null,null,null,0,0,null,0,null,null,null,0,0,0,null,null,0,0,null,{"$f":"IF(BK48<>0,VLOOKUP(BK48,整理番号表!$T$5:$U$16,2,FALSE),)","v":0},null,{"$f":"IF(BM48<>0,VLOOKUP(BM48,整理番号表!$T$22:$U$30,2,FALSE),)","v":0},null,0,"",null,null,null,null,null,"",0,null,null,null,null,null,null,null,null,null,0,0,0,0,0,0,0,0,0,0,0,0,0,0,0,0,0,0,0,0,0,0,0,0,0,0,0,0,null,null,null,null,null,0,0,0,0,0,0,null,0,null,null,null,null,null,null,null,0,null,null,null,null,null,null,null,null,null,null,null,null,null,null,null,null,null,null,null,null,null,null,null,null,null,null,0,0,null,null,0,0,0,{"$f":"IF(OR(AND(1<=$FK48,$FK48<=3),$FK48=6),VLOOKUP($FK48,整理番号表!$B$32:$G$60,2,FALSE),)","v":0},{"$f":"IF(OR($FK48=4,$FK48=7),VLOOKUP($FK48,整理番号表!$B$32:$G$60,2,FALSE),)","v":0},{"$f":"IF($FK48=5,VLOOKUP($FK48,整理番号表!$B$32:$G$60,2,FALSE),)","v":0},{"$f":"IF(AND(8<=$FK48,$FK48<=13),VLOOKUP($FK48,整理番号表!$B$32:$G$60,2,FALSE),)","v":0},0,0,{"$f":"IF(AND(FE48<>1,$FP48=1,SUM($FQ48:FQ48)=0,$FF48=1,$FI48>=2),1,)","v":0},{"$f":"IF(AND(FE48<>1,$FP48=1,SUM($FQ48:FR48)=0,OR(AND($FF48=1,$FI48>0),$FI48>=4)),1,)","v":0},{"$f":"IF(AND(FE48<>1,$FP48=1,SUM($FQ48:FS48)=0,OR($FF48=1,$FI48>=2)),1,)","v":0},{"$f":"IF(AND(FE48<>1,$FP48=1,SUM($FQ48:FT48)=0,$FI48>0),1,)","v":0},0,0,{"$f":"IF(AND(FE48<>1,$FP48=2,SUM($FW48:FW48)=0,$FF48=1,$FJ48>=0.1),1,)","v":0},{"$f":"IF(AND(FE48<>1,$FP48=2,SUM($FW48:FX48)=0,OR(AND($FF48=1,$FI48>0),$FJ48>=0.2)),1,)","v":0},{"$f":"IF(AND(FE48<>1,$FP48=2,SUM($FW48:FY48)=0,OR($FF48=1,$FJ48>=0.1)),1,)","v":0},{"$f":"IF(AND(FE48<>1,$FP48=2,SUM($FW48:FZ48)=0,$FI48>0),1,)","v":0},0,{"$f":"IF(AND(FE48<>1,$FP48=3,SUM($GB48:GB48)=0,AND($FF48=1,$FJ48>=0.05)),1,)","v":0},{"$f":"IF(AND(FE48<>1,$FP48=3,SUM($GB48:GC48)=0,OR(AND($FF48=1,$FI48>0),$FJ48>=0.1)),1,)","v":0},{"$f":"IF(AND(FE48<>1,$FP48=3,SUM($GB48:GD48)=0,OR($FF48=1,$FJ48>=0.05)),1,)","v":0},{"$f":"IF(AND(FE48<>1,$FP48=3,SUM($GB48:GE48)=0,$FI48>0),1,)","v":0},0,null,0,0,0,0,0,0,0,0,0,0,0,0,0,0,0,0,0,0,0,0,0,0,0,0,0,0,0,0,0,0,0,0,0,0,0,0,0,0,0,0,0,0,0,0,0,0,0,0,0,0,0,0,0,0,0,0,0,0,0,0,0,0,0,0,0,0,0,0,0,0,0,0,0,0,0,0,0,0,0,"","","","","","","","","","","","","","","","○",0,0,0,0,0,0,0,"○",0,0,0,"○","○",null,0,0]
[0,0,0,0,0,0,0,0,0,0,37,null,null,null,null,{"$f":"IF(O49<>\"\",VLOOKUP(O49,整理番号表!$Z$17:$AA$20,2,FALSE),)","v":0},0,null,null,null,null,null,{"$f":"IF(V49<>0,VLOOKUP(V49,整理番号表!$B$6:$L$13,2,FALSE),)","v":0},0,{"$f":"IF(X49<>0,VLOOKUP(X49,整理番号表!$B$16:$C$18,2,FALSE),)","v":0},null,{"$f":"IF(Z49<>0,VLOOKUP(Z49,整理番号表!$B$22:$C$29,2,FALSE),)","v":0},null,null,{"$f":"IF(AC49<>0,VLOOKUP(AC49,整理番号表!$B$32:$G$60,2,FALSE),)","v":0},null,{"$f":"IF(AE49<>0,VLOOKUP(AE49,整理番号表!$P$5:$R$39,2,FALSE),)","v":0},null,0,null,null,{"$f":"IF(AJ49<>\"\",VLOOKUP(AJ49,整理番号表!$Z$6:$AA$14,2,FALSE),\"\")","v":""},0,null,null,null,null,null,{"$f":"IF(AQ49<>0,VLOOKUP(AQ49,整理番号表!$P$43:$Q$49,2,FALSE),)","v":0},null,null,null,null,0,0,null,0,null,null,null,0,0,0,null,null,0,0,null,{"$f":"IF(BK49<>0,VLOOKUP(BK49,整理番号表!$T$5:$U$16,2,FALSE),)","v":0},null,{"$f":"IF(BM49<>0,VLOOKUP(BM49,整理番号表!$T$22:$U$30,2,FALSE),)","v":0},null,0,"",null,null,null,null,null,"",0,null,null,null,null,null,null,null,null,null,0,0,0,0,0,0,0,0,0,0,0,0,0,0,0,0,0,0,0,0,0,0,0,0,0,0,0,0,null,null,null,null,null,0,0,0,0,0,0,null,0,null,null,null,null,null,null,null,0,null,null,null,null,null,null,null,null,null,null,null,null,null,null,null,null,null,null,null,null,null,null,null,null,null,null,0,0,null,null,0,0,0,{"$f":"IF(OR(AND(1<=$FK49,$FK49<=3),$FK49=6),VLOOKUP($FK49,整理番号表!$B$32:$G$60,2,FALSE),)","v":0},{"$f":"IF(OR($FK49=4,$FK49=7),VLOOKUP($FK49,整理番号表!$B$32:$G$60,2,FALSE),)","v":0},{"$f":"IF($FK49=5,VLOOKUP($FK49,整理番号表!$B$32:$G$60,2,FALSE),)","v":0},{"$f":"IF(AND(8<=$FK49,$FK49<=13),VLOOKUP($FK49,整理番号表!$B$32:$G$60,2,FALSE),)","v":0},0,0,{"$f":"IF(AND(FE49<>1,$FP49=1,SUM($FQ49:FQ49)=0,$FF49=1,$FI49>=2),1,)","v":0},{"$f":"IF(AND(FE49<>1,$FP49=1,SUM($FQ49:FR49)=0,OR(AND($FF49=1,$FI49>0),$FI49>=4)),1,)","v":0},{"$f":"IF(AND(FE49<>1,$FP49=1,SUM($FQ49:FS49)=0,OR($FF49=1,$FI49>=2)),1,)","v":0},{"$f":"IF(AND(FE49<>1,$FP49=1,SUM($FQ49:FT49)=0,$FI49>0),1,)","v":0},0,0,{"$f":"IF(AND(FE49<>1,$FP49=2,SUM($FW49:FW49)=0,$FF49=1,$FJ49>=0.1),1,)","v":0},{"$f":"IF(AND(FE49<>1,$FP49=2,SUM($FW49:FX49)=0,OR(AND($FF49=1,$FI49>0),$FJ49>=0.2)),1,)","v":0},{"$f":"IF(AND(FE49<>1,$FP49=2,SUM($FW49:FY49)=0,OR($FF49=1,$FJ49>=0.1)),1,)","v":0},{"$f":"IF(AND(FE49<>1,$FP49=2,SUM($FW49:FZ49)=0,$FI49>0),1,)","v":0},0,{"$f":"IF(AND(FE49<>1,$FP49=3,SUM($GB49:GB49)=0,AND($FF49=1,$FJ49>=0.05)),1,)","v":0},{"$f":"IF(AND(FE49<>1,$FP49=3,SUM($GB49:GC49)=0,OR(AND($FF49=1,$FI49>0),$FJ49>=0.1)),1,)","v":0},{"$f":"IF(AND(FE49<>1,$FP49=3,SUM($GB49:GD49)=0,OR($FF49=1,$FJ49>=0.05)),1,)","v":0},{"$f":"IF(AND(FE49<>1,$FP49=3,SUM($GB49:GE49)=0,$FI49>0),1,)","v":0},0,null,0,0,0,0,0,0,0,0,0,0,0,0,0,0,0,0,0,0,0,0,0,0,0,0,0,0,0,0,0,0,0,0,0,0,0,0,0,0,0,0,0,0,0,0,0,0,0,0,0,0,0,0,0,0,0,0,0,0,0,0,0,0,0,0,0,0,0,0,0,0,0,0,0,0,0,0,0,0,0,"","","","","","","","","","","","","","","","○",0,0,0,0,0,0,0,"○",0,0,0,"○","○",null,0,0]
[0,0,0,0,0,0,0,0,0,0,38,null,null,null,null,{"$f":"IF(O50<>\"\",VLOOKUP(O50,整理番号表!$Z$17:$AA$20,2,FALSE),)","v":0},0,null,null,null,null,null,{"$f":"IF(V50<>0,VLOOKUP(V50,整理番号表!$B$6:$L$13,2,FALSE),)","v":0},0,{"$f":"IF(X50<>0,VLOOKUP(X50,整理番号表!$B$16:$C$18,2,FALSE),)","v":0},null,{"$f":"IF(Z50<>0,VLOOKUP(Z50,整理番号表!$B$22:$C$29,2,FALSE),)","v":0},null,null,{"$f":"IF(AC50<>0,VLOOKUP(AC50,整理番号表!$B$32:$G$60,2,FALSE),)","v":0},null,{"$f":"IF(AE50<>0,VLOOKUP(AE50,整理番号表!$P$5:$R$39,2,FALSE),)","v":0},null,0,null,null,{"$f":"IF(AJ50<>\"\",VLOOKUP(AJ50,整理番号表!$Z$6:$AA$14,2,FALSE),\"\")","v":""},0,null,null,null,null,null,{"$f":"IF(AQ50<>0,VLOOKUP(AQ50,整理番号表!$P$43:$Q$49,2,FALSE),)","v":0},null,null,null,null,0,0,null,0,null,null,null,0,0,0,null,null,0,0,null,{"$f":"IF(BK50<>0,VLOOKUP(BK50,整理番号表!$T$5:$U$16,2,FALSE),)","v":0},null,{"$f":"IF(BM50<>0,VLOOKUP(BM50,整理番号表!$T$22:$U$30,2,FALSE),)","v":0},null,0,"",null,null,null,null,null,"",0,null,null,null,null,null,null,null,null,null,0,0,0,0,0,0,0,0,0,0,0,0,0,0,0,0,0,0,0,0,0,0,0,0,0,0,0,0,null,null,null,null,null,0,0,0,0,0,0,null,0,null,null,null,null,null,null,null,0,null,null,null,null,null,null,null,null,null,null,null,null,null,null,null,null,null,null,null,null,null,null,null,null,null,null,0,0,null,null,0,0,0,{"$f":"IF(OR(AND(1<=$FK50,$FK50<=3),$FK50=6),VLOOKUP($FK50,整理番号表!$B$32:$G$60,2,FALSE),)","v":0},{"$f":"IF(OR($FK50=4,$FK50=7),VLOOKUP($FK50,整理番号表!$B$32:$G$60,2,FALSE),)","v":0},{"$f":"IF($FK50=5,VLOOKUP($FK50,整理番号表!$B$32:$G$60,2,FALSE),)","v":0},{"$f":"IF(AND(8<=$FK50,$FK50<=13),VLOOKUP($FK50,整理番号表!$B$32:$G$60,2,FALSE),)","v":0},0,0,{"$f":"IF(AND(FE50<>1,$FP50=1,SUM($FQ50:FQ50)=0,$FF50=1,$FI50>=2),1,)","v":0},{"$f":"IF(AND(FE50<>1,$FP50=1,SUM($FQ50:FR50)=0,OR(AND($FF50=1,$FI50>0),$FI50>=4)),1,)","v":0},{"$f":"IF(AND(FE50<>1,$FP50=1,SUM($FQ50:FS50)=0,OR($FF50=1,$FI50>=2)),1,)","v":0},{"$f":"IF(AND(FE50<>1,$FP50=1,SUM($FQ50:FT50)=0,$FI50>0),1,)","v":0},0,0,{"$f":"IF(AND(FE50<>1,$FP50=2,SUM($FW50:FW50)=0,$FF50=1,$FJ50>=0.1),1,)","v":0},{"$f":"IF(AND(FE50<>1,$FP50=2,SUM($FW50:FX50)=0,OR(AND($FF50=1,$FI50>0),$FJ50>=0.2)),1,)","v":0},{"$f":"IF(AND(FE50<>1,$FP50=2,SUM($FW50:FY50)=0,OR($FF50=1,$FJ50>=0.1)),1,)","v":0},{"$f":"IF(AND(FE50<>1,$FP50=2,SUM($FW50:FZ50)=0,$FI50>0),1,)","v":0},0,{"$f":"IF(AND(FE50<>1,$FP50=3,SUM($GB50:GB50)=0,AND($FF50=1,$FJ50>=0.05)),1,)","v":0},{"$f":"IF(AND(FE50<>1,$FP50=3,SUM($GB50:GC50)=0,OR(AND($FF50=1,$FI50>0),$FJ50>=0.1)),1,)","v":0},{"$f":"IF(AND(FE50<>1,$FP50=3,SUM($GB50:GD50)=0,OR($FF50=1,$FJ50>=0.05)),1,)","v":0},{"$f":"IF(AND(FE50<>1,$FP50=3,SUM($GB50:GE50)=0,$FI50>0),1,)","v":0},0,null,0,0,0,0,0,0,0,0,0,0,0,0,0,0,0,0,0,0,0,0,0,0,0,0,0,0,0,0,0,0,0,0,0,0,0,0,0,0,0,0,0,0,0,0,0,0,0,0,0,0,0,0,0,0,0,0,0,0,0,0,0,0,0,0,0,0,0,0,0,0,0,0,0,0,0,0,0,0,0,"","","","","","","","","","","","","","","","○",0,0,0,0,0,0,0,"○",0,0,0,"○","○",null,0,0]
[0,0,0,0,0,0,0,0,0,0,39,null,null,null,null,{"$f":"IF(O51<>\"\",VLOOKUP(O51,整理番号表!$Z$17:$AA$20,2,FALSE),)","v":0},0,null,null,null,null,null,{"$f":"IF(V51<>0,VLOOKUP(V51,整理番号表!$B$6:$L$13,2,FALSE),)","v":0},0,{"$f":"IF(X51<>0,VLOOKUP(X51,整理番号表!$B$16:$C$18,2,FALSE),)","v":0},null,{"$f":"IF(Z51<>0,VLOOKUP(Z51,整理番号表!$B$22:$C$29,2,FALSE),)","v":0},null,null,{"$f":"IF(AC51<>0,VLOOKUP(AC51,整理番号表!$B$32:$G$60,2,FALSE),)","v":0},null,{"$f":"IF(AE51<>0,VLOOKUP(AE51,整理番号表!$P$5:$R$39,2,FALSE),)","v":0},null,0,null,null,{"$f":"IF(AJ51<>\"\",VLOOKUP(AJ51,整理番号表!$Z$6:$AA$14,2,FALSE),\"\")","v":""},0,null,null,null,null,null,{"$f":"IF(AQ51<>0,VLOOKUP(AQ51,整理番号表!$P$43:$Q$49,2,FALSE),)","v":0},null,null,null,null,0,0,null,0,null,null,null,0,0,0,null,null,0,0,null,{"$f":"IF(BK51<>0,VLOOKUP(BK51,整理番号表!$T$5:$U$16,2,FALSE),)","v":0},null,{"$f":"IF(BM51<>0,VLOOKUP(BM51,整理番号表!$T$22:$U$30,2,FALSE),)","v":0},null,0,"",null,null,null,null,null,"",0,null,null,null,null,null,null,null,null,null,0,0,0,0,0,0,0,0,0,0,0,0,0,0,0,0,0,0,0,0,0,0,0,0,0,0,0,0,null,null,null,null,null,0,0,0,0,0,0,null,0,null,null,null,null,null,null,null,0,null,null,null,null,null,null,null,null,null,null,null,null,null,null,null,null,null,null,null,null,null,null,null,null,null,null,0,0,null,null,0,0,0,{"$f":"IF(OR(AND(1<=$FK51,$FK51<=3),$FK51=6),VLOOKUP($FK51,整理番号表!$B$32:$G$60,2,FALSE),)","v":0},{"$f":"IF(OR($FK51=4,$FK51=7),VLOOKUP($FK51,整理番号表!$B$32:$G$60,2,FALSE),)","v":0},{"$f":"IF($FK51=5,VLOOKUP($FK51,整理番号表!$B$32:$G$60,2,FALSE),)","v":0},{"$f":"IF(AND(8<=$FK51,$FK51<=13),VLOOKUP($FK51,整理番号表!$B$32:$G$60,2,FALSE),)","v":0},0,0,{"$f":"IF(AND(FE51<>1,$FP51=1,SUM($FQ51:FQ51)=0,$FF51=1,$FI51>=2),1,)","v":0},{"$f":"IF(AND(FE51<>1,$FP51=1,SUM($FQ51:FR51)=0,OR(AND($FF51=1,$FI51>0),$FI51>=4)),1,)","v":0},{"$f":"IF(AND(FE51<>1,$FP51=1,SUM($FQ51:FS51)=0,OR($FF51=1,$FI51>=2)),1,)","v":0},{"$f":"IF(AND(FE51<>1,$FP51=1,SUM($FQ51:FT51)=0,$FI51>0),1,)","v":0},0,0,{"$f":"IF(AND(FE51<>1,$FP51=2,SUM($FW51:FW51)=0,$FF51=1,$FJ51>=0.1),1,)","v":0},{"$f":"IF(AND(FE51<>1,$FP51=2,SUM($FW51:FX51)=0,OR(AND($FF51=1,$FI51>0),$FJ51>=0.2)),1,)","v":0},{"$f":"IF(AND(FE51<>1,$FP51=2,SUM($FW51:FY51)=0,OR($FF51=1,$FJ51>=0.1)),1,)","v":0},{"$f":"IF(AND(FE51<>1,$FP51=2,SUM($FW51:FZ51)=0,$FI51>0),1,)","v":0},0,{"$f":"IF(AND(FE51<>1,$FP51=3,SUM($GB51:GB51)=0,AND($FF51=1,$FJ51>=0.05)),1,)","v":0},{"$f":"IF(AND(FE51<>1,$FP51=3,SUM($GB51:GC51)=0,OR(AND($FF51=1,$FI51>0),$FJ51>=0.1)),1,)","v":0},{"$f":"IF(AND(FE51<>1,$FP51=3,SUM($GB51:GD51)=0,OR($FF51=1,$FJ51>=0.05)),1,)","v":0},{"$f":"IF(AND(FE51<>1,$FP51=3,SUM($GB51:GE51)=0,$FI51>0),1,)","v":0},0,null,0,0,0,0,0,0,0,0,0,0,0,0,0,0,0,0,0,0,0,0,0,0,0,0,0,0,0,0,0,0,0,0,0,0,0,0,0,0,0,0,0,0,0,0,0,0,0,0,0,0,0,0,0,0,0,0,0,0,0,0,0,0,0,0,0,0,0,0,0,0,0,0,0,0,0,0,0,0,0,"","","","","","","","","","","","","","","","○",0,0,0,0,0,0,0,"○",0,0,0,"○","○",null,0,0]
[0,0,0,0,0,0,0,0,0,0,40,null,null,null,null,{"$f":"IF(O52<>\"\",VLOOKUP(O52,整理番号表!$Z$17:$AA$20,2,FALSE),)","v":0},0,null,null,null,null,null,{"$f":"IF(V52<>0,VLOOKUP(V52,整理番号表!$B$6:$L$13,2,FALSE),)","v":0},0,{"$f":"IF(X52<>0,VLOOKUP(X52,整理番号表!$B$16:$C$18,2,FALSE),)","v":0},null,{"$f":"IF(Z52<>0,VLOOKUP(Z52,整理番号表!$B$22:$C$29,2,FALSE),)","v":0},null,null,{"$f":"IF(AC52<>0,VLOOKUP(AC52,整理番号表!$B$32:$G$60,2,FALSE),)","v":0},null,{"$f":"IF(AE52<>0,VLOOKUP(AE52,整理番号表!$P$5:$R$39,2,FALSE),)","v":0},null,0,null,null,{"$f":"IF(AJ52<>\"\",VLOOKUP(AJ52,整理番号表!$Z$6:$AA$14,2,FALSE),\"\")","v":""},0,null,null,null,null,null,{"$f":"IF(AQ52<>0,VLOOKUP(AQ52,整理番号表!$P$43:$Q$49,2,FALSE),)","v":0},null,null,null,null,0,0,null,0,null,null,null,0,0,0,null,null,0,0,null,{"$f":"IF(BK52<>0,VLOOKUP(BK52,整理番号表!$T$5:$U$16,2,FALSE),)","v":0},null,{"$f":"IF(BM52<>0,VLOOKUP(BM52,整理番号表!$T$22:$U$30,2,FALSE),)","v":0},null,0,"",null,null,null,null,null,"",0,null,null,null,null,null,null,null,null,null,0,0,0,0,0,0,0,0,0,0,0,0,0,0,0,0,0,0,0,0,0,0,0,0,0,0,0,0,null,null,null,null,null,0,0,0,0,0,0,null,0,null,null,null,null,null,null,null,0,null,null,null,null,null,null,null,null,null,null,null,null,null,null,null,null,null,null,null,null,null,null,null,null,null,null,0,0,null,null,0,0,0,{"$f":"IF(OR(AND(1<=$FK52,$FK52<=3),$FK52=6),VLOOKUP($FK52,整理番号表!$B$32:$G$60,2,FALSE),)","v":0},{"$f":"IF(OR($FK52=4,$FK52=7),VLOOKUP($FK52,整理番号表!$B$32:$G$60,2,FALSE),)","v":0},{"$f":"IF($FK52=5,VLOOKUP($FK52,整理番号表!$B$32:$G$60,2,FALSE),)","v":0},{"$f":"IF(AND(8<=$FK52,$FK52<=13),VLOOKUP($FK52,整理番号表!$B$32:$G$60,2,FALSE),)","v":0},0,0,{"$f":"IF(AND(FE52<>1,$FP52=1,SUM($FQ52:FQ52)=0,$FF52=1,$FI52>=2),1,)","v":0},{"$f":"IF(AND(FE52<>1,$FP52=1,SUM($FQ52:FR52)=0,OR(AND($FF52=1,$FI52>0),$FI52>=4)),1,)","v":0},{"$f":"IF(AND(FE52<>1,$FP52=1,SUM($FQ52:FS52)=0,OR($FF52=1,$FI52>=2)),1,)","v":0},{"$f":"IF(AND(FE52<>1,$FP52=1,SUM($FQ52:FT52)=0,$FI52>0),1,)","v":0},0,0,{"$f":"IF(AND(FE52<>1,$FP52=2,SUM($FW52:FW52)=0,$FF52=1,$FJ52>=0.1),1,)","v":0},{"$f":"IF(AND(FE52<>1,$FP52=2,SUM($FW52:FX52)=0,OR(AND($FF52=1,$FI52>0),$FJ52>=0.2)),1,)","v":0},{"$f":"IF(AND(FE52<>1,$FP52=2,SUM($FW52:FY52)=0,OR($FF52=1,$FJ52>=0.1)),1,)","v":0},{"$f":"IF(AND(FE52<>1,$FP52=2,SUM($FW52:FZ52)=0,$FI52>0),1,)","v":0},0,{"$f":"IF(AND(FE52<>1,$FP52=3,SUM($GB52:GB52)=0,AND($FF52=1,$FJ52>=0.05)),1,)","v":0},{"$f":"IF(AND(FE52<>1,$FP52=3,SUM($GB52:GC52)=0,OR(AND($FF52=1,$FI52>0),$FJ52>=0.1)),1,)","v":0},{"$f":"IF(AND(FE52<>1,$FP52=3,SUM($GB52:GD52)=0,OR($FF52=1,$FJ52>=0.05)),1,)","v":0},{"$f":"IF(AND(FE52<>1,$FP52=3,SUM($GB52:GE52)=0,$FI52>0),1,)","v":0},0,null,0,0,0,0,0,0,0,0,0,0,0,0,0,0,0,0,0,0,0,0,0,0,0,0,0,0,0,0,0,0,0,0,0,0,0,0,0,0,0,0,0,0,0,0,0,0,0,0,0,0,0,0,0,0,0,0,0,0,0,0,0,0,0,0,0,0,0,0,0,0,0,0,0,0,0,0,0,0,0,"","","","","","","","","","","","","","","","○",0,0,0,0,0,0,0,"○",0,0,0,"○","○",null,0,0]
[0,0,0,0,0,0,0,0,0,0,41,null,null,null,null,{"$f":"IF(O53<>\"\",VLOOKUP(O53,整理番号表!$Z$17:$AA$20,2,FALSE),)","v":0},0,null,null,null,null,null,{"$f":"IF(V53<>0,VLOOKUP(V53,整理番号表!$B$6:$L$13,2,FALSE),)","v":0},0,{"$f":"IF(X53<>0,VLOOKUP(X53,整理番号表!$B$16:$C$18,2,FALSE),)","v":0},null,{"$f":"IF(Z53<>0,VLOOKUP(Z53,整理番号表!$B$22:$C$29,2,FALSE),)","v":0},null,null,{"$f":"IF(AC53<>0,VLOOKUP(AC53,整理番号表!$B$32:$G$60,2,FALSE),)","v":0},null,{"$f":"IF(AE53<>0,VLOOKUP(AE53,整理番号表!$P$5:$R$39,2,FALSE),)","v":0},null,0,null,null,{"$f":"IF(AJ53<>\"\",VLOOKUP(AJ53,整理番号表!$Z$6:$AA$14,2,FALSE),\"\")","v":""},0,null,null,null,null,null,{"$f":"IF(AQ53<>0,VLOOKUP(AQ53,整理番号表!$P$43:$Q$49,2,FALSE),)","v":0},null,null,null,null,0,0,null,0,null,null,null,0,0,0,null,null,0,0,null,{"$f":"IF(BK53<>0,VLOOKUP(BK53,整理番号表!$T$5:$U$16,2,FALSE),)","v":0},null,{"$f":"IF(BM53<>0,VLOOKUP(BM53,整理番号表!$T$22:$U$30,2,FALSE),)","v":0},null,0,"",null,null,null,null,null,"",0,null,null,null,null,null,null,null,null,null,0,0,0,0,0,0,0,0,0,0,0,0,0,0,0,0,0,0,0,0,0,0,0,0,0,0,0,0,null,null,null,null,null,0,0,0,0,0,0,null,0,null,null,null,null,null,null,null,0,null,null,null,null,null,null,null,null,null,null,null,null,null,null,null,null,null,null,null,null,null,null,null,null,null,null,0,0,null,null,0,0,0,{"$f":"IF(OR(AND(1<=$FK53,$FK53<=3),$FK53=6),VLOOKUP($FK53,整理番号表!$B$32:$G$60,2,FALSE),)","v":0},{"$f":"IF(OR($FK53=4,$FK53=7),VLOOKUP($FK53,整理番号表!$B$32:$G$60,2,FALSE),)","v":0},{"$f":"IF($FK53=5,VLOOKUP($FK53,整理番号表!$B$32:$G$60,2,FALSE),)","v":0},{"$f":"IF(AND(8<=$FK53,$FK53<=13),VLOOKUP($FK53,整理番号表!$B$32:$G$60,2,FALSE),)","v":0},0,0,{"$f":"IF(AND(FE53<>1,$FP53=1,SUM($FQ53:FQ53)=0,$FF53=1,$FI53>=2),1,)","v":0},{"$f":"IF(AND(FE53<>1,$FP53=1,SUM($FQ53:FR53)=0,OR(AND($FF53=1,$FI53>0),$FI53>=4)),1,)","v":0},{"$f":"IF(AND(FE53<>1,$FP53=1,SUM($FQ53:FS53)=0,OR($FF53=1,$FI53>=2)),1,)","v":0},{"$f":"IF(AND(FE53<>1,$FP53=1,SUM($FQ53:FT53)=0,$FI53>0),1,)","v":0},0,0,{"$f":"IF(AND(FE53<>1,$FP53=2,SUM($FW53:FW53)=0,$FF53=1,$FJ53>=0.1),1,)","v":0},{"$f":"IF(AND(FE53<>1,$FP53=2,SUM($FW53:FX53)=0,OR(AND($FF53=1,$FI53>0),$FJ53>=0.2)),1,)","v":0},{"$f":"IF(AND(FE53<>1,$FP53=2,SUM($FW53:FY53)=0,OR($FF53=1,$FJ53>=0.1)),1,)","v":0},{"$f":"IF(AND(FE53<>1,$FP53=2,SUM($FW53:FZ53)=0,$FI53>0),1,)","v":0},0,{"$f":"IF(AND(FE53<>1,$FP53=3,SUM($GB53:GB53)=0,AND($FF53=1,$FJ53>=0.05)),1,)","v":0},{"$f":"IF(AND(FE53<>1,$FP53=3,SUM($GB53:GC53)=0,OR(AND($FF53=1,$FI53>0),$FJ53>=0.1)),1,)","v":0},{"$f":"IF(AND(FE53<>1,$FP53=3,SUM($GB53:GD53)=0,OR($FF53=1,$FJ53>=0.05)),1,)","v":0},{"$f":"IF(AND(FE53<>1,$FP53=3,SUM($GB53:GE53)=0,$FI53>0),1,)","v":0},0,null,0,0,0,0,0,0,0,0,0,0,0,0,0,0,0,0,0,0,0,0,0,0,0,0,0,0,0,0,0,0,0,0,0,0,0,0,0,0,0,0,0,0,0,0,0,0,0,0,0,0,0,0,0,0,0,0,0,0,0,0,0,0,0,0,0,0,0,0,0,0,0,0,0,0,0,0,0,0,0,"","","","","","","","","","","","","","","","○",0,0,0,0,0,0,0,"○",0,0,0,"○","○",null,0,0]
[0,0,0,0,0,0,0,0,0,0,42,null,null,null,null,{"$f":"IF(O54<>\"\",VLOOKUP(O54,整理番号表!$Z$17:$AA$20,2,FALSE),)","v":0},0,null,null,null,null,null,{"$f":"IF(V54<>0,VLOOKUP(V54,整理番号表!$B$6:$L$13,2,FALSE),)","v":0},0,{"$f":"IF(X54<>0,VLOOKUP(X54,整理番号表!$B$16:$C$18,2,FALSE),)","v":0},null,{"$f":"IF(Z54<>0,VLOOKUP(Z54,整理番号表!$B$22:$C$29,2,FALSE),)","v":0},null,null,{"$f":"IF(AC54<>0,VLOOKUP(AC54,整理番号表!$B$32:$G$60,2,FALSE),)","v":0},null,{"$f":"IF(AE54<>0,VLOOKUP(AE54,整理番号表!$P$5:$R$39,2,FALSE),)","v":0},null,0,null,null,{"$f":"IF(AJ54<>\"\",VLOOKUP(AJ54,整理番号表!$Z$6:$AA$14,2,FALSE),\"\")","v":""},0,null,null,null,null,null,{"$f":"IF(AQ54<>0,VLOOKUP(AQ54,整理番号表!$P$43:$Q$49,2,FALSE),)","v":0},null,null,null,null,0,0,null,0,null,null,null,0,0,0,null,null,0,0,null,{"$f":"IF(BK54<>0,VLOOKUP(BK54,整理番号表!$T$5:$U$16,2,FALSE),)","v":0},null,{"$f":"IF(BM54<>0,VLOOKUP(BM54,整理番号表!$T$22:$U$30,2,FALSE),)","v":0},null,0,"",null,null,null,null,null,"",0,null,null,null,null,null,null,null,null,null,0,0,0,0,0,0,0,0,0,0,0,0,0,0,0,0,0,0,0,0,0,0,0,0,0,0,0,0,null,null,null,null,null,0,0,0,0,0,0,null,0,null,null,null,null,null,null,null,0,null,null,null,null,null,null,null,null,null,null,null,null,null,null,null,null,null,null,null,null,null,null,null,null,null,null,0,0,null,null,0,0,0,{"$f":"IF(OR(AND(1<=$FK54,$FK54<=3),$FK54=6),VLOOKUP($FK54,整理番号表!$B$32:$G$60,2,FALSE),)","v":0},{"$f":"IF(OR($FK54=4,$FK54=7),VLOOKUP($FK54,整理番号表!$B$32:$G$60,2,FALSE),)","v":0},{"$f":"IF($FK54=5,VLOOKUP($FK54,整理番号表!$B$32:$G$60,2,FALSE),)","v":0},{"$f":"IF(AND(8<=$FK54,$FK54<=13),VLOOKUP($FK54,整理番号表!$B$32:$G$60,2,FALSE),)","v":0},0,0,{"$f":"IF(AND(FE54<>1,$FP54=1,SUM($FQ54:FQ54)=0,$FF54=1,$FI54>=2),1,)","v":0},{"$f":"IF(AND(FE54<>1,$FP54=1,SUM($FQ54:FR54)=0,OR(AND($FF54=1,$FI54>0),$FI54>=4)),1,)","v":0},{"$f":"IF(AND(FE54<>1,$FP54=1,SUM($FQ54:FS54)=0,OR($FF54=1,$FI54>=2)),1,)","v":0},{"$f":"IF(AND(FE54<>1,$FP54=1,SUM($FQ54:FT54)=0,$FI54>0),1,)","v":0},0,0,{"$f":"IF(AND(FE54<>1,$FP54=2,SUM($FW54:FW54)=0,$FF54=1,$FJ54>=0.1),1,)","v":0},{"$f":"IF(AND(FE54<>1,$FP54=2,SUM($FW54:FX54)=0,OR(AND($FF54=1,$FI54>0),$FJ54>=0.2)),1,)","v":0},{"$f":"IF(AND(FE54<>1,$FP54=2,SUM($FW54:FY54)=0,OR($FF54=1,$FJ54>=0.1)),1,)","v":0},{"$f":"IF(AND(FE54<>1,$FP54=2,SUM($FW54:FZ54)=0,$FI54>0),1,)","v":0},0,{"$f":"IF(AND(FE54<>1,$FP54=3,SUM($GB54:GB54)=0,AND($FF54=1,$FJ54>=0.05)),1,)","v":0},{"$f":"IF(AND(FE54<>1,$FP54=3,SUM($GB54:GC54)=0,OR(AND($FF54=1,$FI54>0),$FJ54>=0.1)),1,)","v":0},{"$f":"IF(AND(FE54<>1,$FP54=3,SUM($GB54:GD54)=0,OR($FF54=1,$FJ54>=0.05)),1,)","v":0},{"$f":"IF(AND(FE54<>1,$FP54=3,SUM($GB54:GE54)=0,$FI54>0),1,)","v":0},0,null,0,0,0,0,0,0,0,0,0,0,0,0,0,0,0,0,0,0,0,0,0,0,0,0,0,0,0,0,0,0,0,0,0,0,0,0,0,0,0,0,0,0,0,0,0,0,0,0,0,0,0,0,0,0,0,0,0,0,0,0,0,0,0,0,0,0,0,0,0,0,0,0,0,0,0,0,0,0,0,"","","","","","","","","","","","","","","","○",0,0,0,0,0,0,0,"○",0,0,0,"○","○",null,0,0]
[0,0,0,0,0,0,0,0,0,0,43,null,null,null,null,{"$f":"IF(O55<>\"\",VLOOKUP(O55,整理番号表!$Z$17:$AA$20,2,FALSE),)","v":0},0,null,null,null,null,null,{"$f":"IF(V55<>0,VLOOKUP(V55,整理番号表!$B$6:$L$13,2,FALSE),)","v":0},0,{"$f":"IF(X55<>0,VLOOKUP(X55,整理番号表!$B$16:$C$18,2,FALSE),)","v":0},null,{"$f":"IF(Z55<>0,VLOOKUP(Z55,整理番号表!$B$22:$C$29,2,FALSE),)","v":0},null,null,{"$f":"IF(AC55<>0,VLOOKUP(AC55,整理番号表!$B$32:$G$60,2,FALSE),)","v":0},null,{"$f":"IF(AE55<>0,VLOOKUP(AE55,整理番号表!$P$5:$R$39,2,FALSE),)","v":0},null,0,null,null,{"$f":"IF(AJ55<>\"\",VLOOKUP(AJ55,整理番号表!$Z$6:$AA$14,2,FALSE),\"\")","v":""},0,null,null,null,null,null,{"$f":"IF(AQ55<>0,VLOOKUP(AQ55,整理番号表!$P$43:$Q$49,2,FALSE),)","v":0},null,null,null,null,0,0,null,0,null,null,null,0,0,0,null,null,0,0,null,{"$f":"IF(BK55<>0,VLOOKUP(BK55,整理番号表!$T$5:$U$16,2,FALSE),)","v":0},null,{"$f":"IF(BM55<>0,VLOOKUP(BM55,整理番号表!$T$22:$U$30,2,FALSE),)","v":0},null,0,"",null,null,null,null,null,"",0,null,null,null,null,null,null,null,null,null,0,0,0,0,0,0,0,0,0,0,0,0,0,0,0,0,0,0,0,0,0,0,0,0,0,0,0,0,null,null,null,null,null,0,0,0,0,0,0,null,0,null,null,null,null,null,null,null,0,null,null,null,null,null,null,null,null,null,null,null,null,null,null,null,null,null,null,null,null,null,null,null,null,null,null,0,0,null,null,0,0,0,{"$f":"IF(OR(AND(1<=$FK55,$FK55<=3),$FK55=6),VLOOKUP($FK55,整理番号表!$B$32:$G$60,2,FALSE),)","v":0},{"$f":"IF(OR($FK55=4,$FK55=7),VLOOKUP($FK55,整理番号表!$B$32:$G$60,2,FALSE),)","v":0},{"$f":"IF($FK55=5,VLOOKUP($FK55,整理番号表!$B$32:$G$60,2,FALSE),)","v":0},{"$f":"IF(AND(8<=$FK55,$FK55<=13),VLOOKUP($FK55,整理番号表!$B$32:$G$60,2,FALSE),)","v":0},0,0,{"$f":"IF(AND(FE55<>1,$FP55=1,SUM($FQ55:FQ55)=0,$FF55=1,$FI55>=2),1,)","v":0},{"$f":"IF(AND(FE55<>1,$FP55=1,SUM($FQ55:FR55)=0,OR(AND($FF55=1,$FI55>0),$FI55>=4)),1,)","v":0},{"$f":"IF(AND(FE55<>1,$FP55=1,SUM($FQ55:FS55)=0,OR($FF55=1,$FI55>=2)),1,)","v":0},{"$f":"IF(AND(FE55<>1,$FP55=1,SUM($FQ55:FT55)=0,$FI55>0),1,)","v":0},0,0,{"$f":"IF(AND(FE55<>1,$FP55=2,SUM($FW55:FW55)=0,$FF55=1,$FJ55>=0.1),1,)","v":0},{"$f":"IF(AND(FE55<>1,$FP55=2,SUM($FW55:FX55)=0,OR(AND($FF55=1,$FI55>0),$FJ55>=0.2)),1,)","v":0},{"$f":"IF(AND(FE55<>1,$FP55=2,SUM($FW55:FY55)=0,OR($FF55=1,$FJ55>=0.1)),1,)","v":0},{"$f":"IF(AND(FE55<>1,$FP55=2,SUM($FW55:FZ55)=0,$FI55>0),1,)","v":0},0,{"$f":"IF(AND(FE55<>1,$FP55=3,SUM($GB55:GB55)=0,AND($FF55=1,$FJ55>=0.05)),1,)","v":0},{"$f":"IF(AND(FE55<>1,$FP55=3,SUM($GB55:GC55)=0,OR(AND($FF55=1,$FI55>0),$FJ55>=0.1)),1,)","v":0},{"$f":"IF(AND(FE55<>1,$FP55=3,SUM($GB55:GD55)=0,OR($FF55=1,$FJ55>=0.05)),1,)","v":0},{"$f":"IF(AND(FE55<>1,$FP55=3,SUM($GB55:GE55)=0,$FI55>0),1,)","v":0},0,null,0,0,0,0,0,0,0,0,0,0,0,0,0,0,0,0,0,0,0,0,0,0,0,0,0,0,0,0,0,0,0,0,0,0,0,0,0,0,0,0,0,0,0,0,0,0,0,0,0,0,0,0,0,0,0,0,0,0,0,0,0,0,0,0,0,0,0,0,0,0,0,0,0,0,0,0,0,0,0,"","","","","","","","","","","","","","","","○",0,0,0,0,0,0,0,"○",0,0,0,"○","○",null,0,0]
[0,0,0,0,0,0,0,0,0,0,44,null,null,null,null,{"$f":"IF(O56<>\"\",VLOOKUP(O56,整理番号表!$Z$17:$AA$20,2,FALSE),)","v":0},0,null,null,null,null,null,{"$f":"IF(V56<>0,VLOOKUP(V56,整理番号表!$B$6:$L$13,2,FALSE),)","v":0},0,{"$f":"IF(X56<>0,VLOOKUP(X56,整理番号表!$B$16:$C$18,2,FALSE),)","v":0},null,{"$f":"IF(Z56<>0,VLOOKUP(Z56,整理番号表!$B$22:$C$29,2,FALSE),)","v":0},null,null,{"$f":"IF(AC56<>0,VLOOKUP(AC56,整理番号表!$B$32:$G$60,2,FALSE),)","v":0},null,{"$f":"IF(AE56<>0,VLOOKUP(AE56,整理番号表!$P$5:$R$39,2,FALSE),)","v":0},null,0,null,null,{"$f":"IF(AJ56<>\"\",VLOOKUP(AJ56,整理番号表!$Z$6:$AA$14,2,FALSE),\"\")","v":""},0,null,null,null,null,null,{"$f":"IF(AQ56<>0,VLOOKUP(AQ56,整理番号表!$P$43:$Q$49,2,FALSE),)","v":0},null,null,null,null,0,0,null,0,null,null,null,0,0,0,null,null,0,0,null,{"$f":"IF(BK56<>0,VLOOKUP(BK56,整理番号表!$T$5:$U$16,2,FALSE),)","v":0},null,{"$f":"IF(BM56<>0,VLOOKUP(BM56,整理番号表!$T$22:$U$30,2,FALSE),)","v":0},null,0,"",null,null,null,null,null,"",0,null,null,null,null,null,null,null,null,null,0,0,0,0,0,0,0,0,0,0,0,0,0,0,0,0,0,0,0,0,0,0,0,0,0,0,0,0,null,null,null,null,null,0,0,0,0,0,0,null,0,null,null,null,null,null,null,null,0,null,null,null,null,null,null,null,null,null,null,null,null,null,null,null,null,null,null,null,null,null,null,null,null,null,null,0,0,null,null,0,0,0,{"$f":"IF(OR(AND(1<=$FK56,$FK56<=3),$FK56=6),VLOOKUP($FK56,整理番号表!$B$32:$G$60,2,FALSE),)","v":0},{"$f":"IF(OR($FK56=4,$FK56=7),VLOOKUP($FK56,整理番号表!$B$32:$G$60,2,FALSE),)","v":0},{"$f":"IF($FK56=5,VLOOKUP($FK56,整理番号表!$B$32:$G$60,2,FALSE),)","v":0},{"$f":"IF(AND(8<=$FK56,$FK56<=13),VLOOKUP($FK56,整理番号表!$B$32:$G$60,2,FALSE),)","v":0},0,0,{"$f":"IF(AND(FE56<>1,$FP56=1,SUM($FQ56:FQ56)=0,$FF56=1,$FI56>=2),1,)","v":0},{"$f":"IF(AND(FE56<>1,$FP56=1,SUM($FQ56:FR56)=0,OR(AND($FF56=1,$FI56>0),$FI56>=4)),1,)","v":0},{"$f":"IF(AND(FE56<>1,$FP56=1,SUM($FQ56:FS56)=0,OR($FF56=1,$FI56>=2)),1,)","v":0},{"$f":"IF(AND(FE56<>1,$FP56=1,SUM($FQ56:FT56)=0,$FI56>0),1,)","v":0},0,0,{"$f":"IF(AND(FE56<>1,$FP56=2,SUM($FW56:FW56)=0,$FF56=1,$FJ56>=0.1),1,)","v":0},{"$f":"IF(AND(FE56<>1,$FP56=2,SUM($FW56:FX56)=0,OR(AND($FF56=1,$FI56>0),$FJ56>=0.2)),1,)","v":0},{"$f":"IF(AND(FE56<>1,$FP56=2,SUM($FW56:FY56)=0,OR($FF56=1,$FJ56>=0.1)),1,)","v":0},{"$f":"IF(AND(FE56<>1,$FP56=2,SUM($FW56:FZ56)=0,$FI56>0),1,)","v":0},0,{"$f":"IF(AND(FE56<>1,$FP56=3,SUM($GB56:GB56)=0,AND($FF56=1,$FJ56>=0.05)),1,)","v":0},{"$f":"IF(AND(FE56<>1,$FP56=3,SUM($GB56:GC56)=0,OR(AND($FF56=1,$FI56>0),$FJ56>=0.1)),1,)","v":0},{"$f":"IF(AND(FE56<>1,$FP56=3,SUM($GB56:GD56)=0,OR($FF56=1,$FJ56>=0.05)),1,)","v":0},{"$f":"IF(AND(FE56<>1,$FP56=3,SUM($GB56:GE56)=0,$FI56>0),1,)","v":0},0,null,0,0,0,0,0,0,0,0,0,0,0,0,0,0,0,0,0,0,0,0,0,0,0,0,0,0,0,0,0,0,0,0,0,0,0,0,0,0,0,0,0,0,0,0,0,0,0,0,0,0,0,0,0,0,0,0,0,0,0,0,0,0,0,0,0,0,0,0,0,0,0,0,0,0,0,0,0,0,0,"","","","","","","","","","","","","","","","○",0,0,0,0,0,0,0,"○",0,0,0,"○","○",null,0,0]
[0,0,0,0,0,0,0,0,0,0,45,null,null,null,null,{"$f":"IF(O57<>\"\",VLOOKUP(O57,整理番号表!$Z$17:$AA$20,2,FALSE),)","v":0},0,null,null,null,null,null,{"$f":"IF(V57<>0,VLOOKUP(V57,整理番号表!$B$6:$L$13,2,FALSE),)","v":0},0,{"$f":"IF(X57<>0,VLOOKUP(X57,整理番号表!$B$16:$C$18,2,FALSE),)","v":0},null,{"$f":"IF(Z57<>0,VLOOKUP(Z57,整理番号表!$B$22:$C$29,2,FALSE),)","v":0},null,null,{"$f":"IF(AC57<>0,VLOOKUP(AC57,整理番号表!$B$32:$G$60,2,FALSE),)","v":0},null,{"$f":"IF(AE57<>0,VLOOKUP(AE57,整理番号表!$P$5:$R$39,2,FALSE),)","v":0},null,0,null,null,{"$f":"IF(AJ57<>\"\",VLOOKUP(AJ57,整理番号表!$Z$6:$AA$14,2,FALSE),\"\")","v":""},0,null,null,null,null,null,{"$f":"IF(AQ57<>0,VLOOKUP(AQ57,整理番号表!$P$43:$Q$49,2,FALSE),)","v":0},null,null,null,null,0,0,null,0,null,null,null,0,0,0,null,null,0,0,null,{"$f":"IF(BK57<>0,VLOOKUP(BK57,整理番号表!$T$5:$U$16,2,FALSE),)","v":0},null,{"$f":"IF(BM57<>0,VLOOKUP(BM57,整理番号表!$T$22:$U$30,2,FALSE),)","v":0},null,0,"",null,null,null,null,null,"",0,null,null,null,null,null,null,null,null,null,0,0,0,0,0,0,0,0,0,0,0,0,0,0,0,0,0,0,0,0,0,0,0,0,0,0,0,0,null,null,null,null,null,0,0,0,0,0,0,null,0,null,null,null,null,null,null,null,0,null,null,null,null,null,null,null,null,null,null,null,null,null,null,null,null,null,null,null,null,null,null,null,null,null,null,0,0,null,null,0,0,0,{"$f":"IF(OR(AND(1<=$FK57,$FK57<=3),$FK57=6),VLOOKUP($FK57,整理番号表!$B$32:$G$60,2,FALSE),)","v":0},{"$f":"IF(OR($FK57=4,$FK57=7),VLOOKUP($FK57,整理番号表!$B$32:$G$60,2,FALSE),)","v":0},{"$f":"IF($FK57=5,VLOOKUP($FK57,整理番号表!$B$32:$G$60,2,FALSE),)","v":0},{"$f":"IF(AND(8<=$FK57,$FK57<=13),VLOOKUP($FK57,整理番号表!$B$32:$G$60,2,FALSE),)","v":0},0,0,{"$f":"IF(AND(FE57<>1,$FP57=1,SUM($FQ57:FQ57)=0,$FF57=1,$FI57>=2),1,)","v":0},{"$f":"IF(AND(FE57<>1,$FP57=1,SUM($FQ57:FR57)=0,OR(AND($FF57=1,$FI57>0),$FI57>=4)),1,)","v":0},{"$f":"IF(AND(FE57<>1,$FP57=1,SUM($FQ57:FS57)=0,OR($FF57=1,$FI57>=2)),1,)","v":0},{"$f":"IF(AND(FE57<>1,$FP57=1,SUM($FQ57:FT57)=0,$FI57>0),1,)","v":0},0,0,{"$f":"IF(AND(FE57<>1,$FP57=2,SUM($FW57:FW57)=0,$FF57=1,$FJ57>=0.1),1,)","v":0},{"$f":"IF(AND(FE57<>1,$FP57=2,SUM($FW57:FX57)=0,OR(AND($FF57=1,$FI57>0),$FJ57>=0.2)),1,)","v":0},{"$f":"IF(AND(FE57<>1,$FP57=2,SUM($FW57:FY57)=0,OR($FF57=1,$FJ57>=0.1)),1,)","v":0},{"$f":"IF(AND(FE57<>1,$FP57=2,SUM($FW57:FZ57)=0,$FI57>0),1,)","v":0},0,{"$f":"IF(AND(FE57<>1,$FP57=3,SUM($GB57:GB57)=0,AND($FF57=1,$FJ57>=0.05)),1,)","v":0},{"$f":"IF(AND(FE57<>1,$FP57=3,SUM($GB57:GC57)=0,OR(AND($FF57=1,$FI57>0),$FJ57>=0.1)),1,)","v":0},{"$f":"IF(AND(FE57<>1,$FP57=3,SUM($GB57:GD57)=0,OR($FF57=1,$FJ57>=0.05)),1,)","v":0},{"$f":"IF(AND(FE57<>1,$FP57=3,SUM($GB57:GE57)=0,$FI57>0),1,)","v":0},0,null,0,0,0,0,0,0,0,0,0,0,0,0,0,0,0,0,0,0,0,0,0,0,0,0,0,0,0,0,0,0,0,0,0,0,0,0,0,0,0,0,0,0,0,0,0,0,0,0,0,0,0,0,0,0,0,0,0,0,0,0,0,0,0,0,0,0,0,0,0,0,0,0,0,0,0,0,0,0,0,"","","","","","","","","","","","","","","","○",0,0,0,0,0,0,0,"○",0,0,0,"○","○",null,0,0]
[0,0,0,0,0,0,0,0,0,0,46,null,null,null,null,{"$f":"IF(O58<>\"\",VLOOKUP(O58,整理番号表!$Z$17:$AA$20,2,FALSE),)","v":0},0,null,null,null,null,null,{"$f":"IF(V58<>0,VLOOKUP(V58,整理番号表!$B$6:$L$13,2,FALSE),)","v":0},0,{"$f":"IF(X58<>0,VLOOKUP(X58,整理番号表!$B$16:$C$18,2,FALSE),)","v":0},null,{"$f":"IF(Z58<>0,VLOOKUP(Z58,整理番号表!$B$22:$C$29,2,FALSE),)","v":0},null,null,{"$f":"IF(AC58<>0,VLOOKUP(AC58,整理番号表!$B$32:$G$60,2,FALSE),)","v":0},null,{"$f":"IF(AE58<>0,VLOOKUP(AE58,整理番号表!$P$5:$R$39,2,FALSE),)","v":0},null,0,null,null,{"$f":"IF(AJ58<>\"\",VLOOKUP(AJ58,整理番号表!$Z$6:$AA$14,2,FALSE),\"\")","v":""},0,null,null,null,null,null,{"$f":"IF(AQ58<>0,VLOOKUP(AQ58,整理番号表!$P$43:$Q$49,2,FALSE),)","v":0},null,null,null,null,0,0,null,0,null,null,null,0,0,0,null,null,0,0,null,{"$f":"IF(BK58<>0,VLOOKUP(BK58,整理番号表!$T$5:$U$16,2,FALSE),)","v":0},null,{"$f":"IF(BM58<>0,VLOOKUP(BM58,整理番号表!$T$22:$U$30,2,FALSE),)","v":0},null,0,"",null,null,null,null,null,"",0,null,null,null,null,null,null,null,null,null,0,0,0,0,0,0,0,0,0,0,0,0,0,0,0,0,0,0,0,0,0,0,0,0,0,0,0,0,null,null,null,null,null,0,0,0,0,0,0,null,0,null,null,null,null,null,null,null,0,null,null,null,null,null,null,null,null,null,null,null,null,null,null,null,null,null,null,null,null,null,null,null,null,null,null,0,0,null,null,0,0,0,{"$f":"IF(OR(AND(1<=$FK58,$FK58<=3),$FK58=6),VLOOKUP($FK58,整理番号表!$B$32:$G$60,2,FALSE),)","v":0},{"$f":"IF(OR($FK58=4,$FK58=7),VLOOKUP($FK58,整理番号表!$B$32:$G$60,2,FALSE),)","v":0},{"$f":"IF($FK58=5,VLOOKUP($FK58,整理番号表!$B$32:$G$60,2,FALSE),)","v":0},{"$f":"IF(AND(8<=$FK58,$FK58<=13),VLOOKUP($FK58,整理番号表!$B$32:$G$60,2,FALSE),)","v":0},0,0,{"$f":"IF(AND(FE58<>1,$FP58=1,SUM($FQ58:FQ58)=0,$FF58=1,$FI58>=2),1,)","v":0},{"$f":"IF(AND(FE58<>1,$FP58=1,SUM($FQ58:FR58)=0,OR(AND($FF58=1,$FI58>0),$FI58>=4)),1,)","v":0},{"$f":"IF(AND(FE58<>1,$FP58=1,SUM($FQ58:FS58)=0,OR($FF58=1,$FI58>=2)),1,)","v":0},{"$f":"IF(AND(FE58<>1,$FP58=1,SUM($FQ58:FT58)=0,$FI58>0),1,)","v":0},0,0,{"$f":"IF(AND(FE58<>1,$FP58=2,SUM($FW58:FW58)=0,$FF58=1,$FJ58>=0.1),1,)","v":0},{"$f":"IF(AND(FE58<>1,$FP58=2,SUM($FW58:FX58)=0,OR(AND($FF58=1,$FI58>0),$FJ58>=0.2)),1,)","v":0},{"$f":"IF(AND(FE58<>1,$FP58=2,SUM($FW58:FY58)=0,OR($FF58=1,$FJ58>=0.1)),1,)","v":0},{"$f":"IF(AND(FE58<>1,$FP58=2,SUM($FW58:FZ58)=0,$FI58>0),1,)","v":0},0,{"$f":"IF(AND(FE58<>1,$FP58=3,SUM($GB58:GB58)=0,AND($FF58=1,$FJ58>=0.05)),1,)","v":0},{"$f":"IF(AND(FE58<>1,$FP58=3,SUM($GB58:GC58)=0,OR(AND($FF58=1,$FI58>0),$FJ58>=0.1)),1,)","v":0},{"$f":"IF(AND(FE58<>1,$FP58=3,SUM($GB58:GD58)=0,OR($FF58=1,$FJ58>=0.05)),1,)","v":0},{"$f":"IF(AND(FE58<>1,$FP58=3,SUM($GB58:GE58)=0,$FI58>0),1,)","v":0},0,null,0,0,0,0,0,0,0,0,0,0,0,0,0,0,0,0,0,0,0,0,0,0,0,0,0,0,0,0,0,0,0,0,0,0,0,0,0,0,0,0,0,0,0,0,0,0,0,0,0,0,0,0,0,0,0,0,0,0,0,0,0,0,0,0,0,0,0,0,0,0,0,0,0,0,0,0,0,0,0,"","","","","","","","","","","","","","","","○",0,0,0,0,0,0,0,"○",0,0,0,"○","○",null,0,0]
[0,0,0,0,0,0,0,0,0,0,47,null,null,null,null,{"$f":"IF(O59<>\"\",VLOOKUP(O59,整理番号表!$Z$17:$AA$20,2,FALSE),)","v":0},0,null,null,null,null,null,{"$f":"IF(V59<>0,VLOOKUP(V59,整理番号表!$B$6:$L$13,2,FALSE),)","v":0},0,{"$f":"IF(X59<>0,VLOOKUP(X59,整理番号表!$B$16:$C$18,2,FALSE),)","v":0},null,{"$f":"IF(Z59<>0,VLOOKUP(Z59,整理番号表!$B$22:$C$29,2,FALSE),)","v":0},null,null,{"$f":"IF(AC59<>0,VLOOKUP(AC59,整理番号表!$B$32:$G$60,2,FALSE),)","v":0},null,{"$f":"IF(AE59<>0,VLOOKUP(AE59,整理番号表!$P$5:$R$39,2,FALSE),)","v":0},null,0,null,null,{"$f":"IF(AJ59<>\"\",VLOOKUP(AJ59,整理番号表!$Z$6:$AA$14,2,FALSE),\"\")","v":""},0,null,null,null,null,null,{"$f":"IF(AQ59<>0,VLOOKUP(AQ59,整理番号表!$P$43:$Q$49,2,FALSE),)","v":0},null,null,null,null,0,0,null,0,null,null,null,0,0,0,null,null,0,0,null,{"$f":"IF(BK59<>0,VLOOKUP(BK59,整理番号表!$T$5:$U$16,2,FALSE),)","v":0},null,{"$f":"IF(BM59<>0,VLOOKUP(BM59,整理番号表!$T$22:$U$30,2,FALSE),)","v":0},null,0,"",null,null,null,null,null,"",0,null,null,null,null,null,null,null,null,null,0,0,0,0,0,0,0,0,0,0,0,0,0,0,0,0,0,0,0,0,0,0,0,0,0,0,0,0,null,null,null,null,null,0,0,0,0,0,0,null,0,null,null,null,null,null,null,null,0,null,null,null,null,null,null,null,null,null,null,null,null,null,null,null,null,null,null,null,null,null,null,null,null,null,null,0,0,null,null,0,0,0,{"$f":"IF(OR(AND(1<=$FK59,$FK59<=3),$FK59=6),VLOOKUP($FK59,整理番号表!$B$32:$G$60,2,FALSE),)","v":0},{"$f":"IF(OR($FK59=4,$FK59=7),VLOOKUP($FK59,整理番号表!$B$32:$G$60,2,FALSE),)","v":0},{"$f":"IF($FK59=5,VLOOKUP($FK59,整理番号表!$B$32:$G$60,2,FALSE),)","v":0},{"$f":"IF(AND(8<=$FK59,$FK59<=13),VLOOKUP($FK59,整理番号表!$B$32:$G$60,2,FALSE),)","v":0},0,0,{"$f":"IF(AND(FE59<>1,$FP59=1,SUM($FQ59:FQ59)=0,$FF59=1,$FI59>=2),1,)","v":0},{"$f":"IF(AND(FE59<>1,$FP59=1,SUM($FQ59:FR59)=0,OR(AND($FF59=1,$FI59>0),$FI59>=4)),1,)","v":0},{"$f":"IF(AND(FE59<>1,$FP59=1,SUM($FQ59:FS59)=0,OR($FF59=1,$FI59>=2)),1,)","v":0},{"$f":"IF(AND(FE59<>1,$FP59=1,SUM($FQ59:FT59)=0,$FI59>0),1,)","v":0},0,0,{"$f":"IF(AND(FE59<>1,$FP59=2,SUM($FW59:FW59)=0,$FF59=1,$FJ59>=0.1),1,)","v":0},{"$f":"IF(AND(FE59<>1,$FP59=2,SUM($FW59:FX59)=0,OR(AND($FF59=1,$FI59>0),$FJ59>=0.2)),1,)","v":0},{"$f":"IF(AND(FE59<>1,$FP59=2,SUM($FW59:FY59)=0,OR($FF59=1,$FJ59>=0.1)),1,)","v":0},{"$f":"IF(AND(FE59<>1,$FP59=2,SUM($FW59:FZ59)=0,$FI59>0),1,)","v":0},0,{"$f":"IF(AND(FE59<>1,$FP59=3,SUM($GB59:GB59)=0,AND($FF59=1,$FJ59>=0.05)),1,)","v":0},{"$f":"IF(AND(FE59<>1,$FP59=3,SUM($GB59:GC59)=0,OR(AND($FF59=1,$FI59>0),$FJ59>=0.1)),1,)","v":0},{"$f":"IF(AND(FE59<>1,$FP59=3,SUM($GB59:GD59)=0,OR($FF59=1,$FJ59>=0.05)),1,)","v":0},{"$f":"IF(AND(FE59<>1,$FP59=3,SUM($GB59:GE59)=0,$FI59>0),1,)","v":0},0,null,0,0,0,0,0,0,0,0,0,0,0,0,0,0,0,0,0,0,0,0,0,0,0,0,0,0,0,0,0,0,0,0,0,0,0,0,0,0,0,0,0,0,0,0,0,0,0,0,0,0,0,0,0,0,0,0,0,0,0,0,0,0,0,0,0,0,0,0,0,0,0,0,0,0,0,0,0,0,0,"","","","","","","","","","","","","","","","○",0,0,0,0,0,0,0,"○",0,0,0,"○","○",null,0,0]
[0,0,0,0,0,0,0,0,0,0,48,null,null,null,null,{"$f":"IF(O60<>\"\",VLOOKUP(O60,整理番号表!$Z$17:$AA$20,2,FALSE),)","v":0},0,null,null,null,null,null,{"$f":"IF(V60<>0,VLOOKUP(V60,整理番号表!$B$6:$L$13,2,FALSE),)","v":0},0,{"$f":"IF(X60<>0,VLOOKUP(X60,整理番号表!$B$16:$C$18,2,FALSE),)","v":0},null,{"$f":"IF(Z60<>0,VLOOKUP(Z60,整理番号表!$B$22:$C$29,2,FALSE),)","v":0},null,null,{"$f":"IF(AC60<>0,VLOOKUP(AC60,整理番号表!$B$32:$G$60,2,FALSE),)","v":0},null,{"$f":"IF(AE60<>0,VLOOKUP(AE60,整理番号表!$P$5:$R$39,2,FALSE),)","v":0},null,0,null,null,{"$f":"IF(AJ60<>\"\",VLOOKUP(AJ60,整理番号表!$Z$6:$AA$14,2,FALSE),\"\")","v":""},0,null,null,null,null,null,{"$f":"IF(AQ60<>0,VLOOKUP(AQ60,整理番号表!$P$43:$Q$49,2,FALSE),)","v":0},null,null,null,null,0,0,null,0,null,null,null,0,0,0,null,null,0,0,null,{"$f":"IF(BK60<>0,VLOOKUP(BK60,整理番号表!$T$5:$U$16,2,FALSE),)","v":0},null,{"$f":"IF(BM60<>0,VLOOKUP(BM60,整理番号表!$T$22:$U$30,2,FALSE),)","v":0},null,0,"",null,null,null,null,null,"",0,null,null,null,null,null,null,null,null,null,0,0,0,0,0,0,0,0,0,0,0,0,0,0,0,0,0,0,0,0,0,0,0,0,0,0,0,0,null,null,null,null,null,0,0,0,0,0,0,null,0,null,null,null,null,null,null,null,0,null,null,null,null,null,null,null,null,null,null,null,null,null,null,null,null,null,null,null,null,null,null,null,null,null,null,0,0,null,null,0,0,0,{"$f":"IF(OR(AND(1<=$FK60,$FK60<=3),$FK60=6),VLOOKUP($FK60,整理番号表!$B$32:$G$60,2,FALSE),)","v":0},{"$f":"IF(OR($FK60=4,$FK60=7),VLOOKUP($FK60,整理番号表!$B$32:$G$60,2,FALSE),)","v":0},{"$f":"IF($FK60=5,VLOOKUP($FK60,整理番号表!$B$32:$G$60,2,FALSE),)","v":0},{"$f":"IF(AND(8<=$FK60,$FK60<=13),VLOOKUP($FK60,整理番号表!$B$32:$G$60,2,FALSE),)","v":0},0,0,{"$f":"IF(AND(FE60<>1,$FP60=1,SUM($FQ60:FQ60)=0,$FF60=1,$FI60>=2),1,)","v":0},{"$f":"IF(AND(FE60<>1,$FP60=1,SUM($FQ60:FR60)=0,OR(AND($FF60=1,$FI60>0),$FI60>=4)),1,)","v":0},{"$f":"IF(AND(FE60<>1,$FP60=1,SUM($FQ60:FS60)=0,OR($FF60=1,$FI60>=2)),1,)","v":0},{"$f":"IF(AND(FE60<>1,$FP60=1,SUM($FQ60:FT60)=0,$FI60>0),1,)","v":0},0,0,{"$f":"IF(AND(FE60<>1,$FP60=2,SUM($FW60:FW60)=0,$FF60=1,$FJ60>=0.1),1,)","v":0},{"$f":"IF(AND(FE60<>1,$FP60=2,SUM($FW60:FX60)=0,OR(AND($FF60=1,$FI60>0),$FJ60>=0.2)),1,)","v":0},{"$f":"IF(AND(FE60<>1,$FP60=2,SUM($FW60:FY60)=0,OR($FF60=1,$FJ60>=0.1)),1,)","v":0},{"$f":"IF(AND(FE60<>1,$FP60=2,SUM($FW60:FZ60)=0,$FI60>0),1,)","v":0},0,{"$f":"IF(AND(FE60<>1,$FP60=3,SUM($GB60:GB60)=0,AND($FF60=1,$FJ60>=0.05)),1,)","v":0},{"$f":"IF(AND(FE60<>1,$FP60=3,SUM($GB60:GC60)=0,OR(AND($FF60=1,$FI60>0),$FJ60>=0.1)),1,)","v":0},{"$f":"IF(AND(FE60<>1,$FP60=3,SUM($GB60:GD60)=0,OR($FF60=1,$FJ60>=0.05)),1,)","v":0},{"$f":"IF(AND(FE60<>1,$FP60=3,SUM($GB60:GE60)=0,$FI60>0),1,)","v":0},0,null,0,0,0,0,0,0,0,0,0,0,0,0,0,0,0,0,0,0,0,0,0,0,0,0,0,0,0,0,0,0,0,0,0,0,0,0,0,0,0,0,0,0,0,0,0,0,0,0,0,0,0,0,0,0,0,0,0,0,0,0,0,0,0,0,0,0,0,0,0,0,0,0,0,0,0,0,0,0,0,"","","","","","","","","","","","","","","","○",0,0,0,0,0,0,0,"○",0,0,0,"○","○",null,0,0]
[0,0,0,0,0,0,0,0,0,0,49,null,null,null,null,{"$f":"IF(O61<>\"\",VLOOKUP(O61,整理番号表!$Z$17:$AA$20,2,FALSE),)","v":0},0,null,null,null,null,null,{"$f":"IF(V61<>0,VLOOKUP(V61,整理番号表!$B$6:$L$13,2,FALSE),)","v":0},0,{"$f":"IF(X61<>0,VLOOKUP(X61,整理番号表!$B$16:$C$18,2,FALSE),)","v":0},null,{"$f":"IF(Z61<>0,VLOOKUP(Z61,整理番号表!$B$22:$C$29,2,FALSE),)","v":0},null,null,{"$f":"IF(AC61<>0,VLOOKUP(AC61,整理番号表!$B$32:$G$60,2,FALSE),)","v":0},null,{"$f":"IF(AE61<>0,VLOOKUP(AE61,整理番号表!$P$5:$R$39,2,FALSE),)","v":0},null,0,null,null,{"$f":"IF(AJ61<>\"\",VLOOKUP(AJ61,整理番号表!$Z$6:$AA$14,2,FALSE),\"\")","v":""},0,null,null,null,null,null,{"$f":"IF(AQ61<>0,VLOOKUP(AQ61,整理番号表!$P$43:$Q$49,2,FALSE),)","v":0},null,null,null,null,0,0,null,0,null,null,null,0,0,0,null,null,0,0,null,{"$f":"IF(BK61<>0,VLOOKUP(BK61,整理番号表!$T$5:$U$16,2,FALSE),)","v":0},null,{"$f":"IF(BM61<>0,VLOOKUP(BM61,整理番号表!$T$22:$U$30,2,FALSE),)","v":0},null,0,"",null,null,null,null,null,"",0,null,null,null,null,null,null,null,null,null,0,0,0,0,0,0,0,0,0,0,0,0,0,0,0,0,0,0,0,0,0,0,0,0,0,0,0,0,null,null,null,null,null,0,0,0,0,0,0,null,0,null,null,null,null,null,null,null,0,null,null,null,null,null,null,null,null,null,null,null,null,null,null,null,null,null,null,null,null,null,null,null,null,null,null,0,0,null,null,0,0,0,{"$f":"IF(OR(AND(1<=$FK61,$FK61<=3),$FK61=6),VLOOKUP($FK61,整理番号表!$B$32:$G$60,2,FALSE),)","v":0},{"$f":"IF(OR($FK61=4,$FK61=7),VLOOKUP($FK61,整理番号表!$B$32:$G$60,2,FALSE),)","v":0},{"$f":"IF($FK61=5,VLOOKUP($FK61,整理番号表!$B$32:$G$60,2,FALSE),)","v":0},{"$f":"IF(AND(8<=$FK61,$FK61<=13),VLOOKUP($FK61,整理番号表!$B$32:$G$60,2,FALSE),)","v":0},0,0,{"$f":"IF(AND(FE61<>1,$FP61=1,SUM($FQ61:FQ61)=0,$FF61=1,$FI61>=2),1,)","v":0},{"$f":"IF(AND(FE61<>1,$FP61=1,SUM($FQ61:FR61)=0,OR(AND($FF61=1,$FI61>0),$FI61>=4)),1,)","v":0},{"$f":"IF(AND(FE61<>1,$FP61=1,SUM($FQ61:FS61)=0,OR($FF61=1,$FI61>=2)),1,)","v":0},{"$f":"IF(AND(FE61<>1,$FP61=1,SUM($FQ61:FT61)=0,$FI61>0),1,)","v":0},0,0,{"$f":"IF(AND(FE61<>1,$FP61=2,SUM($FW61:FW61)=0,$FF61=1,$FJ61>=0.1),1,)","v":0},{"$f":"IF(AND(FE61<>1,$FP61=2,SUM($FW61:FX61)=0,OR(AND($FF61=1,$FI61>0),$FJ61>=0.2)),1,)","v":0},{"$f":"IF(AND(FE61<>1,$FP61=2,SUM($FW61:FY61)=0,OR($FF61=1,$FJ61>=0.1)),1,)","v":0},{"$f":"IF(AND(FE61<>1,$FP61=2,SUM($FW61:FZ61)=0,$FI61>0),1,)","v":0},0,{"$f":"IF(AND(FE61<>1,$FP61=3,SUM($GB61:GB61)=0,AND($FF61=1,$FJ61>=0.05)),1,)","v":0},{"$f":"IF(AND(FE61<>1,$FP61=3,SUM($GB61:GC61)=0,OR(AND($FF61=1,$FI61>0),$FJ61>=0.1)),1,)","v":0},{"$f":"IF(AND(FE61<>1,$FP61=3,SUM($GB61:GD61)=0,OR($FF61=1,$FJ61>=0.05)),1,)","v":0},{"$f":"IF(AND(FE61<>1,$FP61=3,SUM($GB61:GE61)=0,$FI61>0),1,)","v":0},0,null,0,0,0,0,0,0,0,0,0,0,0,0,0,0,0,0,0,0,0,0,0,0,0,0,0,0,0,0,0,0,0,0,0,0,0,0,0,0,0,0,0,0,0,0,0,0,0,0,0,0,0,0,0,0,0,0,0,0,0,0,0,0,0,0,0,0,0,0,0,0,0,0,0,0,0,0,0,0,0,"","","","","","","","","","","","","","","","○",0,0,0,0,0,0,0,"○",0,0,0,"○","○",null,0,0]
[0,0,0,0,0,0,0,0,0,0,50,null,null,null,null,{"$f":"IF(O62<>\"\",VLOOKUP(O62,整理番号表!$Z$17:$AA$20,2,FALSE),)","v":0},0,null,null,null,null,null,{"$f":"IF(V62<>0,VLOOKUP(V62,整理番号表!$B$6:$L$13,2,FALSE),)","v":0},0,{"$f":"IF(X62<>0,VLOOKUP(X62,整理番号表!$B$16:$C$18,2,FALSE),)","v":0},null,{"$f":"IF(Z62<>0,VLOOKUP(Z62,整理番号表!$B$22:$C$29,2,FALSE),)","v":0},null,null,{"$f":"IF(AC62<>0,VLOOKUP(AC62,整理番号表!$B$32:$G$60,2,FALSE),)","v":0},null,{"$f":"IF(AE62<>0,VLOOKUP(AE62,整理番号表!$P$5:$R$39,2,FALSE),)","v":0},null,0,null,null,{"$f":"IF(AJ62<>\"\",VLOOKUP(AJ62,整理番号表!$Z$6:$AA$14,2,FALSE),\"\")","v":""},0,null,null,null,null,null,{"$f":"IF(AQ62<>0,VLOOKUP(AQ62,整理番号表!$P$43:$Q$49,2,FALSE),)","v":0},null,null,null,null,0,0,null,0,null,null,null,0,0,0,null,null,0,0,null,{"$f":"IF(BK62<>0,VLOOKUP(BK62,整理番号表!$T$5:$U$16,2,FALSE),)","v":0},null,{"$f":"IF(BM62<>0,VLOOKUP(BM62,整理番号表!$T$22:$U$30,2,FALSE),)","v":0},null,0,"",null,null,null,null,null,"",0,null,null,null,null,null,null,null,null,null,0,0,0,0,0,0,0,0,0,0,0,0,0,0,0,0,0,0,0,0,0,0,0,0,0,0,0,0,null,null,null,null,null,0,0,0,0,0,0,null,0,null,null,null,null,null,null,null,0,null,null,null,null,null,null,null,null,null,null,null,null,null,null,null,null,null,null,null,null,null,null,null,null,null,null,0,0,null,null,0,0,0,{"$f":"IF(OR(AND(1<=$FK62,$FK62<=3),$FK62=6),VLOOKUP($FK62,整理番号表!$B$32:$G$60,2,FALSE),)","v":0},{"$f":"IF(OR($FK62=4,$FK62=7),VLOOKUP($FK62,整理番号表!$B$32:$G$60,2,FALSE),)","v":0},{"$f":"IF($FK62=5,VLOOKUP($FK62,整理番号表!$B$32:$G$60,2,FALSE),)","v":0},{"$f":"IF(AND(8<=$FK62,$FK62<=13),VLOOKUP($FK62,整理番号表!$B$32:$G$60,2,FALSE),)","v":0},0,0,{"$f":"IF(AND(FE62<>1,$FP62=1,SUM($FQ62:FQ62)=0,$FF62=1,$FI62>=2),1,)","v":0},{"$f":"IF(AND(FE62<>1,$FP62=1,SUM($FQ62:FR62)=0,OR(AND($FF62=1,$FI62>0),$FI62>=4)),1,)","v":0},{"$f":"IF(AND(FE62<>1,$FP62=1,SUM($FQ62:FS62)=0,OR($FF62=1,$FI62>=2)),1,)","v":0},{"$f":"IF(AND(FE62<>1,$FP62=1,SUM($FQ62:FT62)=0,$FI62>0),1,)","v":0},0,0,{"$f":"IF(AND(FE62<>1,$FP62=2,SUM($FW62:FW62)=0,$FF62=1,$FJ62>=0.1),1,)","v":0},{"$f":"IF(AND(FE62<>1,$FP62=2,SUM($FW62:FX62)=0,OR(AND($FF62=1,$FI62>0),$FJ62>=0.2)),1,)","v":0},{"$f":"IF(AND(FE62<>1,$FP62=2,SUM($FW62:FY62)=0,OR($FF62=1,$FJ62>=0.1)),1,)","v":0},{"$f":"IF(AND(FE62<>1,$FP62=2,SUM($FW62:FZ62)=0,$FI62>0),1,)","v":0},0,{"$f":"IF(AND(FE62<>1,$FP62=3,SUM($GB62:GB62)=0,AND($FF62=1,$FJ62>=0.05)),1,)","v":0},{"$f":"IF(AND(FE62<>1,$FP62=3,SUM($GB62:GC62)=0,OR(AND($FF62=1,$FI62>0),$FJ62>=0.1)),1,)","v":0},{"$f":"IF(AND(FE62<>1,$FP62=3,SUM($GB62:GD62)=0,OR($FF62=1,$FJ62>=0.05)),1,)","v":0},{"$f":"IF(AND(FE62<>1,$FP62=3,SUM($GB62:GE62)=0,$FI62>0),1,)","v":0},0,null,0,0,0,0,0,0,0,0,0,0,0,0,0,0,0,0,0,0,0,0,0,0,0,0,0,0,0,0,0,0,0,0,0,0,0,0,0,0,0,0,0,0,0,0,0,0,0,0,0,0,0,0,0,0,0,0,0,0,0,0,0,0,0,0,0,0,0,0,0,0,0,0,0,0,0,0,0,0,0,"","","","","","","","","","","","","","","","○",0,0,0,0,0,0,0,"○",0,0,0,"○","○",null,0,0]
[0,0,0,0,0,0,0,0,0,0,51,null,null,null,null,{"$f":"IF(O63<>\"\",VLOOKUP(O63,整理番号表!$Z$17:$AA$20,2,FALSE),)","v":0},0,null,null,null,null,null,{"$f":"IF(V63<>0,VLOOKUP(V63,整理番号表!$B$6:$L$13,2,FALSE),)","v":0},0,{"$f":"IF(X63<>0,VLOOKUP(X63,整理番号表!$B$16:$C$18,2,FALSE),)","v":0},null,{"$f":"IF(Z63<>0,VLOOKUP(Z63,整理番号表!$B$22:$C$29,2,FALSE),)","v":0},null,null,{"$f":"IF(AC63<>0,VLOOKUP(AC63,整理番号表!$B$32:$G$60,2,FALSE),)","v":0},null,{"$f":"IF(AE63<>0,VLOOKUP(AE63,整理番号表!$P$5:$R$39,2,FALSE),)","v":0},null,0,null,null,{"$f":"IF(AJ63<>\"\",VLOOKUP(AJ63,整理番号表!$Z$6:$AA$14,2,FALSE),\"\")","v":""},0,null,null,null,null,null,{"$f":"IF(AQ63<>0,VLOOKUP(AQ63,整理番号表!$P$43:$Q$49,2,FALSE),)","v":0},null,null,null,null,0,0,null,0,null,null,null,0,0,0,null,null,0,0,null,{"$f":"IF(BK63<>0,VLOOKUP(BK63,整理番号表!$T$5:$U$16,2,FALSE),)","v":0},null,{"$f":"IF(BM63<>0,VLOOKUP(BM63,整理番号表!$T$22:$U$30,2,FALSE),)","v":0},null,0,"",null,null,null,null,null,"",0,null,null,null,null,null,null,null,null,null,0,0,0,0,0,0,0,0,0,0,0,0,0,0,0,0,0,0,0,0,0,0,0,0,0,0,0,0,null,null,null,null,null,0,0,0,0,0,0,null,0,null,null,null,null,null,null,null,0,null,null,null,null,null,null,null,null,null,null,null,null,null,null,null,null,null,null,null,null,null,null,null,null,null,null,0,0,null,null,0,0,0,{"$f":"IF(OR(AND(1<=$FK63,$FK63<=3),$FK63=6),VLOOKUP($FK63,整理番号表!$B$32:$G$60,2,FALSE),)","v":0},{"$f":"IF(OR($FK63=4,$FK63=7),VLOOKUP($FK63,整理番号表!$B$32:$G$60,2,FALSE),)","v":0},{"$f":"IF($FK63=5,VLOOKUP($FK63,整理番号表!$B$32:$G$60,2,FALSE),)","v":0},{"$f":"IF(AND(8<=$FK63,$FK63<=13),VLOOKUP($FK63,整理番号表!$B$32:$G$60,2,FALSE),)","v":0},0,0,{"$f":"IF(AND(FE63<>1,$FP63=1,SUM($FQ63:FQ63)=0,$FF63=1,$FI63>=2),1,)","v":0},{"$f":"IF(AND(FE63<>1,$FP63=1,SUM($FQ63:FR63)=0,OR(AND($FF63=1,$FI63>0),$FI63>=4)),1,)","v":0},{"$f":"IF(AND(FE63<>1,$FP63=1,SUM($FQ63:FS63)=0,OR($FF63=1,$FI63>=2)),1,)","v":0},{"$f":"IF(AND(FE63<>1,$FP63=1,SUM($FQ63:FT63)=0,$FI63>0),1,)","v":0},0,0,{"$f":"IF(AND(FE63<>1,$FP63=2,SUM($FW63:FW63)=0,$FF63=1,$FJ63>=0.1),1,)","v":0},{"$f":"IF(AND(FE63<>1,$FP63=2,SUM($FW63:FX63)=0,OR(AND($FF63=1,$FI63>0),$FJ63>=0.2)),1,)","v":0},{"$f":"IF(AND(FE63<>1,$FP63=2,SUM($FW63:FY63)=0,OR($FF63=1,$FJ63>=0.1)),1,)","v":0},{"$f":"IF(AND(FE63<>1,$FP63=2,SUM($FW63:FZ63)=0,$FI63>0),1,)","v":0},0,{"$f":"IF(AND(FE63<>1,$FP63=3,SUM($GB63:GB63)=0,AND($FF63=1,$FJ63>=0.05)),1,)","v":0},{"$f":"IF(AND(FE63<>1,$FP63=3,SUM($GB63:GC63)=0,OR(AND($FF63=1,$FI63>0),$FJ63>=0.1)),1,)","v":0},{"$f":"IF(AND(FE63<>1,$FP63=3,SUM($GB63:GD63)=0,OR($FF63=1,$FJ63>=0.05)),1,)","v":0},{"$f":"IF(AND(FE63<>1,$FP63=3,SUM($GB63:GE63)=0,$FI63>0),1,)","v":0},0,null,0,0,0,0,0,0,0,0,0,0,0,0,0,0,0,0,0,0,0,0,0,0,0,0,0,0,0,0,0,0,0,0,0,0,0,0,0,0,0,0,0,0,0,0,0,0,0,0,0,0,0,0,0,0,0,0,0,0,0,0,0,0,0,0,0,0,0,0,0,0,0,0,0,0,0,0,0,0,0,"","","","","","","","","","","","","","","","○",0,0,0,0,0,0,0,"○",0,0,0,"○","○",null,0,0]
[0,0,0,0,0,0,0,0,0,0,52,null,null,null,null,{"$f":"IF(O64<>\"\",VLOOKUP(O64,整理番号表!$Z$17:$AA$20,2,FALSE),)","v":0},0,null,null,null,null,null,{"$f":"IF(V64<>0,VLOOKUP(V64,整理番号表!$B$6:$L$13,2,FALSE),)","v":0},0,{"$f":"IF(X64<>0,VLOOKUP(X64,整理番号表!$B$16:$C$18,2,FALSE),)","v":0},null,{"$f":"IF(Z64<>0,VLOOKUP(Z64,整理番号表!$B$22:$C$29,2,FALSE),)","v":0},null,null,{"$f":"IF(AC64<>0,VLOOKUP(AC64,整理番号表!$B$32:$G$60,2,FALSE),)","v":0},null,{"$f":"IF(AE64<>0,VLOOKUP(AE64,整理番号表!$P$5:$R$39,2,FALSE),)","v":0},null,0,null,null,{"$f":"IF(AJ64<>\"\",VLOOKUP(AJ64,整理番号表!$Z$6:$AA$14,2,FALSE),\"\")","v":""},0,null,null,null,null,null,{"$f":"IF(AQ64<>0,VLOOKUP(AQ64,整理番号表!$P$43:$Q$49,2,FALSE),)","v":0},null,null,null,null,0,0,null,0,null,null,null,0,0,0,null,null,0,0,null,{"$f":"IF(BK64<>0,VLOOKUP(BK64,整理番号表!$T$5:$U$16,2,FALSE),)","v":0},null,{"$f":"IF(BM64<>0,VLOOKUP(BM64,整理番号表!$T$22:$U$30,2,FALSE),)","v":0},null,0,"",null,null,null,null,null,"",0,null,null,null,null,null,null,null,null,null,0,0,0,0,0,0,0,0,0,0,0,0,0,0,0,0,0,0,0,0,0,0,0,0,0,0,0,0,null,null,null,null,null,0,0,0,0,0,0,null,0,null,null,null,null,null,null,null,0,null,null,null,null,null,null,null,null,null,null,null,null,null,null,null,null,null,null,null,null,null,null,null,null,null,null,0,0,null,null,0,0,0,{"$f":"IF(OR(AND(1<=$FK64,$FK64<=3),$FK64=6),VLOOKUP($FK64,整理番号表!$B$32:$G$60,2,FALSE),)","v":0},{"$f":"IF(OR($FK64=4,$FK64=7),VLOOKUP($FK64,整理番号表!$B$32:$G$60,2,FALSE),)","v":0},{"$f":"IF($FK64=5,VLOOKUP($FK64,整理番号表!$B$32:$G$60,2,FALSE),)","v":0},{"$f":"IF(AND(8<=$FK64,$FK64<=13),VLOOKUP($FK64,整理番号表!$B$32:$G$60,2,FALSE),)","v":0},0,0,{"$f":"IF(AND(FE64<>1,$FP64=1,SUM($FQ64:FQ64)=0,$FF64=1,$FI64>=2),1,)","v":0},{"$f":"IF(AND(FE64<>1,$FP64=1,SUM($FQ64:FR64)=0,OR(AND($FF64=1,$FI64>0),$FI64>=4)),1,)","v":0},{"$f":"IF(AND(FE64<>1,$FP64=1,SUM($FQ64:FS64)=0,OR($FF64=1,$FI64>=2)),1,)","v":0},{"$f":"IF(AND(FE64<>1,$FP64=1,SUM($FQ64:FT64)=0,$FI64>0),1,)","v":0},0,0,{"$f":"IF(AND(FE64<>1,$FP64=2,SUM($FW64:FW64)=0,$FF64=1,$FJ64>=0.1),1,)","v":0},{"$f":"IF(AND(FE64<>1,$FP64=2,SUM($FW64:FX64)=0,OR(AND($FF64=1,$FI64>0),$FJ64>=0.2)),1,)","v":0},{"$f":"IF(AND(FE64<>1,$FP64=2,SUM($FW64:FY64)=0,OR($FF64=1,$FJ64>=0.1)),1,)","v":0},{"$f":"IF(AND(FE64<>1,$FP64=2,SUM($FW64:FZ64)=0,$FI64>0),1,)","v":0},0,{"$f":"IF(AND(FE64<>1,$FP64=3,SUM($GB64:GB64)=0,AND($FF64=1,$FJ64>=0.05)),1,)","v":0},{"$f":"IF(AND(FE64<>1,$FP64=3,SUM($GB64:GC64)=0,OR(AND($FF64=1,$FI64>0),$FJ64>=0.1)),1,)","v":0},{"$f":"IF(AND(FE64<>1,$FP64=3,SUM($GB64:GD64)=0,OR($FF64=1,$FJ64>=0.05)),1,)","v":0},{"$f":"IF(AND(FE64<>1,$FP64=3,SUM($GB64:GE64)=0,$FI64>0),1,)","v":0},0,null,0,0,0,0,0,0,0,0,0,0,0,0,0,0,0,0,0,0,0,0,0,0,0,0,0,0,0,0,0,0,0,0,0,0,0,0,0,0,0,0,0,0,0,0,0,0,0,0,0,0,0,0,0,0,0,0,0,0,0,0,0,0,0,0,0,0,0,0,0,0,0,0,0,0,0,0,0,0,0,"","","","","","","","","","","","","","","","○",0,0,0,0,0,0,0,"○",0,0,0,"○","○",null,0,0]
[0,0,0,0,0,0,0,0,0,0,53,null,null,null,null,{"$f":"IF(O65<>\"\",VLOOKUP(O65,整理番号表!$Z$17:$AA$20,2,FALSE),)","v":0},0,null,null,null,null,null,{"$f":"IF(V65<>0,VLOOKUP(V65,整理番号表!$B$6:$L$13,2,FALSE),)","v":0},0,{"$f":"IF(X65<>0,VLOOKUP(X65,整理番号表!$B$16:$C$18,2,FALSE),)","v":0},null,{"$f":"IF(Z65<>0,VLOOKUP(Z65,整理番号表!$B$22:$C$29,2,FALSE),)","v":0},null,null,{"$f":"IF(AC65<>0,VLOOKUP(AC65,整理番号表!$B$32:$G$60,2,FALSE),)","v":0},null,{"$f":"IF(AE65<>0,VLOOKUP(AE65,整理番号表!$P$5:$R$39,2,FALSE),)","v":0},null,0,null,null,{"$f":"IF(AJ65<>\"\",VLOOKUP(AJ65,整理番号表!$Z$6:$AA$14,2,FALSE),\"\")","v":""},0,null,null,null,null,null,{"$f":"IF(AQ65<>0,VLOOKUP(AQ65,整理番号表!$P$43:$Q$49,2,FALSE),)","v":0},null,null,null,null,0,0,null,0,null,null,null,0,0,0,null,null,0,0,null,{"$f":"IF(BK65<>0,VLOOKUP(BK65,整理番号表!$T$5:$U$16,2,FALSE),)","v":0},null,{"$f":"IF(BM65<>0,VLOOKUP(BM65,整理番号表!$T$22:$U$30,2,FALSE),)","v":0},null,0,"",null,null,null,null,null,"",0,null,null,null,null,null,null,null,null,null,0,0,0,0,0,0,0,0,0,0,0,0,0,0,0,0,0,0,0,0,0,0,0,0,0,0,0,0,null,null,null,null,null,0,0,0,0,0,0,null,0,null,null,null,null,null,null,null,0,null,null,null,null,null,null,null,null,null,null,null,null,null,null,null,null,null,null,null,null,null,null,null,null,null,null,0,0,null,null,0,0,0,{"$f":"IF(OR(AND(1<=$FK65,$FK65<=3),$FK65=6),VLOOKUP($FK65,整理番号表!$B$32:$G$60,2,FALSE),)","v":0},{"$f":"IF(OR($FK65=4,$FK65=7),VLOOKUP($FK65,整理番号表!$B$32:$G$60,2,FALSE),)","v":0},{"$f":"IF($FK65=5,VLOOKUP($FK65,整理番号表!$B$32:$G$60,2,FALSE),)","v":0},{"$f":"IF(AND(8<=$FK65,$FK65<=13),VLOOKUP($FK65,整理番号表!$B$32:$G$60,2,FALSE),)","v":0},0,0,{"$f":"IF(AND(FE65<>1,$FP65=1,SUM($FQ65:FQ65)=0,$FF65=1,$FI65>=2),1,)","v":0},{"$f":"IF(AND(FE65<>1,$FP65=1,SUM($FQ65:FR65)=0,OR(AND($FF65=1,$FI65>0),$FI65>=4)),1,)","v":0},{"$f":"IF(AND(FE65<>1,$FP65=1,SUM($FQ65:FS65)=0,OR($FF65=1,$FI65>=2)),1,)","v":0},{"$f":"IF(AND(FE65<>1,$FP65=1,SUM($FQ65:FT65)=0,$FI65>0),1,)","v":0},0,0,{"$f":"IF(AND(FE65<>1,$FP65=2,SUM($FW65:FW65)=0,$FF65=1,$FJ65>=0.1),1,)","v":0},{"$f":"IF(AND(FE65<>1,$FP65=2,SUM($FW65:FX65)=0,OR(AND($FF65=1,$FI65>0),$FJ65>=0.2)),1,)","v":0},{"$f":"IF(AND(FE65<>1,$FP65=2,SUM($FW65:FY65)=0,OR($FF65=1,$FJ65>=0.1)),1,)","v":0},{"$f":"IF(AND(FE65<>1,$FP65=2,SUM($FW65:FZ65)=0,$FI65>0),1,)","v":0},0,{"$f":"IF(AND(FE65<>1,$FP65=3,SUM($GB65:GB65)=0,AND($FF65=1,$FJ65>=0.05)),1,)","v":0},{"$f":"IF(AND(FE65<>1,$FP65=3,SUM($GB65:GC65)=0,OR(AND($FF65=1,$FI65>0),$FJ65>=0.1)),1,)","v":0},{"$f":"IF(AND(FE65<>1,$FP65=3,SUM($GB65:GD65)=0,OR($FF65=1,$FJ65>=0.05)),1,)","v":0},{"$f":"IF(AND(FE65<>1,$FP65=3,SUM($GB65:GE65)=0,$FI65>0),1,)","v":0},0,null,0,0,0,0,0,0,0,0,0,0,0,0,0,0,0,0,0,0,0,0,0,0,0,0,0,0,0,0,0,0,0,0,0,0,0,0,0,0,0,0,0,0,0,0,0,0,0,0,0,0,0,0,0,0,0,0,0,0,0,0,0,0,0,0,0,0,0,0,0,0,0,0,0,0,0,0,0,0,0,"","","","","","","","","","","","","","","","○",0,0,0,0,0,0,0,"○",0,0,0,"○","○",null,0,0]
[0,0,0,0,0,0,0,0,0,0,54,null,null,null,null,{"$f":"IF(O66<>\"\",VLOOKUP(O66,整理番号表!$Z$17:$AA$20,2,FALSE),)","v":0},0,null,null,null,null,null,{"$f":"IF(V66<>0,VLOOKUP(V66,整理番号表!$B$6:$L$13,2,FALSE),)","v":0},0,{"$f":"IF(X66<>0,VLOOKUP(X66,整理番号表!$B$16:$C$18,2,FALSE),)","v":0},null,{"$f":"IF(Z66<>0,VLOOKUP(Z66,整理番号表!$B$22:$C$29,2,FALSE),)","v":0},null,null,{"$f":"IF(AC66<>0,VLOOKUP(AC66,整理番号表!$B$32:$G$60,2,FALSE),)","v":0},null,{"$f":"IF(AE66<>0,VLOOKUP(AE66,整理番号表!$P$5:$R$39,2,FALSE),)","v":0},null,0,null,null,{"$f":"IF(AJ66<>\"\",VLOOKUP(AJ66,整理番号表!$Z$6:$AA$14,2,FALSE),\"\")","v":""},0,null,null,null,null,null,{"$f":"IF(AQ66<>0,VLOOKUP(AQ66,整理番号表!$P$43:$Q$49,2,FALSE),)","v":0},null,null,null,null,0,0,null,0,null,null,null,0,0,0,null,null,0,0,null,{"$f":"IF(BK66<>0,VLOOKUP(BK66,整理番号表!$T$5:$U$16,2,FALSE),)","v":0},null,{"$f":"IF(BM66<>0,VLOOKUP(BM66,整理番号表!$T$22:$U$30,2,FALSE),)","v":0},null,0,"",null,null,null,null,null,"",0,null,null,null,null,null,null,null,null,null,0,0,0,0,0,0,0,0,0,0,0,0,0,0,0,0,0,0,0,0,0,0,0,0,0,0,0,0,null,null,null,null,null,0,0,0,0,0,0,null,0,null,null,null,null,null,null,null,0,null,null,null,null,null,null,null,null,null,null,null,null,null,null,null,null,null,null,null,null,null,null,null,null,null,null,0,0,null,null,0,0,0,{"$f":"IF(OR(AND(1<=$FK66,$FK66<=3),$FK66=6),VLOOKUP($FK66,整理番号表!$B$32:$G$60,2,FALSE),)","v":0},{"$f":"IF(OR($FK66=4,$FK66=7),VLOOKUP($FK66,整理番号表!$B$32:$G$60,2,FALSE),)","v":0},{"$f":"IF($FK66=5,VLOOKUP($FK66,整理番号表!$B$32:$G$60,2,FALSE),)","v":0},{"$f":"IF(AND(8<=$FK66,$FK66<=13),VLOOKUP($FK66,整理番号表!$B$32:$G$60,2,FALSE),)","v":0},0,0,{"$f":"IF(AND(FE66<>1,$FP66=1,SUM($FQ66:FQ66)=0,$FF66=1,$FI66>=2),1,)","v":0},{"$f":"IF(AND(FE66<>1,$FP66=1,SUM($FQ66:FR66)=0,OR(AND($FF66=1,$FI66>0),$FI66>=4)),1,)","v":0},{"$f":"IF(AND(FE66<>1,$FP66=1,SUM($FQ66:FS66)=0,OR($FF66=1,$FI66>=2)),1,)","v":0},{"$f":"IF(AND(FE66<>1,$FP66=1,SUM($FQ66:FT66)=0,$FI66>0),1,)","v":0},0,0,{"$f":"IF(AND(FE66<>1,$FP66=2,SUM($FW66:FW66)=0,$FF66=1,$FJ66>=0.1),1,)","v":0},{"$f":"IF(AND(FE66<>1,$FP66=2,SUM($FW66:FX66)=0,OR(AND($FF66=1,$FI66>0),$FJ66>=0.2)),1,)","v":0},{"$f":"IF(AND(FE66<>1,$FP66=2,SUM($FW66:FY66)=0,OR($FF66=1,$FJ66>=0.1)),1,)","v":0},{"$f":"IF(AND(FE66<>1,$FP66=2,SUM($FW66:FZ66)=0,$FI66>0),1,)","v":0},0,{"$f":"IF(AND(FE66<>1,$FP66=3,SUM($GB66:GB66)=0,AND($FF66=1,$FJ66>=0.05)),1,)","v":0},{"$f":"IF(AND(FE66<>1,$FP66=3,SUM($GB66:GC66)=0,OR(AND($FF66=1,$FI66>0),$FJ66>=0.1)),1,)","v":0},{"$f":"IF(AND(FE66<>1,$FP66=3,SUM($GB66:GD66)=0,OR($FF66=1,$FJ66>=0.05)),1,)","v":0},{"$f":"IF(AND(FE66<>1,$FP66=3,SUM($GB66:GE66)=0,$FI66>0),1,)","v":0},0,null,0,0,0,0,0,0,0,0,0,0,0,0,0,0,0,0,0,0,0,0,0,0,0,0,0,0,0,0,0,0,0,0,0,0,0,0,0,0,0,0,0,0,0,0,0,0,0,0,0,0,0,0,0,0,0,0,0,0,0,0,0,0,0,0,0,0,0,0,0,0,0,0,0,0,0,0,0,0,0,"","","","","","","","","","","","","","","","○",0,0,0,0,0,0,0,"○",0,0,0,"○","○",null,0,0]
[0,0,0,0,0,0,0,0,0,0,55,null,null,null,null,{"$f":"IF(O67<>\"\",VLOOKUP(O67,整理番号表!$Z$17:$AA$20,2,FALSE),)","v":0},0,null,null,null,null,null,{"$f":"IF(V67<>0,VLOOKUP(V67,整理番号表!$B$6:$L$13,2,FALSE),)","v":0},0,{"$f":"IF(X67<>0,VLOOKUP(X67,整理番号表!$B$16:$C$18,2,FALSE),)","v":0},null,{"$f":"IF(Z67<>0,VLOOKUP(Z67,整理番号表!$B$22:$C$29,2,FALSE),)","v":0},null,null,{"$f":"IF(AC67<>0,VLOOKUP(AC67,整理番号表!$B$32:$G$60,2,FALSE),)","v":0},null,{"$f":"IF(AE67<>0,VLOOKUP(AE67,整理番号表!$P$5:$R$39,2,FALSE),)","v":0},null,0,null,null,{"$f":"IF(AJ67<>\"\",VLOOKUP(AJ67,整理番号表!$Z$6:$AA$14,2,FALSE),\"\")","v":""},0,null,null,null,null,null,{"$f":"IF(AQ67<>0,VLOOKUP(AQ67,整理番号表!$P$43:$Q$49,2,FALSE),)","v":0},null,null,null,null,0,0,null,0,null,null,null,0,0,0,null,null,0,0,null,{"$f":"IF(BK67<>0,VLOOKUP(BK67,整理番号表!$T$5:$U$16,2,FALSE),)","v":0},null,{"$f":"IF(BM67<>0,VLOOKUP(BM67,整理番号表!$T$22:$U$30,2,FALSE),)","v":0},null,0,"",null,null,null,null,null,"",0,null,null,null,null,null,null,null,null,null,0,0,0,0,0,0,0,0,0,0,0,0,0,0,0,0,0,0,0,0,0,0,0,0,0,0,0,0,null,null,null,null,null,0,0,0,0,0,0,null,0,null,null,null,null,null,null,null,0,null,null,null,null,null,null,null,null,null,null,null,null,null,null,null,null,null,null,null,null,null,null,null,null,null,null,0,0,null,null,0,0,0,{"$f":"IF(OR(AND(1<=$FK67,$FK67<=3),$FK67=6),VLOOKUP($FK67,整理番号表!$B$32:$G$60,2,FALSE),)","v":0},{"$f":"IF(OR($FK67=4,$FK67=7),VLOOKUP($FK67,整理番号表!$B$32:$G$60,2,FALSE),)","v":0},{"$f":"IF($FK67=5,VLOOKUP($FK67,整理番号表!$B$32:$G$60,2,FALSE),)","v":0},{"$f":"IF(AND(8<=$FK67,$FK67<=13),VLOOKUP($FK67,整理番号表!$B$32:$G$60,2,FALSE),)","v":0},0,0,{"$f":"IF(AND(FE67<>1,$FP67=1,SUM($FQ67:FQ67)=0,$FF67=1,$FI67>=2),1,)","v":0},{"$f":"IF(AND(FE67<>1,$FP67=1,SUM($FQ67:FR67)=0,OR(AND($FF67=1,$FI67>0),$FI67>=4)),1,)","v":0},{"$f":"IF(AND(FE67<>1,$FP67=1,SUM($FQ67:FS67)=0,OR($FF67=1,$FI67>=2)),1,)","v":0},{"$f":"IF(AND(FE67<>1,$FP67=1,SUM($FQ67:FT67)=0,$FI67>0),1,)","v":0},0,0,{"$f":"IF(AND(FE67<>1,$FP67=2,SUM($FW67:FW67)=0,$FF67=1,$FJ67>=0.1),1,)","v":0},{"$f":"IF(AND(FE67<>1,$FP67=2,SUM($FW67:FX67)=0,OR(AND($FF67=1,$FI67>0),$FJ67>=0.2)),1,)","v":0},{"$f":"IF(AND(FE67<>1,$FP67=2,SUM($FW67:FY67)=0,OR($FF67=1,$FJ67>=0.1)),1,)","v":0},{"$f":"IF(AND(FE67<>1,$FP67=2,SUM($FW67:FZ67)=0,$FI67>0),1,)","v":0},0,{"$f":"IF(AND(FE67<>1,$FP67=3,SUM($GB67:GB67)=0,AND($FF67=1,$FJ67>=0.05)),1,)","v":0},{"$f":"IF(AND(FE67<>1,$FP67=3,SUM($GB67:GC67)=0,OR(AND($FF67=1,$FI67>0),$FJ67>=0.1)),1,)","v":0},{"$f":"IF(AND(FE67<>1,$FP67=3,SUM($GB67:GD67)=0,OR($FF67=1,$FJ67>=0.05)),1,)","v":0},{"$f":"IF(AND(FE67<>1,$FP67=3,SUM($GB67:GE67)=0,$FI67>0),1,)","v":0},0,null,0,0,0,0,0,0,0,0,0,0,0,0,0,0,0,0,0,0,0,0,0,0,0,0,0,0,0,0,0,0,0,0,0,0,0,0,0,0,0,0,0,0,0,0,0,0,0,0,0,0,0,0,0,0,0,0,0,0,0,0,0,0,0,0,0,0,0,0,0,0,0,0,0,0,0,0,0,0,0,"","","","","","","","","","","","","","","","○",0,0,0,0,0,0,0,"○",0,0,0,"○","○",null,0,0]
[0,0,0,0,0,0,0,0,0,0,56,null,null,null,null,{"$f":"IF(O68<>\"\",VLOOKUP(O68,整理番号表!$Z$17:$AA$20,2,FALSE),)","v":0},0,null,null,null,null,null,{"$f":"IF(V68<>0,VLOOKUP(V68,整理番号表!$B$6:$L$13,2,FALSE),)","v":0},0,{"$f":"IF(X68<>0,VLOOKUP(X68,整理番号表!$B$16:$C$18,2,FALSE),)","v":0},null,{"$f":"IF(Z68<>0,VLOOKUP(Z68,整理番号表!$B$22:$C$29,2,FALSE),)","v":0},null,null,{"$f":"IF(AC68<>0,VLOOKUP(AC68,整理番号表!$B$32:$G$60,2,FALSE),)","v":0},null,{"$f":"IF(AE68<>0,VLOOKUP(AE68,整理番号表!$P$5:$R$39,2,FALSE),)","v":0},null,0,null,null,{"$f":"IF(AJ68<>\"\",VLOOKUP(AJ68,整理番号表!$Z$6:$AA$14,2,FALSE),\"\")","v":""},0,null,null,null,null,null,{"$f":"IF(AQ68<>0,VLOOKUP(AQ68,整理番号表!$P$43:$Q$49,2,FALSE),)","v":0},null,null,null,null,0,0,null,0,null,null,null,0,0,0,null,null,0,0,null,{"$f":"IF(BK68<>0,VLOOKUP(BK68,整理番号表!$T$5:$U$16,2,FALSE),)","v":0},null,{"$f":"IF(BM68<>0,VLOOKUP(BM68,整理番号表!$T$22:$U$30,2,FALSE),)","v":0},null,0,"",null,null,null,null,null,"",0,null,null,null,null,null,null,null,null,null,0,0,0,0,0,0,0,0,0,0,0,0,0,0,0,0,0,0,0,0,0,0,0,0,0,0,0,0,null,null,null,null,null,0,0,0,0,0,0,null,0,null,null,null,null,null,null,null,0,null,null,null,null,null,null,null,null,null,null,null,null,null,null,null,null,null,null,null,null,null,null,null,null,null,null,0,0,null,null,0,0,0,{"$f":"IF(OR(AND(1<=$FK68,$FK68<=3),$FK68=6),VLOOKUP($FK68,整理番号表!$B$32:$G$60,2,FALSE),)","v":0},{"$f":"IF(OR($FK68=4,$FK68=7),VLOOKUP($FK68,整理番号表!$B$32:$G$60,2,FALSE),)","v":0},{"$f":"IF($FK68=5,VLOOKUP($FK68,整理番号表!$B$32:$G$60,2,FALSE),)","v":0},{"$f":"IF(AND(8<=$FK68,$FK68<=13),VLOOKUP($FK68,整理番号表!$B$32:$G$60,2,FALSE),)","v":0},0,0,{"$f":"IF(AND(FE68<>1,$FP68=1,SUM($FQ68:FQ68)=0,$FF68=1,$FI68>=2),1,)","v":0},{"$f":"IF(AND(FE68<>1,$FP68=1,SUM($FQ68:FR68)=0,OR(AND($FF68=1,$FI68>0),$FI68>=4)),1,)","v":0},{"$f":"IF(AND(FE68<>1,$FP68=1,SUM($FQ68:FS68)=0,OR($FF68=1,$FI68>=2)),1,)","v":0},{"$f":"IF(AND(FE68<>1,$FP68=1,SUM($FQ68:FT68)=0,$FI68>0),1,)","v":0},0,0,{"$f":"IF(AND(FE68<>1,$FP68=2,SUM($FW68:FW68)=0,$FF68=1,$FJ68>=0.1),1,)","v":0},{"$f":"IF(AND(FE68<>1,$FP68=2,SUM($FW68:FX68)=0,OR(AND($FF68=1,$FI68>0),$FJ68>=0.2)),1,)","v":0},{"$f":"IF(AND(FE68<>1,$FP68=2,SUM($FW68:FY68)=0,OR($FF68=1,$FJ68>=0.1)),1,)","v":0},{"$f":"IF(AND(FE68<>1,$FP68=2,SUM($FW68:FZ68)=0,$FI68>0),1,)","v":0},0,{"$f":"IF(AND(FE68<>1,$FP68=3,SUM($GB68:GB68)=0,AND($FF68=1,$FJ68>=0.05)),1,)","v":0},{"$f":"IF(AND(FE68<>1,$FP68=3,SUM($GB68:GC68)=0,OR(AND($FF68=1,$FI68>0),$FJ68>=0.1)),1,)","v":0},{"$f":"IF(AND(FE68<>1,$FP68=3,SUM($GB68:GD68)=0,OR($FF68=1,$FJ68>=0.05)),1,)","v":0},{"$f":"IF(AND(FE68<>1,$FP68=3,SUM($GB68:GE68)=0,$FI68>0),1,)","v":0},0,null,0,0,0,0,0,0,0,0,0,0,0,0,0,0,0,0,0,0,0,0,0,0,0,0,0,0,0,0,0,0,0,0,0,0,0,0,0,0,0,0,0,0,0,0,0,0,0,0,0,0,0,0,0,0,0,0,0,0,0,0,0,0,0,0,0,0,0,0,0,0,0,0,0,0,0,0,0,0,0,"","","","","","","","","","","","","","","","○",0,0,0,0,0,0,0,"○",0,0,0,"○","○",null,0,0]
[0,0,0,0,0,0,0,0,0,0,57,null,null,null,null,{"$f":"IF(O69<>\"\",VLOOKUP(O69,整理番号表!$Z$17:$AA$20,2,FALSE),)","v":0},0,null,null,null,null,null,{"$f":"IF(V69<>0,VLOOKUP(V69,整理番号表!$B$6:$L$13,2,FALSE),)","v":0},0,{"$f":"IF(X69<>0,VLOOKUP(X69,整理番号表!$B$16:$C$18,2,FALSE),)","v":0},null,{"$f":"IF(Z69<>0,VLOOKUP(Z69,整理番号表!$B$22:$C$29,2,FALSE),)","v":0},null,null,{"$f":"IF(AC69<>0,VLOOKUP(AC69,整理番号表!$B$32:$G$60,2,FALSE),)","v":0},null,{"$f":"IF(AE69<>0,VLOOKUP(AE69,整理番号表!$P$5:$R$39,2,FALSE),)","v":0},null,0,null,null,{"$f":"IF(AJ69<>\"\",VLOOKUP(AJ69,整理番号表!$Z$6:$AA$14,2,FALSE),\"\")","v":""},0,null,null,null,null,null,{"$f":"IF(AQ69<>0,VLOOKUP(AQ69,整理番号表!$P$43:$Q$49,2,FALSE),)","v":0},null,null,null,null,0,0,null,0,null,null,null,0,0,0,null,null,0,0,null,{"$f":"IF(BK69<>0,VLOOKUP(BK69,整理番号表!$T$5:$U$16,2,FALSE),)","v":0},null,{"$f":"IF(BM69<>0,VLOOKUP(BM69,整理番号表!$T$22:$U$30,2,FALSE),)","v":0},null,0,"",null,null,null,null,null,"",0,null,null,null,null,null,null,null,null,null,0,0,0,0,0,0,0,0,0,0,0,0,0,0,0,0,0,0,0,0,0,0,0,0,0,0,0,0,null,null,null,null,null,0,0,0,0,0,0,null,0,null,null,null,null,null,null,null,0,null,null,null,null,null,null,null,null,null,null,null,null,null,null,null,null,null,null,null,null,null,null,null,null,null,null,0,0,null,null,0,0,0,{"$f":"IF(OR(AND(1<=$FK69,$FK69<=3),$FK69=6),VLOOKUP($FK69,整理番号表!$B$32:$G$60,2,FALSE),)","v":0},{"$f":"IF(OR($FK69=4,$FK69=7),VLOOKUP($FK69,整理番号表!$B$32:$G$60,2,FALSE),)","v":0},{"$f":"IF($FK69=5,VLOOKUP($FK69,整理番号表!$B$32:$G$60,2,FALSE),)","v":0},{"$f":"IF(AND(8<=$FK69,$FK69<=13),VLOOKUP($FK69,整理番号表!$B$32:$G$60,2,FALSE),)","v":0},0,0,{"$f":"IF(AND(FE69<>1,$FP69=1,SUM($FQ69:FQ69)=0,$FF69=1,$FI69>=2),1,)","v":0},{"$f":"IF(AND(FE69<>1,$FP69=1,SUM($FQ69:FR69)=0,OR(AND($FF69=1,$FI69>0),$FI69>=4)),1,)","v":0},{"$f":"IF(AND(FE69<>1,$FP69=1,SUM($FQ69:FS69)=0,OR($FF69=1,$FI69>=2)),1,)","v":0},{"$f":"IF(AND(FE69<>1,$FP69=1,SUM($FQ69:FT69)=0,$FI69>0),1,)","v":0},0,0,{"$f":"IF(AND(FE69<>1,$FP69=2,SUM($FW69:FW69)=0,$FF69=1,$FJ69>=0.1),1,)","v":0},{"$f":"IF(AND(FE69<>1,$FP69=2,SUM($FW69:FX69)=0,OR(AND($FF69=1,$FI69>0),$FJ69>=0.2)),1,)","v":0},{"$f":"IF(AND(FE69<>1,$FP69=2,SUM($FW69:FY69)=0,OR($FF69=1,$FJ69>=0.1)),1,)","v":0},{"$f":"IF(AND(FE69<>1,$FP69=2,SUM($FW69:FZ69)=0,$FI69>0),1,)","v":0},0,{"$f":"IF(AND(FE69<>1,$FP69=3,SUM($GB69:GB69)=0,AND($FF69=1,$FJ69>=0.05)),1,)","v":0},{"$f":"IF(AND(FE69<>1,$FP69=3,SUM($GB69:GC69)=0,OR(AND($FF69=1,$FI69>0),$FJ69>=0.1)),1,)","v":0},{"$f":"IF(AND(FE69<>1,$FP69=3,SUM($GB69:GD69)=0,OR($FF69=1,$FJ69>=0.05)),1,)","v":0},{"$f":"IF(AND(FE69<>1,$FP69=3,SUM($GB69:GE69)=0,$FI69>0),1,)","v":0},0,null,0,0,0,0,0,0,0,0,0,0,0,0,0,0,0,0,0,0,0,0,0,0,0,0,0,0,0,0,0,0,0,0,0,0,0,0,0,0,0,0,0,0,0,0,0,0,0,0,0,0,0,0,0,0,0,0,0,0,0,0,0,0,0,0,0,0,0,0,0,0,0,0,0,0,0,0,0,0,0,"","","","","","","","","","","","","","","","○",0,0,0,0,0,0,0,"○",0,0,0,"○","○",null,0,0]
[0,0,0,0,0,0,0,0,0,0,58,null,null,null,null,{"$f":"IF(O70<>\"\",VLOOKUP(O70,整理番号表!$Z$17:$AA$20,2,FALSE),)","v":0},0,null,null,null,null,null,{"$f":"IF(V70<>0,VLOOKUP(V70,整理番号表!$B$6:$L$13,2,FALSE),)","v":0},0,{"$f":"IF(X70<>0,VLOOKUP(X70,整理番号表!$B$16:$C$18,2,FALSE),)","v":0},null,{"$f":"IF(Z70<>0,VLOOKUP(Z70,整理番号表!$B$22:$C$29,2,FALSE),)","v":0},null,null,{"$f":"IF(AC70<>0,VLOOKUP(AC70,整理番号表!$B$32:$G$60,2,FALSE),)","v":0},null,{"$f":"IF(AE70<>0,VLOOKUP(AE70,整理番号表!$P$5:$R$39,2,FALSE),)","v":0},null,0,null,null,{"$f":"IF(AJ70<>\"\",VLOOKUP(AJ70,整理番号表!$Z$6:$AA$14,2,FALSE),\"\")","v":""},0,null,null,null,null,null,{"$f":"IF(AQ70<>0,VLOOKUP(AQ70,整理番号表!$P$43:$Q$49,2,FALSE),)","v":0},null,null,null,null,0,0,null,0,null,null,null,0,0,0,null,null,0,0,null,{"$f":"IF(BK70<>0,VLOOKUP(BK70,整理番号表!$T$5:$U$16,2,FALSE),)","v":0},null,{"$f":"IF(BM70<>0,VLOOKUP(BM70,整理番号表!$T$22:$U$30,2,FALSE),)","v":0},null,0,"",null,null,null,null,null,"",0,null,null,null,null,null,null,null,null,null,0,0,0,0,0,0,0,0,0,0,0,0,0,0,0,0,0,0,0,0,0,0,0,0,0,0,0,0,null,null,null,null,null,0,0,0,0,0,0,null,0,null,null,null,null,null,null,null,0,null,null,null,null,null,null,null,null,null,null,null,null,null,null,null,null,null,null,null,null,null,null,null,null,null,null,0,0,null,null,0,0,0,{"$f":"IF(OR(AND(1<=$FK70,$FK70<=3),$FK70=6),VLOOKUP($FK70,整理番号表!$B$32:$G$60,2,FALSE),)","v":0},{"$f":"IF(OR($FK70=4,$FK70=7),VLOOKUP($FK70,整理番号表!$B$32:$G$60,2,FALSE),)","v":0},{"$f":"IF($FK70=5,VLOOKUP($FK70,整理番号表!$B$32:$G$60,2,FALSE),)","v":0},{"$f":"IF(AND(8<=$FK70,$FK70<=13),VLOOKUP($FK70,整理番号表!$B$32:$G$60,2,FALSE),)","v":0},0,0,{"$f":"IF(AND(FE70<>1,$FP70=1,SUM($FQ70:FQ70)=0,$FF70=1,$FI70>=2),1,)","v":0},{"$f":"IF(AND(FE70<>1,$FP70=1,SUM($FQ70:FR70)=0,OR(AND($FF70=1,$FI70>0),$FI70>=4)),1,)","v":0},{"$f":"IF(AND(FE70<>1,$FP70=1,SUM($FQ70:FS70)=0,OR($FF70=1,$FI70>=2)),1,)","v":0},{"$f":"IF(AND(FE70<>1,$FP70=1,SUM($FQ70:FT70)=0,$FI70>0),1,)","v":0},0,0,{"$f":"IF(AND(FE70<>1,$FP70=2,SUM($FW70:FW70)=0,$FF70=1,$FJ70>=0.1),1,)","v":0},{"$f":"IF(AND(FE70<>1,$FP70=2,SUM($FW70:FX70)=0,OR(AND($FF70=1,$FI70>0),$FJ70>=0.2)),1,)","v":0},{"$f":"IF(AND(FE70<>1,$FP70=2,SUM($FW70:FY70)=0,OR($FF70=1,$FJ70>=0.1)),1,)","v":0},{"$f":"IF(AND(FE70<>1,$FP70=2,SUM($FW70:FZ70)=0,$FI70>0),1,)","v":0},0,{"$f":"IF(AND(FE70<>1,$FP70=3,SUM($GB70:GB70)=0,AND($FF70=1,$FJ70>=0.05)),1,)","v":0},{"$f":"IF(AND(FE70<>1,$FP70=3,SUM($GB70:GC70)=0,OR(AND($FF70=1,$FI70>0),$FJ70>=0.1)),1,)","v":0},{"$f":"IF(AND(FE70<>1,$FP70=3,SUM($GB70:GD70)=0,OR($FF70=1,$FJ70>=0.05)),1,)","v":0},{"$f":"IF(AND(FE70<>1,$FP70=3,SUM($GB70:GE70)=0,$FI70>0),1,)","v":0},0,null,0,0,0,0,0,0,0,0,0,0,0,0,0,0,0,0,0,0,0,0,0,0,0,0,0,0,0,0,0,0,0,0,0,0,0,0,0,0,0,0,0,0,0,0,0,0,0,0,0,0,0,0,0,0,0,0,0,0,0,0,0,0,0,0,0,0,0,0,0,0,0,0,0,0,0,0,0,0,0,"","","","","","","","","","","","","","","","○",0,0,0,0,0,0,0,"○",0,0,0,"○","○",null,0,0]
[0,0,0,0,0,0,0,0,0,0,59,null,null,null,null,{"$f":"IF(O71<>\"\",VLOOKUP(O71,整理番号表!$Z$17:$AA$20,2,FALSE),)","v":0},0,null,null,null,null,null,{"$f":"IF(V71<>0,VLOOKUP(V71,整理番号表!$B$6:$L$13,2,FALSE),)","v":0},0,{"$f":"IF(X71<>0,VLOOKUP(X71,整理番号表!$B$16:$C$18,2,FALSE),)","v":0},null,{"$f":"IF(Z71<>0,VLOOKUP(Z71,整理番号表!$B$22:$C$29,2,FALSE),)","v":0},null,null,{"$f":"IF(AC71<>0,VLOOKUP(AC71,整理番号表!$B$32:$G$60,2,FALSE),)","v":0},null,{"$f":"IF(AE71<>0,VLOOKUP(AE71,整理番号表!$P$5:$R$39,2,FALSE),)","v":0},null,0,null,null,{"$f":"IF(AJ71<>\"\",VLOOKUP(AJ71,整理番号表!$Z$6:$AA$14,2,FALSE),\"\")","v":""},0,null,null,null,null,null,{"$f":"IF(AQ71<>0,VLOOKUP(AQ71,整理番号表!$P$43:$Q$49,2,FALSE),)","v":0},null,null,null,null,0,0,null,0,null,null,null,0,0,0,null,null,0,0,null,{"$f":"IF(BK71<>0,VLOOKUP(BK71,整理番号表!$T$5:$U$16,2,FALSE),)","v":0},null,{"$f":"IF(BM71<>0,VLOOKUP(BM71,整理番号表!$T$22:$U$30,2,FALSE),)","v":0},null,0,"",null,null,null,null,null,"",0,null,null,null,null,null,null,null,null,null,0,0,0,0,0,0,0,0,0,0,0,0,0,0,0,0,0,0,0,0,0,0,0,0,0,0,0,0,null,null,null,null,null,0,0,0,0,0,0,null,0,null,null,null,null,null,null,null,0,null,null,null,null,null,null,null,null,null,null,null,null,null,null,null,null,null,null,null,null,null,null,null,null,null,null,0,0,null,null,0,0,0,{"$f":"IF(OR(AND(1<=$FK71,$FK71<=3),$FK71=6),VLOOKUP($FK71,整理番号表!$B$32:$G$60,2,FALSE),)","v":0},{"$f":"IF(OR($FK71=4,$FK71=7),VLOOKUP($FK71,整理番号表!$B$32:$G$60,2,FALSE),)","v":0},{"$f":"IF($FK71=5,VLOOKUP($FK71,整理番号表!$B$32:$G$60,2,FALSE),)","v":0},{"$f":"IF(AND(8<=$FK71,$FK71<=13),VLOOKUP($FK71,整理番号表!$B$32:$G$60,2,FALSE),)","v":0},0,0,{"$f":"IF(AND(FE71<>1,$FP71=1,SUM($FQ71:FQ71)=0,$FF71=1,$FI71>=2),1,)","v":0},{"$f":"IF(AND(FE71<>1,$FP71=1,SUM($FQ71:FR71)=0,OR(AND($FF71=1,$FI71>0),$FI71>=4)),1,)","v":0},{"$f":"IF(AND(FE71<>1,$FP71=1,SUM($FQ71:FS71)=0,OR($FF71=1,$FI71>=2)),1,)","v":0},{"$f":"IF(AND(FE71<>1,$FP71=1,SUM($FQ71:FT71)=0,$FI71>0),1,)","v":0},0,0,{"$f":"IF(AND(FE71<>1,$FP71=2,SUM($FW71:FW71)=0,$FF71=1,$FJ71>=0.1),1,)","v":0},{"$f":"IF(AND(FE71<>1,$FP71=2,SUM($FW71:FX71)=0,OR(AND($FF71=1,$FI71>0),$FJ71>=0.2)),1,)","v":0},{"$f":"IF(AND(FE71<>1,$FP71=2,SUM($FW71:FY71)=0,OR($FF71=1,$FJ71>=0.1)),1,)","v":0},{"$f":"IF(AND(FE71<>1,$FP71=2,SUM($FW71:FZ71)=0,$FI71>0),1,)","v":0},0,{"$f":"IF(AND(FE71<>1,$FP71=3,SUM($GB71:GB71)=0,AND($FF71=1,$FJ71>=0.05)),1,)","v":0},{"$f":"IF(AND(FE71<>1,$FP71=3,SUM($GB71:GC71)=0,OR(AND($FF71=1,$FI71>0),$FJ71>=0.1)),1,)","v":0},{"$f":"IF(AND(FE71<>1,$FP71=3,SUM($GB71:GD71)=0,OR($FF71=1,$FJ71>=0.05)),1,)","v":0},{"$f":"IF(AND(FE71<>1,$FP71=3,SUM($GB71:GE71)=0,$FI71>0),1,)","v":0},0,null,0,0,0,0,0,0,0,0,0,0,0,0,0,0,0,0,0,0,0,0,0,0,0,0,0,0,0,0,0,0,0,0,0,0,0,0,0,0,0,0,0,0,0,0,0,0,0,0,0,0,0,0,0,0,0,0,0,0,0,0,0,0,0,0,0,0,0,0,0,0,0,0,0,0,0,0,0,0,0,"","","","","","","","","","","","","","","","○",0,0,0,0,0,0,0,"○",0,0,0,"○","○",null,0,0]
[0,0,0,0,0,0,0,0,0,0,60,null,null,null,null,{"$f":"IF(O72<>\"\",VLOOKUP(O72,整理番号表!$Z$17:$AA$20,2,FALSE),)","v":0},0,null,null,null,null,null,{"$f":"IF(V72<>0,VLOOKUP(V72,整理番号表!$B$6:$L$13,2,FALSE),)","v":0},0,{"$f":"IF(X72<>0,VLOOKUP(X72,整理番号表!$B$16:$C$18,2,FALSE),)","v":0},null,{"$f":"IF(Z72<>0,VLOOKUP(Z72,整理番号表!$B$22:$C$29,2,FALSE),)","v":0},null,null,{"$f":"IF(AC72<>0,VLOOKUP(AC72,整理番号表!$B$32:$G$60,2,FALSE),)","v":0},null,{"$f":"IF(AE72<>0,VLOOKUP(AE72,整理番号表!$P$5:$R$39,2,FALSE),)","v":0},null,0,null,null,{"$f":"IF(AJ72<>\"\",VLOOKUP(AJ72,整理番号表!$Z$6:$AA$14,2,FALSE),\"\")","v":""},0,null,null,null,null,null,{"$f":"IF(AQ72<>0,VLOOKUP(AQ72,整理番号表!$P$43:$Q$49,2,FALSE),)","v":0},null,null,null,null,0,0,null,0,null,null,null,0,0,0,null,null,0,0,null,{"$f":"IF(BK72<>0,VLOOKUP(BK72,整理番号表!$T$5:$U$16,2,FALSE),)","v":0},null,{"$f":"IF(BM72<>0,VLOOKUP(BM72,整理番号表!$T$22:$U$30,2,FALSE),)","v":0},null,0,"",null,null,null,null,null,"",0,null,null,null,null,null,null,null,null,null,0,0,0,0,0,0,0,0,0,0,0,0,0,0,0,0,0,0,0,0,0,0,0,0,0,0,0,0,null,null,null,null,null,0,0,0,0,0,0,null,0,null,null,null,null,null,null,null,0,null,null,null,null,null,null,null,null,null,null,null,null,null,null,null,null,null,null,null,null,null,null,null,null,null,null,0,0,null,null,0,0,0,{"$f":"IF(OR(AND(1<=$FK72,$FK72<=3),$FK72=6),VLOOKUP($FK72,整理番号表!$B$32:$G$60,2,FALSE),)","v":0},{"$f":"IF(OR($FK72=4,$FK72=7),VLOOKUP($FK72,整理番号表!$B$32:$G$60,2,FALSE),)","v":0},{"$f":"IF($FK72=5,VLOOKUP($FK72,整理番号表!$B$32:$G$60,2,FALSE),)","v":0},{"$f":"IF(AND(8<=$FK72,$FK72<=13),VLOOKUP($FK72,整理番号表!$B$32:$G$60,2,FALSE),)","v":0},0,0,{"$f":"IF(AND(FE72<>1,$FP72=1,SUM($FQ72:FQ72)=0,$FF72=1,$FI72>=2),1,)","v":0},{"$f":"IF(AND(FE72<>1,$FP72=1,SUM($FQ72:FR72)=0,OR(AND($FF72=1,$FI72>0),$FI72>=4)),1,)","v":0},{"$f":"IF(AND(FE72<>1,$FP72=1,SUM($FQ72:FS72)=0,OR($FF72=1,$FI72>=2)),1,)","v":0},{"$f":"IF(AND(FE72<>1,$FP72=1,SUM($FQ72:FT72)=0,$FI72>0),1,)","v":0},0,0,{"$f":"IF(AND(FE72<>1,$FP72=2,SUM($FW72:FW72)=0,$FF72=1,$FJ72>=0.1),1,)","v":0},{"$f":"IF(AND(FE72<>1,$FP72=2,SUM($FW72:FX72)=0,OR(AND($FF72=1,$FI72>0),$FJ72>=0.2)),1,)","v":0},{"$f":"IF(AND(FE72<>1,$FP72=2,SUM($FW72:FY72)=0,OR($FF72=1,$FJ72>=0.1)),1,)","v":0},{"$f":"IF(AND(FE72<>1,$FP72=2,SUM($FW72:FZ72)=0,$FI72>0),1,)","v":0},0,{"$f":"IF(AND(FE72<>1,$FP72=3,SUM($GB72:GB72)=0,AND($FF72=1,$FJ72>=0.05)),1,)","v":0},{"$f":"IF(AND(FE72<>1,$FP72=3,SUM($GB72:GC72)=0,OR(AND($FF72=1,$FI72>0),$FJ72>=0.1)),1,)","v":0},{"$f":"IF(AND(FE72<>1,$FP72=3,SUM($GB72:GD72)=0,OR($FF72=1,$FJ72>=0.05)),1,)","v":0},{"$f":"IF(AND(FE72<>1,$FP72=3,SUM($GB72:GE72)=0,$FI72>0),1,)","v":0},0,null,0,0,0,0,0,0,0,0,0,0,0,0,0,0,0,0,0,0,0,0,0,0,0,0,0,0,0,0,0,0,0,0,0,0,0,0,0,0,0,0,0,0,0,0,0,0,0,0,0,0,0,0,0,0,0,0,0,0,0,0,0,0,0,0,0,0,0,0,0,0,0,0,0,0,0,0,0,0,0,"","","","","","","","","","","","","","","","○",0,0,0,0,0,0,0,"○",0,0,0,"○","○",null,0,0]
[0,0,0,0,0,0,0,0,0,0,61,null,null,null,null,{"$f":"IF(O73<>\"\",VLOOKUP(O73,整理番号表!$Z$17:$AA$20,2,FALSE),)","v":0},0,null,null,null,null,null,{"$f":"IF(V73<>0,VLOOKUP(V73,整理番号表!$B$6:$L$13,2,FALSE),)","v":0},0,{"$f":"IF(X73<>0,VLOOKUP(X73,整理番号表!$B$16:$C$18,2,FALSE),)","v":0},null,{"$f":"IF(Z73<>0,VLOOKUP(Z73,整理番号表!$B$22:$C$29,2,FALSE),)","v":0},null,null,{"$f":"IF(AC73<>0,VLOOKUP(AC73,整理番号表!$B$32:$G$60,2,FALSE),)","v":0},null,{"$f":"IF(AE73<>0,VLOOKUP(AE73,整理番号表!$P$5:$R$39,2,FALSE),)","v":0},null,0,null,null,{"$f":"IF(AJ73<>\"\",VLOOKUP(AJ73,整理番号表!$Z$6:$AA$14,2,FALSE),\"\")","v":""},0,null,null,null,null,null,{"$f":"IF(AQ73<>0,VLOOKUP(AQ73,整理番号表!$P$43:$Q$49,2,FALSE),)","v":0},null,null,null,null,0,0,null,0,null,null,null,0,0,0,null,null,0,0,null,{"$f":"IF(BK73<>0,VLOOKUP(BK73,整理番号表!$T$5:$U$16,2,FALSE),)","v":0},null,{"$f":"IF(BM73<>0,VLOOKUP(BM73,整理番号表!$T$22:$U$30,2,FALSE),)","v":0},null,0,"",null,null,null,null,null,"",0,null,null,null,null,null,null,null,null,null,0,0,0,0,0,0,0,0,0,0,0,0,0,0,0,0,0,0,0,0,0,0,0,0,0,0,0,0,null,null,null,null,null,0,0,0,0,0,0,null,0,null,null,null,null,null,null,null,0,null,null,null,null,null,null,null,null,null,null,null,null,null,null,null,null,null,null,null,null,null,null,null,null,null,null,0,0,null,null,0,0,0,{"$f":"IF(OR(AND(1<=$FK73,$FK73<=3),$FK73=6),VLOOKUP($FK73,整理番号表!$B$32:$G$60,2,FALSE),)","v":0},{"$f":"IF(OR($FK73=4,$FK73=7),VLOOKUP($FK73,整理番号表!$B$32:$G$60,2,FALSE),)","v":0},{"$f":"IF($FK73=5,VLOOKUP($FK73,整理番号表!$B$32:$G$60,2,FALSE),)","v":0},{"$f":"IF(AND(8<=$FK73,$FK73<=13),VLOOKUP($FK73,整理番号表!$B$32:$G$60,2,FALSE),)","v":0},0,0,{"$f":"IF(AND(FE73<>1,$FP73=1,SUM($FQ73:FQ73)=0,$FF73=1,$FI73>=2),1,)","v":0},{"$f":"IF(AND(FE73<>1,$FP73=1,SUM($FQ73:FR73)=0,OR(AND($FF73=1,$FI73>0),$FI73>=4)),1,)","v":0},{"$f":"IF(AND(FE73<>1,$FP73=1,SUM($FQ73:FS73)=0,OR($FF73=1,$FI73>=2)),1,)","v":0},{"$f":"IF(AND(FE73<>1,$FP73=1,SUM($FQ73:FT73)=0,$FI73>0),1,)","v":0},0,0,{"$f":"IF(AND(FE73<>1,$FP73=2,SUM($FW73:FW73)=0,$FF73=1,$FJ73>=0.1),1,)","v":0},{"$f":"IF(AND(FE73<>1,$FP73=2,SUM($FW73:FX73)=0,OR(AND($FF73=1,$FI73>0),$FJ73>=0.2)),1,)","v":0},{"$f":"IF(AND(FE73<>1,$FP73=2,SUM($FW73:FY73)=0,OR($FF73=1,$FJ73>=0.1)),1,)","v":0},{"$f":"IF(AND(FE73<>1,$FP73=2,SUM($FW73:FZ73)=0,$FI73>0),1,)","v":0},0,{"$f":"IF(AND(FE73<>1,$FP73=3,SUM($GB73:GB73)=0,AND($FF73=1,$FJ73>=0.05)),1,)","v":0},{"$f":"IF(AND(FE73<>1,$FP73=3,SUM($GB73:GC73)=0,OR(AND($FF73=1,$FI73>0),$FJ73>=0.1)),1,)","v":0},{"$f":"IF(AND(FE73<>1,$FP73=3,SUM($GB73:GD73)=0,OR($FF73=1,$FJ73>=0.05)),1,)","v":0},{"$f":"IF(AND(FE73<>1,$FP73=3,SUM($GB73:GE73)=0,$FI73>0),1,)","v":0},0,null,0,0,0,0,0,0,0,0,0,0,0,0,0,0,0,0,0,0,0,0,0,0,0,0,0,0,0,0,0,0,0,0,0,0,0,0,0,0,0,0,0,0,0,0,0,0,0,0,0,0,0,0,0,0,0,0,0,0,0,0,0,0,0,0,0,0,0,0,0,0,0,0,0,0,0,0,0,0,0,"","","","","","","","","","","","","","","","○",0,0,0,0,0,0,0,"○",0,0,0,"○","○",null,0,0]
[0,0,0,0,0,0,0,0,0,0,62,null,null,null,null,{"$f":"IF(O74<>\"\",VLOOKUP(O74,整理番号表!$Z$17:$AA$20,2,FALSE),)","v":0},0,null,null,null,null,null,{"$f":"IF(V74<>0,VLOOKUP(V74,整理番号表!$B$6:$L$13,2,FALSE),)","v":0},0,{"$f":"IF(X74<>0,VLOOKUP(X74,整理番号表!$B$16:$C$18,2,FALSE),)","v":0},null,{"$f":"IF(Z74<>0,VLOOKUP(Z74,整理番号表!$B$22:$C$29,2,FALSE),)","v":0},null,null,{"$f":"IF(AC74<>0,VLOOKUP(AC74,整理番号表!$B$32:$G$60,2,FALSE),)","v":0},null,{"$f":"IF(AE74<>0,VLOOKUP(AE74,整理番号表!$P$5:$R$39,2,FALSE),)","v":0},null,0,null,null,{"$f":"IF(AJ74<>\"\",VLOOKUP(AJ74,整理番号表!$Z$6:$AA$14,2,FALSE),\"\")","v":""},0,null,null,null,null,null,{"$f":"IF(AQ74<>0,VLOOKUP(AQ74,整理番号表!$P$43:$Q$49,2,FALSE),)","v":0},null,null,null,null,0,0,null,0,null,null,null,0,0,0,null,null,0,0,null,{"$f":"IF(BK74<>0,VLOOKUP(BK74,整理番号表!$T$5:$U$16,2,FALSE),)","v":0},null,{"$f":"IF(BM74<>0,VLOOKUP(BM74,整理番号表!$T$22:$U$30,2,FALSE),)","v":0},null,0,"",null,null,null,null,null,"",0,null,null,null,null,null,null,null,null,null,0,0,0,0,0,0,0,0,0,0,0,0,0,0,0,0,0,0,0,0,0,0,0,0,0,0,0,0,null,null,null,null,null,0,0,0,0,0,0,null,0,null,null,null,null,null,null,null,0,null,null,null,null,null,null,null,null,null,null,null,null,null,null,null,null,null,null,null,null,null,null,null,null,null,null,0,0,null,null,0,0,0,{"$f":"IF(OR(AND(1<=$FK74,$FK74<=3),$FK74=6),VLOOKUP($FK74,整理番号表!$B$32:$G$60,2,FALSE),)","v":0},{"$f":"IF(OR($FK74=4,$FK74=7),VLOOKUP($FK74,整理番号表!$B$32:$G$60,2,FALSE),)","v":0},{"$f":"IF($FK74=5,VLOOKUP($FK74,整理番号表!$B$32:$G$60,2,FALSE),)","v":0},{"$f":"IF(AND(8<=$FK74,$FK74<=13),VLOOKUP($FK74,整理番号表!$B$32:$G$60,2,FALSE),)","v":0},0,0,{"$f":"IF(AND(FE74<>1,$FP74=1,SUM($FQ74:FQ74)=0,$FF74=1,$FI74>=2),1,)","v":0},{"$f":"IF(AND(FE74<>1,$FP74=1,SUM($FQ74:FR74)=0,OR(AND($FF74=1,$FI74>0),$FI74>=4)),1,)","v":0},{"$f":"IF(AND(FE74<>1,$FP74=1,SUM($FQ74:FS74)=0,OR($FF74=1,$FI74>=2)),1,)","v":0},{"$f":"IF(AND(FE74<>1,$FP74=1,SUM($FQ74:FT74)=0,$FI74>0),1,)","v":0},0,0,{"$f":"IF(AND(FE74<>1,$FP74=2,SUM($FW74:FW74)=0,$FF74=1,$FJ74>=0.1),1,)","v":0},{"$f":"IF(AND(FE74<>1,$FP74=2,SUM($FW74:FX74)=0,OR(AND($FF74=1,$FI74>0),$FJ74>=0.2)),1,)","v":0},{"$f":"IF(AND(FE74<>1,$FP74=2,SUM($FW74:FY74)=0,OR($FF74=1,$FJ74>=0.1)),1,)","v":0},{"$f":"IF(AND(FE74<>1,$FP74=2,SUM($FW74:FZ74)=0,$FI74>0),1,)","v":0},0,{"$f":"IF(AND(FE74<>1,$FP74=3,SUM($GB74:GB74)=0,AND($FF74=1,$FJ74>=0.05)),1,)","v":0},{"$f":"IF(AND(FE74<>1,$FP74=3,SUM($GB74:GC74)=0,OR(AND($FF74=1,$FI74>0),$FJ74>=0.1)),1,)","v":0},{"$f":"IF(AND(FE74<>1,$FP74=3,SUM($GB74:GD74)=0,OR($FF74=1,$FJ74>=0.05)),1,)","v":0},{"$f":"IF(AND(FE74<>1,$FP74=3,SUM($GB74:GE74)=0,$FI74>0),1,)","v":0},0,null,0,0,0,0,0,0,0,0,0,0,0,0,0,0,0,0,0,0,0,0,0,0,0,0,0,0,0,0,0,0,0,0,0,0,0,0,0,0,0,0,0,0,0,0,0,0,0,0,0,0,0,0,0,0,0,0,0,0,0,0,0,0,0,0,0,0,0,0,0,0,0,0,0,0,0,0,0,0,0,"","","","","","","","","","","","","","","","○",0,0,0,0,0,0,0,"○",0,0,0,"○","○",null,0,0]
[0,0,0,0,0,0,0,0,0,0,63,null,null,null,null,{"$f":"IF(O75<>\"\",VLOOKUP(O75,整理番号表!$Z$17:$AA$20,2,FALSE),)","v":0},0,null,null,null,null,null,{"$f":"IF(V75<>0,VLOOKUP(V75,整理番号表!$B$6:$L$13,2,FALSE),)","v":0},0,{"$f":"IF(X75<>0,VLOOKUP(X75,整理番号表!$B$16:$C$18,2,FALSE),)","v":0},null,{"$f":"IF(Z75<>0,VLOOKUP(Z75,整理番号表!$B$22:$C$29,2,FALSE),)","v":0},null,null,{"$f":"IF(AC75<>0,VLOOKUP(AC75,整理番号表!$B$32:$G$60,2,FALSE),)","v":0},null,{"$f":"IF(AE75<>0,VLOOKUP(AE75,整理番号表!$P$5:$R$39,2,FALSE),)","v":0},null,0,null,null,{"$f":"IF(AJ75<>\"\",VLOOKUP(AJ75,整理番号表!$Z$6:$AA$14,2,FALSE),\"\")","v":""},0,null,null,null,null,null,{"$f":"IF(AQ75<>0,VLOOKUP(AQ75,整理番号表!$P$43:$Q$49,2,FALSE),)","v":0},null,null,null,null,0,0,null,0,null,null,null,0,0,0,null,null,0,0,null,{"$f":"IF(BK75<>0,VLOOKUP(BK75,整理番号表!$T$5:$U$16,2,FALSE),)","v":0},null,{"$f":"IF(BM75<>0,VLOOKUP(BM75,整理番号表!$T$22:$U$30,2,FALSE),)","v":0},null,0,"",null,null,null,null,null,"",0,null,null,null,null,null,null,null,null,null,0,0,0,0,0,0,0,0,0,0,0,0,0,0,0,0,0,0,0,0,0,0,0,0,0,0,0,0,null,null,null,null,null,0,0,0,0,0,0,null,0,null,null,null,null,null,null,null,0,null,null,null,null,null,null,null,null,null,null,null,null,null,null,null,null,null,null,null,null,null,null,null,null,null,null,0,0,null,null,0,0,0,{"$f":"IF(OR(AND(1<=$FK75,$FK75<=3),$FK75=6),VLOOKUP($FK75,整理番号表!$B$32:$G$60,2,FALSE),)","v":0},{"$f":"IF(OR($FK75=4,$FK75=7),VLOOKUP($FK75,整理番号表!$B$32:$G$60,2,FALSE),)","v":0},{"$f":"IF($FK75=5,VLOOKUP($FK75,整理番号表!$B$32:$G$60,2,FALSE),)","v":0},{"$f":"IF(AND(8<=$FK75,$FK75<=13),VLOOKUP($FK75,整理番号表!$B$32:$G$60,2,FALSE),)","v":0},0,0,{"$f":"IF(AND(FE75<>1,$FP75=1,SUM($FQ75:FQ75)=0,$FF75=1,$FI75>=2),1,)","v":0},{"$f":"IF(AND(FE75<>1,$FP75=1,SUM($FQ75:FR75)=0,OR(AND($FF75=1,$FI75>0),$FI75>=4)),1,)","v":0},{"$f":"IF(AND(FE75<>1,$FP75=1,SUM($FQ75:FS75)=0,OR($FF75=1,$FI75>=2)),1,)","v":0},{"$f":"IF(AND(FE75<>1,$FP75=1,SUM($FQ75:FT75)=0,$FI75>0),1,)","v":0},0,0,{"$f":"IF(AND(FE75<>1,$FP75=2,SUM($FW75:FW75)=0,$FF75=1,$FJ75>=0.1),1,)","v":0},{"$f":"IF(AND(FE75<>1,$FP75=2,SUM($FW75:FX75)=0,OR(AND($FF75=1,$FI75>0),$FJ75>=0.2)),1,)","v":0},{"$f":"IF(AND(FE75<>1,$FP75=2,SUM($FW75:FY75)=0,OR($FF75=1,$FJ75>=0.1)),1,)","v":0},{"$f":"IF(AND(FE75<>1,$FP75=2,SUM($FW75:FZ75)=0,$FI75>0),1,)","v":0},0,{"$f":"IF(AND(FE75<>1,$FP75=3,SUM($GB75:GB75)=0,AND($FF75=1,$FJ75>=0.05)),1,)","v":0},{"$f":"IF(AND(FE75<>1,$FP75=3,SUM($GB75:GC75)=0,OR(AND($FF75=1,$FI75>0),$FJ75>=0.1)),1,)","v":0},{"$f":"IF(AND(FE75<>1,$FP75=3,SUM($GB75:GD75)=0,OR($FF75=1,$FJ75>=0.05)),1,)","v":0},{"$f":"IF(AND(FE75<>1,$FP75=3,SUM($GB75:GE75)=0,$FI75>0),1,)","v":0},0,null,0,0,0,0,0,0,0,0,0,0,0,0,0,0,0,0,0,0,0,0,0,0,0,0,0,0,0,0,0,0,0,0,0,0,0,0,0,0,0,0,0,0,0,0,0,0,0,0,0,0,0,0,0,0,0,0,0,0,0,0,0,0,0,0,0,0,0,0,0,0,0,0,0,0,0,0,0,0,0,"","","","","","","","","","","","","","","","○",0,0,0,0,0,0,0,"○",0,0,0,"○","○",null,0,0]
[0,0,0,0,0,0,0,0,0,0,64,null,null,null,null,{"$f":"IF(O76<>\"\",VLOOKUP(O76,整理番号表!$Z$17:$AA$20,2,FALSE),)","v":0},0,null,null,null,null,null,{"$f":"IF(V76<>0,VLOOKUP(V76,整理番号表!$B$6:$L$13,2,FALSE),)","v":0},0,{"$f":"IF(X76<>0,VLOOKUP(X76,整理番号表!$B$16:$C$18,2,FALSE),)","v":0},null,{"$f":"IF(Z76<>0,VLOOKUP(Z76,整理番号表!$B$22:$C$29,2,FALSE),)","v":0},null,null,{"$f":"IF(AC76<>0,VLOOKUP(AC76,整理番号表!$B$32:$G$60,2,FALSE),)","v":0},null,{"$f":"IF(AE76<>0,VLOOKUP(AE76,整理番号表!$P$5:$R$39,2,FALSE),)","v":0},null,0,null,null,{"$f":"IF(AJ76<>\"\",VLOOKUP(AJ76,整理番号表!$Z$6:$AA$14,2,FALSE),\"\")","v":""},0,null,null,null,null,null,{"$f":"IF(AQ76<>0,VLOOKUP(AQ76,整理番号表!$P$43:$Q$49,2,FALSE),)","v":0},null,null,null,null,0,0,null,0,null,null,null,0,0,0,null,null,0,0,null,{"$f":"IF(BK76<>0,VLOOKUP(BK76,整理番号表!$T$5:$U$16,2,FALSE),)","v":0},null,{"$f":"IF(BM76<>0,VLOOKUP(BM76,整理番号表!$T$22:$U$30,2,FALSE),)","v":0},null,0,"",null,null,null,null,null,"",0,null,null,null,null,null,null,null,null,null,0,0,0,0,0,0,0,0,0,0,0,0,0,0,0,0,0,0,0,0,0,0,0,0,0,0,0,0,null,null,null,null,null,0,0,0,0,0,0,null,0,null,null,null,null,null,null,null,0,null,null,null,null,null,null,null,null,null,null,null,null,null,null,null,null,null,null,null,null,null,null,null,null,null,null,0,0,null,null,0,0,0,{"$f":"IF(OR(AND(1<=$FK76,$FK76<=3),$FK76=6),VLOOKUP($FK76,整理番号表!$B$32:$G$60,2,FALSE),)","v":0},{"$f":"IF(OR($FK76=4,$FK76=7),VLOOKUP($FK76,整理番号表!$B$32:$G$60,2,FALSE),)","v":0},{"$f":"IF($FK76=5,VLOOKUP($FK76,整理番号表!$B$32:$G$60,2,FALSE),)","v":0},{"$f":"IF(AND(8<=$FK76,$FK76<=13),VLOOKUP($FK76,整理番号表!$B$32:$G$60,2,FALSE),)","v":0},0,0,{"$f":"IF(AND(FE76<>1,$FP76=1,SUM($FQ76:FQ76)=0,$FF76=1,$FI76>=2),1,)","v":0},{"$f":"IF(AND(FE76<>1,$FP76=1,SUM($FQ76:FR76)=0,OR(AND($FF76=1,$FI76>0),$FI76>=4)),1,)","v":0},{"$f":"IF(AND(FE76<>1,$FP76=1,SUM($FQ76:FS76)=0,OR($FF76=1,$FI76>=2)),1,)","v":0},{"$f":"IF(AND(FE76<>1,$FP76=1,SUM($FQ76:FT76)=0,$FI76>0),1,)","v":0},0,0,{"$f":"IF(AND(FE76<>1,$FP76=2,SUM($FW76:FW76)=0,$FF76=1,$FJ76>=0.1),1,)","v":0},{"$f":"IF(AND(FE76<>1,$FP76=2,SUM($FW76:FX76)=0,OR(AND($FF76=1,$FI76>0),$FJ76>=0.2)),1,)","v":0},{"$f":"IF(AND(FE76<>1,$FP76=2,SUM($FW76:FY76)=0,OR($FF76=1,$FJ76>=0.1)),1,)","v":0},{"$f":"IF(AND(FE76<>1,$FP76=2,SUM($FW76:FZ76)=0,$FI76>0),1,)","v":0},0,{"$f":"IF(AND(FE76<>1,$FP76=3,SUM($GB76:GB76)=0,AND($FF76=1,$FJ76>=0.05)),1,)","v":0},{"$f":"IF(AND(FE76<>1,$FP76=3,SUM($GB76:GC76)=0,OR(AND($FF76=1,$FI76>0),$FJ76>=0.1)),1,)","v":0},{"$f":"IF(AND(FE76<>1,$FP76=3,SUM($GB76:GD76)=0,OR($FF76=1,$FJ76>=0.05)),1,)","v":0},{"$f":"IF(AND(FE76<>1,$FP76=3,SUM($GB76:GE76)=0,$FI76>0),1,)","v":0},0,null,0,0,0,0,0,0,0,0,0,0,0,0,0,0,0,0,0,0,0,0,0,0,0,0,0,0,0,0,0,0,0,0,0,0,0,0,0,0,0,0,0,0,0,0,0,0,0,0,0,0,0,0,0,0,0,0,0,0,0,0,0,0,0,0,0,0,0,0,0,0,0,0,0,0,0,0,0,0,0,"","","","","","","","","","","","","","","","○",0,0,0,0,0,0,0,"○",0,0,0,"○","○",null,0,0]
[0,0,0,0,0,0,0,0,0,0,65,null,null,null,null,{"$f":"IF(O77<>\"\",VLOOKUP(O77,整理番号表!$Z$17:$AA$20,2,FALSE),)","v":0},0,null,null,null,null,null,{"$f":"IF(V77<>0,VLOOKUP(V77,整理番号表!$B$6:$L$13,2,FALSE),)","v":0},0,{"$f":"IF(X77<>0,VLOOKUP(X77,整理番号表!$B$16:$C$18,2,FALSE),)","v":0},null,{"$f":"IF(Z77<>0,VLOOKUP(Z77,整理番号表!$B$22:$C$29,2,FALSE),)","v":0},null,null,{"$f":"IF(AC77<>0,VLOOKUP(AC77,整理番号表!$B$32:$G$60,2,FALSE),)","v":0},null,{"$f":"IF(AE77<>0,VLOOKUP(AE77,整理番号表!$P$5:$R$39,2,FALSE),)","v":0},null,0,null,null,{"$f":"IF(AJ77<>\"\",VLOOKUP(AJ77,整理番号表!$Z$6:$AA$14,2,FALSE),\"\")","v":""},0,null,null,null,null,null,{"$f":"IF(AQ77<>0,VLOOKUP(AQ77,整理番号表!$P$43:$Q$49,2,FALSE),)","v":0},null,null,null,null,0,0,null,0,null,null,null,0,0,0,null,null,0,0,null,{"$f":"IF(BK77<>0,VLOOKUP(BK77,整理番号表!$T$5:$U$16,2,FALSE),)","v":0},null,{"$f":"IF(BM77<>0,VLOOKUP(BM77,整理番号表!$T$22:$U$30,2,FALSE),)","v":0},null,0,"",null,null,null,null,null,"",0,null,null,null,null,null,null,null,null,null,0,0,0,0,0,0,0,0,0,0,0,0,0,0,0,0,0,0,0,0,0,0,0,0,0,0,0,0,null,null,null,null,null,0,0,0,0,0,0,null,0,null,null,null,null,null,null,null,0,null,null,null,null,null,null,null,null,null,null,null,null,null,null,null,null,null,null,null,null,null,null,null,null,null,null,0,0,null,null,0,0,0,{"$f":"IF(OR(AND(1<=$FK77,$FK77<=3),$FK77=6),VLOOKUP($FK77,整理番号表!$B$32:$G$60,2,FALSE),)","v":0},{"$f":"IF(OR($FK77=4,$FK77=7),VLOOKUP($FK77,整理番号表!$B$32:$G$60,2,FALSE),)","v":0},{"$f":"IF($FK77=5,VLOOKUP($FK77,整理番号表!$B$32:$G$60,2,FALSE),)","v":0},{"$f":"IF(AND(8<=$FK77,$FK77<=13),VLOOKUP($FK77,整理番号表!$B$32:$G$60,2,FALSE),)","v":0},0,0,{"$f":"IF(AND(FE77<>1,$FP77=1,SUM($FQ77:FQ77)=0,$FF77=1,$FI77>=2),1,)","v":0},{"$f":"IF(AND(FE77<>1,$FP77=1,SUM($FQ77:FR77)=0,OR(AND($FF77=1,$FI77>0),$FI77>=4)),1,)","v":0},{"$f":"IF(AND(FE77<>1,$FP77=1,SUM($FQ77:FS77)=0,OR($FF77=1,$FI77>=2)),1,)","v":0},{"$f":"IF(AND(FE77<>1,$FP77=1,SUM($FQ77:FT77)=0,$FI77>0),1,)","v":0},0,0,{"$f":"IF(AND(FE77<>1,$FP77=2,SUM($FW77:FW77)=0,$FF77=1,$FJ77>=0.1),1,)","v":0},{"$f":"IF(AND(FE77<>1,$FP77=2,SUM($FW77:FX77)=0,OR(AND($FF77=1,$FI77>0),$FJ77>=0.2)),1,)","v":0},{"$f":"IF(AND(FE77<>1,$FP77=2,SUM($FW77:FY77)=0,OR($FF77=1,$FJ77>=0.1)),1,)","v":0},{"$f":"IF(AND(FE77<>1,$FP77=2,SUM($FW77:FZ77)=0,$FI77>0),1,)","v":0},0,{"$f":"IF(AND(FE77<>1,$FP77=3,SUM($GB77:GB77)=0,AND($FF77=1,$FJ77>=0.05)),1,)","v":0},{"$f":"IF(AND(FE77<>1,$FP77=3,SUM($GB77:GC77)=0,OR(AND($FF77=1,$FI77>0),$FJ77>=0.1)),1,)","v":0},{"$f":"IF(AND(FE77<>1,$FP77=3,SUM($GB77:GD77)=0,OR($FF77=1,$FJ77>=0.05)),1,)","v":0},{"$f":"IF(AND(FE77<>1,$FP77=3,SUM($GB77:GE77)=0,$FI77>0),1,)","v":0},0,null,0,0,0,0,0,0,0,0,0,0,0,0,0,0,0,0,0,0,0,0,0,0,0,0,0,0,0,0,0,0,0,0,0,0,0,0,0,0,0,0,0,0,0,0,0,0,0,0,0,0,0,0,0,0,0,0,0,0,0,0,0,0,0,0,0,0,0,0,0,0,0,0,0,0,0,0,0,0,0,"","","","","","","","","","","","","","","","○",0,0,0,0,0,0,0,"○",0,0,0,"○","○",null,0,0]
[0,0,0,0,0,0,0,0,0,0,66,null,null,null,null,{"$f":"IF(O78<>\"\",VLOOKUP(O78,整理番号表!$Z$17:$AA$20,2,FALSE),)","v":0},0,null,null,null,null,null,{"$f":"IF(V78<>0,VLOOKUP(V78,整理番号表!$B$6:$L$13,2,FALSE),)","v":0},0,{"$f":"IF(X78<>0,VLOOKUP(X78,整理番号表!$B$16:$C$18,2,FALSE),)","v":0},null,{"$f":"IF(Z78<>0,VLOOKUP(Z78,整理番号表!$B$22:$C$29,2,FALSE),)","v":0},null,null,{"$f":"IF(AC78<>0,VLOOKUP(AC78,整理番号表!$B$32:$G$60,2,FALSE),)","v":0},null,{"$f":"IF(AE78<>0,VLOOKUP(AE78,整理番号表!$P$5:$R$39,2,FALSE),)","v":0},null,0,null,null,{"$f":"IF(AJ78<>\"\",VLOOKUP(AJ78,整理番号表!$Z$6:$AA$14,2,FALSE),\"\")","v":""},0,null,null,null,null,null,{"$f":"IF(AQ78<>0,VLOOKUP(AQ78,整理番号表!$P$43:$Q$49,2,FALSE),)","v":0},null,null,null,null,0,0,null,0,null,null,null,0,0,0,null,null,0,0,null,{"$f":"IF(BK78<>0,VLOOKUP(BK78,整理番号表!$T$5:$U$16,2,FALSE),)","v":0},null,{"$f":"IF(BM78<>0,VLOOKUP(BM78,整理番号表!$T$22:$U$30,2,FALSE),)","v":0},null,0,"",null,null,null,null,null,"",{"$f":"IF(BR78>0,IF(BS78=2,ROUNDDOWN((BV78-BR78),0),IF(BS78=1,ROUNDDOWN((BV78-BR78)*3/4,0),\"\")),IF(BV78>0,BV78,0))","v":0},null,null,null,null,null,null,null,null,null,0,0,0,0,0,0,0,0,0,0,0,0,0,0,0,0,0,0,0,0,0,0,0,0,0,0,0,0,null,null,null,null,null,0,0,0,0,0,0,null,0,null,null,null,null,null,null,null,0,null,null,null,null,null,null,null,null,null,null,null,null,null,null,null,null,null,null,null,null,null,null,null,null,null,null,{"$f":"IF(X78=2,1,)","v":0},{"$f":"IF(AND(I78=1,OR(V78=1,V78=3)),1,)","v":0},null,null,{"$f":"IF(AND(I78=1,FG78<>FH78),FH78-FG78,0)","v":0},{"$f":"IF(AND(I78=1,FG78>0),ROUNDDOWN(FI78/FG78,2),0)","v":0},{"$f":"IF(I78=1,AC78,)","v":0},{"$f":"IF(OR(AND(1<=$FK78,$FK78<=3),$FK78=6),VLOOKUP($FK78,整理番号表!$B$32:$G$60,2,FALSE),)","v":0},{"$f":"IF(OR($FK78=4,$FK78=7),VLOOKUP($FK78,整理番号表!$B$32:$G$60,2,FALSE),)","v":0},{"$f":"IF($FK78=5,VLOOKUP($FK78,整理番号表!$B$32:$G$60,2,FALSE),)","v":0},{"$f":"IF(AND(8<=$FK78,$FK78<=13),VLOOKUP($FK78,整理番号表!$B$32:$G$60,2,FALSE),)","v":0},{"$f":"IF(FL78<>0,1,IF(FM78<>0,2,IF(FN78<>0,3,IF(FO78<>0,4,))))","v":0},{"$f":"IF(AND(FE78<>1,$FP78=1,$FF78=1,$FI78>=4),1,)","v":0},{"$f":"IF(AND(FE78<>1,$FP78=1,SUM($FQ78:FQ78)=0,$FF78=1,$FI78>=2),1,)","v":0},{"$f":"IF(AND(FE78<>1,$FP78=1,SUM($FQ78:FR78)=0,OR(AND($FF78=1,$FI78>0),$FI78>=4)),1,)","v":0},{"$f":"IF(AND(FE78<>1,$FP78=1,SUM($FQ78:FS78)=0,OR($FF78=1,$FI78>=2)),1,)","v":0},{"$f":"IF(AND(FE78<>1,$FP78=1,SUM($FQ78:FT78)=0,$FI78>0),1,)","v":0},{"$f":"IF(AND(FE78<>1,$FP78=4,$FI78>0),1,)","v":0},{"$f":"IF(AND(FE78<>1,$FP78=2,$FF78=1,$FJ78>=0.2),1,)","v":0},{"$f":"IF(AND(FE78<>1,$FP78=2,SUM($FW78:FW78)=0,$FF78=1,$FJ78>=0.1),1,)","v":0},{"$f":"IF(AND(FE78<>1,$FP78=2,SUM($FW78:FX78)=0,OR(AND($FF78=1,$FI78>0),$FJ78>=0.2)),1,)","v":0},{"$f":"IF(AND(FE78<>1,$FP78=2,SUM($FW78:FY78)=0,OR($FF78=1,$FJ78>=0.1)),1,)","v":0},{"$f":"IF(AND(FE78<>1,$FP78=2,SUM($FW78:FZ78)=0,$FI78>0),1,)","v":0},{"$f":"IF(AND(FE78<>1,$FP78=3,$FF78=1,$FJ78>=0.1),1,)","v":0},{"$f":"IF(AND(FE78<>1,$FP78=3,SUM($GB78:GB78)=0,AND($FF78=1,$FJ78>=0.05)),1,)","v":0},{"$f":"IF(AND(FE78<>1,$FP78=3,SUM($GB78:GC78)=0,OR(AND($FF78=1,$FI78>0),$FJ78>=0.1)),1,)","v":0},{"$f":"IF(AND(FE78<>1,$FP78=3,SUM($GB78:GD78)=0,OR($FF78=1,$FJ78>=0.05)),1,)","v":0},{"$f":"IF(AND(FE78<>1,$FP78=3,SUM($GB78:GE78)=0,$FI78>0),1,)","v":0},{"$f":"IF(AND($FE78=1,$FI78>0),1,)","v":0},null,0,0,0,0,0,0,0,0,0,0,0,0,0,0,0,0,0,0,0,0,0,0,0,0,0,0,0,0,0,0,0,0,0,0,0,0,0,0,0,0,0,0,0,0,0,0,0,0,0,0,0,0,0,0,0,0,0,0,0,0,0,0,0,0,0,0,0,0,0,0,0,0,0,0,0,0,0,0,0,"","","","","","","","","","","","","","",{"$f":"IF(EQ78=1,IF(CG78=1,\"○\",\"×\"),\"\")","v":""},"○",0,0,0,0,0,0,0,"○",0,0,0,"○","○",null,0,0]
[0,0,0,0,0,0,0,0,0,0,67,null,null,null,null,{"$f":"IF(O79<>\"\",VLOOKUP(O79,整理番号表!$Z$17:$AA$20,2,FALSE),)","v":0},0,null,null,null,null,null,{"$f":"IF(V79<>0,VLOOKUP(V79,整理番号表!$B$6:$L$13,2,FALSE),)","v":0},0,{"$f":"IF(X79<>0,VLOOKUP(X79,整理番号表!$B$16:$C$18,2,FALSE),)","v":0},null,{"$f":"IF(Z79<>0,VLOOKUP(Z79,整理番号表!$B$22:$C$29,2,FALSE),)","v":0},null,null,{"$f":"IF(AC79<>0,VLOOKUP(AC79,整理番号表!$B$32:$G$60,2,FALSE),)","v":0},null,{"$f":"IF(AE79<>0,VLOOKUP(AE79,整理番号表!$P$5:$R$39,2,FALSE),)","v":0},null,0,null,null,{"$f":"IF(AJ79<>\"\",VLOOKUP(AJ79,整理番号表!$Z$6:$AA$14,2,FALSE),\"\")","v":""},0,null,null,null,null,null,{"$f":"IF(AQ79<>0,VLOOKUP(AQ79,整理番号表!$P$43:$Q$49,2,FALSE),)","v":0},null,null,null,null,0,0,null,0,null,null,null,0,0,0,null,null,0,0,null,{"$f":"IF(BK79<>0,VLOOKUP(BK79,整理番号表!$T$5:$U$16,2,FALSE),)","v":0},null,{"$f":"IF(BM79<>0,VLOOKUP(BM79,整理番号表!$T$22:$U$30,2,FALSE),)","v":0},null,0,"",null,null,null,null,null,"",0,null,null,null,null,null,null,null,null,null,0,0,0,0,0,0,0,0,0,0,0,0,0,0,0,0,0,0,0,0,0,0,0,0,0,0,0,0,null,null,null,null,null,0,0,0,0,0,0,null,0,null,null,null,null,null,null,null,0,null,null,null,null,null,null,null,null,null,null,null,null,null,null,null,null,null,null,null,null,null,null,null,null,null,null,0,0,null,null,0,0,0,{"$f":"IF(OR(AND(1<=$FK79,$FK79<=3),$FK79=6),VLOOKUP($FK79,整理番号表!$B$32:$G$60,2,FALSE),)","v":0},{"$f":"IF(OR($FK79=4,$FK79=7),VLOOKUP($FK79,整理番号表!$B$32:$G$60,2,FALSE),)","v":0},{"$f":"IF($FK79=5,VLOOKUP($FK79,整理番号表!$B$32:$G$60,2,FALSE),)","v":0},{"$f":"IF(AND(8<=$FK79,$FK79<=13),VLOOKUP($FK79,整理番号表!$B$32:$G$60,2,FALSE),)","v":0},0,0,{"$f":"IF(AND(FE79<>1,$FP79=1,SUM($FQ79:FQ79)=0,$FF79=1,$FI79>=2),1,)","v":0},{"$f":"IF(AND(FE79<>1,$FP79=1,SUM($FQ79:FR79)=0,OR(AND($FF79=1,$FI79>0),$FI79>=4)),1,)","v":0},{"$f":"IF(AND(FE79<>1,$FP79=1,SUM($FQ79:FS79)=0,OR($FF79=1,$FI79>=2)),1,)","v":0},{"$f":"IF(AND(FE79<>1,$FP79=1,SUM($FQ79:FT79)=0,$FI79>0),1,)","v":0},0,0,{"$f":"IF(AND(FE79<>1,$FP79=2,SUM($FW79:FW79)=0,$FF79=1,$FJ79>=0.1),1,)","v":0},{"$f":"IF(AND(FE79<>1,$FP79=2,SUM($FW79:FX79)=0,OR(AND($FF79=1,$FI79>0),$FJ79>=0.2)),1,)","v":0},{"$f":"IF(AND(FE79<>1,$FP79=2,SUM($FW79:FY79)=0,OR($FF79=1,$FJ79>=0.1)),1,)","v":0},{"$f":"IF(AND(FE79<>1,$FP79=2,SUM($FW79:FZ79)=0,$FI79>0),1,)","v":0},0,{"$f":"IF(AND(FE79<>1,$FP79=3,SUM($GB79:GB79)=0,AND($FF79=1,$FJ79>=0.05)),1,)","v":0},{"$f":"IF(AND(FE79<>1,$FP79=3,SUM($GB79:GC79)=0,OR(AND($FF79=1,$FI79>0),$FJ79>=0.1)),1,)","v":0},{"$f":"IF(AND(FE79<>1,$FP79=3,SUM($GB79:GD79)=0,OR($FF79=1,$FJ79>=0.05)),1,)","v":0},{"$f":"IF(AND(FE79<>1,$FP79=3,SUM($GB79:GE79)=0,$FI79>0),1,)","v":0},0,null,0,0,0,0,0,0,0,0,0,0,0,0,0,0,0,0,0,0,0,0,0,0,0,0,0,0,0,0,0,0,0,0,0,0,0,0,0,0,0,0,0,0,0,0,0,0,0,0,0,0,0,0,0,0,0,0,0,0,0,0,0,0,0,0,0,0,0,0,0,0,0,0,0,0,0,0,0,0,0,"","","","","","","","","","","","","","","","○",0,0,0,0,0,0,0,"○",0,0,0,"○","○",null,0,0]
[0,0,0,0,0,0,0,0,0,0,68,null,null,null,null,{"$f":"IF(O80<>\"\",VLOOKUP(O80,整理番号表!$Z$17:$AA$20,2,FALSE),)","v":0},0,null,null,null,null,null,{"$f":"IF(V80<>0,VLOOKUP(V80,整理番号表!$B$6:$L$13,2,FALSE),)","v":0},0,{"$f":"IF(X80<>0,VLOOKUP(X80,整理番号表!$B$16:$C$18,2,FALSE),)","v":0},null,{"$f":"IF(Z80<>0,VLOOKUP(Z80,整理番号表!$B$22:$C$29,2,FALSE),)","v":0},null,null,{"$f":"IF(AC80<>0,VLOOKUP(AC80,整理番号表!$B$32:$G$60,2,FALSE),)","v":0},null,{"$f":"IF(AE80<>0,VLOOKUP(AE80,整理番号表!$P$5:$R$39,2,FALSE),)","v":0},null,0,null,null,{"$f":"IF(AJ80<>\"\",VLOOKUP(AJ80,整理番号表!$Z$6:$AA$14,2,FALSE),\"\")","v":""},0,null,null,null,null,null,{"$f":"IF(AQ80<>0,VLOOKUP(AQ80,整理番号表!$P$43:$Q$49,2,FALSE),)","v":0},null,null,null,null,0,0,null,0,null,null,null,0,0,0,null,null,0,0,null,{"$f":"IF(BK80<>0,VLOOKUP(BK80,整理番号表!$T$5:$U$16,2,FALSE),)","v":0},null,{"$f":"IF(BM80<>0,VLOOKUP(BM80,整理番号表!$T$22:$U$30,2,FALSE),)","v":0},null,0,"",null,null,null,null,null,"",0,null,null,null,null,null,null,null,null,null,0,0,0,0,0,0,0,0,0,0,0,0,0,0,0,0,0,0,0,0,0,0,0,0,0,0,0,0,null,null,null,null,null,0,0,0,0,0,0,null,0,null,null,null,null,null,null,null,0,null,null,null,null,null,null,null,null,null,null,null,null,null,null,null,null,null,null,null,null,null,null,null,null,null,null,0,0,null,null,0,0,0,{"$f":"IF(OR(AND(1<=$FK80,$FK80<=3),$FK80=6),VLOOKUP($FK80,整理番号表!$B$32:$G$60,2,FALSE),)","v":0},{"$f":"IF(OR($FK80=4,$FK80=7),VLOOKUP($FK80,整理番号表!$B$32:$G$60,2,FALSE),)","v":0},{"$f":"IF($FK80=5,VLOOKUP($FK80,整理番号表!$B$32:$G$60,2,FALSE),)","v":0},{"$f":"IF(AND(8<=$FK80,$FK80<=13),VLOOKUP($FK80,整理番号表!$B$32:$G$60,2,FALSE),)","v":0},0,0,{"$f":"IF(AND(FE80<>1,$FP80=1,SUM($FQ80:FQ80)=0,$FF80=1,$FI80>=2),1,)","v":0},{"$f":"IF(AND(FE80<>1,$FP80=1,SUM($FQ80:FR80)=0,OR(AND($FF80=1,$FI80>0),$FI80>=4)),1,)","v":0},{"$f":"IF(AND(FE80<>1,$FP80=1,SUM($FQ80:FS80)=0,OR($FF80=1,$FI80>=2)),1,)","v":0},{"$f":"IF(AND(FE80<>1,$FP80=1,SUM($FQ80:FT80)=0,$FI80>0),1,)","v":0},0,0,{"$f":"IF(AND(FE80<>1,$FP80=2,SUM($FW80:FW80)=0,$FF80=1,$FJ80>=0.1),1,)","v":0},{"$f":"IF(AND(FE80<>1,$FP80=2,SUM($FW80:FX80)=0,OR(AND($FF80=1,$FI80>0),$FJ80>=0.2)),1,)","v":0},{"$f":"IF(AND(FE80<>1,$FP80=2,SUM($FW80:FY80)=0,OR($FF80=1,$FJ80>=0.1)),1,)","v":0},{"$f":"IF(AND(FE80<>1,$FP80=2,SUM($FW80:FZ80)=0,$FI80>0),1,)","v":0},0,{"$f":"IF(AND(FE80<>1,$FP80=3,SUM($GB80:GB80)=0,AND($FF80=1,$FJ80>=0.05)),1,)","v":0},{"$f":"IF(AND(FE80<>1,$FP80=3,SUM($GB80:GC80)=0,OR(AND($FF80=1,$FI80>0),$FJ80>=0.1)),1,)","v":0},{"$f":"IF(AND(FE80<>1,$FP80=3,SUM($GB80:GD80)=0,OR($FF80=1,$FJ80>=0.05)),1,)","v":0},{"$f":"IF(AND(FE80<>1,$FP80=3,SUM($GB80:GE80)=0,$FI80>0),1,)","v":0},0,null,0,0,0,0,0,0,0,0,0,0,0,0,0,0,0,0,0,0,0,0,0,0,0,0,0,0,0,0,0,0,0,0,0,0,0,0,0,0,0,0,0,0,0,0,0,0,0,0,0,0,0,0,0,0,0,0,0,0,0,0,0,0,0,0,0,0,0,0,0,0,0,0,0,0,0,0,0,0,0,"","","","","","","","","","","","","","","","○",0,0,0,0,0,0,0,"○",0,0,0,"○","○",null,0,0]
[0,0,0,0,0,0,0,0,0,0,69,null,null,null,null,{"$f":"IF(O81<>\"\",VLOOKUP(O81,整理番号表!$Z$17:$AA$20,2,FALSE),)","v":0},0,null,null,null,null,null,{"$f":"IF(V81<>0,VLOOKUP(V81,整理番号表!$B$6:$L$13,2,FALSE),)","v":0},0,{"$f":"IF(X81<>0,VLOOKUP(X81,整理番号表!$B$16:$C$18,2,FALSE),)","v":0},null,{"$f":"IF(Z81<>0,VLOOKUP(Z81,整理番号表!$B$22:$C$29,2,FALSE),)","v":0},null,null,{"$f":"IF(AC81<>0,VLOOKUP(AC81,整理番号表!$B$32:$G$60,2,FALSE),)","v":0},null,{"$f":"IF(AE81<>0,VLOOKUP(AE81,整理番号表!$P$5:$R$39,2,FALSE),)","v":0},null,0,null,null,{"$f":"IF(AJ81<>\"\",VLOOKUP(AJ81,整理番号表!$Z$6:$AA$14,2,FALSE),\"\")","v":""},0,null,null,null,null,null,{"$f":"IF(AQ81<>0,VLOOKUP(AQ81,整理番号表!$P$43:$Q$49,2,FALSE),)","v":0},null,null,null,null,0,0,null,0,null,null,null,0,0,0,null,null,0,0,null,{"$f":"IF(BK81<>0,VLOOKUP(BK81,整理番号表!$T$5:$U$16,2,FALSE),)","v":0},null,{"$f":"IF(BM81<>0,VLOOKUP(BM81,整理番号表!$T$22:$U$30,2,FALSE),)","v":0},null,0,"",null,null,null,null,null,"",0,null,null,null,null,null,null,null,null,null,0,0,0,0,0,0,0,0,0,0,0,0,0,0,0,0,0,0,0,0,0,0,0,0,0,0,0,0,null,null,null,null,null,0,0,0,0,0,0,null,0,null,null,null,null,null,null,null,0,null,null,null,null,null,null,null,null,null,null,null,null,null,null,null,null,null,null,null,null,null,null,null,null,null,null,0,0,null,null,0,0,0,{"$f":"IF(OR(AND(1<=$FK81,$FK81<=3),$FK81=6),VLOOKUP($FK81,整理番号表!$B$32:$G$60,2,FALSE),)","v":0},{"$f":"IF(OR($FK81=4,$FK81=7),VLOOKUP($FK81,整理番号表!$B$32:$G$60,2,FALSE),)","v":0},{"$f":"IF($FK81=5,VLOOKUP($FK81,整理番号表!$B$32:$G$60,2,FALSE),)","v":0},{"$f":"IF(AND(8<=$FK81,$FK81<=13),VLOOKUP($FK81,整理番号表!$B$32:$G$60,2,FALSE),)","v":0},0,0,{"$f":"IF(AND(FE81<>1,$FP81=1,SUM($FQ81:FQ81)=0,$FF81=1,$FI81>=2),1,)","v":0},{"$f":"IF(AND(FE81<>1,$FP81=1,SUM($FQ81:FR81)=0,OR(AND($FF81=1,$FI81>0),$FI81>=4)),1,)","v":0},{"$f":"IF(AND(FE81<>1,$FP81=1,SUM($FQ81:FS81)=0,OR($FF81=1,$FI81>=2)),1,)","v":0},{"$f":"IF(AND(FE81<>1,$FP81=1,SUM($FQ81:FT81)=0,$FI81>0),1,)","v":0},0,0,{"$f":"IF(AND(FE81<>1,$FP81=2,SUM($FW81:FW81)=0,$FF81=1,$FJ81>=0.1),1,)","v":0},{"$f":"IF(AND(FE81<>1,$FP81=2,SUM($FW81:FX81)=0,OR(AND($FF81=1,$FI81>0),$FJ81>=0.2)),1,)","v":0},{"$f":"IF(AND(FE81<>1,$FP81=2,SUM($FW81:FY81)=0,OR($FF81=1,$FJ81>=0.1)),1,)","v":0},{"$f":"IF(AND(FE81<>1,$FP81=2,SUM($FW81:FZ81)=0,$FI81>0),1,)","v":0},0,{"$f":"IF(AND(FE81<>1,$FP81=3,SUM($GB81:GB81)=0,AND($FF81=1,$FJ81>=0.05)),1,)","v":0},{"$f":"IF(AND(FE81<>1,$FP81=3,SUM($GB81:GC81)=0,OR(AND($FF81=1,$FI81>0),$FJ81>=0.1)),1,)","v":0},{"$f":"IF(AND(FE81<>1,$FP81=3,SUM($GB81:GD81)=0,OR($FF81=1,$FJ81>=0.05)),1,)","v":0},{"$f":"IF(AND(FE81<>1,$FP81=3,SUM($GB81:GE81)=0,$FI81>0),1,)","v":0},0,null,0,0,0,0,0,0,0,0,0,0,0,0,0,0,0,0,0,0,0,0,0,0,0,0,0,0,0,0,0,0,0,0,0,0,0,0,0,0,0,0,0,0,0,0,0,0,0,0,0,0,0,0,0,0,0,0,0,0,0,0,0,0,0,0,0,0,0,0,0,0,0,0,0,0,0,0,0,0,0,"","","","","","","","","","","","","","","","○",0,0,0,0,0,0,0,"○",0,0,0,"○","○",null,0,0]
[0,0,0,0,0,0,0,0,0,0,70,null,null,null,null,{"$f":"IF(O82<>\"\",VLOOKUP(O82,整理番号表!$Z$17:$AA$20,2,FALSE),)","v":0},0,null,null,null,null,null,{"$f":"IF(V82<>0,VLOOKUP(V82,整理番号表!$B$6:$L$13,2,FALSE),)","v":0},0,{"$f":"IF(X82<>0,VLOOKUP(X82,整理番号表!$B$16:$C$18,2,FALSE),)","v":0},null,{"$f":"IF(Z82<>0,VLOOKUP(Z82,整理番号表!$B$22:$C$29,2,FALSE),)","v":0},null,null,{"$f":"IF(AC82<>0,VLOOKUP(AC82,整理番号表!$B$32:$G$60,2,FALSE),)","v":0},null,{"$f":"IF(AE82<>0,VLOOKUP(AE82,整理番号表!$P$5:$R$39,2,FALSE),)","v":0},null,0,null,null,{"$f":"IF(AJ82<>\"\",VLOOKUP(AJ82,整理番号表!$Z$6:$AA$14,2,FALSE),\"\")","v":""},0,null,null,null,null,null,{"$f":"IF(AQ82<>0,VLOOKUP(AQ82,整理番号表!$P$43:$Q$49,2,FALSE),)","v":0},null,null,null,null,0,0,null,0,null,null,null,0,0,0,null,null,0,0,null,{"$f":"IF(BK82<>0,VLOOKUP(BK82,整理番号表!$T$5:$U$16,2,FALSE),)","v":0},null,{"$f":"IF(BM82<>0,VLOOKUP(BM82,整理番号表!$T$22:$U$30,2,FALSE),)","v":0},null,0,"",null,null,null,null,null,"",0,null,null,null,null,null,null,null,null,null,0,0,0,0,0,0,0,0,0,0,0,0,0,0,0,0,0,0,0,0,0,0,0,0,0,0,0,0,null,null,null,null,null,0,0,0,0,0,0,null,0,null,null,null,null,null,null,null,0,null,null,null,null,null,null,null,null,null,null,null,null,null,null,null,null,null,null,null,null,null,null,null,null,null,null,0,0,null,null,0,0,0,{"$f":"IF(OR(AND(1<=$FK82,$FK82<=3),$FK82=6),VLOOKUP($FK82,整理番号表!$B$32:$G$60,2,FALSE),)","v":0},{"$f":"IF(OR($FK82=4,$FK82=7),VLOOKUP($FK82,整理番号表!$B$32:$G$60,2,FALSE),)","v":0},{"$f":"IF($FK82=5,VLOOKUP($FK82,整理番号表!$B$32:$G$60,2,FALSE),)","v":0},{"$f":"IF(AND(8<=$FK82,$FK82<=13),VLOOKUP($FK82,整理番号表!$B$32:$G$60,2,FALSE),)","v":0},0,0,{"$f":"IF(AND(FE82<>1,$FP82=1,SUM($FQ82:FQ82)=0,$FF82=1,$FI82>=2),1,)","v":0},{"$f":"IF(AND(FE82<>1,$FP82=1,SUM($FQ82:FR82)=0,OR(AND($FF82=1,$FI82>0),$FI82>=4)),1,)","v":0},{"$f":"IF(AND(FE82<>1,$FP82=1,SUM($FQ82:FS82)=0,OR($FF82=1,$FI82>=2)),1,)","v":0},{"$f":"IF(AND(FE82<>1,$FP82=1,SUM($FQ82:FT82)=0,$FI82>0),1,)","v":0},0,0,{"$f":"IF(AND(FE82<>1,$FP82=2,SUM($FW82:FW82)=0,$FF82=1,$FJ82>=0.1),1,)","v":0},{"$f":"IF(AND(FE82<>1,$FP82=2,SUM($FW82:FX82)=0,OR(AND($FF82=1,$FI82>0),$FJ82>=0.2)),1,)","v":0},{"$f":"IF(AND(FE82<>1,$FP82=2,SUM($FW82:FY82)=0,OR($FF82=1,$FJ82>=0.1)),1,)","v":0},{"$f":"IF(AND(FE82<>1,$FP82=2,SUM($FW82:FZ82)=0,$FI82>0),1,)","v":0},0,{"$f":"IF(AND(FE82<>1,$FP82=3,SUM($GB82:GB82)=0,AND($FF82=1,$FJ82>=0.05)),1,)","v":0},{"$f":"IF(AND(FE82<>1,$FP82=3,SUM($GB82:GC82)=0,OR(AND($FF82=1,$FI82>0),$FJ82>=0.1)),1,)","v":0},{"$f":"IF(AND(FE82<>1,$FP82=3,SUM($GB82:GD82)=0,OR($FF82=1,$FJ82>=0.05)),1,)","v":0},{"$f":"IF(AND(FE82<>1,$FP82=3,SUM($GB82:GE82)=0,$FI82>0),1,)","v":0},0,null,0,0,0,0,0,0,0,0,0,0,0,0,0,0,0,0,0,0,0,0,0,0,0,0,0,0,0,0,0,0,0,0,0,0,0,0,0,0,0,0,0,0,0,0,0,0,0,0,0,0,0,0,0,0,0,0,0,0,0,0,0,0,0,0,0,0,0,0,0,0,0,0,0,0,0,0,0,0,0,"","","","","","","","","","","","","","","","○",0,0,0,0,0,0,0,"○",0,0,0,"○","○",null,0,0]
[0,0,0,0,0,0,0,0,0,0,71,null,null,null,null,{"$f":"IF(O83<>\"\",VLOOKUP(O83,整理番号表!$Z$17:$AA$20,2,FALSE),)","v":0},0,null,null,null,null,null,{"$f":"IF(V83<>0,VLOOKUP(V83,整理番号表!$B$6:$L$13,2,FALSE),)","v":0},0,{"$f":"IF(X83<>0,VLOOKUP(X83,整理番号表!$B$16:$C$18,2,FALSE),)","v":0},null,{"$f":"IF(Z83<>0,VLOOKUP(Z83,整理番号表!$B$22:$C$29,2,FALSE),)","v":0},null,null,{"$f":"IF(AC83<>0,VLOOKUP(AC83,整理番号表!$B$32:$G$60,2,FALSE),)","v":0},null,{"$f":"IF(AE83<>0,VLOOKUP(AE83,整理番号表!$P$5:$R$39,2,FALSE),)","v":0},null,0,null,null,{"$f":"IF(AJ83<>\"\",VLOOKUP(AJ83,整理番号表!$Z$6:$AA$14,2,FALSE),\"\")","v":""},0,null,null,null,null,null,{"$f":"IF(AQ83<>0,VLOOKUP(AQ83,整理番号表!$P$43:$Q$49,2,FALSE),)","v":0},null,null,null,null,0,0,null,0,null,null,null,0,0,0,null,null,0,0,null,{"$f":"IF(BK83<>0,VLOOKUP(BK83,整理番号表!$T$5:$U$16,2,FALSE),)","v":0},null,{"$f":"IF(BM83<>0,VLOOKUP(BM83,整理番号表!$T$22:$U$30,2,FALSE),)","v":0},null,0,"",null,null,null,null,null,"",0,null,null,null,null,null,null,null,null,null,{"$f":"IF(OR($BR83<=0,$BV83<=0),0,IF(AND($X83=1,$I83=1,$EU83<>1,CH$2<=$BW83,$BW83<CI$2),1,))","v":0},{"$f":"IF(OR($BR83<=0,$BV83<=0),0,IF(AND($X83=1,$I83=1,$EU83<>1,CI$2<=$BW83,$BW83<CJ$2),1,))","v":0},{"$f":"IF(OR($BR83<=0,$BV83<=0),0,IF(AND($X83=1,$I83=1,$EU83<>1,CJ$2<=$BW83,$BW83<CK$2),1,))","v":0},{"$f":"IF(OR($BR83<=0,$BV83<=0),0,IF(AND($X83=1,$I83=1,$EU83<>1,CK$2<=$BW83,$BW83<CL$2),1,))","v":0},{"$f":"IF(OR($BR83<=0,$BV83<=0),0,IF(AND($X83=1,$I83=1,$EU83<>1,CL$2<=$BW83,$BW83<CM$2),1,))","v":0},{"$f":"IF(OR($BR83<=0,$BV83<=0),0,IF(AND($X83=1,$I83=1,$EU83<>1,CM$2<=$BW83,$BW83<CN$2),1,))","v":0},0,{"$f":"IF(OR($BR83<=0,$BV83<=0),0,IF(AND($X83=2,$I83=1,$EU83<>1,CO$2<=$BW83,$BW83<CP$2),1,))","v":0},{"$f":"IF(OR($BR83<=0,$BV83<=0),0,IF(AND($X83=2,$I83=1,$EU83<>1,CP$2<=$BW83,$BW83<CQ$2),1,))","v":0},{"$f":"IF(OR($BR83<=0,$BV83<=0),0,IF(AND($X83=2,$I83=1,$EU83<>1,CQ$2<=$BW83,$BW83<CR$2),1,))","v":0},{"$f":"IF(OR($BR83<=0,$BV83<=0),0,IF(AND($X83=2,$I83=1,$EU83<>1,CR$2<=$BW83,$BW83<CS$2),1,))","v":0},{"$f":"IF(OR($BR83<=0,$BV83<=0),0,IF(AND($X83=2,$I83=1,$EU83<>1,CS$2<=$BW83,$BW83<CT$2),1,))","v":0},{"$f":"IF(OR($BR83<=0,$BV83<=0),0,IF(AND($X83=2,$I83=1,$EU83<>1,CT$2<=$BW83,$BW83<CU$2),1,))","v":0},0,{"$f":"IF($BV83<0,0,IF(AND($X83=1,$I83=1,$EU83<>1,CV$2<=$BX83,$BX83<CW$2),1,))","v":0},{"$f":"IF($BV83<0,0,IF(AND($X83=1,$I83=1,$EU83<>1,CW$2<=$BX83,$BX83<CX$2),1,))","v":0},{"$f":"IF($BV83<0,0,IF(AND($X83=1,$I83=1,$EU83<>1,CX$2<=$BX83,$BX83<CY$2),1,))","v":0},{"$f":"IF($BV83<0,0,IF(AND($X83=1,$I83=1,$EU83<>1,CY$2<=$BX83,$BX83<CZ$2),1,))","v":0},{"$f":"IF($BV83<0,0,IF(AND($X83=1,$I83=1,$EU83<>1,CZ$2<=$BX83,$BX83<DA$2),1,))","v":0},{"$f":"IF($BV83<0,0,IF(AND($X83=1,$I83=1,$EU83<>1,DA$2<=$BX83,$BX83<DB$2),1,))","v":0},0,{"$f":"IF($BV83<0,0,IF(AND($X83=2,$I83=1,$EU83<>1,DC$2<=$BX83,$BX83<DD$2),1,))","v":0},{"$f":"IF($BV83<0,0,IF(AND($X83=2,$I83=1,$EU83<>1,DD$2<=$BX83,$BX83<DE$2),1,))","v":0},{"$f":"IF($BV83<0,0,IF(AND($X83=2,$I83=1,$EU83<>1,DE$2<=$BX83,$BX83<DF$2),1,))","v":0},{"$f":"IF($BV83<0,0,IF(AND($X83=2,$I83=1,$EU83<>1,DF$2<=$BX83,$BX83<DG$2),1,))","v":0},{"$f":"IF($BV83<0,0,IF(AND($X83=2,$I83=1,$EU83<>1,DG$2<=$BX83,$BX83<DH$2),1,))","v":0},{"$f":"IF($BV83<0,0,IF(AND($X83=2,$I83=1,$EU83<>1,DH$2<=$BX83,$BX83<DI$2),1,))","v":0},0,null,null,null,null,null,0,0,0,0,0,0,null,0,null,null,null,null,null,null,null,0,null,null,null,null,null,null,null,null,null,null,null,null,null,null,null,null,null,null,null,null,null,null,null,null,null,null,0,0,null,null,0,0,0,{"$f":"IF(OR(AND(1<=$FK83,$FK83<=3),$FK83=6),VLOOKUP($FK83,整理番号表!$B$32:$G$60,2,FALSE),)","v":0},{"$f":"IF(OR($FK83=4,$FK83=7),VLOOKUP($FK83,整理番号表!$B$32:$G$60,2,FALSE),)","v":0},{"$f":"IF($FK83=5,VLOOKUP($FK83,整理番号表!$B$32:$G$60,2,FALSE),)","v":0},{"$f":"IF(AND(8<=$FK83,$FK83<=13),VLOOKUP($FK83,整理番号表!$B$32:$G$60,2,FALSE),)","v":0},0,0,{"$f":"IF(AND(FE83<>1,$FP83=1,SUM($FQ83:FQ83)=0,$FF83=1,$FI83>=2),1,)","v":0},{"$f":"IF(AND(FE83<>1,$FP83=1,SUM($FQ83:FR83)=0,OR(AND($FF83=1,$FI83>0),$FI83>=4)),1,)","v":0},{"$f":"IF(AND(FE83<>1,$FP83=1,SUM($FQ83:FS83)=0,OR($FF83=1,$FI83>=2)),1,)","v":0},{"$f":"IF(AND(FE83<>1,$FP83=1,SUM($FQ83:FT83)=0,$FI83>0),1,)","v":0},0,0,{"$f":"IF(AND(FE83<>1,$FP83=2,SUM($FW83:FW83)=0,$FF83=1,$FJ83>=0.1),1,)","v":0},{"$f":"IF(AND(FE83<>1,$FP83=2,SUM($FW83:FX83)=0,OR(AND($FF83=1,$FI83>0),$FJ83>=0.2)),1,)","v":0},{"$f":"IF(AND(FE83<>1,$FP83=2,SUM($FW83:FY83)=0,OR($FF83=1,$FJ83>=0.1)),1,)","v":0},{"$f":"IF(AND(FE83<>1,$FP83=2,SUM($FW83:FZ83)=0,$FI83>0),1,)","v":0},0,{"$f":"IF(AND(FE83<>1,$FP83=3,SUM($GB83:GB83)=0,AND($FF83=1,$FJ83>=0.05)),1,)","v":0},{"$f":"IF(AND(FE83<>1,$FP83=3,SUM($GB83:GC83)=0,OR(AND($FF83=1,$FI83>0),$FJ83>=0.1)),1,)","v":0},{"$f":"IF(AND(FE83<>1,$FP83=3,SUM($GB83:GD83)=0,OR($FF83=1,$FJ83>=0.05)),1,)","v":0},{"$f":"IF(AND(FE83<>1,$FP83=3,SUM($GB83:GE83)=0,$FI83>0),1,)","v":0},0,null,0,0,0,0,0,0,0,0,0,0,0,0,0,0,0,0,0,0,0,0,0,0,0,0,0,0,0,0,0,0,0,0,0,0,0,0,0,0,0,0,0,0,0,0,0,0,0,0,0,0,0,0,0,0,0,0,0,0,0,0,0,0,0,0,0,0,0,0,0,0,0,0,0,0,0,0,0,0,0,"","","","","","","","","","","","","","","","○",0,0,0,0,0,0,0,"○",0,0,0,"○","○",null,0,0]
[0,0,0,0,0,0,0,0,0,0,72,null,null,null,null,{"$f":"IF(O84<>\"\",VLOOKUP(O84,整理番号表!$Z$17:$AA$20,2,FALSE),)","v":0},0,null,null,null,null,null,{"$f":"IF(V84<>0,VLOOKUP(V84,整理番号表!$B$6:$L$13,2,FALSE),)","v":0},0,{"$f":"IF(X84<>0,VLOOKUP(X84,整理番号表!$B$16:$C$18,2,FALSE),)","v":0},null,{"$f":"IF(Z84<>0,VLOOKUP(Z84,整理番号表!$B$22:$C$29,2,FALSE),)","v":0},null,null,{"$f":"IF(AC84<>0,VLOOKUP(AC84,整理番号表!$B$32:$G$60,2,FALSE),)","v":0},null,{"$f":"IF(AE84<>0,VLOOKUP(AE84,整理番号表!$P$5:$R$39,2,FALSE),)","v":0},null,0,null,null,{"$f":"IF(AJ84<>\"\",VLOOKUP(AJ84,整理番号表!$Z$6:$AA$14,2,FALSE),\"\")","v":""},{"$f":"IF(AJ84<>0,1,)","v":0},null,null,null,null,null,{"$f":"IF(AQ84<>0,VLOOKUP(AQ84,整理番号表!$P$43:$Q$49,2,FALSE),)","v":0},null,null,null,null,0,0,null,0,null,null,null,0,0,0,null,null,0,0,null,{"$f":"IF(BK84<>0,VLOOKUP(BK84,整理番号表!$T$5:$U$16,2,FALSE),)","v":0},null,{"$f":"IF(BM84<>0,VLOOKUP(BM84,整理番号表!$T$22:$U$30,2,FALSE),)","v":0},null,{"$f":"IF(BO84=1,AY84,)","v":0},{"$f":"IF(AND(R84<>\"\",I84=1),1,\"\")","v":""},null,null,null,null,null,{"$f":"IF(BS84=2,ROUNDDOWN((BV84-BR84)/ABS(BR84),2),IF(BS84=1,ROUNDDOWN((BV84-BR84)/ABS(BR84)*3/4,2),\"\"))","v":""},0,null,null,null,null,null,null,null,null,null,0,0,0,0,0,0,0,0,0,0,0,0,0,0,0,0,0,0,0,0,0,0,0,0,0,0,0,0,null,null,null,null,null,{"$f":"SUM(FQ84,FW84,GB84)","v":0},{"$f":"SUM(FR84,FX84,GC84)","v":0},{"$f":"SUM(FS84,FY84,GD84)","v":0},{"$f":"SUM(FT84,FZ84,GE84)","v":0},{"$f":"SUM(FU84,FV84,GA84,GF84)","v":0},{"$f":"GG84","v":0},null,0,null,null,null,null,null,null,null,0,null,null,null,null,null,null,null,null,null,null,null,null,null,null,null,null,null,null,null,null,null,null,null,null,null,null,0,0,null,null,0,0,0,{"$f":"IF(OR(AND(1<=$FK84,$FK84<=3),$FK84=6),VLOOKUP($FK84,整理番号表!$B$32:$G$60,2,FALSE),)","v":0},{"$f":"IF(OR($FK84=4,$FK84=7),VLOOKUP($FK84,整理番号表!$B$32:$G$60,2,FALSE),)","v":0},{"$f":"IF($FK84=5,VLOOKUP($FK84,整理番号表!$B$32:$G$60,2,FALSE),)","v":0},{"$f":"IF(AND(8<=$FK84,$FK84<=13),VLOOKUP($FK84,整理番号表!$B$32:$G$60,2,FALSE),)","v":0},0,0,{"$f":"IF(AND(FE84<>1,$FP84=1,SUM($FQ84:FQ84)=0,$FF84=1,$FI84>=2),1,)","v":0},{"$f":"IF(AND(FE84<>1,$FP84=1,SUM($FQ84:FR84)=0,OR(AND($FF84=1,$FI84>0),$FI84>=4)),1,)","v":0},{"$f":"IF(AND(FE84<>1,$FP84=1,SUM($FQ84:FS84)=0,OR($FF84=1,$FI84>=2)),1,)","v":0},{"$f":"IF(AND(FE84<>1,$FP84=1,SUM($FQ84:FT84)=0,$FI84>0),1,)","v":0},0,0,{"$f":"IF(AND(FE84<>1,$FP84=2,SUM($FW84:FW84)=0,$FF84=1,$FJ84>=0.1),1,)","v":0},{"$f":"IF(AND(FE84<>1,$FP84=2,SUM($FW84:FX84)=0,OR(AND($FF84=1,$FI84>0),$FJ84>=0.2)),1,)","v":0},{"$f":"IF(AND(FE84<>1,$FP84=2,SUM($FW84:FY84)=0,OR($FF84=1,$FJ84>=0.1)),1,)","v":0},{"$f":"IF(AND(FE84<>1,$FP84=2,SUM($FW84:FZ84)=0,$FI84>0),1,)","v":0},0,{"$f":"IF(AND(FE84<>1,$FP84=3,SUM($GB84:GB84)=0,AND($FF84=1,$FJ84>=0.05)),1,)","v":0},{"$f":"IF(AND(FE84<>1,$FP84=3,SUM($GB84:GC84)=0,OR(AND($FF84=1,$FI84>0),$FJ84>=0.1)),1,)","v":0},{"$f":"IF(AND(FE84<>1,$FP84=3,SUM($GB84:GD84)=0,OR($FF84=1,$FJ84>=0.05)),1,)","v":0},{"$f":"IF(AND(FE84<>1,$FP84=3,SUM($GB84:GE84)=0,$FI84>0),1,)","v":0},0,null,{"$f":"IF($I84=1,CH84*GI$5,0)","v":0},{"$f":"IF($I84=1,CI84*GJ$5,0)","v":0},{"$f":"IF($I84=1,CJ84*GK$5,0)","v":0},{"$f":"IF($I84=1,CK84*GL$5,0)","v":0},{"$f":"IF($I84=1,CL84*GM$5,0)","v":0},{"$f":"IF($I84=1,CM84*GN$5,0)","v":0},{"$f":"IF($I84=1,CN84*GO$5,0)","v":0},{"$f":"IF($I84=1,CO84*GP$5,0)","v":0},{"$f":"IF($I84=1,CP84*GQ$5,0)","v":0},{"$f":"IF($I84=1,CQ84*GR$5,0)","v":0},{"$f":"IF($I84=1,CR84*GS$5,0)","v":0},{"$f":"IF($I84=1,CS84*GT$5,0)","v":0},{"$f":"IF($I84=1,CT84*GU$5,0)","v":0},{"$f":"IF($I84=1,CU84*GV$5,0)","v":0},{"$f":"IF($I84=1,CV84*GW$5,0)","v":0},{"$f":"IF($I84=1,CW84*GX$5,0)","v":0},{"$f":"IF($I84=1,CX84*GY$5,0)","v":0},{"$f":"IF($I84=1,CY84*GZ$5,0)","v":0},{"$f":"IF($I84=1,CZ84*HA$5,0)","v":0},{"$f":"IF($I84=1,DA84*HB$5,0)","v":0},{"$f":"IF($I84=1,DB84*HC$5,0)","v":0},{"$f":"IF($I84=1,DC84*HD$5,0)","v":0},{"$f":"IF($I84=1,DD84*HE$5,0)","v":0},{"$f":"IF($I84=1,DE84*HF$5,0)","v":0},{"$f":"IF($I84=1,DF84*HG$5,0)","v":0},{"$f":"IF($I84=1,DG84*HH$5,0)","v":0},{"$f":"IF($I84=1,DH84*HI$5,0)","v":0},{"$f":"IF($I84=1,DI84*HJ$5,0)","v":0},{"$f":"IF($I84=1,DJ84*HK$5,0)","v":0},{"$f":"IF($I84=1,DK84*HL$5,0)","v":0},{"$f":"IF($I84=1,DL84*HM$5,0)","v":0},{"$f":"IF($I84=1,DM84*HN$5,0)","v":0},{"$f":"IF($I84=1,DN84*HO$5,0)","v":0},{"$f":"IF($I84=1,DO84*HP$5,0)","v":0},{"$f":"IF($I84=1,DP84*HQ$5,0)","v":0},{"$f":"IF($I84=1,DQ84*HR$5,0)","v":0},{"$f":"IF($I84=1,DR84*HS$5,0)","v":0},{"$f":"IF($I84=1,DS84*HT$5,0)","v":0},{"$f":"IF($I84=1,DT84*HU$5,0)","v":0},{"$f":"IF($I84=1,DU84*HV$5,0)","v":0},{"$f":"IF($I84=1,DV84*HW$5,0)","v":0},{"$f":"IF($I84=1,DW84*HX$5,0)","v":0},{"$f":"IF($I84=1,DX84*HY$5,0)","v":0},{"$f":"IF($I84=1,DY84*HZ$5,0)","v":0},{"$f":"IF($I84=1,DZ84*IA$5,0)","v":0},{"$f":"IF($I84=1,EA84*IB$5,0)","v":0},{"$f":"IF($I84=1,EB84*IC$5,0)","v":0},{"$f":"IF($I84=1,EC84*ID$5,0)","v":0},{"$f":"IF($I84=1,ED84*IE$5,0)","v":0},{"$f":"IF($I84=1,EE84*IF$5,0)","v":0},{"$f":"IF($I84=1,EF84*IG$5,0)","v":0},{"$f":"IF($I84=1,EG84*IH$5,0)","v":0},{"$f":"IF($I84=1,EH84*II$5,0)","v":0},{"$f":"IF($I84=1,EI84*IJ$5,0)","v":0},{"$f":"IF($I84=1,EJ84*IK$5,0)","v":0},{"$f":"IF($I84=1,EK84*IL$5,0)","v":0},{"$f":"IF($I84=1,EL84*IM$5,0)","v":0},{"$f":"IF($I84=1,EM84*IN$5,0)","v":0},{"$f":"IF($I84=1,EN84*IO$5,0)","v":0},{"$f":"IF($I84=1,EO84*IP$5,0)","v":0},{"$f":"IF($I84=1,EP84*IQ$5,0)","v":0},{"$f":"IF($I84=1,EQ84*IR$5,0)","v":0},{"$f":"IF($I84=1,ER84*IS$5,0)","v":0},{"$f":"IF($I84=1,ES84*IT$5,0)","v":0},{"$f":"IF($I84=1,ET84*IU$5,0)","v":0},{"$f":"IF($I84=1,EU84*IV$5,0)","v":0},{"$f":"IF($I84=1,EV84*IW$5,0)","v":0},{"$f":"IF($I84=1,EW84*IX$5,0)","v":0},{"$f":"IF($I84=1,EX84*IY$5,0)","v":0},{"$f":"IF($I84=1,EY84*IZ$5,0)","v":0},0,{"$f":"IF($I84=1,IF(FA84<>\"\",JB$5,0),0)","v":0},{"$f":"IF($I84=1,FB84*JC$5,0)","v":0},{"$f":"IF($I84=1,FC84*JD$5,0)","v":0},{"$f":"SUM(GI84:JD84)","v":0},{"$f":"IF(G84=1,SUMIF($C$13:$C$350,C84,$JE$13:$JE$350),0)","v":0},{"$f":"IF(G84=1,SUMIF($C$13:$C$350,C84,$I$13:$I$350),0)","v":0},{"$f":"IF(JG84>0,JF84/JG84,0)","v":0},0,"","","","","","","","","","","","","","","","○",0,0,0,0,0,0,0,"○",0,0,0,"○","○",null,0,0]
[{"$f":"D85*1000000+C85*10000+Q85*100+AH85","v":0},{"$f":"IF(L85<>\"\",IF(L85<>L84,B84+1,B84),0)","v":0},{"$f":"IF(N85<>\"\",IF(N85<>N84,C84+1,C84),0)","v":0},{"$f":"IF(M85<>\"\",IF(M85<>M84,D84+1,D84),0)","v":0},{"$f":"IF(R85<>\"\",IF(OR(R85<>R84,N85<>N84),E84+1,E84),0)","v":0},{"$f":"IF(BP85>0,E85,0)","v":0},{"$f":"IF(N85<>\"\",IF(N85<>N84,1,0),0)","v":0},{"$f":"IF(M85<>\"\",IF(M85<>M84,1,0),0)","v":0},{"$f":"IF(R85<>\"\",IF(R85<>R84,1,0),0)","v":0},{"$f":"IF(AND(I85=1,SUMIF($E$13:$E$350,E85,$F$13:$F$350)>0),1,0)","v":0},73,null,null,null,null,{"$f":"IF(O85<>\"\",VLOOKUP(O85,整理番号表!$Z$17:$AA$20,2,FALSE),)","v":0},{"$f":"IF(R85<>\"\",IF(N85<>N84,1,IF(R85<>R84,Q84+1,Q84)),)","v":0},null,null,null,null,null,{"$f":"IF(V85<>0,VLOOKUP(V85,整理番号表!$B$6:$L$13,2,FALSE),)","v":0},{"$f":"IF(V85<>0,IF(V85=4,2,1),)","v":0},{"$f":"IF(X85<>0,VLOOKUP(X85,整理番号表!$B$16:$C$18,2,FALSE),)","v":0},null,{"$f":"IF(Z85<>0,VLOOKUP(Z85,整理番号表!$B$22:$C$29,2,FALSE),)","v":0},null,null,{"$f":"IF(AC85<>0,VLOOKUP(AC85,整理番号表!$B$32:$G$60,2,FALSE),)","v":0},null,{"$f":"IF(AE85<>0,VLOOKUP(AE85,整理番号表!$P$5:$R$39,2,FALSE),)","v":0},null,0,null,null,{"$f":"IF(AJ85<>\"\",VLOOKUP(AJ85,整理番号表!$Z$6:$AA$14,2,FALSE),\"\")","v":""},0,null,null,null,null,null,{"$f":"IF(AQ85<>0,VLOOKUP(AQ85,整理番号表!$P$43:$Q$49,2,FALSE),)","v":0},null,null,null,null,{"$f":"IF(AL85=1,IF(KC85>0,MIN(ROUNDDOWN(KC85,-3),IF(AND(X85=1,AB85=\"法人\"),30000000,IF(AND(X85=1,AB85=\"法人以外\"),15000000,IF(X85=2,1000000,0)))),0),0)","v":0},{"$f":"IF(KF85>0,ROUNDDOWN(KF85,-3),0)","v":0},null,0,null,null,null,{"$f":"IF(I85=1,MIN(KH85,KJ85),0)","v":0},{"$f":"IF(AV85<>0,AX85/AV85,)","v":0},{"$f":"IF(AV85<>0,AY85/AV85,)","v":0},null,null,{"$f":"IF(AX85>0,IF(AU85=1,ROUNDDOWN(AV85*10/110,0),IF(AU85=2,\"該当なし\",\"含税額\")),0)","v":0},{"$f":"IF(AX85>0,IF(AU85<>1,\" \",IF(AU85=1,ROUNDDOWN(ROUNDDOWN((AX85/(AV85-BI85)),5)*BI85,0))),0)","v":0},null,{"$f":"IF(BK85<>0,VLOOKUP(BK85,整理番号表!$T$5:$U$16,2,FALSE),)","v":0},null,{"$f":"IF(BM85<>0,VLOOKUP(BM85,整理番号表!$T$22:$U$30,2,FALSE),)","v":0},null,0,"",null,null,null,null,null,"",0,null,null,null,null,null,null,null,null,null,0,0,0,0,0,0,0,0,0,0,0,0,0,0,0,0,0,0,0,0,0,0,0,0,0,0,0,0,null,null,null,null,null,0,0,0,0,0,0,null,0,null,null,null,null,null,null,null,0,null,null,null,null,null,null,null,null,null,null,null,null,null,null,null,null,null,null,null,null,null,null,null,null,null,null,0,0,null,null,0,0,0,{"$f":"IF(OR(AND(1<=$FK85,$FK85<=3),$FK85=6),VLOOKUP($FK85,整理番号表!$B$32:$G$60,2,FALSE),)","v":0},{"$f":"IF(OR($FK85=4,$FK85=7),VLOOKUP($FK85,整理番号表!$B$32:$G$60,2,FALSE),)","v":0},{"$f":"IF($FK85=5,VLOOKUP($FK85,整理番号表!$B$32:$G$60,2,FALSE),)","v":0},{"$f":"IF(AND(8<=$FK85,$FK85<=13),VLOOKUP($FK85,整理番号表!$B$32:$G$60,2,FALSE),)","v":0},0,0,{"$f":"IF(AND(FE85<>1,$FP85=1,SUM($FQ85:FQ85)=0,$FF85=1,$FI85>=2),1,)","v":0},{"$f":"IF(AND(FE85<>1,$FP85=1,SUM($FQ85:FR85)=0,OR(AND($FF85=1,$FI85>0),$FI85>=4)),1,)","v":0},{"$f":"IF(AND(FE85<>1,$FP85=1,SUM($FQ85:FS85)=0,OR($FF85=1,$FI85>=2)),1,)","v":0},{"$f":"IF(AND(FE85<>1,$FP85=1,SUM($FQ85:FT85)=0,$FI85>0),1,)","v":0},0,0,{"$f":"IF(AND(FE85<>1,$FP85=2,SUM($FW85:FW85)=0,$FF85=1,$FJ85>=0.1),1,)","v":0},{"$f":"IF(AND(FE85<>1,$FP85=2,SUM($FW85:FX85)=0,OR(AND($FF85=1,$FI85>0),$FJ85>=0.2)),1,)","v":0},{"$f":"IF(AND(FE85<>1,$FP85=2,SUM($FW85:FY85)=0,OR($FF85=1,$FJ85>=0.1)),1,)","v":0},{"$f":"IF(AND(FE85<>1,$FP85=2,SUM($FW85:FZ85)=0,$FI85>0),1,)","v":0},0,{"$f":"IF(AND(FE85<>1,$FP85=3,SUM($GB85:GB85)=0,AND($FF85=1,$FJ85>=0.05)),1,)","v":0},{"$f":"IF(AND(FE85<>1,$FP85=3,SUM($GB85:GC85)=0,OR(AND($FF85=1,$FI85>0),$FJ85>=0.1)),1,)","v":0},{"$f":"IF(AND(FE85<>1,$FP85=3,SUM($GB85:GD85)=0,OR($FF85=1,$FJ85>=0.05)),1,)","v":0},{"$f":"IF(AND(FE85<>1,$FP85=3,SUM($GB85:GE85)=0,$FI85>0),1,)","v":0},0,null,0,0,0,0,0,0,0,0,0,0,0,0,0,0,0,0,0,0,0,0,0,0,0,0,0,0,0,0,0,0,0,0,0,0,0,0,0,0,0,0,0,0,0,0,0,0,0,0,0,0,0,0,0,0,0,0,0,0,0,0,0,0,0,0,0,0,0,0,0,0,0,0,0,0,0,0,0,0,{"$f":"IF(X85=2,1,0)","v":0},{"$f":"IF(AI85<>\"\",IF(X85=2,\"認\",IF(AND(X85=1,AY85>0),\"○\",\"×\")),\"\")","v":""},{"$f":"IF(AI85<>\"\",IF(AV85>=500000,\"○\",\"×\"),\"\")","v":""},{"$f":"IF(AI85<>\"\",IF(AND(5<=BH85,BH85<=20),\"○\",IF(OR(AND(4<=BH85,BH85<=24),OR(AE85=30,AE85=31),AG85=1),\"△\",\"×\")),\"\")","v":""},{"$f":"IF(AI85<>\"\",IF(AT85>0,\"○\",\"×\"),\"\")","v":""},{"$f":"IF(I85=1,IF(BR85=0,\"△\",IF(OR(AND(X85=1,BW85>=0.1),AND(X85=2,BW85>0)),\"○\",\"×\")),\"\")","v":""},{"$f":"IF(SUM(DO85:DT85)>0,IF(BY85=1,\"○\",\"×\"),\"\")","v":""},{"$f":"IF(BY85=1,IF(AND(FI85>0,FJ85>0),\"○\",\"×\"),\"\")","v":""},{"$f":"IF(SUM(DX85)>0,IF(BZ85=1,\"○\",\"×\"),\"\")","v":""},{"$f":"IF(SUM(EA85,EC85)>0,IF(CA85=1,\"○\",\"×\"),\"\")","v":""},{"$f":"IF(SUM(EE85)>0,IF(CB85=1,\"○\",\"×\"),\"\")","v":""},{"$f":"IF(SUM(EH85)>0,IF(CC85=1,\"○\",\"×\"),\"\")","v":""},{"$f":"IF(SUM(EK85)>0,IF(CD85=1,\"○\",\"×\"),\"\")","v":""},{"$f":"IF(SUM(EM85)>0,IF(CE85=1,\"○\",\"×\"),\"\")","v":""},{"$f":"IF(SUM(EN85:EP85)>0,IF(CF85=1,\"○\",\"×\"),\"\")","v":""},"",{"$f":"IF(COUNTIF(JJ85:JX85,\"×\")>=1,\"×\",\"○\")","v":"○"},{"$f":"AU85","v":0},{"$f":"AV85","v":0},{"$f":"IF(JZ85=1,ROUNDUP(KA85*100/110,0),KA85)","v":0},{"$f":"ROUNDDOWN(KB85*1/2,0)","v":0},{"$f":"IF(X85=2,\"認める者\",AY85)","v":0},{"$f":"AV85-SUM(AY85,BA85:BC85)","v":0},{"$f":"IF(X85=1,MIN(KC85:KE85),IF(X85=2,MIN(KC85,KE85),0))","v":0},{"$f":"IF(AX85<=KF85,\"○\",\"×\")","v":"○"},{"$f":"IF(I85=1,IF(X85=2,1000000,IF(AND(X85=1,AB85=\"法人\"),30000000,IF(AND(X85=1,AB85=\"法人以外\"),15000000,0))),0)","v":0},{"$f":"IF(I85=1,SUMIF($E$13:$E$350,E85,$AW$13:$AW$350),0)","v":0},{"$f":"IF(I85=1,SUMIF($E$13:$E$350,E85,$AX$13:$AX$350),0)","v":0},{"$f":"IF(OR(AND(KJ85>0,KH85<KJ85),AND(KI85>0,KH85<KI85)),\"×\",\"○\")","v":"○"},{"$f":"IF(OR(JY85=\"×\",KG85=\"×\",KK85=\"×\"),\"×\",\"○\")","v":"○"},null,{"$f":"C85","v":0},{"$f":"D85","v":0}]
[0,0,0,0,0,0,0,0,0,0,74,null,null,null,null,{"$f":"IF(O86<>\"\",VLOOKUP(O86,整理番号表!$Z$17:$AA$20,2,FALSE),)","v":0},0,null,null,null,null,null,{"$f":"IF(V86<>0,VLOOKUP(V86,整理番号表!$B$6:$L$13,2,FALSE),)","v":0},0,{"$f":"IF(X86<>0,VLOOKUP(X86,整理番号表!$B$16:$C$18,2,FALSE),)","v":0},null,{"$f":"IF(Z86<>0,VLOOKUP(Z86,整理番号表!$B$22:$C$29,2,FALSE),)","v":0},null,null,{"$f":"IF(AC86<>0,VLOOKUP(AC86,整理番号表!$B$32:$G$60,2,FALSE),)","v":0},null,{"$f":"IF(AE86<>0,VLOOKUP(AE86,整理番号表!$P$5:$R$39,2,FALSE),)","v":0},null,0,null,null,{"$f":"IF(AJ86<>\"\",VLOOKUP(AJ86,整理番号表!$Z$6:$AA$14,2,FALSE),\"\")","v":""},0,null,null,null,null,null,{"$f":"IF(AQ86<>0,VLOOKUP(AQ86,整理番号表!$P$43:$Q$49,2,FALSE),)","v":0},null,null,null,null,0,0,null,0,null,null,null,0,0,0,null,null,0,0,null,{"$f":"IF(BK86<>0,VLOOKUP(BK86,整理番号表!$T$5:$U$16,2,FALSE),)","v":0},null,{"$f":"IF(BM86<>0,VLOOKUP(BM86,整理番号表!$T$22:$U$30,2,FALSE),)","v":0},null,0,"",null,null,null,null,null,"",0,null,null,null,null,null,null,null,null,null,0,0,0,0,0,0,0,0,0,0,0,0,0,0,0,0,0,0,0,0,0,0,0,0,0,0,0,0,null,null,null,null,null,0,0,0,0,0,0,null,0,null,null,null,null,null,null,null,0,null,null,null,null,null,null,null,null,null,null,null,null,null,null,null,null,null,null,null,null,null,null,null,null,null,null,0,0,null,null,0,0,0,{"$f":"IF(OR(AND(1<=$FK86,$FK86<=3),$FK86=6),VLOOKUP($FK86,整理番号表!$B$32:$G$60,2,FALSE),)","v":0},{"$f":"IF(OR($FK86=4,$FK86=7),VLOOKUP($FK86,整理番号表!$B$32:$G$60,2,FALSE),)","v":0},{"$f":"IF($FK86=5,VLOOKUP($FK86,整理番号表!$B$32:$G$60,2,FALSE),)","v":0},{"$f":"IF(AND(8<=$FK86,$FK86<=13),VLOOKUP($FK86,整理番号表!$B$32:$G$60,2,FALSE),)","v":0},0,0,{"$f":"IF(AND(FE86<>1,$FP86=1,SUM($FQ86:FQ86)=0,$FF86=1,$FI86>=2),1,)","v":0},{"$f":"IF(AND(FE86<>1,$FP86=1,SUM($FQ86:FR86)=0,OR(AND($FF86=1,$FI86>0),$FI86>=4)),1,)","v":0},{"$f":"IF(AND(FE86<>1,$FP86=1,SUM($FQ86:FS86)=0,OR($FF86=1,$FI86>=2)),1,)","v":0},{"$f":"IF(AND(FE86<>1,$FP86=1,SUM($FQ86:FT86)=0,$FI86>0),1,)","v":0},0,0,{"$f":"IF(AND(FE86<>1,$FP86=2,SUM($FW86:FW86)=0,$FF86=1,$FJ86>=0.1),1,)","v":0},{"$f":"IF(AND(FE86<>1,$FP86=2,SUM($FW86:FX86)=0,OR(AND($FF86=1,$FI86>0),$FJ86>=0.2)),1,)","v":0},{"$f":"IF(AND(FE86<>1,$FP86=2,SUM($FW86:FY86)=0,OR($FF86=1,$FJ86>=0.1)),1,)","v":0},{"$f":"IF(AND(FE86<>1,$FP86=2,SUM($FW86:FZ86)=0,$FI86>0),1,)","v":0},0,{"$f":"IF(AND(FE86<>1,$FP86=3,SUM($GB86:GB86)=0,AND($FF86=1,$FJ86>=0.05)),1,)","v":0},{"$f":"IF(AND(FE86<>1,$FP86=3,SUM($GB86:GC86)=0,OR(AND($FF86=1,$FI86>0),$FJ86>=0.1)),1,)","v":0},{"$f":"IF(AND(FE86<>1,$FP86=3,SUM($GB86:GD86)=0,OR($FF86=1,$FJ86>=0.05)),1,)","v":0},{"$f":"IF(AND(FE86<>1,$FP86=3,SUM($GB86:GE86)=0,$FI86>0),1,)","v":0},0,null,0,0,0,0,0,0,0,0,0,0,0,0,0,0,0,0,0,0,0,0,0,0,0,0,0,0,0,0,0,0,0,0,0,0,0,0,0,0,0,0,0,0,0,0,0,0,0,0,0,0,0,0,0,0,0,0,0,0,0,0,0,0,0,0,0,0,0,0,0,0,0,0,0,0,0,0,0,0,0,"","","","","","","","","","","","","","","","○",0,0,0,0,0,0,0,"○",0,0,0,"○","○",null,0,0]
[0,0,0,0,0,0,0,0,0,0,75,null,null,null,null,{"$f":"IF(O87<>\"\",VLOOKUP(O87,整理番号表!$Z$17:$AA$20,2,FALSE),)","v":0},0,null,null,null,null,null,{"$f":"IF(V87<>0,VLOOKUP(V87,整理番号表!$B$6:$L$13,2,FALSE),)","v":0},0,{"$f":"IF(X87<>0,VLOOKUP(X87,整理番号表!$B$16:$C$18,2,FALSE),)","v":0},null,{"$f":"IF(Z87<>0,VLOOKUP(Z87,整理番号表!$B$22:$C$29,2,FALSE),)","v":0},null,null,{"$f":"IF(AC87<>0,VLOOKUP(AC87,整理番号表!$B$32:$G$60,2,FALSE),)","v":0},null,{"$f":"IF(AE87<>0,VLOOKUP(AE87,整理番号表!$P$5:$R$39,2,FALSE),)","v":0},null,0,null,null,{"$f":"IF(AJ87<>\"\",VLOOKUP(AJ87,整理番号表!$Z$6:$AA$14,2,FALSE),\"\")","v":""},0,null,null,null,null,null,{"$f":"IF(AQ87<>0,VLOOKUP(AQ87,整理番号表!$P$43:$Q$49,2,FALSE),)","v":0},null,null,null,null,0,0,null,0,null,null,null,0,0,0,null,null,0,0,null,{"$f":"IF(BK87<>0,VLOOKUP(BK87,整理番号表!$T$5:$U$16,2,FALSE),)","v":0},null,{"$f":"IF(BM87<>0,VLOOKUP(BM87,整理番号表!$T$22:$U$30,2,FALSE),)","v":0},null,0,"",null,null,null,null,null,"",0,null,null,null,null,null,null,null,null,null,0,0,0,0,0,0,0,0,0,0,0,0,0,0,0,0,0,0,0,0,0,0,0,0,0,0,0,0,null,null,null,null,null,0,0,0,0,0,0,null,0,null,null,null,null,null,null,null,0,null,null,null,null,null,null,null,null,null,null,null,null,null,null,null,null,null,null,null,null,null,null,null,null,null,null,0,0,null,null,0,0,0,{"$f":"IF(OR(AND(1<=$FK87,$FK87<=3),$FK87=6),VLOOKUP($FK87,整理番号表!$B$32:$G$60,2,FALSE),)","v":0},{"$f":"IF(OR($FK87=4,$FK87=7),VLOOKUP($FK87,整理番号表!$B$32:$G$60,2,FALSE),)","v":0},{"$f":"IF($FK87=5,VLOOKUP($FK87,整理番号表!$B$32:$G$60,2,FALSE),)","v":0},{"$f":"IF(AND(8<=$FK87,$FK87<=13),VLOOKUP($FK87,整理番号表!$B$32:$G$60,2,FALSE),)","v":0},0,0,{"$f":"IF(AND(FE87<>1,$FP87=1,SUM($FQ87:FQ87)=0,$FF87=1,$FI87>=2),1,)","v":0},{"$f":"IF(AND(FE87<>1,$FP87=1,SUM($FQ87:FR87)=0,OR(AND($FF87=1,$FI87>0),$FI87>=4)),1,)","v":0},{"$f":"IF(AND(FE87<>1,$FP87=1,SUM($FQ87:FS87)=0,OR($FF87=1,$FI87>=2)),1,)","v":0},{"$f":"IF(AND(FE87<>1,$FP87=1,SUM($FQ87:FT87)=0,$FI87>0),1,)","v":0},0,0,{"$f":"IF(AND(FE87<>1,$FP87=2,SUM($FW87:FW87)=0,$FF87=1,$FJ87>=0.1),1,)","v":0},{"$f":"IF(AND(FE87<>1,$FP87=2,SUM($FW87:FX87)=0,OR(AND($FF87=1,$FI87>0),$FJ87>=0.2)),1,)","v":0},{"$f":"IF(AND(FE87<>1,$FP87=2,SUM($FW87:FY87)=0,OR($FF87=1,$FJ87>=0.1)),1,)","v":0},{"$f":"IF(AND(FE87<>1,$FP87=2,SUM($FW87:FZ87)=0,$FI87>0),1,)","v":0},0,{"$f":"IF(AND(FE87<>1,$FP87=3,SUM($GB87:GB87)=0,AND($FF87=1,$FJ87>=0.05)),1,)","v":0},{"$f":"IF(AND(FE87<>1,$FP87=3,SUM($GB87:GC87)=0,OR(AND($FF87=1,$FI87>0),$FJ87>=0.1)),1,)","v":0},{"$f":"IF(AND(FE87<>1,$FP87=3,SUM($GB87:GD87)=0,OR($FF87=1,$FJ87>=0.05)),1,)","v":0},{"$f":"IF(AND(FE87<>1,$FP87=3,SUM($GB87:GE87)=0,$FI87>0),1,)","v":0},0,null,0,0,0,0,0,0,0,0,0,0,0,0,0,0,0,0,0,0,0,0,0,0,0,0,0,0,0,0,0,0,0,0,0,0,0,0,0,0,0,0,0,0,0,0,0,0,0,0,0,0,0,0,0,0,0,0,0,0,0,0,0,0,0,0,0,0,0,0,0,0,0,0,0,0,0,0,0,0,0,"","","","","","","","","","","","","","","","○",0,0,0,0,0,0,0,"○",0,0,0,"○","○",null,0,0]
[0,0,0,0,0,0,0,0,0,0,76,null,null,null,null,{"$f":"IF(O88<>\"\",VLOOKUP(O88,整理番号表!$Z$17:$AA$20,2,FALSE),)","v":0},0,null,null,null,null,null,{"$f":"IF(V88<>0,VLOOKUP(V88,整理番号表!$B$6:$L$13,2,FALSE),)","v":0},0,{"$f":"IF(X88<>0,VLOOKUP(X88,整理番号表!$B$16:$C$18,2,FALSE),)","v":0},null,{"$f":"IF(Z88<>0,VLOOKUP(Z88,整理番号表!$B$22:$C$29,2,FALSE),)","v":0},null,null,{"$f":"IF(AC88<>0,VLOOKUP(AC88,整理番号表!$B$32:$G$60,2,FALSE),)","v":0},null,{"$f":"IF(AE88<>0,VLOOKUP(AE88,整理番号表!$P$5:$R$39,2,FALSE),)","v":0},null,0,null,null,{"$f":"IF(AJ88<>\"\",VLOOKUP(AJ88,整理番号表!$Z$6:$AA$14,2,FALSE),\"\")","v":""},0,null,null,null,null,null,{"$f":"IF(AQ88<>0,VLOOKUP(AQ88,整理番号表!$P$43:$Q$49,2,FALSE),)","v":0},null,null,null,null,0,0,null,0,null,null,null,0,0,0,null,null,0,0,null,{"$f":"IF(BK88<>0,VLOOKUP(BK88,整理番号表!$T$5:$U$16,2,FALSE),)","v":0},null,{"$f":"IF(BM88<>0,VLOOKUP(BM88,整理番号表!$T$22:$U$30,2,FALSE),)","v":0},null,0,"",null,null,null,null,null,"",0,null,null,null,null,null,null,null,null,null,0,0,0,0,0,0,0,0,0,0,0,0,0,0,0,0,0,0,0,0,0,0,0,0,0,0,0,0,null,null,null,null,null,0,0,0,0,0,0,null,0,null,null,null,null,null,null,null,0,null,null,null,null,null,null,null,null,null,null,null,null,null,null,null,null,null,null,null,null,null,null,null,null,null,null,0,0,null,null,0,0,0,{"$f":"IF(OR(AND(1<=$FK88,$FK88<=3),$FK88=6),VLOOKUP($FK88,整理番号表!$B$32:$G$60,2,FALSE),)","v":0},{"$f":"IF(OR($FK88=4,$FK88=7),VLOOKUP($FK88,整理番号表!$B$32:$G$60,2,FALSE),)","v":0},{"$f":"IF($FK88=5,VLOOKUP($FK88,整理番号表!$B$32:$G$60,2,FALSE),)","v":0},{"$f":"IF(AND(8<=$FK88,$FK88<=13),VLOOKUP($FK88,整理番号表!$B$32:$G$60,2,FALSE),)","v":0},0,0,{"$f":"IF(AND(FE88<>1,$FP88=1,SUM($FQ88:FQ88)=0,$FF88=1,$FI88>=2),1,)","v":0},{"$f":"IF(AND(FE88<>1,$FP88=1,SUM($FQ88:FR88)=0,OR(AND($FF88=1,$FI88>0),$FI88>=4)),1,)","v":0},{"$f":"IF(AND(FE88<>1,$FP88=1,SUM($FQ88:FS88)=0,OR($FF88=1,$FI88>=2)),1,)","v":0},{"$f":"IF(AND(FE88<>1,$FP88=1,SUM($FQ88:FT88)=0,$FI88>0),1,)","v":0},0,0,{"$f":"IF(AND(FE88<>1,$FP88=2,SUM($FW88:FW88)=0,$FF88=1,$FJ88>=0.1),1,)","v":0},{"$f":"IF(AND(FE88<>1,$FP88=2,SUM($FW88:FX88)=0,OR(AND($FF88=1,$FI88>0),$FJ88>=0.2)),1,)","v":0},{"$f":"IF(AND(FE88<>1,$FP88=2,SUM($FW88:FY88)=0,OR($FF88=1,$FJ88>=0.1)),1,)","v":0},{"$f":"IF(AND(FE88<>1,$FP88=2,SUM($FW88:FZ88)=0,$FI88>0),1,)","v":0},0,{"$f":"IF(AND(FE88<>1,$FP88=3,SUM($GB88:GB88)=0,AND($FF88=1,$FJ88>=0.05)),1,)","v":0},{"$f":"IF(AND(FE88<>1,$FP88=3,SUM($GB88:GC88)=0,OR(AND($FF88=1,$FI88>0),$FJ88>=0.1)),1,)","v":0},{"$f":"IF(AND(FE88<>1,$FP88=3,SUM($GB88:GD88)=0,OR($FF88=1,$FJ88>=0.05)),1,)","v":0},{"$f":"IF(AND(FE88<>1,$FP88=3,SUM($GB88:GE88)=0,$FI88>0),1,)","v":0},0,null,0,0,0,0,0,0,0,0,0,0,0,0,0,0,0,0,0,0,0,0,0,0,0,0,0,0,0,0,0,0,0,0,0,0,0,0,0,0,0,0,0,0,0,0,0,0,0,0,0,0,0,0,0,0,0,0,0,0,0,0,0,0,0,0,0,0,0,0,0,0,0,0,0,0,0,0,0,0,0,"","","","","","","","","","","","","","","","○",0,0,0,0,0,0,0,"○",0,0,0,"○","○",null,0,0]
[0,0,0,0,0,0,0,0,0,0,77,null,null,null,null,{"$f":"IF(O89<>\"\",VLOOKUP(O89,整理番号表!$Z$17:$AA$20,2,FALSE),)","v":0},0,null,null,null,null,null,{"$f":"IF(V89<>0,VLOOKUP(V89,整理番号表!$B$6:$L$13,2,FALSE),)","v":0},0,{"$f":"IF(X89<>0,VLOOKUP(X89,整理番号表!$B$16:$C$18,2,FALSE),)","v":0},null,{"$f":"IF(Z89<>0,VLOOKUP(Z89,整理番号表!$B$22:$C$29,2,FALSE),)","v":0},null,null,{"$f":"IF(AC89<>0,VLOOKUP(AC89,整理番号表!$B$32:$G$60,2,FALSE),)","v":0},null,{"$f":"IF(AE89<>0,VLOOKUP(AE89,整理番号表!$P$5:$R$39,2,FALSE),)","v":0},null,0,null,null,{"$f":"IF(AJ89<>\"\",VLOOKUP(AJ89,整理番号表!$Z$6:$AA$14,2,FALSE),\"\")","v":""},0,null,null,null,null,null,{"$f":"IF(AQ89<>0,VLOOKUP(AQ89,整理番号表!$P$43:$Q$49,2,FALSE),)","v":0},null,null,null,null,0,0,null,0,null,null,null,0,0,0,null,null,0,0,null,{"$f":"IF(BK89<>0,VLOOKUP(BK89,整理番号表!$T$5:$U$16,2,FALSE),)","v":0},null,{"$f":"IF(BM89<>0,VLOOKUP(BM89,整理番号表!$T$22:$U$30,2,FALSE),)","v":0},null,0,"",null,null,null,null,null,"",0,null,null,null,null,null,null,null,null,null,0,0,0,0,0,0,0,0,0,0,0,0,0,0,0,0,0,0,0,0,0,0,0,0,0,0,0,0,null,null,null,null,null,0,0,0,0,0,0,null,0,null,null,null,null,null,null,null,0,null,null,null,null,null,null,null,null,null,null,null,null,null,null,null,null,null,null,null,null,null,null,null,null,null,null,0,0,null,null,0,0,0,{"$f":"IF(OR(AND(1<=$FK89,$FK89<=3),$FK89=6),VLOOKUP($FK89,整理番号表!$B$32:$G$60,2,FALSE),)","v":0},{"$f":"IF(OR($FK89=4,$FK89=7),VLOOKUP($FK89,整理番号表!$B$32:$G$60,2,FALSE),)","v":0},{"$f":"IF($FK89=5,VLOOKUP($FK89,整理番号表!$B$32:$G$60,2,FALSE),)","v":0},{"$f":"IF(AND(8<=$FK89,$FK89<=13),VLOOKUP($FK89,整理番号表!$B$32:$G$60,2,FALSE),)","v":0},0,0,{"$f":"IF(AND(FE89<>1,$FP89=1,SUM($FQ89:FQ89)=0,$FF89=1,$FI89>=2),1,)","v":0},{"$f":"IF(AND(FE89<>1,$FP89=1,SUM($FQ89:FR89)=0,OR(AND($FF89=1,$FI89>0),$FI89>=4)),1,)","v":0},{"$f":"IF(AND(FE89<>1,$FP89=1,SUM($FQ89:FS89)=0,OR($FF89=1,$FI89>=2)),1,)","v":0},{"$f":"IF(AND(FE89<>1,$FP89=1,SUM($FQ89:FT89)=0,$FI89>0),1,)","v":0},0,0,{"$f":"IF(AND(FE89<>1,$FP89=2,SUM($FW89:FW89)=0,$FF89=1,$FJ89>=0.1),1,)","v":0},{"$f":"IF(AND(FE89<>1,$FP89=2,SUM($FW89:FX89)=0,OR(AND($FF89=1,$FI89>0),$FJ89>=0.2)),1,)","v":0},{"$f":"IF(AND(FE89<>1,$FP89=2,SUM($FW89:FY89)=0,OR($FF89=1,$FJ89>=0.1)),1,)","v":0},{"$f":"IF(AND(FE89<>1,$FP89=2,SUM($FW89:FZ89)=0,$FI89>0),1,)","v":0},0,{"$f":"IF(AND(FE89<>1,$FP89=3,SUM($GB89:GB89)=0,AND($FF89=1,$FJ89>=0.05)),1,)","v":0},{"$f":"IF(AND(FE89<>1,$FP89=3,SUM($GB89:GC89)=0,OR(AND($FF89=1,$FI89>0),$FJ89>=0.1)),1,)","v":0},{"$f":"IF(AND(FE89<>1,$FP89=3,SUM($GB89:GD89)=0,OR($FF89=1,$FJ89>=0.05)),1,)","v":0},{"$f":"IF(AND(FE89<>1,$FP89=3,SUM($GB89:GE89)=0,$FI89>0),1,)","v":0},0,null,0,0,0,0,0,0,0,0,0,0,0,0,0,0,0,0,0,0,0,0,0,0,0,0,0,0,0,0,0,0,0,0,0,0,0,0,0,0,0,0,0,0,0,0,0,0,0,0,0,0,0,0,0,0,0,0,0,0,0,0,0,0,0,0,0,0,0,0,0,0,0,0,0,0,0,0,0,0,0,"","","","","","","","","","","","","","","","○",0,0,0,0,0,0,0,"○",0,0,0,"○","○",null,0,0]
[0,0,0,0,0,0,0,0,0,0,78,null,null,null,null,{"$f":"IF(O90<>\"\",VLOOKUP(O90,整理番号表!$Z$17:$AA$20,2,FALSE),)","v":0},0,null,null,null,null,null,{"$f":"IF(V90<>0,VLOOKUP(V90,整理番号表!$B$6:$L$13,2,FALSE),)","v":0},0,{"$f":"IF(X90<>0,VLOOKUP(X90,整理番号表!$B$16:$C$18,2,FALSE),)","v":0},null,{"$f":"IF(Z90<>0,VLOOKUP(Z90,整理番号表!$B$22:$C$29,2,FALSE),)","v":0},null,null,{"$f":"IF(AC90<>0,VLOOKUP(AC90,整理番号表!$B$32:$G$60,2,FALSE),)","v":0},null,{"$f":"IF(AE90<>0,VLOOKUP(AE90,整理番号表!$P$5:$R$39,2,FALSE),)","v":0},null,0,null,null,{"$f":"IF(AJ90<>\"\",VLOOKUP(AJ90,整理番号表!$Z$6:$AA$14,2,FALSE),\"\")","v":""},0,null,null,null,null,null,{"$f":"IF(AQ90<>0,VLOOKUP(AQ90,整理番号表!$P$43:$Q$49,2,FALSE),)","v":0},null,null,null,null,0,0,null,0,null,null,null,0,0,0,null,null,0,0,null,{"$f":"IF(BK90<>0,VLOOKUP(BK90,整理番号表!$T$5:$U$16,2,FALSE),)","v":0},null,{"$f":"IF(BM90<>0,VLOOKUP(BM90,整理番号表!$T$22:$U$30,2,FALSE),)","v":0},null,0,"",null,null,null,null,null,"",0,null,null,null,null,null,null,null,null,null,0,0,0,0,0,0,0,0,0,0,0,0,0,0,0,0,0,0,0,0,0,0,0,0,0,0,0,0,null,null,null,null,null,0,0,0,0,0,0,null,0,null,null,null,null,null,null,null,0,null,null,null,null,null,null,null,null,null,null,null,null,null,null,null,null,null,null,null,null,null,null,null,null,null,null,0,0,null,null,0,0,0,{"$f":"IF(OR(AND(1<=$FK90,$FK90<=3),$FK90=6),VLOOKUP($FK90,整理番号表!$B$32:$G$60,2,FALSE),)","v":0},{"$f":"IF(OR($FK90=4,$FK90=7),VLOOKUP($FK90,整理番号表!$B$32:$G$60,2,FALSE),)","v":0},{"$f":"IF($FK90=5,VLOOKUP($FK90,整理番号表!$B$32:$G$60,2,FALSE),)","v":0},{"$f":"IF(AND(8<=$FK90,$FK90<=13),VLOOKUP($FK90,整理番号表!$B$32:$G$60,2,FALSE),)","v":0},0,0,{"$f":"IF(AND(FE90<>1,$FP90=1,SUM($FQ90:FQ90)=0,$FF90=1,$FI90>=2),1,)","v":0},{"$f":"IF(AND(FE90<>1,$FP90=1,SUM($FQ90:FR90)=0,OR(AND($FF90=1,$FI90>0),$FI90>=4)),1,)","v":0},{"$f":"IF(AND(FE90<>1,$FP90=1,SUM($FQ90:FS90)=0,OR($FF90=1,$FI90>=2)),1,)","v":0},{"$f":"IF(AND(FE90<>1,$FP90=1,SUM($FQ90:FT90)=0,$FI90>0),1,)","v":0},0,0,{"$f":"IF(AND(FE90<>1,$FP90=2,SUM($FW90:FW90)=0,$FF90=1,$FJ90>=0.1),1,)","v":0},{"$f":"IF(AND(FE90<>1,$FP90=2,SUM($FW90:FX90)=0,OR(AND($FF90=1,$FI90>0),$FJ90>=0.2)),1,)","v":0},{"$f":"IF(AND(FE90<>1,$FP90=2,SUM($FW90:FY90)=0,OR($FF90=1,$FJ90>=0.1)),1,)","v":0},{"$f":"IF(AND(FE90<>1,$FP90=2,SUM($FW90:FZ90)=0,$FI90>0),1,)","v":0},0,{"$f":"IF(AND(FE90<>1,$FP90=3,SUM($GB90:GB90)=0,AND($FF90=1,$FJ90>=0.05)),1,)","v":0},{"$f":"IF(AND(FE90<>1,$FP90=3,SUM($GB90:GC90)=0,OR(AND($FF90=1,$FI90>0),$FJ90>=0.1)),1,)","v":0},{"$f":"IF(AND(FE90<>1,$FP90=3,SUM($GB90:GD90)=0,OR($FF90=1,$FJ90>=0.05)),1,)","v":0},{"$f":"IF(AND(FE90<>1,$FP90=3,SUM($GB90:GE90)=0,$FI90>0),1,)","v":0},0,null,0,0,0,0,0,0,0,0,0,0,0,0,0,0,0,0,0,0,0,0,0,0,0,0,0,0,0,0,0,0,0,0,0,0,0,0,0,0,0,0,0,0,0,0,0,0,0,0,0,0,0,0,0,0,0,0,0,0,0,0,0,0,0,0,0,0,0,0,0,0,0,0,0,0,0,0,0,0,0,"","","","","","","","","","","","","","","","○",0,0,0,0,0,0,0,"○",0,0,0,"○","○",null,0,0]
[0,0,0,0,0,0,0,0,0,0,79,null,null,null,null,{"$f":"IF(O91<>\"\",VLOOKUP(O91,整理番号表!$Z$17:$AA$20,2,FALSE),)","v":0},0,null,null,null,null,null,{"$f":"IF(V91<>0,VLOOKUP(V91,整理番号表!$B$6:$L$13,2,FALSE),)","v":0},0,{"$f":"IF(X91<>0,VLOOKUP(X91,整理番号表!$B$16:$C$18,2,FALSE),)","v":0},null,{"$f":"IF(Z91<>0,VLOOKUP(Z91,整理番号表!$B$22:$C$29,2,FALSE),)","v":0},null,null,{"$f":"IF(AC91<>0,VLOOKUP(AC91,整理番号表!$B$32:$G$60,2,FALSE),)","v":0},null,{"$f":"IF(AE91<>0,VLOOKUP(AE91,整理番号表!$P$5:$R$39,2,FALSE),)","v":0},null,0,null,null,{"$f":"IF(AJ91<>\"\",VLOOKUP(AJ91,整理番号表!$Z$6:$AA$14,2,FALSE),\"\")","v":""},0,null,null,null,null,null,{"$f":"IF(AQ91<>0,VLOOKUP(AQ91,整理番号表!$P$43:$Q$49,2,FALSE),)","v":0},null,null,null,null,0,0,null,0,null,null,null,0,0,0,null,null,0,0,null,{"$f":"IF(BK91<>0,VLOOKUP(BK91,整理番号表!$T$5:$U$16,2,FALSE),)","v":0},null,{"$f":"IF(BM91<>0,VLOOKUP(BM91,整理番号表!$T$22:$U$30,2,FALSE),)","v":0},null,0,"",null,null,null,null,null,"",0,null,null,null,null,null,null,null,null,null,0,0,0,0,0,0,0,0,0,0,0,0,0,0,0,0,0,0,0,0,0,0,0,0,0,0,0,0,null,null,null,null,null,0,0,0,0,0,0,null,0,null,null,null,null,null,null,null,0,null,null,null,null,null,null,null,null,null,null,null,null,null,null,null,null,null,null,null,null,null,null,null,null,null,null,0,0,null,null,0,0,0,{"$f":"IF(OR(AND(1<=$FK91,$FK91<=3),$FK91=6),VLOOKUP($FK91,整理番号表!$B$32:$G$60,2,FALSE),)","v":0},{"$f":"IF(OR($FK91=4,$FK91=7),VLOOKUP($FK91,整理番号表!$B$32:$G$60,2,FALSE),)","v":0},{"$f":"IF($FK91=5,VLOOKUP($FK91,整理番号表!$B$32:$G$60,2,FALSE),)","v":0},{"$f":"IF(AND(8<=$FK91,$FK91<=13),VLOOKUP($FK91,整理番号表!$B$32:$G$60,2,FALSE),)","v":0},0,0,{"$f":"IF(AND(FE91<>1,$FP91=1,SUM($FQ91:FQ91)=0,$FF91=1,$FI91>=2),1,)","v":0},{"$f":"IF(AND(FE91<>1,$FP91=1,SUM($FQ91:FR91)=0,OR(AND($FF91=1,$FI91>0),$FI91>=4)),1,)","v":0},{"$f":"IF(AND(FE91<>1,$FP91=1,SUM($FQ91:FS91)=0,OR($FF91=1,$FI91>=2)),1,)","v":0},{"$f":"IF(AND(FE91<>1,$FP91=1,SUM($FQ91:FT91)=0,$FI91>0),1,)","v":0},0,0,{"$f":"IF(AND(FE91<>1,$FP91=2,SUM($FW91:FW91)=0,$FF91=1,$FJ91>=0.1),1,)","v":0},{"$f":"IF(AND(FE91<>1,$FP91=2,SUM($FW91:FX91)=0,OR(AND($FF91=1,$FI91>0),$FJ91>=0.2)),1,)","v":0},{"$f":"IF(AND(FE91<>1,$FP91=2,SUM($FW91:FY91)=0,OR($FF91=1,$FJ91>=0.1)),1,)","v":0},{"$f":"IF(AND(FE91<>1,$FP91=2,SUM($FW91:FZ91)=0,$FI91>0),1,)","v":0},0,{"$f":"IF(AND(FE91<>1,$FP91=3,SUM($GB91:GB91)=0,AND($FF91=1,$FJ91>=0.05)),1,)","v":0},{"$f":"IF(AND(FE91<>1,$FP91=3,SUM($GB91:GC91)=0,OR(AND($FF91=1,$FI91>0),$FJ91>=0.1)),1,)","v":0},{"$f":"IF(AND(FE91<>1,$FP91=3,SUM($GB91:GD91)=0,OR($FF91=1,$FJ91>=0.05)),1,)","v":0},{"$f":"IF(AND(FE91<>1,$FP91=3,SUM($GB91:GE91)=0,$FI91>0),1,)","v":0},0,null,0,0,0,0,0,0,0,0,0,0,0,0,0,0,0,0,0,0,0,0,0,0,0,0,0,0,0,0,0,0,0,0,0,0,0,0,0,0,0,0,0,0,0,0,0,0,0,0,0,0,0,0,0,0,0,0,0,0,0,0,0,0,0,0,0,0,0,0,0,0,0,0,0,0,0,0,0,0,0,"","","","","","","","","","","","","","","","○",0,0,0,0,0,0,0,"○",0,0,0,"○","○",null,0,0]
[0,0,0,0,0,0,0,0,0,0,80,null,null,null,null,{"$f":"IF(O92<>\"\",VLOOKUP(O92,整理番号表!$Z$17:$AA$20,2,FALSE),)","v":0},0,null,null,null,null,null,{"$f":"IF(V92<>0,VLOOKUP(V92,整理番号表!$B$6:$L$13,2,FALSE),)","v":0},0,{"$f":"IF(X92<>0,VLOOKUP(X92,整理番号表!$B$16:$C$18,2,FALSE),)","v":0},null,{"$f":"IF(Z92<>0,VLOOKUP(Z92,整理番号表!$B$22:$C$29,2,FALSE),)","v":0},null,null,{"$f":"IF(AC92<>0,VLOOKUP(AC92,整理番号表!$B$32:$G$60,2,FALSE),)","v":0},null,{"$f":"IF(AE92<>0,VLOOKUP(AE92,整理番号表!$P$5:$R$39,2,FALSE),)","v":0},null,0,null,null,{"$f":"IF(AJ92<>\"\",VLOOKUP(AJ92,整理番号表!$Z$6:$AA$14,2,FALSE),\"\")","v":""},0,null,null,null,null,null,{"$f":"IF(AQ92<>0,VLOOKUP(AQ92,整理番号表!$P$43:$Q$49,2,FALSE),)","v":0},null,null,null,null,0,0,null,0,null,null,null,0,0,0,null,null,0,0,null,{"$f":"IF(BK92<>0,VLOOKUP(BK92,整理番号表!$T$5:$U$16,2,FALSE),)","v":0},null,{"$f":"IF(BM92<>0,VLOOKUP(BM92,整理番号表!$T$22:$U$30,2,FALSE),)","v":0},null,0,"",null,null,null,null,null,"",0,null,null,null,null,null,null,null,null,null,0,0,0,0,0,0,0,0,0,0,0,0,0,0,0,0,0,0,0,0,0,0,0,0,0,0,0,0,null,null,null,null,null,0,0,0,0,0,0,null,0,null,null,null,null,null,null,null,0,null,null,null,null,null,null,null,null,null,null,null,null,null,null,null,null,null,null,null,null,null,null,null,null,null,null,0,0,null,null,0,0,0,{"$f":"IF(OR(AND(1<=$FK92,$FK92<=3),$FK92=6),VLOOKUP($FK92,整理番号表!$B$32:$G$60,2,FALSE),)","v":0},{"$f":"IF(OR($FK92=4,$FK92=7),VLOOKUP($FK92,整理番号表!$B$32:$G$60,2,FALSE),)","v":0},{"$f":"IF($FK92=5,VLOOKUP($FK92,整理番号表!$B$32:$G$60,2,FALSE),)","v":0},{"$f":"IF(AND(8<=$FK92,$FK92<=13),VLOOKUP($FK92,整理番号表!$B$32:$G$60,2,FALSE),)","v":0},0,0,{"$f":"IF(AND(FE92<>1,$FP92=1,SUM($FQ92:FQ92)=0,$FF92=1,$FI92>=2),1,)","v":0},{"$f":"IF(AND(FE92<>1,$FP92=1,SUM($FQ92:FR92)=0,OR(AND($FF92=1,$FI92>0),$FI92>=4)),1,)","v":0},{"$f":"IF(AND(FE92<>1,$FP92=1,SUM($FQ92:FS92)=0,OR($FF92=1,$FI92>=2)),1,)","v":0},{"$f":"IF(AND(FE92<>1,$FP92=1,SUM($FQ92:FT92)=0,$FI92>0),1,)","v":0},0,0,{"$f":"IF(AND(FE92<>1,$FP92=2,SUM($FW92:FW92)=0,$FF92=1,$FJ92>=0.1),1,)","v":0},{"$f":"IF(AND(FE92<>1,$FP92=2,SUM($FW92:FX92)=0,OR(AND($FF92=1,$FI92>0),$FJ92>=0.2)),1,)","v":0},{"$f":"IF(AND(FE92<>1,$FP92=2,SUM($FW92:FY92)=0,OR($FF92=1,$FJ92>=0.1)),1,)","v":0},{"$f":"IF(AND(FE92<>1,$FP92=2,SUM($FW92:FZ92)=0,$FI92>0),1,)","v":0},0,{"$f":"IF(AND(FE92<>1,$FP92=3,SUM($GB92:GB92)=0,AND($FF92=1,$FJ92>=0.05)),1,)","v":0},{"$f":"IF(AND(FE92<>1,$FP92=3,SUM($GB92:GC92)=0,OR(AND($FF92=1,$FI92>0),$FJ92>=0.1)),1,)","v":0},{"$f":"IF(AND(FE92<>1,$FP92=3,SUM($GB92:GD92)=0,OR($FF92=1,$FJ92>=0.05)),1,)","v":0},{"$f":"IF(AND(FE92<>1,$FP92=3,SUM($GB92:GE92)=0,$FI92>0),1,)","v":0},0,null,0,0,0,0,0,0,0,0,0,0,0,0,0,0,0,0,0,0,0,0,0,0,0,0,0,0,0,0,0,0,0,0,0,0,0,0,0,0,0,0,0,0,0,0,0,0,0,0,0,0,0,0,0,0,0,0,0,0,0,0,0,0,0,0,0,0,0,0,0,0,0,0,0,0,0,0,0,0,0,"","","","","","","","","","","","","","","","○",0,0,0,0,0,0,0,"○",0,0,0,"○","○",null,0,0]
[0,0,0,0,0,0,0,0,0,0,81,null,null,null,null,{"$f":"IF(O93<>\"\",VLOOKUP(O93,整理番号表!$Z$17:$AA$20,2,FALSE),)","v":0},0,null,null,null,null,null,{"$f":"IF(V93<>0,VLOOKUP(V93,整理番号表!$B$6:$L$13,2,FALSE),)","v":0},0,{"$f":"IF(X93<>0,VLOOKUP(X93,整理番号表!$B$16:$C$18,2,FALSE),)","v":0},null,{"$f":"IF(Z93<>0,VLOOKUP(Z93,整理番号表!$B$22:$C$29,2,FALSE),)","v":0},null,null,{"$f":"IF(AC93<>0,VLOOKUP(AC93,整理番号表!$B$32:$G$60,2,FALSE),)","v":0},null,{"$f":"IF(AE93<>0,VLOOKUP(AE93,整理番号表!$P$5:$R$39,2,FALSE),)","v":0},null,0,null,null,{"$f":"IF(AJ93<>\"\",VLOOKUP(AJ93,整理番号表!$Z$6:$AA$14,2,FALSE),\"\")","v":""},0,null,null,null,null,null,{"$f":"IF(AQ93<>0,VLOOKUP(AQ93,整理番号表!$P$43:$Q$49,2,FALSE),)","v":0},null,null,null,null,0,0,null,0,null,null,null,0,0,0,null,null,0,0,null,{"$f":"IF(BK93<>0,VLOOKUP(BK93,整理番号表!$T$5:$U$16,2,FALSE),)","v":0},null,{"$f":"IF(BM93<>0,VLOOKUP(BM93,整理番号表!$T$22:$U$30,2,FALSE),)","v":0},null,0,"",null,null,null,null,null,"",0,null,null,null,null,null,null,null,null,null,0,0,0,0,0,0,0,0,0,0,0,0,0,0,0,0,0,0,0,0,0,0,0,0,0,0,0,0,null,null,null,null,null,0,0,0,0,0,0,null,0,null,null,null,null,null,null,null,0,null,null,null,null,null,null,null,null,null,null,null,null,null,null,null,null,null,null,null,null,null,null,null,null,null,null,0,0,null,null,0,0,0,{"$f":"IF(OR(AND(1<=$FK93,$FK93<=3),$FK93=6),VLOOKUP($FK93,整理番号表!$B$32:$G$60,2,FALSE),)","v":0},{"$f":"IF(OR($FK93=4,$FK93=7),VLOOKUP($FK93,整理番号表!$B$32:$G$60,2,FALSE),)","v":0},{"$f":"IF($FK93=5,VLOOKUP($FK93,整理番号表!$B$32:$G$60,2,FALSE),)","v":0},{"$f":"IF(AND(8<=$FK93,$FK93<=13),VLOOKUP($FK93,整理番号表!$B$32:$G$60,2,FALSE),)","v":0},0,0,{"$f":"IF(AND(FE93<>1,$FP93=1,SUM($FQ93:FQ93)=0,$FF93=1,$FI93>=2),1,)","v":0},{"$f":"IF(AND(FE93<>1,$FP93=1,SUM($FQ93:FR93)=0,OR(AND($FF93=1,$FI93>0),$FI93>=4)),1,)","v":0},{"$f":"IF(AND(FE93<>1,$FP93=1,SUM($FQ93:FS93)=0,OR($FF93=1,$FI93>=2)),1,)","v":0},{"$f":"IF(AND(FE93<>1,$FP93=1,SUM($FQ93:FT93)=0,$FI93>0),1,)","v":0},0,0,{"$f":"IF(AND(FE93<>1,$FP93=2,SUM($FW93:FW93)=0,$FF93=1,$FJ93>=0.1),1,)","v":0},{"$f":"IF(AND(FE93<>1,$FP93=2,SUM($FW93:FX93)=0,OR(AND($FF93=1,$FI93>0),$FJ93>=0.2)),1,)","v":0},{"$f":"IF(AND(FE93<>1,$FP93=2,SUM($FW93:FY93)=0,OR($FF93=1,$FJ93>=0.1)),1,)","v":0},{"$f":"IF(AND(FE93<>1,$FP93=2,SUM($FW93:FZ93)=0,$FI93>0),1,)","v":0},0,{"$f":"IF(AND(FE93<>1,$FP93=3,SUM($GB93:GB93)=0,AND($FF93=1,$FJ93>=0.05)),1,)","v":0},{"$f":"IF(AND(FE93<>1,$FP93=3,SUM($GB93:GC93)=0,OR(AND($FF93=1,$FI93>0),$FJ93>=0.1)),1,)","v":0},{"$f":"IF(AND(FE93<>1,$FP93=3,SUM($GB93:GD93)=0,OR($FF93=1,$FJ93>=0.05)),1,)","v":0},{"$f":"IF(AND(FE93<>1,$FP93=3,SUM($GB93:GE93)=0,$FI93>0),1,)","v":0},0,null,0,0,0,0,0,0,0,0,0,0,0,0,0,0,0,0,0,0,0,0,0,0,0,0,0,0,0,0,0,0,0,0,0,0,0,0,0,0,0,0,0,0,0,0,0,0,0,0,0,0,0,0,0,0,0,0,0,0,0,0,0,0,0,0,0,0,0,0,0,0,0,0,0,0,0,0,0,0,0,"","","","","","","","","","","","","","","","○",0,0,0,0,0,0,0,"○",0,0,0,"○","○",null,0,0]
[0,0,0,0,0,0,0,0,0,0,82,null,null,null,null,{"$f":"IF(O94<>\"\",VLOOKUP(O94,整理番号表!$Z$17:$AA$20,2,FALSE),)","v":0},0,null,null,null,null,null,{"$f":"IF(V94<>0,VLOOKUP(V94,整理番号表!$B$6:$L$13,2,FALSE),)","v":0},0,{"$f":"IF(X94<>0,VLOOKUP(X94,整理番号表!$B$16:$C$18,2,FALSE),)","v":0},null,{"$f":"IF(Z94<>0,VLOOKUP(Z94,整理番号表!$B$22:$C$29,2,FALSE),)","v":0},null,null,{"$f":"IF(AC94<>0,VLOOKUP(AC94,整理番号表!$B$32:$G$60,2,FALSE),)","v":0},null,{"$f":"IF(AE94<>0,VLOOKUP(AE94,整理番号表!$P$5:$R$39,2,FALSE),)","v":0},null,0,null,null,{"$f":"IF(AJ94<>\"\",VLOOKUP(AJ94,整理番号表!$Z$6:$AA$14,2,FALSE),\"\")","v":""},0,null,null,null,null,null,{"$f":"IF(AQ94<>0,VLOOKUP(AQ94,整理番号表!$P$43:$Q$49,2,FALSE),)","v":0},null,null,null,null,0,0,null,0,null,null,null,0,0,0,null,null,0,0,null,{"$f":"IF(BK94<>0,VLOOKUP(BK94,整理番号表!$T$5:$U$16,2,FALSE),)","v":0},null,{"$f":"IF(BM94<>0,VLOOKUP(BM94,整理番号表!$T$22:$U$30,2,FALSE),)","v":0},null,0,"",null,null,null,null,null,"",0,null,null,null,null,null,null,null,null,null,0,0,0,0,0,0,0,0,0,0,0,0,0,0,0,0,0,0,0,0,0,0,0,0,0,0,0,0,null,null,null,null,null,0,0,0,0,0,0,null,0,null,null,null,null,null,null,null,0,null,null,null,null,null,null,null,null,null,null,null,null,null,null,null,null,null,null,null,null,null,null,null,null,null,null,0,0,null,null,0,0,0,{"$f":"IF(OR(AND(1<=$FK94,$FK94<=3),$FK94=6),VLOOKUP($FK94,整理番号表!$B$32:$G$60,2,FALSE),)","v":0},{"$f":"IF(OR($FK94=4,$FK94=7),VLOOKUP($FK94,整理番号表!$B$32:$G$60,2,FALSE),)","v":0},{"$f":"IF($FK94=5,VLOOKUP($FK94,整理番号表!$B$32:$G$60,2,FALSE),)","v":0},{"$f":"IF(AND(8<=$FK94,$FK94<=13),VLOOKUP($FK94,整理番号表!$B$32:$G$60,2,FALSE),)","v":0},0,0,{"$f":"IF(AND(FE94<>1,$FP94=1,SUM($FQ94:FQ94)=0,$FF94=1,$FI94>=2),1,)","v":0},{"$f":"IF(AND(FE94<>1,$FP94=1,SUM($FQ94:FR94)=0,OR(AND($FF94=1,$FI94>0),$FI94>=4)),1,)","v":0},{"$f":"IF(AND(FE94<>1,$FP94=1,SUM($FQ94:FS94)=0,OR($FF94=1,$FI94>=2)),1,)","v":0},{"$f":"IF(AND(FE94<>1,$FP94=1,SUM($FQ94:FT94)=0,$FI94>0),1,)","v":0},0,0,{"$f":"IF(AND(FE94<>1,$FP94=2,SUM($FW94:FW94)=0,$FF94=1,$FJ94>=0.1),1,)","v":0},{"$f":"IF(AND(FE94<>1,$FP94=2,SUM($FW94:FX94)=0,OR(AND($FF94=1,$FI94>0),$FJ94>=0.2)),1,)","v":0},{"$f":"IF(AND(FE94<>1,$FP94=2,SUM($FW94:FY94)=0,OR($FF94=1,$FJ94>=0.1)),1,)","v":0},{"$f":"IF(AND(FE94<>1,$FP94=2,SUM($FW94:FZ94)=0,$FI94>0),1,)","v":0},0,{"$f":"IF(AND(FE94<>1,$FP94=3,SUM($GB94:GB94)=0,AND($FF94=1,$FJ94>=0.05)),1,)","v":0},{"$f":"IF(AND(FE94<>1,$FP94=3,SUM($GB94:GC94)=0,OR(AND($FF94=1,$FI94>0),$FJ94>=0.1)),1,)","v":0},{"$f":"IF(AND(FE94<>1,$FP94=3,SUM($GB94:GD94)=0,OR($FF94=1,$FJ94>=0.05)),1,)","v":0},{"$f":"IF(AND(FE94<>1,$FP94=3,SUM($GB94:GE94)=0,$FI94>0),1,)","v":0},0,null,0,0,0,0,0,0,0,0,0,0,0,0,0,0,0,0,0,0,0,0,0,0,0,0,0,0,0,0,0,0,0,0,0,0,0,0,0,0,0,0,0,0,0,0,0,0,0,0,0,0,0,0,0,0,0,0,0,0,0,0,0,0,0,0,0,0,0,0,0,0,0,0,0,0,0,0,0,0,0,"","","","","","","","","","","","","","","","○",0,0,0,0,0,0,0,"○",0,0,0,"○","○",null,0,0]
[0,0,0,0,0,0,0,0,0,0,83,null,null,null,null,{"$f":"IF(O95<>\"\",VLOOKUP(O95,整理番号表!$Z$17:$AA$20,2,FALSE),)","v":0},0,null,null,null,null,null,{"$f":"IF(V95<>0,VLOOKUP(V95,整理番号表!$B$6:$L$13,2,FALSE),)","v":0},0,{"$f":"IF(X95<>0,VLOOKUP(X95,整理番号表!$B$16:$C$18,2,FALSE),)","v":0},null,{"$f":"IF(Z95<>0,VLOOKUP(Z95,整理番号表!$B$22:$C$29,2,FALSE),)","v":0},null,null,{"$f":"IF(AC95<>0,VLOOKUP(AC95,整理番号表!$B$32:$G$60,2,FALSE),)","v":0},null,{"$f":"IF(AE95<>0,VLOOKUP(AE95,整理番号表!$P$5:$R$39,2,FALSE),)","v":0},null,0,null,null,{"$f":"IF(AJ95<>\"\",VLOOKUP(AJ95,整理番号表!$Z$6:$AA$14,2,FALSE),\"\")","v":""},0,null,null,null,null,null,{"$f":"IF(AQ95<>0,VLOOKUP(AQ95,整理番号表!$P$43:$Q$49,2,FALSE),)","v":0},null,null,null,null,0,0,null,0,null,null,null,0,0,0,null,null,0,0,null,{"$f":"IF(BK95<>0,VLOOKUP(BK95,整理番号表!$T$5:$U$16,2,FALSE),)","v":0},null,{"$f":"IF(BM95<>0,VLOOKUP(BM95,整理番号表!$T$22:$U$30,2,FALSE),)","v":0},null,0,"",null,null,null,null,null,"",0,null,null,null,null,null,null,null,null,null,0,0,0,0,0,0,0,0,0,0,0,0,0,0,0,0,0,0,0,0,0,0,0,0,0,0,0,0,null,null,null,null,null,0,0,0,0,0,0,null,0,null,null,null,null,null,null,null,0,null,null,null,null,null,null,null,null,null,null,null,null,null,null,null,null,null,null,null,null,null,null,null,null,null,null,0,0,null,null,0,0,0,{"$f":"IF(OR(AND(1<=$FK95,$FK95<=3),$FK95=6),VLOOKUP($FK95,整理番号表!$B$32:$G$60,2,FALSE),)","v":0},{"$f":"IF(OR($FK95=4,$FK95=7),VLOOKUP($FK95,整理番号表!$B$32:$G$60,2,FALSE),)","v":0},{"$f":"IF($FK95=5,VLOOKUP($FK95,整理番号表!$B$32:$G$60,2,FALSE),)","v":0},{"$f":"IF(AND(8<=$FK95,$FK95<=13),VLOOKUP($FK95,整理番号表!$B$32:$G$60,2,FALSE),)","v":0},0,0,{"$f":"IF(AND(FE95<>1,$FP95=1,SUM($FQ95:FQ95)=0,$FF95=1,$FI95>=2),1,)","v":0},{"$f":"IF(AND(FE95<>1,$FP95=1,SUM($FQ95:FR95)=0,OR(AND($FF95=1,$FI95>0),$FI95>=4)),1,)","v":0},{"$f":"IF(AND(FE95<>1,$FP95=1,SUM($FQ95:FS95)=0,OR($FF95=1,$FI95>=2)),1,)","v":0},{"$f":"IF(AND(FE95<>1,$FP95=1,SUM($FQ95:FT95)=0,$FI95>0),1,)","v":0},0,0,{"$f":"IF(AND(FE95<>1,$FP95=2,SUM($FW95:FW95)=0,$FF95=1,$FJ95>=0.1),1,)","v":0},{"$f":"IF(AND(FE95<>1,$FP95=2,SUM($FW95:FX95)=0,OR(AND($FF95=1,$FI95>0),$FJ95>=0.2)),1,)","v":0},{"$f":"IF(AND(FE95<>1,$FP95=2,SUM($FW95:FY95)=0,OR($FF95=1,$FJ95>=0.1)),1,)","v":0},{"$f":"IF(AND(FE95<>1,$FP95=2,SUM($FW95:FZ95)=0,$FI95>0),1,)","v":0},0,{"$f":"IF(AND(FE95<>1,$FP95=3,SUM($GB95:GB95)=0,AND($FF95=1,$FJ95>=0.05)),1,)","v":0},{"$f":"IF(AND(FE95<>1,$FP95=3,SUM($GB95:GC95)=0,OR(AND($FF95=1,$FI95>0),$FJ95>=0.1)),1,)","v":0},{"$f":"IF(AND(FE95<>1,$FP95=3,SUM($GB95:GD95)=0,OR($FF95=1,$FJ95>=0.05)),1,)","v":0},{"$f":"IF(AND(FE95<>1,$FP95=3,SUM($GB95:GE95)=0,$FI95>0),1,)","v":0},0,null,0,0,0,0,0,0,0,0,0,0,0,0,0,0,0,0,0,0,0,0,0,0,0,0,0,0,0,0,0,0,0,0,0,0,0,0,0,0,0,0,0,0,0,0,0,0,0,0,0,0,0,0,0,0,0,0,0,0,0,0,0,0,0,0,0,0,0,0,0,0,0,0,0,0,0,0,0,0,0,"","","","","","","","","","","","","","","","○",0,0,0,0,0,0,0,"○",0,0,0,"○","○",null,0,0]
[0,0,0,0,0,0,0,0,0,0,84,null,null,null,null,{"$f":"IF(O96<>\"\",VLOOKUP(O96,整理番号表!$Z$17:$AA$20,2,FALSE),)","v":0},0,null,null,null,null,null,{"$f":"IF(V96<>0,VLOOKUP(V96,整理番号表!$B$6:$L$13,2,FALSE),)","v":0},0,{"$f":"IF(X96<>0,VLOOKUP(X96,整理番号表!$B$16:$C$18,2,FALSE),)","v":0},null,{"$f":"IF(Z96<>0,VLOOKUP(Z96,整理番号表!$B$22:$C$29,2,FALSE),)","v":0},null,null,{"$f":"IF(AC96<>0,VLOOKUP(AC96,整理番号表!$B$32:$G$60,2,FALSE),)","v":0},null,{"$f":"IF(AE96<>0,VLOOKUP(AE96,整理番号表!$P$5:$R$39,2,FALSE),)","v":0},null,0,null,null,{"$f":"IF(AJ96<>\"\",VLOOKUP(AJ96,整理番号表!$Z$6:$AA$14,2,FALSE),\"\")","v":""},0,null,null,null,null,null,{"$f":"IF(AQ96<>0,VLOOKUP(AQ96,整理番号表!$P$43:$Q$49,2,FALSE),)","v":0},null,null,null,null,0,0,null,0,null,null,null,0,0,0,null,null,0,0,null,{"$f":"IF(BK96<>0,VLOOKUP(BK96,整理番号表!$T$5:$U$16,2,FALSE),)","v":0},null,{"$f":"IF(BM96<>0,VLOOKUP(BM96,整理番号表!$T$22:$U$30,2,FALSE),)","v":0},null,0,"",null,null,null,null,null,"",0,null,null,null,null,null,null,null,null,null,0,0,0,0,0,0,0,0,0,0,0,0,0,0,0,0,0,0,0,0,0,0,0,0,0,0,0,0,null,null,null,null,null,0,0,0,0,0,0,null,0,null,null,null,null,null,null,null,0,null,null,null,null,null,null,null,null,null,null,null,null,null,null,null,null,null,null,null,null,null,null,null,null,null,null,0,0,null,null,0,0,0,{"$f":"IF(OR(AND(1<=$FK96,$FK96<=3),$FK96=6),VLOOKUP($FK96,整理番号表!$B$32:$G$60,2,FALSE),)","v":0},{"$f":"IF(OR($FK96=4,$FK96=7),VLOOKUP($FK96,整理番号表!$B$32:$G$60,2,FALSE),)","v":0},{"$f":"IF($FK96=5,VLOOKUP($FK96,整理番号表!$B$32:$G$60,2,FALSE),)","v":0},{"$f":"IF(AND(8<=$FK96,$FK96<=13),VLOOKUP($FK96,整理番号表!$B$32:$G$60,2,FALSE),)","v":0},0,0,{"$f":"IF(AND(FE96<>1,$FP96=1,SUM($FQ96:FQ96)=0,$FF96=1,$FI96>=2),1,)","v":0},{"$f":"IF(AND(FE96<>1,$FP96=1,SUM($FQ96:FR96)=0,OR(AND($FF96=1,$FI96>0),$FI96>=4)),1,)","v":0},{"$f":"IF(AND(FE96<>1,$FP96=1,SUM($FQ96:FS96)=0,OR($FF96=1,$FI96>=2)),1,)","v":0},{"$f":"IF(AND(FE96<>1,$FP96=1,SUM($FQ96:FT96)=0,$FI96>0),1,)","v":0},0,0,{"$f":"IF(AND(FE96<>1,$FP96=2,SUM($FW96:FW96)=0,$FF96=1,$FJ96>=0.1),1,)","v":0},{"$f":"IF(AND(FE96<>1,$FP96=2,SUM($FW96:FX96)=0,OR(AND($FF96=1,$FI96>0),$FJ96>=0.2)),1,)","v":0},{"$f":"IF(AND(FE96<>1,$FP96=2,SUM($FW96:FY96)=0,OR($FF96=1,$FJ96>=0.1)),1,)","v":0},{"$f":"IF(AND(FE96<>1,$FP96=2,SUM($FW96:FZ96)=0,$FI96>0),1,)","v":0},0,{"$f":"IF(AND(FE96<>1,$FP96=3,SUM($GB96:GB96)=0,AND($FF96=1,$FJ96>=0.05)),1,)","v":0},{"$f":"IF(AND(FE96<>1,$FP96=3,SUM($GB96:GC96)=0,OR(AND($FF96=1,$FI96>0),$FJ96>=0.1)),1,)","v":0},{"$f":"IF(AND(FE96<>1,$FP96=3,SUM($GB96:GD96)=0,OR($FF96=1,$FJ96>=0.05)),1,)","v":0},{"$f":"IF(AND(FE96<>1,$FP96=3,SUM($GB96:GE96)=0,$FI96>0),1,)","v":0},0,null,0,0,0,0,0,0,0,0,0,0,0,0,0,0,0,0,0,0,0,0,0,0,0,0,0,0,0,0,0,0,0,0,0,0,0,0,0,0,0,0,0,0,0,0,0,0,0,0,0,0,0,0,0,0,0,0,0,0,0,0,0,0,0,0,0,0,0,0,0,0,0,0,0,0,0,0,0,0,0,"","","","","","","","","","","","","","","","○",0,0,0,0,0,0,0,"○",0,0,0,"○","○",null,0,0]
[0,0,0,0,0,0,0,0,0,0,85,null,null,null,null,{"$f":"IF(O97<>\"\",VLOOKUP(O97,整理番号表!$Z$17:$AA$20,2,FALSE),)","v":0},0,null,null,null,null,null,{"$f":"IF(V97<>0,VLOOKUP(V97,整理番号表!$B$6:$L$13,2,FALSE),)","v":0},0,{"$f":"IF(X97<>0,VLOOKUP(X97,整理番号表!$B$16:$C$18,2,FALSE),)","v":0},null,{"$f":"IF(Z97<>0,VLOOKUP(Z97,整理番号表!$B$22:$C$29,2,FALSE),)","v":0},null,null,{"$f":"IF(AC97<>0,VLOOKUP(AC97,整理番号表!$B$32:$G$60,2,FALSE),)","v":0},null,{"$f":"IF(AE97<>0,VLOOKUP(AE97,整理番号表!$P$5:$R$39,2,FALSE),)","v":0},null,0,null,null,{"$f":"IF(AJ97<>\"\",VLOOKUP(AJ97,整理番号表!$Z$6:$AA$14,2,FALSE),\"\")","v":""},0,null,null,null,null,null,{"$f":"IF(AQ97<>0,VLOOKUP(AQ97,整理番号表!$P$43:$Q$49,2,FALSE),)","v":0},null,null,null,null,0,0,null,0,null,null,null,0,0,0,null,null,0,0,null,{"$f":"IF(BK97<>0,VLOOKUP(BK97,整理番号表!$T$5:$U$16,2,FALSE),)","v":0},null,{"$f":"IF(BM97<>0,VLOOKUP(BM97,整理番号表!$T$22:$U$30,2,FALSE),)","v":0},null,0,"",null,null,null,null,null,"",0,null,null,null,null,null,null,null,null,null,0,0,0,0,0,0,0,0,0,0,0,0,0,0,0,0,0,0,0,0,0,0,0,0,0,0,0,0,null,null,null,null,null,0,0,0,0,0,0,null,0,null,null,null,null,null,null,null,0,null,null,null,null,null,null,null,null,null,null,null,null,null,null,null,null,null,null,null,null,null,null,null,null,null,null,0,0,null,null,0,0,0,{"$f":"IF(OR(AND(1<=$FK97,$FK97<=3),$FK97=6),VLOOKUP($FK97,整理番号表!$B$32:$G$60,2,FALSE),)","v":0},{"$f":"IF(OR($FK97=4,$FK97=7),VLOOKUP($FK97,整理番号表!$B$32:$G$60,2,FALSE),)","v":0},{"$f":"IF($FK97=5,VLOOKUP($FK97,整理番号表!$B$32:$G$60,2,FALSE),)","v":0},{"$f":"IF(AND(8<=$FK97,$FK97<=13),VLOOKUP($FK97,整理番号表!$B$32:$G$60,2,FALSE),)","v":0},0,0,{"$f":"IF(AND(FE97<>1,$FP97=1,SUM($FQ97:FQ97)=0,$FF97=1,$FI97>=2),1,)","v":0},{"$f":"IF(AND(FE97<>1,$FP97=1,SUM($FQ97:FR97)=0,OR(AND($FF97=1,$FI97>0),$FI97>=4)),1,)","v":0},{"$f":"IF(AND(FE97<>1,$FP97=1,SUM($FQ97:FS97)=0,OR($FF97=1,$FI97>=2)),1,)","v":0},{"$f":"IF(AND(FE97<>1,$FP97=1,SUM($FQ97:FT97)=0,$FI97>0),1,)","v":0},0,0,{"$f":"IF(AND(FE97<>1,$FP97=2,SUM($FW97:FW97)=0,$FF97=1,$FJ97>=0.1),1,)","v":0},{"$f":"IF(AND(FE97<>1,$FP97=2,SUM($FW97:FX97)=0,OR(AND($FF97=1,$FI97>0),$FJ97>=0.2)),1,)","v":0},{"$f":"IF(AND(FE97<>1,$FP97=2,SUM($FW97:FY97)=0,OR($FF97=1,$FJ97>=0.1)),1,)","v":0},{"$f":"IF(AND(FE97<>1,$FP97=2,SUM($FW97:FZ97)=0,$FI97>0),1,)","v":0},0,{"$f":"IF(AND(FE97<>1,$FP97=3,SUM($GB97:GB97)=0,AND($FF97=1,$FJ97>=0.05)),1,)","v":0},{"$f":"IF(AND(FE97<>1,$FP97=3,SUM($GB97:GC97)=0,OR(AND($FF97=1,$FI97>0),$FJ97>=0.1)),1,)","v":0},{"$f":"IF(AND(FE97<>1,$FP97=3,SUM($GB97:GD97)=0,OR($FF97=1,$FJ97>=0.05)),1,)","v":0},{"$f":"IF(AND(FE97<>1,$FP97=3,SUM($GB97:GE97)=0,$FI97>0),1,)","v":0},0,null,0,0,0,0,0,0,0,0,0,0,0,0,0,0,0,0,0,0,0,0,0,0,0,0,0,0,0,0,0,0,0,0,0,0,0,0,0,0,0,0,0,0,0,0,0,0,0,0,0,0,0,0,0,0,0,0,0,0,0,0,0,0,0,0,0,0,0,0,0,0,0,0,0,0,0,0,0,0,0,"","","","","","","","","","","","","","","","○",0,0,0,0,0,0,0,"○",0,0,0,"○","○",null,0,0]
[0,0,0,0,0,0,0,0,0,0,86,null,null,null,null,{"$f":"IF(O98<>\"\",VLOOKUP(O98,整理番号表!$Z$17:$AA$20,2,FALSE),)","v":0},0,null,null,null,null,null,{"$f":"IF(V98<>0,VLOOKUP(V98,整理番号表!$B$6:$L$13,2,FALSE),)","v":0},0,{"$f":"IF(X98<>0,VLOOKUP(X98,整理番号表!$B$16:$C$18,2,FALSE),)","v":0},null,{"$f":"IF(Z98<>0,VLOOKUP(Z98,整理番号表!$B$22:$C$29,2,FALSE),)","v":0},null,null,{"$f":"IF(AC98<>0,VLOOKUP(AC98,整理番号表!$B$32:$G$60,2,FALSE),)","v":0},null,{"$f":"IF(AE98<>0,VLOOKUP(AE98,整理番号表!$P$5:$R$39,2,FALSE),)","v":0},null,0,null,null,{"$f":"IF(AJ98<>\"\",VLOOKUP(AJ98,整理番号表!$Z$6:$AA$14,2,FALSE),\"\")","v":""},0,null,null,null,null,null,{"$f":"IF(AQ98<>0,VLOOKUP(AQ98,整理番号表!$P$43:$Q$49,2,FALSE),)","v":0},null,null,null,null,0,0,null,0,null,null,null,0,0,0,null,null,0,0,null,{"$f":"IF(BK98<>0,VLOOKUP(BK98,整理番号表!$T$5:$U$16,2,FALSE),)","v":0},null,{"$f":"IF(BM98<>0,VLOOKUP(BM98,整理番号表!$T$22:$U$30,2,FALSE),)","v":0},null,0,"",null,null,null,null,null,"",0,null,null,null,null,null,null,null,null,null,0,0,0,0,0,0,0,0,0,0,0,0,0,0,0,0,0,0,0,0,0,0,0,0,0,0,0,0,null,null,null,null,null,0,0,0,0,0,0,null,0,null,null,null,null,null,null,null,0,null,null,null,null,null,null,null,null,null,null,null,null,null,null,null,null,null,null,null,null,null,null,null,null,null,null,0,0,null,null,0,0,0,{"$f":"IF(OR(AND(1<=$FK98,$FK98<=3),$FK98=6),VLOOKUP($FK98,整理番号表!$B$32:$G$60,2,FALSE),)","v":0},{"$f":"IF(OR($FK98=4,$FK98=7),VLOOKUP($FK98,整理番号表!$B$32:$G$60,2,FALSE),)","v":0},{"$f":"IF($FK98=5,VLOOKUP($FK98,整理番号表!$B$32:$G$60,2,FALSE),)","v":0},{"$f":"IF(AND(8<=$FK98,$FK98<=13),VLOOKUP($FK98,整理番号表!$B$32:$G$60,2,FALSE),)","v":0},0,0,{"$f":"IF(AND(FE98<>1,$FP98=1,SUM($FQ98:FQ98)=0,$FF98=1,$FI98>=2),1,)","v":0},{"$f":"IF(AND(FE98<>1,$FP98=1,SUM($FQ98:FR98)=0,OR(AND($FF98=1,$FI98>0),$FI98>=4)),1,)","v":0},{"$f":"IF(AND(FE98<>1,$FP98=1,SUM($FQ98:FS98)=0,OR($FF98=1,$FI98>=2)),1,)","v":0},{"$f":"IF(AND(FE98<>1,$FP98=1,SUM($FQ98:FT98)=0,$FI98>0),1,)","v":0},0,0,{"$f":"IF(AND(FE98<>1,$FP98=2,SUM($FW98:FW98)=0,$FF98=1,$FJ98>=0.1),1,)","v":0},{"$f":"IF(AND(FE98<>1,$FP98=2,SUM($FW98:FX98)=0,OR(AND($FF98=1,$FI98>0),$FJ98>=0.2)),1,)","v":0},{"$f":"IF(AND(FE98<>1,$FP98=2,SUM($FW98:FY98)=0,OR($FF98=1,$FJ98>=0.1)),1,)","v":0},{"$f":"IF(AND(FE98<>1,$FP98=2,SUM($FW98:FZ98)=0,$FI98>0),1,)","v":0},0,{"$f":"IF(AND(FE98<>1,$FP98=3,SUM($GB98:GB98)=0,AND($FF98=1,$FJ98>=0.05)),1,)","v":0},{"$f":"IF(AND(FE98<>1,$FP98=3,SUM($GB98:GC98)=0,OR(AND($FF98=1,$FI98>0),$FJ98>=0.1)),1,)","v":0},{"$f":"IF(AND(FE98<>1,$FP98=3,SUM($GB98:GD98)=0,OR($FF98=1,$FJ98>=0.05)),1,)","v":0},{"$f":"IF(AND(FE98<>1,$FP98=3,SUM($GB98:GE98)=0,$FI98>0),1,)","v":0},0,null,0,0,0,0,0,0,0,0,0,0,0,0,0,0,0,0,0,0,0,0,0,0,0,0,0,0,0,0,0,0,0,0,0,0,0,0,0,0,0,0,0,0,0,0,0,0,0,0,0,0,0,0,0,0,0,0,0,0,0,0,0,0,0,0,0,0,0,0,0,0,0,0,0,0,0,0,0,0,0,"","","","","","","","","","","","","","","","○",0,0,0,0,0,0,0,"○",0,0,0,"○","○",null,0,0]
[0,0,0,0,0,0,0,0,0,0,87,null,null,null,null,{"$f":"IF(O99<>\"\",VLOOKUP(O99,整理番号表!$Z$17:$AA$20,2,FALSE),)","v":0},0,null,null,null,null,null,{"$f":"IF(V99<>0,VLOOKUP(V99,整理番号表!$B$6:$L$13,2,FALSE),)","v":0},0,{"$f":"IF(X99<>0,VLOOKUP(X99,整理番号表!$B$16:$C$18,2,FALSE),)","v":0},null,{"$f":"IF(Z99<>0,VLOOKUP(Z99,整理番号表!$B$22:$C$29,2,FALSE),)","v":0},null,null,{"$f":"IF(AC99<>0,VLOOKUP(AC99,整理番号表!$B$32:$G$60,2,FALSE),)","v":0},null,{"$f":"IF(AE99<>0,VLOOKUP(AE99,整理番号表!$P$5:$R$39,2,FALSE),)","v":0},null,0,null,null,{"$f":"IF(AJ99<>\"\",VLOOKUP(AJ99,整理番号表!$Z$6:$AA$14,2,FALSE),\"\")","v":""},0,null,null,null,null,null,{"$f":"IF(AQ99<>0,VLOOKUP(AQ99,整理番号表!$P$43:$Q$49,2,FALSE),)","v":0},null,null,null,null,0,0,null,0,null,null,null,0,0,0,null,null,0,0,null,{"$f":"IF(BK99<>0,VLOOKUP(BK99,整理番号表!$T$5:$U$16,2,FALSE),)","v":0},null,{"$f":"IF(BM99<>0,VLOOKUP(BM99,整理番号表!$T$22:$U$30,2,FALSE),)","v":0},null,0,"",null,null,null,null,null,"",0,null,null,null,null,null,null,null,null,null,0,0,0,0,0,0,0,0,0,0,0,0,0,0,0,0,0,0,0,0,0,0,0,0,0,0,0,0,null,null,null,null,null,0,0,0,0,0,0,null,0,null,null,null,null,null,null,null,0,null,null,null,null,null,null,null,null,null,null,null,null,null,null,null,null,null,null,null,null,null,null,null,null,null,null,0,0,null,null,0,0,0,{"$f":"IF(OR(AND(1<=$FK99,$FK99<=3),$FK99=6),VLOOKUP($FK99,整理番号表!$B$32:$G$60,2,FALSE),)","v":0},{"$f":"IF(OR($FK99=4,$FK99=7),VLOOKUP($FK99,整理番号表!$B$32:$G$60,2,FALSE),)","v":0},{"$f":"IF($FK99=5,VLOOKUP($FK99,整理番号表!$B$32:$G$60,2,FALSE),)","v":0},{"$f":"IF(AND(8<=$FK99,$FK99<=13),VLOOKUP($FK99,整理番号表!$B$32:$G$60,2,FALSE),)","v":0},0,0,{"$f":"IF(AND(FE99<>1,$FP99=1,SUM($FQ99:FQ99)=0,$FF99=1,$FI99>=2),1,)","v":0},{"$f":"IF(AND(FE99<>1,$FP99=1,SUM($FQ99:FR99)=0,OR(AND($FF99=1,$FI99>0),$FI99>=4)),1,)","v":0},{"$f":"IF(AND(FE99<>1,$FP99=1,SUM($FQ99:FS99)=0,OR($FF99=1,$FI99>=2)),1,)","v":0},{"$f":"IF(AND(FE99<>1,$FP99=1,SUM($FQ99:FT99)=0,$FI99>0),1,)","v":0},0,0,{"$f":"IF(AND(FE99<>1,$FP99=2,SUM($FW99:FW99)=0,$FF99=1,$FJ99>=0.1),1,)","v":0},{"$f":"IF(AND(FE99<>1,$FP99=2,SUM($FW99:FX99)=0,OR(AND($FF99=1,$FI99>0),$FJ99>=0.2)),1,)","v":0},{"$f":"IF(AND(FE99<>1,$FP99=2,SUM($FW99:FY99)=0,OR($FF99=1,$FJ99>=0.1)),1,)","v":0},{"$f":"IF(AND(FE99<>1,$FP99=2,SUM($FW99:FZ99)=0,$FI99>0),1,)","v":0},0,{"$f":"IF(AND(FE99<>1,$FP99=3,SUM($GB99:GB99)=0,AND($FF99=1,$FJ99>=0.05)),1,)","v":0},{"$f":"IF(AND(FE99<>1,$FP99=3,SUM($GB99:GC99)=0,OR(AND($FF99=1,$FI99>0),$FJ99>=0.1)),1,)","v":0},{"$f":"IF(AND(FE99<>1,$FP99=3,SUM($GB99:GD99)=0,OR($FF99=1,$FJ99>=0.05)),1,)","v":0},{"$f":"IF(AND(FE99<>1,$FP99=3,SUM($GB99:GE99)=0,$FI99>0),1,)","v":0},0,null,0,0,0,0,0,0,0,0,0,0,0,0,0,0,0,0,0,0,0,0,0,0,0,0,0,0,0,0,0,0,0,0,0,0,0,0,0,0,0,0,0,0,0,0,0,0,0,0,0,0,0,0,0,0,0,0,0,0,0,0,0,0,0,0,0,0,0,0,0,0,0,0,0,0,0,0,0,0,0,"","","","","","","","","","","","","","","","○",0,0,0,0,0,0,0,"○",0,0,0,"○","○",null,0,0]
[0,0,0,0,0,0,0,0,0,0,88,null,null,null,null,{"$f":"IF(O100<>\"\",VLOOKUP(O100,整理番号表!$Z$17:$AA$20,2,FALSE),)","v":0},0,null,null,null,null,null,{"$f":"IF(V100<>0,VLOOKUP(V100,整理番号表!$B$6:$L$13,2,FALSE),)","v":0},0,{"$f":"IF(X100<>0,VLOOKUP(X100,整理番号表!$B$16:$C$18,2,FALSE),)","v":0},null,{"$f":"IF(Z100<>0,VLOOKUP(Z100,整理番号表!$B$22:$C$29,2,FALSE),)","v":0},null,null,{"$f":"IF(AC100<>0,VLOOKUP(AC100,整理番号表!$B$32:$G$60,2,FALSE),)","v":0},null,{"$f":"IF(AE100<>0,VLOOKUP(AE100,整理番号表!$P$5:$R$39,2,FALSE),)","v":0},null,0,null,null,{"$f":"IF(AJ100<>\"\",VLOOKUP(AJ100,整理番号表!$Z$6:$AA$14,2,FALSE),\"\")","v":""},0,null,null,null,null,null,{"$f":"IF(AQ100<>0,VLOOKUP(AQ100,整理番号表!$P$43:$Q$49,2,FALSE),)","v":0},null,null,null,null,0,0,null,0,null,null,null,0,0,0,null,null,0,0,null,{"$f":"IF(BK100<>0,VLOOKUP(BK100,整理番号表!$T$5:$U$16,2,FALSE),)","v":0},null,{"$f":"IF(BM100<>0,VLOOKUP(BM100,整理番号表!$T$22:$U$30,2,FALSE),)","v":0},null,0,"",null,null,null,null,null,"",0,null,null,null,null,null,null,null,null,null,0,0,0,0,0,0,0,0,0,0,0,0,0,0,0,0,0,0,0,0,0,0,0,0,0,0,0,0,null,null,null,null,null,0,0,0,0,0,0,null,0,null,null,null,null,null,null,null,0,null,null,null,null,null,null,null,null,null,null,null,null,null,null,null,null,null,null,null,null,null,null,null,null,null,null,0,0,null,null,0,0,0,{"$f":"IF(OR(AND(1<=$FK100,$FK100<=3),$FK100=6),VLOOKUP($FK100,整理番号表!$B$32:$G$60,2,FALSE),)","v":0},{"$f":"IF(OR($FK100=4,$FK100=7),VLOOKUP($FK100,整理番号表!$B$32:$G$60,2,FALSE),)","v":0},{"$f":"IF($FK100=5,VLOOKUP($FK100,整理番号表!$B$32:$G$60,2,FALSE),)","v":0},{"$f":"IF(AND(8<=$FK100,$FK100<=13),VLOOKUP($FK100,整理番号表!$B$32:$G$60,2,FALSE),)","v":0},0,0,{"$f":"IF(AND(FE100<>1,$FP100=1,SUM($FQ100:FQ100)=0,$FF100=1,$FI100>=2),1,)","v":0},{"$f":"IF(AND(FE100<>1,$FP100=1,SUM($FQ100:FR100)=0,OR(AND($FF100=1,$FI100>0),$FI100>=4)),1,)","v":0},{"$f":"IF(AND(FE100<>1,$FP100=1,SUM($FQ100:FS100)=0,OR($FF100=1,$FI100>=2)),1,)","v":0},{"$f":"IF(AND(FE100<>1,$FP100=1,SUM($FQ100:FT100)=0,$FI100>0),1,)","v":0},0,0,{"$f":"IF(AND(FE100<>1,$FP100=2,SUM($FW100:FW100)=0,$FF100=1,$FJ100>=0.1),1,)","v":0},{"$f":"IF(AND(FE100<>1,$FP100=2,SUM($FW100:FX100)=0,OR(AND($FF100=1,$FI100>0),$FJ100>=0.2)),1,)","v":0},{"$f":"IF(AND(FE100<>1,$FP100=2,SUM($FW100:FY100)=0,OR($FF100=1,$FJ100>=0.1)),1,)","v":0},{"$f":"IF(AND(FE100<>1,$FP100=2,SUM($FW100:FZ100)=0,$FI100>0),1,)","v":0},0,{"$f":"IF(AND(FE100<>1,$FP100=3,SUM($GB100:GB100)=0,AND($FF100=1,$FJ100>=0.05)),1,)","v":0},{"$f":"IF(AND(FE100<>1,$FP100=3,SUM($GB100:GC100)=0,OR(AND($FF100=1,$FI100>0),$FJ100>=0.1)),1,)","v":0},{"$f":"IF(AND(FE100<>1,$FP100=3,SUM($GB100:GD100)=0,OR($FF100=1,$FJ100>=0.05)),1,)","v":0},{"$f":"IF(AND(FE100<>1,$FP100=3,SUM($GB100:GE100)=0,$FI100>0),1,)","v":0},0,null,0,0,0,0,0,0,0,0,0,0,0,0,0,0,0,0,0,0,0,0,0,0,0,0,0,0,0,0,0,0,0,0,0,0,0,0,0,0,0,0,0,0,0,0,0,0,0,0,0,0,0,0,0,0,0,0,0,0,0,0,0,0,0,0,0,0,0,0,0,0,0,0,0,0,0,0,0,0,0,"","","","","","","","","","","","","","","","○",0,0,0,0,0,0,0,"○",0,0,0,"○","○",null,0,0]
[0,0,0,0,0,0,0,0,0,0,89,null,null,null,null,{"$f":"IF(O101<>\"\",VLOOKUP(O101,整理番号表!$Z$17:$AA$20,2,FALSE),)","v":0},0,null,null,null,null,null,{"$f":"IF(V101<>0,VLOOKUP(V101,整理番号表!$B$6:$L$13,2,FALSE),)","v":0},0,{"$f":"IF(X101<>0,VLOOKUP(X101,整理番号表!$B$16:$C$18,2,FALSE),)","v":0},null,{"$f":"IF(Z101<>0,VLOOKUP(Z101,整理番号表!$B$22:$C$29,2,FALSE),)","v":0},null,null,{"$f":"IF(AC101<>0,VLOOKUP(AC101,整理番号表!$B$32:$G$60,2,FALSE),)","v":0},null,{"$f":"IF(AE101<>0,VLOOKUP(AE101,整理番号表!$P$5:$R$39,2,FALSE),)","v":0},null,0,null,null,{"$f":"IF(AJ101<>\"\",VLOOKUP(AJ101,整理番号表!$Z$6:$AA$14,2,FALSE),\"\")","v":""},0,null,null,null,null,null,{"$f":"IF(AQ101<>0,VLOOKUP(AQ101,整理番号表!$P$43:$Q$49,2,FALSE),)","v":0},null,null,null,null,0,0,null,0,null,null,null,0,0,0,null,null,0,0,null,{"$f":"IF(BK101<>0,VLOOKUP(BK101,整理番号表!$T$5:$U$16,2,FALSE),)","v":0},null,{"$f":"IF(BM101<>0,VLOOKUP(BM101,整理番号表!$T$22:$U$30,2,FALSE),)","v":0},null,0,"",null,null,null,null,null,"",0,null,null,null,null,null,null,null,null,null,0,0,0,0,0,0,0,0,0,0,0,0,0,0,0,0,0,0,0,0,0,0,0,0,0,0,0,0,null,null,null,null,null,0,0,0,0,0,0,null,0,null,null,null,null,null,null,null,0,null,null,null,null,null,null,null,null,null,null,null,null,null,null,null,null,null,null,null,null,null,null,null,null,null,null,0,0,null,null,0,0,0,{"$f":"IF(OR(AND(1<=$FK101,$FK101<=3),$FK101=6),VLOOKUP($FK101,整理番号表!$B$32:$G$60,2,FALSE),)","v":0},{"$f":"IF(OR($FK101=4,$FK101=7),VLOOKUP($FK101,整理番号表!$B$32:$G$60,2,FALSE),)","v":0},{"$f":"IF($FK101=5,VLOOKUP($FK101,整理番号表!$B$32:$G$60,2,FALSE),)","v":0},{"$f":"IF(AND(8<=$FK101,$FK101<=13),VLOOKUP($FK101,整理番号表!$B$32:$G$60,2,FALSE),)","v":0},0,0,{"$f":"IF(AND(FE101<>1,$FP101=1,SUM($FQ101:FQ101)=0,$FF101=1,$FI101>=2),1,)","v":0},{"$f":"IF(AND(FE101<>1,$FP101=1,SUM($FQ101:FR101)=0,OR(AND($FF101=1,$FI101>0),$FI101>=4)),1,)","v":0},{"$f":"IF(AND(FE101<>1,$FP101=1,SUM($FQ101:FS101)=0,OR($FF101=1,$FI101>=2)),1,)","v":0},{"$f":"IF(AND(FE101<>1,$FP101=1,SUM($FQ101:FT101)=0,$FI101>0),1,)","v":0},0,0,{"$f":"IF(AND(FE101<>1,$FP101=2,SUM($FW101:FW101)=0,$FF101=1,$FJ101>=0.1),1,)","v":0},{"$f":"IF(AND(FE101<>1,$FP101=2,SUM($FW101:FX101)=0,OR(AND($FF101=1,$FI101>0),$FJ101>=0.2)),1,)","v":0},{"$f":"IF(AND(FE101<>1,$FP101=2,SUM($FW101:FY101)=0,OR($FF101=1,$FJ101>=0.1)),1,)","v":0},{"$f":"IF(AND(FE101<>1,$FP101=2,SUM($FW101:FZ101)=0,$FI101>0),1,)","v":0},0,{"$f":"IF(AND(FE101<>1,$FP101=3,SUM($GB101:GB101)=0,AND($FF101=1,$FJ101>=0.05)),1,)","v":0},{"$f":"IF(AND(FE101<>1,$FP101=3,SUM($GB101:GC101)=0,OR(AND($FF101=1,$FI101>0),$FJ101>=0.1)),1,)","v":0},{"$f":"IF(AND(FE101<>1,$FP101=3,SUM($GB101:GD101)=0,OR($FF101=1,$FJ101>=0.05)),1,)","v":0},{"$f":"IF(AND(FE101<>1,$FP101=3,SUM($GB101:GE101)=0,$FI101>0),1,)","v":0},0,null,0,0,0,0,0,0,0,0,0,0,0,0,0,0,0,0,0,0,0,0,0,0,0,0,0,0,0,0,0,0,0,0,0,0,0,0,0,0,0,0,0,0,0,0,0,0,0,0,0,0,0,0,0,0,0,0,0,0,0,0,0,0,0,0,0,0,0,0,0,0,0,0,0,0,0,0,0,0,0,"","","","","","","","","","","","","","","","○",0,0,0,0,0,0,0,"○",0,0,0,"○","○",null,0,0]
[0,0,0,0,0,0,0,0,0,0,90,null,null,null,null,{"$f":"IF(O102<>\"\",VLOOKUP(O102,整理番号表!$Z$17:$AA$20,2,FALSE),)","v":0},0,null,null,null,null,null,{"$f":"IF(V102<>0,VLOOKUP(V102,整理番号表!$B$6:$L$13,2,FALSE),)","v":0},0,{"$f":"IF(X102<>0,VLOOKUP(X102,整理番号表!$B$16:$C$18,2,FALSE),)","v":0},null,{"$f":"IF(Z102<>0,VLOOKUP(Z102,整理番号表!$B$22:$C$29,2,FALSE),)","v":0},null,null,{"$f":"IF(AC102<>0,VLOOKUP(AC102,整理番号表!$B$32:$G$60,2,FALSE),)","v":0},null,{"$f":"IF(AE102<>0,VLOOKUP(AE102,整理番号表!$P$5:$R$39,2,FALSE),)","v":0},null,0,null,null,{"$f":"IF(AJ102<>\"\",VLOOKUP(AJ102,整理番号表!$Z$6:$AA$14,2,FALSE),\"\")","v":""},0,null,null,null,null,null,{"$f":"IF(AQ102<>0,VLOOKUP(AQ102,整理番号表!$P$43:$Q$49,2,FALSE),)","v":0},null,null,null,null,0,0,null,0,null,null,null,0,0,0,null,null,0,0,null,{"$f":"IF(BK102<>0,VLOOKUP(BK102,整理番号表!$T$5:$U$16,2,FALSE),)","v":0},null,{"$f":"IF(BM102<>0,VLOOKUP(BM102,整理番号表!$T$22:$U$30,2,FALSE),)","v":0},null,0,"",null,null,null,null,null,"",0,null,null,null,null,null,null,null,null,null,0,0,0,0,0,0,0,0,0,0,0,0,0,0,0,0,0,0,0,0,0,0,0,0,0,0,0,0,null,null,null,null,null,0,0,0,0,0,0,null,0,null,null,null,null,null,null,null,0,null,null,null,null,null,null,null,null,null,null,null,null,null,null,null,null,null,null,null,null,null,null,null,null,null,null,0,0,null,null,0,0,0,{"$f":"IF(OR(AND(1<=$FK102,$FK102<=3),$FK102=6),VLOOKUP($FK102,整理番号表!$B$32:$G$60,2,FALSE),)","v":0},{"$f":"IF(OR($FK102=4,$FK102=7),VLOOKUP($FK102,整理番号表!$B$32:$G$60,2,FALSE),)","v":0},{"$f":"IF($FK102=5,VLOOKUP($FK102,整理番号表!$B$32:$G$60,2,FALSE),)","v":0},{"$f":"IF(AND(8<=$FK102,$FK102<=13),VLOOKUP($FK102,整理番号表!$B$32:$G$60,2,FALSE),)","v":0},0,0,{"$f":"IF(AND(FE102<>1,$FP102=1,SUM($FQ102:FQ102)=0,$FF102=1,$FI102>=2),1,)","v":0},{"$f":"IF(AND(FE102<>1,$FP102=1,SUM($FQ102:FR102)=0,OR(AND($FF102=1,$FI102>0),$FI102>=4)),1,)","v":0},{"$f":"IF(AND(FE102<>1,$FP102=1,SUM($FQ102:FS102)=0,OR($FF102=1,$FI102>=2)),1,)","v":0},{"$f":"IF(AND(FE102<>1,$FP102=1,SUM($FQ102:FT102)=0,$FI102>0),1,)","v":0},0,0,{"$f":"IF(AND(FE102<>1,$FP102=2,SUM($FW102:FW102)=0,$FF102=1,$FJ102>=0.1),1,)","v":0},{"$f":"IF(AND(FE102<>1,$FP102=2,SUM($FW102:FX102)=0,OR(AND($FF102=1,$FI102>0),$FJ102>=0.2)),1,)","v":0},{"$f":"IF(AND(FE102<>1,$FP102=2,SUM($FW102:FY102)=0,OR($FF102=1,$FJ102>=0.1)),1,)","v":0},{"$f":"IF(AND(FE102<>1,$FP102=2,SUM($FW102:FZ102)=0,$FI102>0),1,)","v":0},0,{"$f":"IF(AND(FE102<>1,$FP102=3,SUM($GB102:GB102)=0,AND($FF102=1,$FJ102>=0.05)),1,)","v":0},{"$f":"IF(AND(FE102<>1,$FP102=3,SUM($GB102:GC102)=0,OR(AND($FF102=1,$FI102>0),$FJ102>=0.1)),1,)","v":0},{"$f":"IF(AND(FE102<>1,$FP102=3,SUM($GB102:GD102)=0,OR($FF102=1,$FJ102>=0.05)),1,)","v":0},{"$f":"IF(AND(FE102<>1,$FP102=3,SUM($GB102:GE102)=0,$FI102>0),1,)","v":0},0,null,0,0,0,0,0,0,0,0,0,0,0,0,0,0,0,0,0,0,0,0,0,0,0,0,0,0,0,0,0,0,0,0,0,0,0,0,0,0,0,0,0,0,0,0,0,0,0,0,0,0,0,0,0,0,0,0,0,0,0,0,0,0,0,0,0,0,0,0,0,0,0,0,0,0,0,0,0,0,0,"","","","","","","","","","","","","","","","○",0,0,0,0,0,0,0,"○",0,0,0,"○","○",null,0,0]
[0,0,0,0,0,0,0,0,0,0,91,null,null,null,null,{"$f":"IF(O103<>\"\",VLOOKUP(O103,整理番号表!$Z$17:$AA$20,2,FALSE),)","v":0},0,null,null,null,null,null,{"$f":"IF(V103<>0,VLOOKUP(V103,整理番号表!$B$6:$L$13,2,FALSE),)","v":0},0,{"$f":"IF(X103<>0,VLOOKUP(X103,整理番号表!$B$16:$C$18,2,FALSE),)","v":0},null,{"$f":"IF(Z103<>0,VLOOKUP(Z103,整理番号表!$B$22:$C$29,2,FALSE),)","v":0},null,null,{"$f":"IF(AC103<>0,VLOOKUP(AC103,整理番号表!$B$32:$G$60,2,FALSE),)","v":0},null,{"$f":"IF(AE103<>0,VLOOKUP(AE103,整理番号表!$P$5:$R$39,2,FALSE),)","v":0},null,0,null,null,{"$f":"IF(AJ103<>\"\",VLOOKUP(AJ103,整理番号表!$Z$6:$AA$14,2,FALSE),\"\")","v":""},0,null,null,null,null,null,{"$f":"IF(AQ103<>0,VLOOKUP(AQ103,整理番号表!$P$43:$Q$49,2,FALSE),)","v":0},null,null,null,null,0,0,null,0,null,null,null,0,0,0,null,null,0,0,null,{"$f":"IF(BK103<>0,VLOOKUP(BK103,整理番号表!$T$5:$U$16,2,FALSE),)","v":0},null,{"$f":"IF(BM103<>0,VLOOKUP(BM103,整理番号表!$T$22:$U$30,2,FALSE),)","v":0},null,0,"",null,null,null,null,null,"",0,null,null,null,null,null,null,null,null,null,0,0,0,0,0,0,0,0,0,0,0,0,0,0,0,0,0,0,0,0,0,0,0,0,0,0,0,0,null,null,null,null,null,0,0,0,0,0,0,null,0,null,null,null,null,null,null,null,0,null,null,null,null,null,null,null,null,null,null,null,null,null,null,null,null,null,null,null,null,null,null,null,null,null,null,0,0,null,null,0,0,0,{"$f":"IF(OR(AND(1<=$FK103,$FK103<=3),$FK103=6),VLOOKUP($FK103,整理番号表!$B$32:$G$60,2,FALSE),)","v":0},{"$f":"IF(OR($FK103=4,$FK103=7),VLOOKUP($FK103,整理番号表!$B$32:$G$60,2,FALSE),)","v":0},{"$f":"IF($FK103=5,VLOOKUP($FK103,整理番号表!$B$32:$G$60,2,FALSE),)","v":0},{"$f":"IF(AND(8<=$FK103,$FK103<=13),VLOOKUP($FK103,整理番号表!$B$32:$G$60,2,FALSE),)","v":0},0,0,{"$f":"IF(AND(FE103<>1,$FP103=1,SUM($FQ103:FQ103)=0,$FF103=1,$FI103>=2),1,)","v":0},{"$f":"IF(AND(FE103<>1,$FP103=1,SUM($FQ103:FR103)=0,OR(AND($FF103=1,$FI103>0),$FI103>=4)),1,)","v":0},{"$f":"IF(AND(FE103<>1,$FP103=1,SUM($FQ103:FS103)=0,OR($FF103=1,$FI103>=2)),1,)","v":0},{"$f":"IF(AND(FE103<>1,$FP103=1,SUM($FQ103:FT103)=0,$FI103>0),1,)","v":0},0,0,{"$f":"IF(AND(FE103<>1,$FP103=2,SUM($FW103:FW103)=0,$FF103=1,$FJ103>=0.1),1,)","v":0},{"$f":"IF(AND(FE103<>1,$FP103=2,SUM($FW103:FX103)=0,OR(AND($FF103=1,$FI103>0),$FJ103>=0.2)),1,)","v":0},{"$f":"IF(AND(FE103<>1,$FP103=2,SUM($FW103:FY103)=0,OR($FF103=1,$FJ103>=0.1)),1,)","v":0},{"$f":"IF(AND(FE103<>1,$FP103=2,SUM($FW103:FZ103)=0,$FI103>0),1,)","v":0},0,{"$f":"IF(AND(FE103<>1,$FP103=3,SUM($GB103:GB103)=0,AND($FF103=1,$FJ103>=0.05)),1,)","v":0},{"$f":"IF(AND(FE103<>1,$FP103=3,SUM($GB103:GC103)=0,OR(AND($FF103=1,$FI103>0),$FJ103>=0.1)),1,)","v":0},{"$f":"IF(AND(FE103<>1,$FP103=3,SUM($GB103:GD103)=0,OR($FF103=1,$FJ103>=0.05)),1,)","v":0},{"$f":"IF(AND(FE103<>1,$FP103=3,SUM($GB103:GE103)=0,$FI103>0),1,)","v":0},0,null,0,0,0,0,0,0,0,0,0,0,0,0,0,0,0,0,0,0,0,0,0,0,0,0,0,0,0,0,0,0,0,0,0,0,0,0,0,0,0,0,0,0,0,0,0,0,0,0,0,0,0,0,0,0,0,0,0,0,0,0,0,0,0,0,0,0,0,0,0,0,0,0,0,0,0,0,0,0,0,"","","","","","","","","","","","","","","","○",0,0,0,0,0,0,0,"○",0,0,0,"○","○",null,0,0]
[0,0,0,0,0,0,0,0,0,0,92,null,null,null,null,{"$f":"IF(O104<>\"\",VLOOKUP(O104,整理番号表!$Z$17:$AA$20,2,FALSE),)","v":0},0,null,null,null,null,null,{"$f":"IF(V104<>0,VLOOKUP(V104,整理番号表!$B$6:$L$13,2,FALSE),)","v":0},0,{"$f":"IF(X104<>0,VLOOKUP(X104,整理番号表!$B$16:$C$18,2,FALSE),)","v":0},null,{"$f":"IF(Z104<>0,VLOOKUP(Z104,整理番号表!$B$22:$C$29,2,FALSE),)","v":0},null,null,{"$f":"IF(AC104<>0,VLOOKUP(AC104,整理番号表!$B$32:$G$60,2,FALSE),)","v":0},null,{"$f":"IF(AE104<>0,VLOOKUP(AE104,整理番号表!$P$5:$R$39,2,FALSE),)","v":0},null,0,null,null,{"$f":"IF(AJ104<>\"\",VLOOKUP(AJ104,整理番号表!$Z$6:$AA$14,2,FALSE),\"\")","v":""},0,null,null,null,null,null,{"$f":"IF(AQ104<>0,VLOOKUP(AQ104,整理番号表!$P$43:$Q$49,2,FALSE),)","v":0},null,null,null,null,0,0,null,0,null,null,null,0,0,0,null,null,0,0,null,{"$f":"IF(BK104<>0,VLOOKUP(BK104,整理番号表!$T$5:$U$16,2,FALSE),)","v":0},null,{"$f":"IF(BM104<>0,VLOOKUP(BM104,整理番号表!$T$22:$U$30,2,FALSE),)","v":0},null,0,"",null,null,null,null,null,"",0,null,null,null,null,null,null,null,null,null,0,0,0,0,0,0,0,0,0,0,0,0,0,0,0,0,0,0,0,0,0,0,0,0,0,0,0,0,null,null,null,null,null,0,0,0,0,0,0,null,0,null,null,null,null,null,null,null,0,null,null,null,null,null,null,null,null,null,null,null,null,null,null,null,null,null,null,null,null,null,null,null,null,null,null,0,0,null,null,0,0,0,{"$f":"IF(OR(AND(1<=$FK104,$FK104<=3),$FK104=6),VLOOKUP($FK104,整理番号表!$B$32:$G$60,2,FALSE),)","v":0},{"$f":"IF(OR($FK104=4,$FK104=7),VLOOKUP($FK104,整理番号表!$B$32:$G$60,2,FALSE),)","v":0},{"$f":"IF($FK104=5,VLOOKUP($FK104,整理番号表!$B$32:$G$60,2,FALSE),)","v":0},{"$f":"IF(AND(8<=$FK104,$FK104<=13),VLOOKUP($FK104,整理番号表!$B$32:$G$60,2,FALSE),)","v":0},0,0,{"$f":"IF(AND(FE104<>1,$FP104=1,SUM($FQ104:FQ104)=0,$FF104=1,$FI104>=2),1,)","v":0},{"$f":"IF(AND(FE104<>1,$FP104=1,SUM($FQ104:FR104)=0,OR(AND($FF104=1,$FI104>0),$FI104>=4)),1,)","v":0},{"$f":"IF(AND(FE104<>1,$FP104=1,SUM($FQ104:FS104)=0,OR($FF104=1,$FI104>=2)),1,)","v":0},{"$f":"IF(AND(FE104<>1,$FP104=1,SUM($FQ104:FT104)=0,$FI104>0),1,)","v":0},0,0,{"$f":"IF(AND(FE104<>1,$FP104=2,SUM($FW104:FW104)=0,$FF104=1,$FJ104>=0.1),1,)","v":0},{"$f":"IF(AND(FE104<>1,$FP104=2,SUM($FW104:FX104)=0,OR(AND($FF104=1,$FI104>0),$FJ104>=0.2)),1,)","v":0},{"$f":"IF(AND(FE104<>1,$FP104=2,SUM($FW104:FY104)=0,OR($FF104=1,$FJ104>=0.1)),1,)","v":0},{"$f":"IF(AND(FE104<>1,$FP104=2,SUM($FW104:FZ104)=0,$FI104>0),1,)","v":0},0,{"$f":"IF(AND(FE104<>1,$FP104=3,SUM($GB104:GB104)=0,AND($FF104=1,$FJ104>=0.05)),1,)","v":0},{"$f":"IF(AND(FE104<>1,$FP104=3,SUM($GB104:GC104)=0,OR(AND($FF104=1,$FI104>0),$FJ104>=0.1)),1,)","v":0},{"$f":"IF(AND(FE104<>1,$FP104=3,SUM($GB104:GD104)=0,OR($FF104=1,$FJ104>=0.05)),1,)","v":0},{"$f":"IF(AND(FE104<>1,$FP104=3,SUM($GB104:GE104)=0,$FI104>0),1,)","v":0},0,null,0,0,0,0,0,0,0,0,0,0,0,0,0,0,0,0,0,0,0,0,0,0,0,0,0,0,0,0,0,0,0,0,0,0,0,0,0,0,0,0,0,0,0,0,0,0,0,0,0,0,0,0,0,0,0,0,0,0,0,0,0,0,0,0,0,0,0,0,0,0,0,0,0,0,0,0,0,0,0,"","","","","","","","","","","","","","","","○",0,0,0,0,0,0,0,"○",0,0,0,"○","○",null,0,0]
[0,0,0,0,0,0,0,0,0,0,93,null,null,null,null,{"$f":"IF(O105<>\"\",VLOOKUP(O105,整理番号表!$Z$17:$AA$20,2,FALSE),)","v":0},0,null,null,null,null,null,{"$f":"IF(V105<>0,VLOOKUP(V105,整理番号表!$B$6:$L$13,2,FALSE),)","v":0},0,{"$f":"IF(X105<>0,VLOOKUP(X105,整理番号表!$B$16:$C$18,2,FALSE),)","v":0},null,{"$f":"IF(Z105<>0,VLOOKUP(Z105,整理番号表!$B$22:$C$29,2,FALSE),)","v":0},null,null,{"$f":"IF(AC105<>0,VLOOKUP(AC105,整理番号表!$B$32:$G$60,2,FALSE),)","v":0},null,{"$f":"IF(AE105<>0,VLOOKUP(AE105,整理番号表!$P$5:$R$39,2,FALSE),)","v":0},null,0,null,null,{"$f":"IF(AJ105<>\"\",VLOOKUP(AJ105,整理番号表!$Z$6:$AA$14,2,FALSE),\"\")","v":""},0,null,null,null,null,null,{"$f":"IF(AQ105<>0,VLOOKUP(AQ105,整理番号表!$P$43:$Q$49,2,FALSE),)","v":0},null,null,null,null,0,0,null,0,null,null,null,0,0,0,null,null,0,0,null,{"$f":"IF(BK105<>0,VLOOKUP(BK105,整理番号表!$T$5:$U$16,2,FALSE),)","v":0},null,{"$f":"IF(BM105<>0,VLOOKUP(BM105,整理番号表!$T$22:$U$30,2,FALSE),)","v":0},null,0,"",null,null,null,null,null,"",0,null,null,null,null,null,null,null,null,null,0,0,0,0,0,0,0,0,0,0,0,0,0,0,0,0,0,0,0,0,0,0,0,0,0,0,0,0,null,null,null,null,null,0,0,0,0,0,0,null,0,null,null,null,null,null,null,null,0,null,null,null,null,null,null,null,null,null,null,null,null,null,null,null,null,null,null,null,null,null,null,null,null,null,null,0,0,null,null,0,0,0,{"$f":"IF(OR(AND(1<=$FK105,$FK105<=3),$FK105=6),VLOOKUP($FK105,整理番号表!$B$32:$G$60,2,FALSE),)","v":0},{"$f":"IF(OR($FK105=4,$FK105=7),VLOOKUP($FK105,整理番号表!$B$32:$G$60,2,FALSE),)","v":0},{"$f":"IF($FK105=5,VLOOKUP($FK105,整理番号表!$B$32:$G$60,2,FALSE),)","v":0},{"$f":"IF(AND(8<=$FK105,$FK105<=13),VLOOKUP($FK105,整理番号表!$B$32:$G$60,2,FALSE),)","v":0},0,0,{"$f":"IF(AND(FE105<>1,$FP105=1,SUM($FQ105:FQ105)=0,$FF105=1,$FI105>=2),1,)","v":0},{"$f":"IF(AND(FE105<>1,$FP105=1,SUM($FQ105:FR105)=0,OR(AND($FF105=1,$FI105>0),$FI105>=4)),1,)","v":0},{"$f":"IF(AND(FE105<>1,$FP105=1,SUM($FQ105:FS105)=0,OR($FF105=1,$FI105>=2)),1,)","v":0},{"$f":"IF(AND(FE105<>1,$FP105=1,SUM($FQ105:FT105)=0,$FI105>0),1,)","v":0},0,0,{"$f":"IF(AND(FE105<>1,$FP105=2,SUM($FW105:FW105)=0,$FF105=1,$FJ105>=0.1),1,)","v":0},{"$f":"IF(AND(FE105<>1,$FP105=2,SUM($FW105:FX105)=0,OR(AND($FF105=1,$FI105>0),$FJ105>=0.2)),1,)","v":0},{"$f":"IF(AND(FE105<>1,$FP105=2,SUM($FW105:FY105)=0,OR($FF105=1,$FJ105>=0.1)),1,)","v":0},{"$f":"IF(AND(FE105<>1,$FP105=2,SUM($FW105:FZ105)=0,$FI105>0),1,)","v":0},0,{"$f":"IF(AND(FE105<>1,$FP105=3,SUM($GB105:GB105)=0,AND($FF105=1,$FJ105>=0.05)),1,)","v":0},{"$f":"IF(AND(FE105<>1,$FP105=3,SUM($GB105:GC105)=0,OR(AND($FF105=1,$FI105>0),$FJ105>=0.1)),1,)","v":0},{"$f":"IF(AND(FE105<>1,$FP105=3,SUM($GB105:GD105)=0,OR($FF105=1,$FJ105>=0.05)),1,)","v":0},{"$f":"IF(AND(FE105<>1,$FP105=3,SUM($GB105:GE105)=0,$FI105>0),1,)","v":0},0,null,0,0,0,0,0,0,0,0,0,0,0,0,0,0,0,0,0,0,0,0,0,0,0,0,0,0,0,0,0,0,0,0,0,0,0,0,0,0,0,0,0,0,0,0,0,0,0,0,0,0,0,0,0,0,0,0,0,0,0,0,0,0,0,0,0,0,0,0,0,0,0,0,0,0,0,0,0,0,0,"","","","","","","","","","","","","","","","○",0,0,0,0,0,0,0,"○",0,0,0,"○","○",null,0,0]
[0,0,0,0,0,0,0,0,0,0,94,null,null,null,null,{"$f":"IF(O106<>\"\",VLOOKUP(O106,整理番号表!$Z$17:$AA$20,2,FALSE),)","v":0},0,null,null,null,null,null,{"$f":"IF(V106<>0,VLOOKUP(V106,整理番号表!$B$6:$L$13,2,FALSE),)","v":0},0,{"$f":"IF(X106<>0,VLOOKUP(X106,整理番号表!$B$16:$C$18,2,FALSE),)","v":0},null,{"$f":"IF(Z106<>0,VLOOKUP(Z106,整理番号表!$B$22:$C$29,2,FALSE),)","v":0},null,null,{"$f":"IF(AC106<>0,VLOOKUP(AC106,整理番号表!$B$32:$G$60,2,FALSE),)","v":0},null,{"$f":"IF(AE106<>0,VLOOKUP(AE106,整理番号表!$P$5:$R$39,2,FALSE),)","v":0},null,0,null,null,{"$f":"IF(AJ106<>\"\",VLOOKUP(AJ106,整理番号表!$Z$6:$AA$14,2,FALSE),\"\")","v":""},0,null,null,null,null,null,{"$f":"IF(AQ106<>0,VLOOKUP(AQ106,整理番号表!$P$43:$Q$49,2,FALSE),)","v":0},null,null,null,null,0,0,null,0,null,null,null,0,0,0,null,null,0,0,null,{"$f":"IF(BK106<>0,VLOOKUP(BK106,整理番号表!$T$5:$U$16,2,FALSE),)","v":0},null,{"$f":"IF(BM106<>0,VLOOKUP(BM106,整理番号表!$T$22:$U$30,2,FALSE),)","v":0},null,0,"",null,null,null,null,null,"",0,null,null,null,null,null,null,null,null,null,0,0,0,0,0,0,0,0,0,0,0,0,0,0,0,0,0,0,0,0,0,0,0,0,0,0,0,0,null,null,null,null,null,0,0,0,0,0,0,null,0,null,null,null,null,null,null,null,0,null,null,null,null,null,null,null,null,null,null,null,null,null,null,null,null,null,null,null,null,null,null,null,null,null,null,0,0,null,null,0,0,0,{"$f":"IF(OR(AND(1<=$FK106,$FK106<=3),$FK106=6),VLOOKUP($FK106,整理番号表!$B$32:$G$60,2,FALSE),)","v":0},{"$f":"IF(OR($FK106=4,$FK106=7),VLOOKUP($FK106,整理番号表!$B$32:$G$60,2,FALSE),)","v":0},{"$f":"IF($FK106=5,VLOOKUP($FK106,整理番号表!$B$32:$G$60,2,FALSE),)","v":0},{"$f":"IF(AND(8<=$FK106,$FK106<=13),VLOOKUP($FK106,整理番号表!$B$32:$G$60,2,FALSE),)","v":0},0,0,{"$f":"IF(AND(FE106<>1,$FP106=1,SUM($FQ106:FQ106)=0,$FF106=1,$FI106>=2),1,)","v":0},{"$f":"IF(AND(FE106<>1,$FP106=1,SUM($FQ106:FR106)=0,OR(AND($FF106=1,$FI106>0),$FI106>=4)),1,)","v":0},{"$f":"IF(AND(FE106<>1,$FP106=1,SUM($FQ106:FS106)=0,OR($FF106=1,$FI106>=2)),1,)","v":0},{"$f":"IF(AND(FE106<>1,$FP106=1,SUM($FQ106:FT106)=0,$FI106>0),1,)","v":0},0,0,{"$f":"IF(AND(FE106<>1,$FP106=2,SUM($FW106:FW106)=0,$FF106=1,$FJ106>=0.1),1,)","v":0},{"$f":"IF(AND(FE106<>1,$FP106=2,SUM($FW106:FX106)=0,OR(AND($FF106=1,$FI106>0),$FJ106>=0.2)),1,)","v":0},{"$f":"IF(AND(FE106<>1,$FP106=2,SUM($FW106:FY106)=0,OR($FF106=1,$FJ106>=0.1)),1,)","v":0},{"$f":"IF(AND(FE106<>1,$FP106=2,SUM($FW106:FZ106)=0,$FI106>0),1,)","v":0},0,{"$f":"IF(AND(FE106<>1,$FP106=3,SUM($GB106:GB106)=0,AND($FF106=1,$FJ106>=0.05)),1,)","v":0},{"$f":"IF(AND(FE106<>1,$FP106=3,SUM($GB106:GC106)=0,OR(AND($FF106=1,$FI106>0),$FJ106>=0.1)),1,)","v":0},{"$f":"IF(AND(FE106<>1,$FP106=3,SUM($GB106:GD106)=0,OR($FF106=1,$FJ106>=0.05)),1,)","v":0},{"$f":"IF(AND(FE106<>1,$FP106=3,SUM($GB106:GE106)=0,$FI106>0),1,)","v":0},0,null,0,0,0,0,0,0,0,0,0,0,0,0,0,0,0,0,0,0,0,0,0,0,0,0,0,0,0,0,0,0,0,0,0,0,0,0,0,0,0,0,0,0,0,0,0,0,0,0,0,0,0,0,0,0,0,0,0,0,0,0,0,0,0,0,0,0,0,0,0,0,0,0,0,0,0,0,0,0,0,"","","","","","","","","","","","","","","","○",0,0,0,0,0,0,0,"○",0,0,0,"○","○",null,0,0]
[0,0,0,0,0,0,0,0,0,0,95,null,null,null,null,{"$f":"IF(O107<>\"\",VLOOKUP(O107,整理番号表!$Z$17:$AA$20,2,FALSE),)","v":0},0,null,null,null,null,null,{"$f":"IF(V107<>0,VLOOKUP(V107,整理番号表!$B$6:$L$13,2,FALSE),)","v":0},0,{"$f":"IF(X107<>0,VLOOKUP(X107,整理番号表!$B$16:$C$18,2,FALSE),)","v":0},null,{"$f":"IF(Z107<>0,VLOOKUP(Z107,整理番号表!$B$22:$C$29,2,FALSE),)","v":0},null,null,{"$f":"IF(AC107<>0,VLOOKUP(AC107,整理番号表!$B$32:$G$60,2,FALSE),)","v":0},null,{"$f":"IF(AE107<>0,VLOOKUP(AE107,整理番号表!$P$5:$R$39,2,FALSE),)","v":0},null,0,null,null,{"$f":"IF(AJ107<>\"\",VLOOKUP(AJ107,整理番号表!$Z$6:$AA$14,2,FALSE),\"\")","v":""},0,null,null,null,null,null,{"$f":"IF(AQ107<>0,VLOOKUP(AQ107,整理番号表!$P$43:$Q$49,2,FALSE),)","v":0},null,null,null,null,0,0,null,0,null,null,null,0,0,0,null,null,0,0,null,{"$f":"IF(BK107<>0,VLOOKUP(BK107,整理番号表!$T$5:$U$16,2,FALSE),)","v":0},null,{"$f":"IF(BM107<>0,VLOOKUP(BM107,整理番号表!$T$22:$U$30,2,FALSE),)","v":0},null,0,"",null,null,null,null,null,"",0,null,null,null,null,null,null,null,null,null,0,0,0,0,0,0,0,0,0,0,0,0,0,0,0,0,0,0,0,0,0,0,0,0,0,0,0,0,null,null,null,null,null,0,0,0,0,0,0,null,0,null,null,null,null,null,null,null,0,null,null,null,null,null,null,null,null,null,null,null,null,null,null,null,null,null,null,null,null,null,null,null,null,null,null,0,0,null,null,0,0,0,{"$f":"IF(OR(AND(1<=$FK107,$FK107<=3),$FK107=6),VLOOKUP($FK107,整理番号表!$B$32:$G$60,2,FALSE),)","v":0},{"$f":"IF(OR($FK107=4,$FK107=7),VLOOKUP($FK107,整理番号表!$B$32:$G$60,2,FALSE),)","v":0},{"$f":"IF($FK107=5,VLOOKUP($FK107,整理番号表!$B$32:$G$60,2,FALSE),)","v":0},{"$f":"IF(AND(8<=$FK107,$FK107<=13),VLOOKUP($FK107,整理番号表!$B$32:$G$60,2,FALSE),)","v":0},0,0,{"$f":"IF(AND(FE107<>1,$FP107=1,SUM($FQ107:FQ107)=0,$FF107=1,$FI107>=2),1,)","v":0},{"$f":"IF(AND(FE107<>1,$FP107=1,SUM($FQ107:FR107)=0,OR(AND($FF107=1,$FI107>0),$FI107>=4)),1,)","v":0},{"$f":"IF(AND(FE107<>1,$FP107=1,SUM($FQ107:FS107)=0,OR($FF107=1,$FI107>=2)),1,)","v":0},{"$f":"IF(AND(FE107<>1,$FP107=1,SUM($FQ107:FT107)=0,$FI107>0),1,)","v":0},0,0,{"$f":"IF(AND(FE107<>1,$FP107=2,SUM($FW107:FW107)=0,$FF107=1,$FJ107>=0.1),1,)","v":0},{"$f":"IF(AND(FE107<>1,$FP107=2,SUM($FW107:FX107)=0,OR(AND($FF107=1,$FI107>0),$FJ107>=0.2)),1,)","v":0},{"$f":"IF(AND(FE107<>1,$FP107=2,SUM($FW107:FY107)=0,OR($FF107=1,$FJ107>=0.1)),1,)","v":0},{"$f":"IF(AND(FE107<>1,$FP107=2,SUM($FW107:FZ107)=0,$FI107>0),1,)","v":0},0,{"$f":"IF(AND(FE107<>1,$FP107=3,SUM($GB107:GB107)=0,AND($FF107=1,$FJ107>=0.05)),1,)","v":0},{"$f":"IF(AND(FE107<>1,$FP107=3,SUM($GB107:GC107)=0,OR(AND($FF107=1,$FI107>0),$FJ107>=0.1)),1,)","v":0},{"$f":"IF(AND(FE107<>1,$FP107=3,SUM($GB107:GD107)=0,OR($FF107=1,$FJ107>=0.05)),1,)","v":0},{"$f":"IF(AND(FE107<>1,$FP107=3,SUM($GB107:GE107)=0,$FI107>0),1,)","v":0},0,null,0,0,0,0,0,0,0,0,0,0,0,0,0,0,0,0,0,0,0,0,0,0,0,0,0,0,0,0,0,0,0,0,0,0,0,0,0,0,0,0,0,0,0,0,0,0,0,0,0,0,0,0,0,0,0,0,0,0,0,0,0,0,0,0,0,0,0,0,0,0,0,0,0,0,0,0,0,0,0,"","","","","","","","","","","","","","","","○",0,0,0,0,0,0,0,"○",0,0,0,"○","○",null,0,0]
[0,0,0,0,0,0,0,0,0,0,96,null,null,null,null,{"$f":"IF(O108<>\"\",VLOOKUP(O108,整理番号表!$Z$17:$AA$20,2,FALSE),)","v":0},0,null,null,null,null,null,{"$f":"IF(V108<>0,VLOOKUP(V108,整理番号表!$B$6:$L$13,2,FALSE),)","v":0},0,{"$f":"IF(X108<>0,VLOOKUP(X108,整理番号表!$B$16:$C$18,2,FALSE),)","v":0},null,{"$f":"IF(Z108<>0,VLOOKUP(Z108,整理番号表!$B$22:$C$29,2,FALSE),)","v":0},null,null,{"$f":"IF(AC108<>0,VLOOKUP(AC108,整理番号表!$B$32:$G$60,2,FALSE),)","v":0},null,{"$f":"IF(AE108<>0,VLOOKUP(AE108,整理番号表!$P$5:$R$39,2,FALSE),)","v":0},null,0,null,null,{"$f":"IF(AJ108<>\"\",VLOOKUP(AJ108,整理番号表!$Z$6:$AA$14,2,FALSE),\"\")","v":""},0,null,null,null,null,null,{"$f":"IF(AQ108<>0,VLOOKUP(AQ108,整理番号表!$P$43:$Q$49,2,FALSE),)","v":0},null,null,null,null,0,0,null,0,null,null,null,0,0,0,null,null,0,0,null,{"$f":"IF(BK108<>0,VLOOKUP(BK108,整理番号表!$T$5:$U$16,2,FALSE),)","v":0},null,{"$f":"IF(BM108<>0,VLOOKUP(BM108,整理番号表!$T$22:$U$30,2,FALSE),)","v":0},null,0,"",null,null,null,null,null,"",0,null,null,null,null,null,null,null,null,null,0,0,0,0,0,0,0,0,0,0,0,0,0,0,0,0,0,0,0,0,0,0,0,0,0,0,0,0,null,null,null,null,null,0,0,0,0,0,0,null,0,null,null,null,null,null,null,null,0,null,null,null,null,null,null,null,null,null,null,null,null,null,null,null,null,null,null,null,null,null,null,null,null,null,null,0,0,null,null,0,0,0,{"$f":"IF(OR(AND(1<=$FK108,$FK108<=3),$FK108=6),VLOOKUP($FK108,整理番号表!$B$32:$G$60,2,FALSE),)","v":0},{"$f":"IF(OR($FK108=4,$FK108=7),VLOOKUP($FK108,整理番号表!$B$32:$G$60,2,FALSE),)","v":0},{"$f":"IF($FK108=5,VLOOKUP($FK108,整理番号表!$B$32:$G$60,2,FALSE),)","v":0},{"$f":"IF(AND(8<=$FK108,$FK108<=13),VLOOKUP($FK108,整理番号表!$B$32:$G$60,2,FALSE),)","v":0},0,0,{"$f":"IF(AND(FE108<>1,$FP108=1,SUM($FQ108:FQ108)=0,$FF108=1,$FI108>=2),1,)","v":0},{"$f":"IF(AND(FE108<>1,$FP108=1,SUM($FQ108:FR108)=0,OR(AND($FF108=1,$FI108>0),$FI108>=4)),1,)","v":0},{"$f":"IF(AND(FE108<>1,$FP108=1,SUM($FQ108:FS108)=0,OR($FF108=1,$FI108>=2)),1,)","v":0},{"$f":"IF(AND(FE108<>1,$FP108=1,SUM($FQ108:FT108)=0,$FI108>0),1,)","v":0},0,0,{"$f":"IF(AND(FE108<>1,$FP108=2,SUM($FW108:FW108)=0,$FF108=1,$FJ108>=0.1),1,)","v":0},{"$f":"IF(AND(FE108<>1,$FP108=2,SUM($FW108:FX108)=0,OR(AND($FF108=1,$FI108>0),$FJ108>=0.2)),1,)","v":0},{"$f":"IF(AND(FE108<>1,$FP108=2,SUM($FW108:FY108)=0,OR($FF108=1,$FJ108>=0.1)),1,)","v":0},{"$f":"IF(AND(FE108<>1,$FP108=2,SUM($FW108:FZ108)=0,$FI108>0),1,)","v":0},0,{"$f":"IF(AND(FE108<>1,$FP108=3,SUM($GB108:GB108)=0,AND($FF108=1,$FJ108>=0.05)),1,)","v":0},{"$f":"IF(AND(FE108<>1,$FP108=3,SUM($GB108:GC108)=0,OR(AND($FF108=1,$FI108>0),$FJ108>=0.1)),1,)","v":0},{"$f":"IF(AND(FE108<>1,$FP108=3,SUM($GB108:GD108)=0,OR($FF108=1,$FJ108>=0.05)),1,)","v":0},{"$f":"IF(AND(FE108<>1,$FP108=3,SUM($GB108:GE108)=0,$FI108>0),1,)","v":0},0,null,0,0,0,0,0,0,0,0,0,0,0,0,0,0,0,0,0,0,0,0,0,0,0,0,0,0,0,0,0,0,0,0,0,0,0,0,0,0,0,0,0,0,0,0,0,0,0,0,0,0,0,0,0,0,0,0,0,0,0,0,0,0,0,0,0,0,0,0,0,0,0,0,0,0,0,0,0,0,0,"","","","","","","","","","","","","","","","○",0,0,0,0,0,0,0,"○",0,0,0,"○","○",null,0,0]
[0,0,0,0,0,0,0,0,0,0,97,null,null,null,null,{"$f":"IF(O109<>\"\",VLOOKUP(O109,整理番号表!$Z$17:$AA$20,2,FALSE),)","v":0},0,null,null,null,null,null,{"$f":"IF(V109<>0,VLOOKUP(V109,整理番号表!$B$6:$L$13,2,FALSE),)","v":0},0,{"$f":"IF(X109<>0,VLOOKUP(X109,整理番号表!$B$16:$C$18,2,FALSE),)","v":0},null,{"$f":"IF(Z109<>0,VLOOKUP(Z109,整理番号表!$B$22:$C$29,2,FALSE),)","v":0},null,null,{"$f":"IF(AC109<>0,VLOOKUP(AC109,整理番号表!$B$32:$G$60,2,FALSE),)","v":0},null,{"$f":"IF(AE109<>0,VLOOKUP(AE109,整理番号表!$P$5:$R$39,2,FALSE),)","v":0},null,0,null,null,{"$f":"IF(AJ109<>\"\",VLOOKUP(AJ109,整理番号表!$Z$6:$AA$14,2,FALSE),\"\")","v":""},0,null,null,null,null,null,{"$f":"IF(AQ109<>0,VLOOKUP(AQ109,整理番号表!$P$43:$Q$49,2,FALSE),)","v":0},null,null,null,null,0,0,null,0,null,null,null,0,0,0,null,null,0,0,null,{"$f":"IF(BK109<>0,VLOOKUP(BK109,整理番号表!$T$5:$U$16,2,FALSE),)","v":0},null,{"$f":"IF(BM109<>0,VLOOKUP(BM109,整理番号表!$T$22:$U$30,2,FALSE),)","v":0},null,0,"",null,null,null,null,null,"",0,null,null,null,null,null,null,null,null,null,0,0,0,0,0,0,0,0,0,0,0,0,0,0,0,0,0,0,0,0,0,0,0,0,0,0,0,0,null,null,null,null,null,0,0,0,0,0,0,null,0,null,null,null,null,null,null,null,0,null,null,null,null,null,null,null,null,null,null,null,null,null,null,null,null,null,null,null,null,null,null,null,null,null,null,0,0,null,null,0,0,0,{"$f":"IF(OR(AND(1<=$FK109,$FK109<=3),$FK109=6),VLOOKUP($FK109,整理番号表!$B$32:$G$60,2,FALSE),)","v":0},{"$f":"IF(OR($FK109=4,$FK109=7),VLOOKUP($FK109,整理番号表!$B$32:$G$60,2,FALSE),)","v":0},{"$f":"IF($FK109=5,VLOOKUP($FK109,整理番号表!$B$32:$G$60,2,FALSE),)","v":0},{"$f":"IF(AND(8<=$FK109,$FK109<=13),VLOOKUP($FK109,整理番号表!$B$32:$G$60,2,FALSE),)","v":0},0,0,{"$f":"IF(AND(FE109<>1,$FP109=1,SUM($FQ109:FQ109)=0,$FF109=1,$FI109>=2),1,)","v":0},{"$f":"IF(AND(FE109<>1,$FP109=1,SUM($FQ109:FR109)=0,OR(AND($FF109=1,$FI109>0),$FI109>=4)),1,)","v":0},{"$f":"IF(AND(FE109<>1,$FP109=1,SUM($FQ109:FS109)=0,OR($FF109=1,$FI109>=2)),1,)","v":0},{"$f":"IF(AND(FE109<>1,$FP109=1,SUM($FQ109:FT109)=0,$FI109>0),1,)","v":0},0,0,{"$f":"IF(AND(FE109<>1,$FP109=2,SUM($FW109:FW109)=0,$FF109=1,$FJ109>=0.1),1,)","v":0},{"$f":"IF(AND(FE109<>1,$FP109=2,SUM($FW109:FX109)=0,OR(AND($FF109=1,$FI109>0),$FJ109>=0.2)),1,)","v":0},{"$f":"IF(AND(FE109<>1,$FP109=2,SUM($FW109:FY109)=0,OR($FF109=1,$FJ109>=0.1)),1,)","v":0},{"$f":"IF(AND(FE109<>1,$FP109=2,SUM($FW109:FZ109)=0,$FI109>0),1,)","v":0},0,{"$f":"IF(AND(FE109<>1,$FP109=3,SUM($GB109:GB109)=0,AND($FF109=1,$FJ109>=0.05)),1,)","v":0},{"$f":"IF(AND(FE109<>1,$FP109=3,SUM($GB109:GC109)=0,OR(AND($FF109=1,$FI109>0),$FJ109>=0.1)),1,)","v":0},{"$f":"IF(AND(FE109<>1,$FP109=3,SUM($GB109:GD109)=0,OR($FF109=1,$FJ109>=0.05)),1,)","v":0},{"$f":"IF(AND(FE109<>1,$FP109=3,SUM($GB109:GE109)=0,$FI109>0),1,)","v":0},0,null,0,0,0,0,0,0,0,0,0,0,0,0,0,0,0,0,0,0,0,0,0,0,0,0,0,0,0,0,0,0,0,0,0,0,0,0,0,0,0,0,0,0,0,0,0,0,0,0,0,0,0,0,0,0,0,0,0,0,0,0,0,0,0,0,0,0,0,0,0,0,0,0,0,0,0,0,0,0,0,"","","","","","","","","","","","","","","","○",0,0,0,0,0,0,0,"○",0,0,0,"○","○",null,0,0]
[0,0,0,0,0,0,0,0,0,0,98,null,null,null,null,{"$f":"IF(O110<>\"\",VLOOKUP(O110,整理番号表!$Z$17:$AA$20,2,FALSE),)","v":0},0,null,null,null,null,null,{"$f":"IF(V110<>0,VLOOKUP(V110,整理番号表!$B$6:$L$13,2,FALSE),)","v":0},0,{"$f":"IF(X110<>0,VLOOKUP(X110,整理番号表!$B$16:$C$18,2,FALSE),)","v":0},null,{"$f":"IF(Z110<>0,VLOOKUP(Z110,整理番号表!$B$22:$C$29,2,FALSE),)","v":0},null,null,{"$f":"IF(AC110<>0,VLOOKUP(AC110,整理番号表!$B$32:$G$60,2,FALSE),)","v":0},null,{"$f":"IF(AE110<>0,VLOOKUP(AE110,整理番号表!$P$5:$R$39,2,FALSE),)","v":0},null,0,null,null,{"$f":"IF(AJ110<>\"\",VLOOKUP(AJ110,整理番号表!$Z$6:$AA$14,2,FALSE),\"\")","v":""},0,null,null,null,null,null,{"$f":"IF(AQ110<>0,VLOOKUP(AQ110,整理番号表!$P$43:$Q$49,2,FALSE),)","v":0},null,null,null,null,0,0,null,0,null,null,null,0,0,0,null,null,0,0,null,{"$f":"IF(BK110<>0,VLOOKUP(BK110,整理番号表!$T$5:$U$16,2,FALSE),)","v":0},null,{"$f":"IF(BM110<>0,VLOOKUP(BM110,整理番号表!$T$22:$U$30,2,FALSE),)","v":0},null,0,"",null,null,null,null,null,"",0,null,null,null,null,null,null,null,null,null,0,0,0,0,0,0,0,0,0,0,0,0,0,0,0,0,0,0,0,0,0,0,0,0,0,0,0,0,null,null,null,null,null,0,0,0,0,0,0,null,0,null,null,null,null,null,null,null,0,null,null,null,null,null,null,null,null,null,null,null,null,null,null,null,null,null,null,null,null,null,null,null,null,null,null,0,0,null,null,0,0,0,{"$f":"IF(OR(AND(1<=$FK110,$FK110<=3),$FK110=6),VLOOKUP($FK110,整理番号表!$B$32:$G$60,2,FALSE),)","v":0},{"$f":"IF(OR($FK110=4,$FK110=7),VLOOKUP($FK110,整理番号表!$B$32:$G$60,2,FALSE),)","v":0},{"$f":"IF($FK110=5,VLOOKUP($FK110,整理番号表!$B$32:$G$60,2,FALSE),)","v":0},{"$f":"IF(AND(8<=$FK110,$FK110<=13),VLOOKUP($FK110,整理番号表!$B$32:$G$60,2,FALSE),)","v":0},0,0,{"$f":"IF(AND(FE110<>1,$FP110=1,SUM($FQ110:FQ110)=0,$FF110=1,$FI110>=2),1,)","v":0},{"$f":"IF(AND(FE110<>1,$FP110=1,SUM($FQ110:FR110)=0,OR(AND($FF110=1,$FI110>0),$FI110>=4)),1,)","v":0},{"$f":"IF(AND(FE110<>1,$FP110=1,SUM($FQ110:FS110)=0,OR($FF110=1,$FI110>=2)),1,)","v":0},{"$f":"IF(AND(FE110<>1,$FP110=1,SUM($FQ110:FT110)=0,$FI110>0),1,)","v":0},0,0,{"$f":"IF(AND(FE110<>1,$FP110=2,SUM($FW110:FW110)=0,$FF110=1,$FJ110>=0.1),1,)","v":0},{"$f":"IF(AND(FE110<>1,$FP110=2,SUM($FW110:FX110)=0,OR(AND($FF110=1,$FI110>0),$FJ110>=0.2)),1,)","v":0},{"$f":"IF(AND(FE110<>1,$FP110=2,SUM($FW110:FY110)=0,OR($FF110=1,$FJ110>=0.1)),1,)","v":0},{"$f":"IF(AND(FE110<>1,$FP110=2,SUM($FW110:FZ110)=0,$FI110>0),1,)","v":0},0,{"$f":"IF(AND(FE110<>1,$FP110=3,SUM($GB110:GB110)=0,AND($FF110=1,$FJ110>=0.05)),1,)","v":0},{"$f":"IF(AND(FE110<>1,$FP110=3,SUM($GB110:GC110)=0,OR(AND($FF110=1,$FI110>0),$FJ110>=0.1)),1,)","v":0},{"$f":"IF(AND(FE110<>1,$FP110=3,SUM($GB110:GD110)=0,OR($FF110=1,$FJ110>=0.05)),1,)","v":0},{"$f":"IF(AND(FE110<>1,$FP110=3,SUM($GB110:GE110)=0,$FI110>0),1,)","v":0},0,null,0,0,0,0,0,0,0,0,0,0,0,0,0,0,0,0,0,0,0,0,0,0,0,0,0,0,0,0,0,0,0,0,0,0,0,0,0,0,0,0,0,0,0,0,0,0,0,0,0,0,0,0,0,0,0,0,0,0,0,0,0,0,0,0,0,0,0,0,0,0,0,0,0,0,0,0,0,0,0,"","","","","","","","","","","","","","","","○",0,0,0,0,0,0,0,"○",0,0,0,"○","○",null,0,0]
[0,0,0,0,0,0,0,0,0,0,99,null,null,null,null,{"$f":"IF(O111<>\"\",VLOOKUP(O111,整理番号表!$Z$17:$AA$20,2,FALSE),)","v":0},0,null,null,null,null,null,{"$f":"IF(V111<>0,VLOOKUP(V111,整理番号表!$B$6:$L$13,2,FALSE),)","v":0},0,{"$f":"IF(X111<>0,VLOOKUP(X111,整理番号表!$B$16:$C$18,2,FALSE),)","v":0},null,{"$f":"IF(Z111<>0,VLOOKUP(Z111,整理番号表!$B$22:$C$29,2,FALSE),)","v":0},null,null,{"$f":"IF(AC111<>0,VLOOKUP(AC111,整理番号表!$B$32:$G$60,2,FALSE),)","v":0},null,{"$f":"IF(AE111<>0,VLOOKUP(AE111,整理番号表!$P$5:$R$39,2,FALSE),)","v":0},null,0,null,null,{"$f":"IF(AJ111<>\"\",VLOOKUP(AJ111,整理番号表!$Z$6:$AA$14,2,FALSE),\"\")","v":""},0,null,null,null,null,null,{"$f":"IF(AQ111<>0,VLOOKUP(AQ111,整理番号表!$P$43:$Q$49,2,FALSE),)","v":0},null,null,null,null,0,0,null,0,null,null,null,0,0,0,null,null,0,0,null,{"$f":"IF(BK111<>0,VLOOKUP(BK111,整理番号表!$T$5:$U$16,2,FALSE),)","v":0},null,{"$f":"IF(BM111<>0,VLOOKUP(BM111,整理番号表!$T$22:$U$30,2,FALSE),)","v":0},null,0,"",null,null,null,null,null,"",0,null,null,null,null,null,null,null,null,null,0,0,0,0,0,0,0,0,0,0,0,0,0,0,0,0,0,0,0,0,0,0,0,0,0,0,0,0,null,null,null,null,null,0,0,0,0,0,0,null,0,null,null,null,null,null,null,null,0,null,null,null,null,null,null,null,null,null,null,null,null,null,null,null,null,null,null,null,null,null,null,null,null,null,null,0,0,null,null,0,0,0,{"$f":"IF(OR(AND(1<=$FK111,$FK111<=3),$FK111=6),VLOOKUP($FK111,整理番号表!$B$32:$G$60,2,FALSE),)","v":0},{"$f":"IF(OR($FK111=4,$FK111=7),VLOOKUP($FK111,整理番号表!$B$32:$G$60,2,FALSE),)","v":0},{"$f":"IF($FK111=5,VLOOKUP($FK111,整理番号表!$B$32:$G$60,2,FALSE),)","v":0},{"$f":"IF(AND(8<=$FK111,$FK111<=13),VLOOKUP($FK111,整理番号表!$B$32:$G$60,2,FALSE),)","v":0},0,0,{"$f":"IF(AND(FE111<>1,$FP111=1,SUM($FQ111:FQ111)=0,$FF111=1,$FI111>=2),1,)","v":0},{"$f":"IF(AND(FE111<>1,$FP111=1,SUM($FQ111:FR111)=0,OR(AND($FF111=1,$FI111>0),$FI111>=4)),1,)","v":0},{"$f":"IF(AND(FE111<>1,$FP111=1,SUM($FQ111:FS111)=0,OR($FF111=1,$FI111>=2)),1,)","v":0},{"$f":"IF(AND(FE111<>1,$FP111=1,SUM($FQ111:FT111)=0,$FI111>0),1,)","v":0},0,0,{"$f":"IF(AND(FE111<>1,$FP111=2,SUM($FW111:FW111)=0,$FF111=1,$FJ111>=0.1),1,)","v":0},{"$f":"IF(AND(FE111<>1,$FP111=2,SUM($FW111:FX111)=0,OR(AND($FF111=1,$FI111>0),$FJ111>=0.2)),1,)","v":0},{"$f":"IF(AND(FE111<>1,$FP111=2,SUM($FW111:FY111)=0,OR($FF111=1,$FJ111>=0.1)),1,)","v":0},{"$f":"IF(AND(FE111<>1,$FP111=2,SUM($FW111:FZ111)=0,$FI111>0),1,)","v":0},0,{"$f":"IF(AND(FE111<>1,$FP111=3,SUM($GB111:GB111)=0,AND($FF111=1,$FJ111>=0.05)),1,)","v":0},{"$f":"IF(AND(FE111<>1,$FP111=3,SUM($GB111:GC111)=0,OR(AND($FF111=1,$FI111>0),$FJ111>=0.1)),1,)","v":0},{"$f":"IF(AND(FE111<>1,$FP111=3,SUM($GB111:GD111)=0,OR($FF111=1,$FJ111>=0.05)),1,)","v":0},{"$f":"IF(AND(FE111<>1,$FP111=3,SUM($GB111:GE111)=0,$FI111>0),1,)","v":0},0,null,0,0,0,0,0,0,0,0,0,0,0,0,0,0,0,0,0,0,0,0,0,0,0,0,0,0,0,0,0,0,0,0,0,0,0,0,0,0,0,0,0,0,0,0,0,0,0,0,0,0,0,0,0,0,0,0,0,0,0,0,0,0,0,0,0,0,0,0,0,0,0,0,0,0,0,0,0,0,0,"","","","","","","","","","","","","","","","○",0,0,0,0,0,0,0,"○",0,0,0,"○","○",null,0,0]
[0,0,0,0,0,0,0,0,0,0,100,null,null,null,null,{"$f":"IF(O112<>\"\",VLOOKUP(O112,整理番号表!$Z$17:$AA$20,2,FALSE),)","v":0},0,null,null,null,null,null,{"$f":"IF(V112<>0,VLOOKUP(V112,整理番号表!$B$6:$L$13,2,FALSE),)","v":0},0,{"$f":"IF(X112<>0,VLOOKUP(X112,整理番号表!$B$16:$C$18,2,FALSE),)","v":0},null,{"$f":"IF(Z112<>0,VLOOKUP(Z112,整理番号表!$B$22:$C$29,2,FALSE),)","v":0},null,null,{"$f":"IF(AC112<>0,VLOOKUP(AC112,整理番号表!$B$32:$G$60,2,FALSE),)","v":0},null,{"$f":"IF(AE112<>0,VLOOKUP(AE112,整理番号表!$P$5:$R$39,2,FALSE),)","v":0},null,0,null,null,{"$f":"IF(AJ112<>\"\",VLOOKUP(AJ112,整理番号表!$Z$6:$AA$14,2,FALSE),\"\")","v":""},0,null,null,null,null,null,{"$f":"IF(AQ112<>0,VLOOKUP(AQ112,整理番号表!$P$43:$Q$49,2,FALSE),)","v":0},null,null,null,null,0,0,null,0,null,null,null,0,0,0,null,null,0,0,null,{"$f":"IF(BK112<>0,VLOOKUP(BK112,整理番号表!$T$5:$U$16,2,FALSE),)","v":0},null,{"$f":"IF(BM112<>0,VLOOKUP(BM112,整理番号表!$T$22:$U$30,2,FALSE),)","v":0},null,0,"",null,null,null,null,null,"",0,null,null,null,null,null,null,null,null,null,0,0,0,0,0,0,0,0,0,0,0,0,0,0,0,0,0,0,0,0,0,0,0,0,0,0,0,0,null,null,null,null,null,0,0,0,0,0,0,null,0,null,null,null,null,null,null,null,0,null,null,null,null,null,null,null,null,null,null,null,null,null,null,null,null,null,null,null,null,null,null,null,null,null,null,0,0,null,null,0,0,0,{"$f":"IF(OR(AND(1<=$FK112,$FK112<=3),$FK112=6),VLOOKUP($FK112,整理番号表!$B$32:$G$60,2,FALSE),)","v":0},{"$f":"IF(OR($FK112=4,$FK112=7),VLOOKUP($FK112,整理番号表!$B$32:$G$60,2,FALSE),)","v":0},{"$f":"IF($FK112=5,VLOOKUP($FK112,整理番号表!$B$32:$G$60,2,FALSE),)","v":0},{"$f":"IF(AND(8<=$FK112,$FK112<=13),VLOOKUP($FK112,整理番号表!$B$32:$G$60,2,FALSE),)","v":0},0,0,{"$f":"IF(AND(FE112<>1,$FP112=1,SUM($FQ112:FQ112)=0,$FF112=1,$FI112>=2),1,)","v":0},{"$f":"IF(AND(FE112<>1,$FP112=1,SUM($FQ112:FR112)=0,OR(AND($FF112=1,$FI112>0),$FI112>=4)),1,)","v":0},{"$f":"IF(AND(FE112<>1,$FP112=1,SUM($FQ112:FS112)=0,OR($FF112=1,$FI112>=2)),1,)","v":0},{"$f":"IF(AND(FE112<>1,$FP112=1,SUM($FQ112:FT112)=0,$FI112>0),1,)","v":0},0,0,{"$f":"IF(AND(FE112<>1,$FP112=2,SUM($FW112:FW112)=0,$FF112=1,$FJ112>=0.1),1,)","v":0},{"$f":"IF(AND(FE112<>1,$FP112=2,SUM($FW112:FX112)=0,OR(AND($FF112=1,$FI112>0),$FJ112>=0.2)),1,)","v":0},{"$f":"IF(AND(FE112<>1,$FP112=2,SUM($FW112:FY112)=0,OR($FF112=1,$FJ112>=0.1)),1,)","v":0},{"$f":"IF(AND(FE112<>1,$FP112=2,SUM($FW112:FZ112)=0,$FI112>0),1,)","v":0},0,{"$f":"IF(AND(FE112<>1,$FP112=3,SUM($GB112:GB112)=0,AND($FF112=1,$FJ112>=0.05)),1,)","v":0},{"$f":"IF(AND(FE112<>1,$FP112=3,SUM($GB112:GC112)=0,OR(AND($FF112=1,$FI112>0),$FJ112>=0.1)),1,)","v":0},{"$f":"IF(AND(FE112<>1,$FP112=3,SUM($GB112:GD112)=0,OR($FF112=1,$FJ112>=0.05)),1,)","v":0},{"$f":"IF(AND(FE112<>1,$FP112=3,SUM($GB112:GE112)=0,$FI112>0),1,)","v":0},0,null,0,0,0,0,0,0,0,0,0,0,0,0,0,0,0,0,0,0,0,0,0,0,0,0,0,0,0,0,0,0,0,0,0,0,0,0,0,0,0,0,0,0,0,0,0,0,0,0,0,0,0,0,0,0,0,0,0,0,0,0,0,0,0,0,0,0,0,0,0,0,0,0,0,0,0,0,0,0,0,"","","","","","","","","","","","","","","","○",0,0,0,0,0,0,0,"○",0,0,0,"○","○",null,0,0]
[0,0,0,0,0,0,0,0,0,0,101,null,null,null,null,{"$f":"IF(O113<>\"\",VLOOKUP(O113,整理番号表!$Z$17:$AA$20,2,FALSE),)","v":0},0,null,null,null,null,null,{"$f":"IF(V113<>0,VLOOKUP(V113,整理番号表!$B$6:$L$13,2,FALSE),)","v":0},0,{"$f":"IF(X113<>0,VLOOKUP(X113,整理番号表!$B$16:$C$18,2,FALSE),)","v":0},null,{"$f":"IF(Z113<>0,VLOOKUP(Z113,整理番号表!$B$22:$C$29,2,FALSE),)","v":0},null,null,{"$f":"IF(AC113<>0,VLOOKUP(AC113,整理番号表!$B$32:$G$60,2,FALSE),)","v":0},null,{"$f":"IF(AE113<>0,VLOOKUP(AE113,整理番号表!$P$5:$R$39,2,FALSE),)","v":0},null,0,null,null,{"$f":"IF(AJ113<>\"\",VLOOKUP(AJ113,整理番号表!$Z$6:$AA$14,2,FALSE),\"\")","v":""},0,null,null,null,null,null,{"$f":"IF(AQ113<>0,VLOOKUP(AQ113,整理番号表!$P$43:$Q$49,2,FALSE),)","v":0},null,null,null,null,0,0,null,0,null,null,null,0,0,0,null,null,0,0,null,{"$f":"IF(BK113<>0,VLOOKUP(BK113,整理番号表!$T$5:$U$16,2,FALSE),)","v":0},null,{"$f":"IF(BM113<>0,VLOOKUP(BM113,整理番号表!$T$22:$U$30,2,FALSE),)","v":0},null,0,"",null,null,null,null,null,"",0,null,null,null,null,null,null,null,null,null,0,0,0,0,0,0,0,0,0,0,0,0,0,0,0,0,0,0,0,0,0,0,0,0,0,0,0,0,null,null,null,null,null,0,0,0,0,0,0,null,0,null,null,null,null,null,null,null,0,null,null,null,null,null,null,null,null,null,null,null,null,null,null,null,null,null,null,null,null,null,null,null,null,null,null,0,0,null,null,0,0,0,{"$f":"IF(OR(AND(1<=$FK113,$FK113<=3),$FK113=6),VLOOKUP($FK113,整理番号表!$B$32:$G$60,2,FALSE),)","v":0},{"$f":"IF(OR($FK113=4,$FK113=7),VLOOKUP($FK113,整理番号表!$B$32:$G$60,2,FALSE),)","v":0},{"$f":"IF($FK113=5,VLOOKUP($FK113,整理番号表!$B$32:$G$60,2,FALSE),)","v":0},{"$f":"IF(AND(8<=$FK113,$FK113<=13),VLOOKUP($FK113,整理番号表!$B$32:$G$60,2,FALSE),)","v":0},0,0,{"$f":"IF(AND(FE113<>1,$FP113=1,SUM($FQ113:FQ113)=0,$FF113=1,$FI113>=2),1,)","v":0},{"$f":"IF(AND(FE113<>1,$FP113=1,SUM($FQ113:FR113)=0,OR(AND($FF113=1,$FI113>0),$FI113>=4)),1,)","v":0},{"$f":"IF(AND(FE113<>1,$FP113=1,SUM($FQ113:FS113)=0,OR($FF113=1,$FI113>=2)),1,)","v":0},{"$f":"IF(AND(FE113<>1,$FP113=1,SUM($FQ113:FT113)=0,$FI113>0),1,)","v":0},0,0,{"$f":"IF(AND(FE113<>1,$FP113=2,SUM($FW113:FW113)=0,$FF113=1,$FJ113>=0.1),1,)","v":0},{"$f":"IF(AND(FE113<>1,$FP113=2,SUM($FW113:FX113)=0,OR(AND($FF113=1,$FI113>0),$FJ113>=0.2)),1,)","v":0},{"$f":"IF(AND(FE113<>1,$FP113=2,SUM($FW113:FY113)=0,OR($FF113=1,$FJ113>=0.1)),1,)","v":0},{"$f":"IF(AND(FE113<>1,$FP113=2,SUM($FW113:FZ113)=0,$FI113>0),1,)","v":0},0,{"$f":"IF(AND(FE113<>1,$FP113=3,SUM($GB113:GB113)=0,AND($FF113=1,$FJ113>=0.05)),1,)","v":0},{"$f":"IF(AND(FE113<>1,$FP113=3,SUM($GB113:GC113)=0,OR(AND($FF113=1,$FI113>0),$FJ113>=0.1)),1,)","v":0},{"$f":"IF(AND(FE113<>1,$FP113=3,SUM($GB113:GD113)=0,OR($FF113=1,$FJ113>=0.05)),1,)","v":0},{"$f":"IF(AND(FE113<>1,$FP113=3,SUM($GB113:GE113)=0,$FI113>0),1,)","v":0},0,null,0,0,0,0,0,0,0,0,0,0,0,0,0,0,0,0,0,0,0,0,0,0,0,0,0,0,0,0,0,0,0,0,0,0,0,0,0,0,0,0,0,0,0,0,0,0,0,0,0,0,0,0,0,0,0,0,0,0,0,0,0,0,0,0,0,0,0,0,0,0,0,0,0,0,0,0,0,0,0,"","","","","","","","","","","","","","","","○",0,0,0,0,0,0,0,"○",0,0,0,"○","○",null,0,0]
[0,0,0,0,0,0,0,0,0,0,102,null,null,null,null,{"$f":"IF(O114<>\"\",VLOOKUP(O114,整理番号表!$Z$17:$AA$20,2,FALSE),)","v":0},0,null,null,null,null,null,{"$f":"IF(V114<>0,VLOOKUP(V114,整理番号表!$B$6:$L$13,2,FALSE),)","v":0},0,{"$f":"IF(X114<>0,VLOOKUP(X114,整理番号表!$B$16:$C$18,2,FALSE),)","v":0},null,{"$f":"IF(Z114<>0,VLOOKUP(Z114,整理番号表!$B$22:$C$29,2,FALSE),)","v":0},null,null,{"$f":"IF(AC114<>0,VLOOKUP(AC114,整理番号表!$B$32:$G$60,2,FALSE),)","v":0},null,{"$f":"IF(AE114<>0,VLOOKUP(AE114,整理番号表!$P$5:$R$39,2,FALSE),)","v":0},null,0,null,null,{"$f":"IF(AJ114<>\"\",VLOOKUP(AJ114,整理番号表!$Z$6:$AA$14,2,FALSE),\"\")","v":""},0,null,null,null,null,null,{"$f":"IF(AQ114<>0,VLOOKUP(AQ114,整理番号表!$P$43:$Q$49,2,FALSE),)","v":0},null,null,null,null,0,0,null,0,null,null,null,0,0,0,null,null,0,0,null,{"$f":"IF(BK114<>0,VLOOKUP(BK114,整理番号表!$T$5:$U$16,2,FALSE),)","v":0},null,{"$f":"IF(BM114<>0,VLOOKUP(BM114,整理番号表!$T$22:$U$30,2,FALSE),)","v":0},null,0,"",null,null,null,null,null,"",0,null,null,null,null,null,null,null,null,null,0,0,0,0,0,0,0,0,0,0,0,0,0,0,0,0,0,0,0,0,0,0,0,0,0,0,0,0,null,null,null,null,null,0,0,0,0,0,0,null,0,null,null,null,null,null,null,null,0,null,null,null,null,null,null,null,null,null,null,null,null,null,null,null,null,null,null,null,null,null,null,null,null,null,null,0,0,null,null,0,0,0,{"$f":"IF(OR(AND(1<=$FK114,$FK114<=3),$FK114=6),VLOOKUP($FK114,整理番号表!$B$32:$G$60,2,FALSE),)","v":0},{"$f":"IF(OR($FK114=4,$FK114=7),VLOOKUP($FK114,整理番号表!$B$32:$G$60,2,FALSE),)","v":0},{"$f":"IF($FK114=5,VLOOKUP($FK114,整理番号表!$B$32:$G$60,2,FALSE),)","v":0},{"$f":"IF(AND(8<=$FK114,$FK114<=13),VLOOKUP($FK114,整理番号表!$B$32:$G$60,2,FALSE),)","v":0},0,0,{"$f":"IF(AND(FE114<>1,$FP114=1,SUM($FQ114:FQ114)=0,$FF114=1,$FI114>=2),1,)","v":0},{"$f":"IF(AND(FE114<>1,$FP114=1,SUM($FQ114:FR114)=0,OR(AND($FF114=1,$FI114>0),$FI114>=4)),1,)","v":0},{"$f":"IF(AND(FE114<>1,$FP114=1,SUM($FQ114:FS114)=0,OR($FF114=1,$FI114>=2)),1,)","v":0},{"$f":"IF(AND(FE114<>1,$FP114=1,SUM($FQ114:FT114)=0,$FI114>0),1,)","v":0},0,0,{"$f":"IF(AND(FE114<>1,$FP114=2,SUM($FW114:FW114)=0,$FF114=1,$FJ114>=0.1),1,)","v":0},{"$f":"IF(AND(FE114<>1,$FP114=2,SUM($FW114:FX114)=0,OR(AND($FF114=1,$FI114>0),$FJ114>=0.2)),1,)","v":0},{"$f":"IF(AND(FE114<>1,$FP114=2,SUM($FW114:FY114)=0,OR($FF114=1,$FJ114>=0.1)),1,)","v":0},{"$f":"IF(AND(FE114<>1,$FP114=2,SUM($FW114:FZ114)=0,$FI114>0),1,)","v":0},0,{"$f":"IF(AND(FE114<>1,$FP114=3,SUM($GB114:GB114)=0,AND($FF114=1,$FJ114>=0.05)),1,)","v":0},{"$f":"IF(AND(FE114<>1,$FP114=3,SUM($GB114:GC114)=0,OR(AND($FF114=1,$FI114>0),$FJ114>=0.1)),1,)","v":0},{"$f":"IF(AND(FE114<>1,$FP114=3,SUM($GB114:GD114)=0,OR($FF114=1,$FJ114>=0.05)),1,)","v":0},{"$f":"IF(AND(FE114<>1,$FP114=3,SUM($GB114:GE114)=0,$FI114>0),1,)","v":0},0,null,0,0,0,0,0,0,0,0,0,0,0,0,0,0,0,0,0,0,0,0,0,0,0,0,0,0,0,0,0,0,0,0,0,0,0,0,0,0,0,0,0,0,0,0,0,0,0,0,0,0,0,0,0,0,0,0,0,0,0,0,0,0,0,0,0,0,0,0,0,0,0,0,0,0,0,0,0,0,0,"","","","","","","","","","","","","","","","○",0,0,0,0,0,0,0,"○",0,0,0,"○","○",null,0,0]
[0,0,0,0,0,0,0,0,0,0,103,null,null,null,null,{"$f":"IF(O115<>\"\",VLOOKUP(O115,整理番号表!$Z$17:$AA$20,2,FALSE),)","v":0},0,null,null,null,null,null,{"$f":"IF(V115<>0,VLOOKUP(V115,整理番号表!$B$6:$L$13,2,FALSE),)","v":0},0,{"$f":"IF(X115<>0,VLOOKUP(X115,整理番号表!$B$16:$C$18,2,FALSE),)","v":0},null,{"$f":"IF(Z115<>0,VLOOKUP(Z115,整理番号表!$B$22:$C$29,2,FALSE),)","v":0},null,null,{"$f":"IF(AC115<>0,VLOOKUP(AC115,整理番号表!$B$32:$G$60,2,FALSE),)","v":0},null,{"$f":"IF(AE115<>0,VLOOKUP(AE115,整理番号表!$P$5:$R$39,2,FALSE),)","v":0},null,0,null,null,{"$f":"IF(AJ115<>\"\",VLOOKUP(AJ115,整理番号表!$Z$6:$AA$14,2,FALSE),\"\")","v":""},0,null,null,null,null,null,{"$f":"IF(AQ115<>0,VLOOKUP(AQ115,整理番号表!$P$43:$Q$49,2,FALSE),)","v":0},null,null,null,null,0,0,null,0,null,null,null,0,0,0,null,null,0,0,null,{"$f":"IF(BK115<>0,VLOOKUP(BK115,整理番号表!$T$5:$U$16,2,FALSE),)","v":0},null,{"$f":"IF(BM115<>0,VLOOKUP(BM115,整理番号表!$T$22:$U$30,2,FALSE),)","v":0},null,0,"",null,null,null,null,null,"",0,null,null,null,null,null,null,null,null,null,0,0,0,0,0,0,0,0,0,0,0,0,0,0,0,0,0,0,0,0,0,0,0,0,0,0,0,0,null,null,null,null,null,0,0,0,0,0,0,null,0,null,null,null,null,null,null,null,0,null,null,null,null,null,null,null,null,null,null,null,null,null,null,null,null,null,null,null,null,null,null,null,null,null,null,0,0,null,null,0,0,0,{"$f":"IF(OR(AND(1<=$FK115,$FK115<=3),$FK115=6),VLOOKUP($FK115,整理番号表!$B$32:$G$60,2,FALSE),)","v":0},{"$f":"IF(OR($FK115=4,$FK115=7),VLOOKUP($FK115,整理番号表!$B$32:$G$60,2,FALSE),)","v":0},{"$f":"IF($FK115=5,VLOOKUP($FK115,整理番号表!$B$32:$G$60,2,FALSE),)","v":0},{"$f":"IF(AND(8<=$FK115,$FK115<=13),VLOOKUP($FK115,整理番号表!$B$32:$G$60,2,FALSE),)","v":0},0,0,{"$f":"IF(AND(FE115<>1,$FP115=1,SUM($FQ115:FQ115)=0,$FF115=1,$FI115>=2),1,)","v":0},{"$f":"IF(AND(FE115<>1,$FP115=1,SUM($FQ115:FR115)=0,OR(AND($FF115=1,$FI115>0),$FI115>=4)),1,)","v":0},{"$f":"IF(AND(FE115<>1,$FP115=1,SUM($FQ115:FS115)=0,OR($FF115=1,$FI115>=2)),1,)","v":0},{"$f":"IF(AND(FE115<>1,$FP115=1,SUM($FQ115:FT115)=0,$FI115>0),1,)","v":0},0,0,{"$f":"IF(AND(FE115<>1,$FP115=2,SUM($FW115:FW115)=0,$FF115=1,$FJ115>=0.1),1,)","v":0},{"$f":"IF(AND(FE115<>1,$FP115=2,SUM($FW115:FX115)=0,OR(AND($FF115=1,$FI115>0),$FJ115>=0.2)),1,)","v":0},{"$f":"IF(AND(FE115<>1,$FP115=2,SUM($FW115:FY115)=0,OR($FF115=1,$FJ115>=0.1)),1,)","v":0},{"$f":"IF(AND(FE115<>1,$FP115=2,SUM($FW115:FZ115)=0,$FI115>0),1,)","v":0},0,{"$f":"IF(AND(FE115<>1,$FP115=3,SUM($GB115:GB115)=0,AND($FF115=1,$FJ115>=0.05)),1,)","v":0},{"$f":"IF(AND(FE115<>1,$FP115=3,SUM($GB115:GC115)=0,OR(AND($FF115=1,$FI115>0),$FJ115>=0.1)),1,)","v":0},{"$f":"IF(AND(FE115<>1,$FP115=3,SUM($GB115:GD115)=0,OR($FF115=1,$FJ115>=0.05)),1,)","v":0},{"$f":"IF(AND(FE115<>1,$FP115=3,SUM($GB115:GE115)=0,$FI115>0),1,)","v":0},0,null,0,0,0,0,0,0,0,0,0,0,0,0,0,0,0,0,0,0,0,0,0,0,0,0,0,0,0,0,0,0,0,0,0,0,0,0,0,0,0,0,0,0,0,0,0,0,0,0,0,0,0,0,0,0,0,0,0,0,0,0,0,0,0,0,0,0,0,0,0,0,0,0,0,0,0,0,0,0,0,"","","","","","","","","","","","","","","","○",0,0,0,0,0,0,0,"○",0,0,0,"○","○",null,0,0]
[0,0,0,0,0,0,0,0,0,0,104,null,null,null,null,{"$f":"IF(O116<>\"\",VLOOKUP(O116,整理番号表!$Z$17:$AA$20,2,FALSE),)","v":0},0,null,null,null,null,null,{"$f":"IF(V116<>0,VLOOKUP(V116,整理番号表!$B$6:$L$13,2,FALSE),)","v":0},0,{"$f":"IF(X116<>0,VLOOKUP(X116,整理番号表!$B$16:$C$18,2,FALSE),)","v":0},null,{"$f":"IF(Z116<>0,VLOOKUP(Z116,整理番号表!$B$22:$C$29,2,FALSE),)","v":0},null,null,{"$f":"IF(AC116<>0,VLOOKUP(AC116,整理番号表!$B$32:$G$60,2,FALSE),)","v":0},null,{"$f":"IF(AE116<>0,VLOOKUP(AE116,整理番号表!$P$5:$R$39,2,FALSE),)","v":0},null,0,null,null,{"$f":"IF(AJ116<>\"\",VLOOKUP(AJ116,整理番号表!$Z$6:$AA$14,2,FALSE),\"\")","v":""},0,null,null,null,null,null,{"$f":"IF(AQ116<>0,VLOOKUP(AQ116,整理番号表!$P$43:$Q$49,2,FALSE),)","v":0},null,null,null,null,0,0,null,0,null,null,null,0,0,0,null,null,0,0,null,{"$f":"IF(BK116<>0,VLOOKUP(BK116,整理番号表!$T$5:$U$16,2,FALSE),)","v":0},null,{"$f":"IF(BM116<>0,VLOOKUP(BM116,整理番号表!$T$22:$U$30,2,FALSE),)","v":0},null,0,"",null,null,null,null,null,"",0,null,null,null,null,null,null,null,null,null,0,0,0,0,0,0,0,0,0,0,0,0,0,0,0,0,0,0,0,0,0,0,0,0,0,0,0,0,null,null,null,null,null,0,0,0,0,0,0,null,0,null,null,null,null,null,null,null,0,null,null,null,null,null,null,null,null,null,null,null,null,null,null,null,null,null,null,null,null,null,null,null,null,null,null,0,0,null,null,0,0,0,{"$f":"IF(OR(AND(1<=$FK116,$FK116<=3),$FK116=6),VLOOKUP($FK116,整理番号表!$B$32:$G$60,2,FALSE),)","v":0},{"$f":"IF(OR($FK116=4,$FK116=7),VLOOKUP($FK116,整理番号表!$B$32:$G$60,2,FALSE),)","v":0},{"$f":"IF($FK116=5,VLOOKUP($FK116,整理番号表!$B$32:$G$60,2,FALSE),)","v":0},{"$f":"IF(AND(8<=$FK116,$FK116<=13),VLOOKUP($FK116,整理番号表!$B$32:$G$60,2,FALSE),)","v":0},0,0,{"$f":"IF(AND(FE116<>1,$FP116=1,SUM($FQ116:FQ116)=0,$FF116=1,$FI116>=2),1,)","v":0},{"$f":"IF(AND(FE116<>1,$FP116=1,SUM($FQ116:FR116)=0,OR(AND($FF116=1,$FI116>0),$FI116>=4)),1,)","v":0},{"$f":"IF(AND(FE116<>1,$FP116=1,SUM($FQ116:FS116)=0,OR($FF116=1,$FI116>=2)),1,)","v":0},{"$f":"IF(AND(FE116<>1,$FP116=1,SUM($FQ116:FT116)=0,$FI116>0),1,)","v":0},0,0,{"$f":"IF(AND(FE116<>1,$FP116=2,SUM($FW116:FW116)=0,$FF116=1,$FJ116>=0.1),1,)","v":0},{"$f":"IF(AND(FE116<>1,$FP116=2,SUM($FW116:FX116)=0,OR(AND($FF116=1,$FI116>0),$FJ116>=0.2)),1,)","v":0},{"$f":"IF(AND(FE116<>1,$FP116=2,SUM($FW116:FY116)=0,OR($FF116=1,$FJ116>=0.1)),1,)","v":0},{"$f":"IF(AND(FE116<>1,$FP116=2,SUM($FW116:FZ116)=0,$FI116>0),1,)","v":0},0,{"$f":"IF(AND(FE116<>1,$FP116=3,SUM($GB116:GB116)=0,AND($FF116=1,$FJ116>=0.05)),1,)","v":0},{"$f":"IF(AND(FE116<>1,$FP116=3,SUM($GB116:GC116)=0,OR(AND($FF116=1,$FI116>0),$FJ116>=0.1)),1,)","v":0},{"$f":"IF(AND(FE116<>1,$FP116=3,SUM($GB116:GD116)=0,OR($FF116=1,$FJ116>=0.05)),1,)","v":0},{"$f":"IF(AND(FE116<>1,$FP116=3,SUM($GB116:GE116)=0,$FI116>0),1,)","v":0},0,null,0,0,0,0,0,0,0,0,0,0,0,0,0,0,0,0,0,0,0,0,0,0,0,0,0,0,0,0,0,0,0,0,0,0,0,0,0,0,0,0,0,0,0,0,0,0,0,0,0,0,0,0,0,0,0,0,0,0,0,0,0,0,0,0,0,0,0,0,0,0,0,0,0,0,0,0,0,0,0,"","","","","","","","","","","","","","","","○",0,0,0,0,0,0,0,"○",0,0,0,"○","○",null,0,0]
[0,0,0,0,0,0,0,0,0,0,105,null,null,null,null,{"$f":"IF(O117<>\"\",VLOOKUP(O117,整理番号表!$Z$17:$AA$20,2,FALSE),)","v":0},0,null,null,null,null,null,{"$f":"IF(V117<>0,VLOOKUP(V117,整理番号表!$B$6:$L$13,2,FALSE),)","v":0},0,{"$f":"IF(X117<>0,VLOOKUP(X117,整理番号表!$B$16:$C$18,2,FALSE),)","v":0},null,{"$f":"IF(Z117<>0,VLOOKUP(Z117,整理番号表!$B$22:$C$29,2,FALSE),)","v":0},null,null,{"$f":"IF(AC117<>0,VLOOKUP(AC117,整理番号表!$B$32:$G$60,2,FALSE),)","v":0},null,{"$f":"IF(AE117<>0,VLOOKUP(AE117,整理番号表!$P$5:$R$39,2,FALSE),)","v":0},null,0,null,null,{"$f":"IF(AJ117<>\"\",VLOOKUP(AJ117,整理番号表!$Z$6:$AA$14,2,FALSE),\"\")","v":""},0,null,null,null,null,null,{"$f":"IF(AQ117<>0,VLOOKUP(AQ117,整理番号表!$P$43:$Q$49,2,FALSE),)","v":0},null,null,null,null,0,0,null,0,null,null,null,0,0,0,null,null,0,0,null,{"$f":"IF(BK117<>0,VLOOKUP(BK117,整理番号表!$T$5:$U$16,2,FALSE),)","v":0},null,{"$f":"IF(BM117<>0,VLOOKUP(BM117,整理番号表!$T$22:$U$30,2,FALSE),)","v":0},null,0,"",null,null,null,null,null,"",0,null,null,null,null,null,null,null,null,null,0,0,0,0,0,0,0,0,0,0,0,0,0,0,0,0,0,0,0,0,0,0,0,0,0,0,0,0,null,null,null,null,null,0,0,0,0,0,0,null,0,null,null,null,null,null,null,null,0,null,null,null,null,null,null,null,null,null,null,null,null,null,null,null,null,null,null,null,null,null,null,null,null,null,null,0,0,null,null,0,0,0,{"$f":"IF(OR(AND(1<=$FK117,$FK117<=3),$FK117=6),VLOOKUP($FK117,整理番号表!$B$32:$G$60,2,FALSE),)","v":0},{"$f":"IF(OR($FK117=4,$FK117=7),VLOOKUP($FK117,整理番号表!$B$32:$G$60,2,FALSE),)","v":0},{"$f":"IF($FK117=5,VLOOKUP($FK117,整理番号表!$B$32:$G$60,2,FALSE),)","v":0},{"$f":"IF(AND(8<=$FK117,$FK117<=13),VLOOKUP($FK117,整理番号表!$B$32:$G$60,2,FALSE),)","v":0},0,0,{"$f":"IF(AND(FE117<>1,$FP117=1,SUM($FQ117:FQ117)=0,$FF117=1,$FI117>=2),1,)","v":0},{"$f":"IF(AND(FE117<>1,$FP117=1,SUM($FQ117:FR117)=0,OR(AND($FF117=1,$FI117>0),$FI117>=4)),1,)","v":0},{"$f":"IF(AND(FE117<>1,$FP117=1,SUM($FQ117:FS117)=0,OR($FF117=1,$FI117>=2)),1,)","v":0},{"$f":"IF(AND(FE117<>1,$FP117=1,SUM($FQ117:FT117)=0,$FI117>0),1,)","v":0},0,0,{"$f":"IF(AND(FE117<>1,$FP117=2,SUM($FW117:FW117)=0,$FF117=1,$FJ117>=0.1),1,)","v":0},{"$f":"IF(AND(FE117<>1,$FP117=2,SUM($FW117:FX117)=0,OR(AND($FF117=1,$FI117>0),$FJ117>=0.2)),1,)","v":0},{"$f":"IF(AND(FE117<>1,$FP117=2,SUM($FW117:FY117)=0,OR($FF117=1,$FJ117>=0.1)),1,)","v":0},{"$f":"IF(AND(FE117<>1,$FP117=2,SUM($FW117:FZ117)=0,$FI117>0),1,)","v":0},0,{"$f":"IF(AND(FE117<>1,$FP117=3,SUM($GB117:GB117)=0,AND($FF117=1,$FJ117>=0.05)),1,)","v":0},{"$f":"IF(AND(FE117<>1,$FP117=3,SUM($GB117:GC117)=0,OR(AND($FF117=1,$FI117>0),$FJ117>=0.1)),1,)","v":0},{"$f":"IF(AND(FE117<>1,$FP117=3,SUM($GB117:GD117)=0,OR($FF117=1,$FJ117>=0.05)),1,)","v":0},{"$f":"IF(AND(FE117<>1,$FP117=3,SUM($GB117:GE117)=0,$FI117>0),1,)","v":0},0,null,0,0,0,0,0,0,0,0,0,0,0,0,0,0,0,0,0,0,0,0,0,0,0,0,0,0,0,0,0,0,0,0,0,0,0,0,0,0,0,0,0,0,0,0,0,0,0,0,0,0,0,0,0,0,0,0,0,0,0,0,0,0,0,0,0,0,0,0,0,0,0,0,0,0,0,0,0,0,0,"","","","","","","","","","","","","","","","○",0,0,0,0,0,0,0,"○",0,0,0,"○","○",null,0,0]
[0,0,0,0,0,0,0,0,0,0,106,null,null,null,null,{"$f":"IF(O118<>\"\",VLOOKUP(O118,整理番号表!$Z$17:$AA$20,2,FALSE),)","v":0},0,null,null,null,null,null,{"$f":"IF(V118<>0,VLOOKUP(V118,整理番号表!$B$6:$L$13,2,FALSE),)","v":0},0,{"$f":"IF(X118<>0,VLOOKUP(X118,整理番号表!$B$16:$C$18,2,FALSE),)","v":0},null,{"$f":"IF(Z118<>0,VLOOKUP(Z118,整理番号表!$B$22:$C$29,2,FALSE),)","v":0},null,null,{"$f":"IF(AC118<>0,VLOOKUP(AC118,整理番号表!$B$32:$G$60,2,FALSE),)","v":0},null,{"$f":"IF(AE118<>0,VLOOKUP(AE118,整理番号表!$P$5:$R$39,2,FALSE),)","v":0},null,0,null,null,{"$f":"IF(AJ118<>\"\",VLOOKUP(AJ118,整理番号表!$Z$6:$AA$14,2,FALSE),\"\")","v":""},0,null,null,null,null,null,{"$f":"IF(AQ118<>0,VLOOKUP(AQ118,整理番号表!$P$43:$Q$49,2,FALSE),)","v":0},null,null,null,null,0,0,null,0,null,null,null,0,0,0,null,null,0,0,null,{"$f":"IF(BK118<>0,VLOOKUP(BK118,整理番号表!$T$5:$U$16,2,FALSE),)","v":0},null,{"$f":"IF(BM118<>0,VLOOKUP(BM118,整理番号表!$T$22:$U$30,2,FALSE),)","v":0},null,0,"",null,null,null,null,null,"",0,null,null,null,null,null,null,null,null,null,0,0,0,0,0,0,0,0,0,0,0,0,0,0,0,0,0,0,0,0,0,0,0,0,0,0,0,0,null,null,null,null,null,0,0,0,0,0,0,null,0,null,null,null,null,null,null,null,0,null,null,null,null,null,null,null,null,null,null,null,null,null,null,null,null,null,null,null,null,null,null,null,null,null,null,0,0,null,null,0,0,0,{"$f":"IF(OR(AND(1<=$FK118,$FK118<=3),$FK118=6),VLOOKUP($FK118,整理番号表!$B$32:$G$60,2,FALSE),)","v":0},{"$f":"IF(OR($FK118=4,$FK118=7),VLOOKUP($FK118,整理番号表!$B$32:$G$60,2,FALSE),)","v":0},{"$f":"IF($FK118=5,VLOOKUP($FK118,整理番号表!$B$32:$G$60,2,FALSE),)","v":0},{"$f":"IF(AND(8<=$FK118,$FK118<=13),VLOOKUP($FK118,整理番号表!$B$32:$G$60,2,FALSE),)","v":0},0,0,{"$f":"IF(AND(FE118<>1,$FP118=1,SUM($FQ118:FQ118)=0,$FF118=1,$FI118>=2),1,)","v":0},{"$f":"IF(AND(FE118<>1,$FP118=1,SUM($FQ118:FR118)=0,OR(AND($FF118=1,$FI118>0),$FI118>=4)),1,)","v":0},{"$f":"IF(AND(FE118<>1,$FP118=1,SUM($FQ118:FS118)=0,OR($FF118=1,$FI118>=2)),1,)","v":0},{"$f":"IF(AND(FE118<>1,$FP118=1,SUM($FQ118:FT118)=0,$FI118>0),1,)","v":0},0,0,{"$f":"IF(AND(FE118<>1,$FP118=2,SUM($FW118:FW118)=0,$FF118=1,$FJ118>=0.1),1,)","v":0},{"$f":"IF(AND(FE118<>1,$FP118=2,SUM($FW118:FX118)=0,OR(AND($FF118=1,$FI118>0),$FJ118>=0.2)),1,)","v":0},{"$f":"IF(AND(FE118<>1,$FP118=2,SUM($FW118:FY118)=0,OR($FF118=1,$FJ118>=0.1)),1,)","v":0},{"$f":"IF(AND(FE118<>1,$FP118=2,SUM($FW118:FZ118)=0,$FI118>0),1,)","v":0},0,{"$f":"IF(AND(FE118<>1,$FP118=3,SUM($GB118:GB118)=0,AND($FF118=1,$FJ118>=0.05)),1,)","v":0},{"$f":"IF(AND(FE118<>1,$FP118=3,SUM($GB118:GC118)=0,OR(AND($FF118=1,$FI118>0),$FJ118>=0.1)),1,)","v":0},{"$f":"IF(AND(FE118<>1,$FP118=3,SUM($GB118:GD118)=0,OR($FF118=1,$FJ118>=0.05)),1,)","v":0},{"$f":"IF(AND(FE118<>1,$FP118=3,SUM($GB118:GE118)=0,$FI118>0),1,)","v":0},0,null,0,0,0,0,0,0,0,0,0,0,0,0,0,0,0,0,0,0,0,0,0,0,0,0,0,0,0,0,0,0,0,0,0,0,0,0,0,0,0,0,0,0,0,0,0,0,0,0,0,0,0,0,0,0,0,0,0,0,0,0,0,0,0,0,0,0,0,0,0,0,0,0,0,0,0,0,0,0,0,"","","","","","","","","","","","","","","","○",0,0,0,0,0,0,0,"○",0,0,0,"○","○",null,0,0]
[0,0,0,0,0,0,0,0,0,0,107,null,null,null,null,{"$f":"IF(O119<>\"\",VLOOKUP(O119,整理番号表!$Z$17:$AA$20,2,FALSE),)","v":0},0,null,null,null,null,null,{"$f":"IF(V119<>0,VLOOKUP(V119,整理番号表!$B$6:$L$13,2,FALSE),)","v":0},0,{"$f":"IF(X119<>0,VLOOKUP(X119,整理番号表!$B$16:$C$18,2,FALSE),)","v":0},null,{"$f":"IF(Z119<>0,VLOOKUP(Z119,整理番号表!$B$22:$C$29,2,FALSE),)","v":0},null,null,{"$f":"IF(AC119<>0,VLOOKUP(AC119,整理番号表!$B$32:$G$60,2,FALSE),)","v":0},null,{"$f":"IF(AE119<>0,VLOOKUP(AE119,整理番号表!$P$5:$R$39,2,FALSE),)","v":0},null,0,null,null,{"$f":"IF(AJ119<>\"\",VLOOKUP(AJ119,整理番号表!$Z$6:$AA$14,2,FALSE),\"\")","v":""},0,null,null,null,null,null,{"$f":"IF(AQ119<>0,VLOOKUP(AQ119,整理番号表!$P$43:$Q$49,2,FALSE),)","v":0},null,null,null,null,0,0,null,0,null,null,null,0,0,0,null,null,0,0,null,{"$f":"IF(BK119<>0,VLOOKUP(BK119,整理番号表!$T$5:$U$16,2,FALSE),)","v":0},null,{"$f":"IF(BM119<>0,VLOOKUP(BM119,整理番号表!$T$22:$U$30,2,FALSE),)","v":0},null,0,"",null,null,null,null,null,"",0,null,null,null,null,null,null,null,null,null,0,0,0,0,0,0,0,0,0,0,0,0,0,0,0,0,0,0,0,0,0,0,0,0,0,0,0,0,null,null,null,null,null,0,0,0,0,0,0,null,0,null,null,null,null,null,null,null,0,null,null,null,null,null,null,null,null,null,null,null,null,null,null,null,null,null,null,null,null,null,null,null,null,null,null,0,0,null,null,0,0,0,{"$f":"IF(OR(AND(1<=$FK119,$FK119<=3),$FK119=6),VLOOKUP($FK119,整理番号表!$B$32:$G$60,2,FALSE),)","v":0},{"$f":"IF(OR($FK119=4,$FK119=7),VLOOKUP($FK119,整理番号表!$B$32:$G$60,2,FALSE),)","v":0},{"$f":"IF($FK119=5,VLOOKUP($FK119,整理番号表!$B$32:$G$60,2,FALSE),)","v":0},{"$f":"IF(AND(8<=$FK119,$FK119<=13),VLOOKUP($FK119,整理番号表!$B$32:$G$60,2,FALSE),)","v":0},0,0,{"$f":"IF(AND(FE119<>1,$FP119=1,SUM($FQ119:FQ119)=0,$FF119=1,$FI119>=2),1,)","v":0},{"$f":"IF(AND(FE119<>1,$FP119=1,SUM($FQ119:FR119)=0,OR(AND($FF119=1,$FI119>0),$FI119>=4)),1,)","v":0},{"$f":"IF(AND(FE119<>1,$FP119=1,SUM($FQ119:FS119)=0,OR($FF119=1,$FI119>=2)),1,)","v":0},{"$f":"IF(AND(FE119<>1,$FP119=1,SUM($FQ119:FT119)=0,$FI119>0),1,)","v":0},0,0,{"$f":"IF(AND(FE119<>1,$FP119=2,SUM($FW119:FW119)=0,$FF119=1,$FJ119>=0.1),1,)","v":0},{"$f":"IF(AND(FE119<>1,$FP119=2,SUM($FW119:FX119)=0,OR(AND($FF119=1,$FI119>0),$FJ119>=0.2)),1,)","v":0},{"$f":"IF(AND(FE119<>1,$FP119=2,SUM($FW119:FY119)=0,OR($FF119=1,$FJ119>=0.1)),1,)","v":0},{"$f":"IF(AND(FE119<>1,$FP119=2,SUM($FW119:FZ119)=0,$FI119>0),1,)","v":0},0,{"$f":"IF(AND(FE119<>1,$FP119=3,SUM($GB119:GB119)=0,AND($FF119=1,$FJ119>=0.05)),1,)","v":0},{"$f":"IF(AND(FE119<>1,$FP119=3,SUM($GB119:GC119)=0,OR(AND($FF119=1,$FI119>0),$FJ119>=0.1)),1,)","v":0},{"$f":"IF(AND(FE119<>1,$FP119=3,SUM($GB119:GD119)=0,OR($FF119=1,$FJ119>=0.05)),1,)","v":0},{"$f":"IF(AND(FE119<>1,$FP119=3,SUM($GB119:GE119)=0,$FI119>0),1,)","v":0},0,null,0,0,0,0,0,0,0,0,0,0,0,0,0,0,0,0,0,0,0,0,0,0,0,0,0,0,0,0,0,0,0,0,0,0,0,0,0,0,0,0,0,0,0,0,0,0,0,0,0,0,0,0,0,0,0,0,0,0,0,0,0,0,0,0,0,0,0,0,0,0,0,0,0,0,0,0,0,0,0,"","","","","","","","","","","","","","","","○",0,0,0,0,0,0,0,"○",0,0,0,"○","○",null,0,0]
[0,0,0,0,0,0,0,0,0,0,108,null,null,null,null,{"$f":"IF(O120<>\"\",VLOOKUP(O120,整理番号表!$Z$17:$AA$20,2,FALSE),)","v":0},0,null,null,null,null,null,{"$f":"IF(V120<>0,VLOOKUP(V120,整理番号表!$B$6:$L$13,2,FALSE),)","v":0},0,{"$f":"IF(X120<>0,VLOOKUP(X120,整理番号表!$B$16:$C$18,2,FALSE),)","v":0},null,{"$f":"IF(Z120<>0,VLOOKUP(Z120,整理番号表!$B$22:$C$29,2,FALSE),)","v":0},null,null,{"$f":"IF(AC120<>0,VLOOKUP(AC120,整理番号表!$B$32:$G$60,2,FALSE),)","v":0},null,{"$f":"IF(AE120<>0,VLOOKUP(AE120,整理番号表!$P$5:$R$39,2,FALSE),)","v":0},null,0,null,null,{"$f":"IF(AJ120<>\"\",VLOOKUP(AJ120,整理番号表!$Z$6:$AA$14,2,FALSE),\"\")","v":""},0,null,null,null,null,null,{"$f":"IF(AQ120<>0,VLOOKUP(AQ120,整理番号表!$P$43:$Q$49,2,FALSE),)","v":0},null,null,null,null,0,0,null,0,null,null,null,0,0,0,null,null,0,0,null,{"$f":"IF(BK120<>0,VLOOKUP(BK120,整理番号表!$T$5:$U$16,2,FALSE),)","v":0},null,{"$f":"IF(BM120<>0,VLOOKUP(BM120,整理番号表!$T$22:$U$30,2,FALSE),)","v":0},null,0,"",null,null,null,null,null,"",0,null,null,null,null,null,null,null,null,null,0,0,0,0,0,0,0,0,0,0,0,0,0,0,0,0,0,0,0,0,0,0,0,0,0,0,0,0,null,null,null,null,null,0,0,0,0,0,0,null,0,null,null,null,null,null,null,null,0,null,null,null,null,null,null,null,null,null,null,null,null,null,null,null,null,null,null,null,null,null,null,null,null,null,null,0,0,null,null,0,0,0,{"$f":"IF(OR(AND(1<=$FK120,$FK120<=3),$FK120=6),VLOOKUP($FK120,整理番号表!$B$32:$G$60,2,FALSE),)","v":0},{"$f":"IF(OR($FK120=4,$FK120=7),VLOOKUP($FK120,整理番号表!$B$32:$G$60,2,FALSE),)","v":0},{"$f":"IF($FK120=5,VLOOKUP($FK120,整理番号表!$B$32:$G$60,2,FALSE),)","v":0},{"$f":"IF(AND(8<=$FK120,$FK120<=13),VLOOKUP($FK120,整理番号表!$B$32:$G$60,2,FALSE),)","v":0},0,0,{"$f":"IF(AND(FE120<>1,$FP120=1,SUM($FQ120:FQ120)=0,$FF120=1,$FI120>=2),1,)","v":0},{"$f":"IF(AND(FE120<>1,$FP120=1,SUM($FQ120:FR120)=0,OR(AND($FF120=1,$FI120>0),$FI120>=4)),1,)","v":0},{"$f":"IF(AND(FE120<>1,$FP120=1,SUM($FQ120:FS120)=0,OR($FF120=1,$FI120>=2)),1,)","v":0},{"$f":"IF(AND(FE120<>1,$FP120=1,SUM($FQ120:FT120)=0,$FI120>0),1,)","v":0},0,0,{"$f":"IF(AND(FE120<>1,$FP120=2,SUM($FW120:FW120)=0,$FF120=1,$FJ120>=0.1),1,)","v":0},{"$f":"IF(AND(FE120<>1,$FP120=2,SUM($FW120:FX120)=0,OR(AND($FF120=1,$FI120>0),$FJ120>=0.2)),1,)","v":0},{"$f":"IF(AND(FE120<>1,$FP120=2,SUM($FW120:FY120)=0,OR($FF120=1,$FJ120>=0.1)),1,)","v":0},{"$f":"IF(AND(FE120<>1,$FP120=2,SUM($FW120:FZ120)=0,$FI120>0),1,)","v":0},0,{"$f":"IF(AND(FE120<>1,$FP120=3,SUM($GB120:GB120)=0,AND($FF120=1,$FJ120>=0.05)),1,)","v":0},{"$f":"IF(AND(FE120<>1,$FP120=3,SUM($GB120:GC120)=0,OR(AND($FF120=1,$FI120>0),$FJ120>=0.1)),1,)","v":0},{"$f":"IF(AND(FE120<>1,$FP120=3,SUM($GB120:GD120)=0,OR($FF120=1,$FJ120>=0.05)),1,)","v":0},{"$f":"IF(AND(FE120<>1,$FP120=3,SUM($GB120:GE120)=0,$FI120>0),1,)","v":0},0,null,0,0,0,0,0,0,0,0,0,0,0,0,0,0,0,0,0,0,0,0,0,0,0,0,0,0,0,0,0,0,0,0,0,0,0,0,0,0,0,0,0,0,0,0,0,0,0,0,0,0,0,0,0,0,0,0,0,0,0,0,0,0,0,0,0,0,0,0,0,0,0,0,0,0,0,0,0,0,0,"","","","","","","","","","","","","","","","○",0,0,0,0,0,0,0,"○",0,0,0,"○","○",null,0,0]
[0,0,0,0,0,0,0,0,0,0,109,null,null,null,null,{"$f":"IF(O121<>\"\",VLOOKUP(O121,整理番号表!$Z$17:$AA$20,2,FALSE),)","v":0},0,null,null,null,null,null,{"$f":"IF(V121<>0,VLOOKUP(V121,整理番号表!$B$6:$L$13,2,FALSE),)","v":0},0,{"$f":"IF(X121<>0,VLOOKUP(X121,整理番号表!$B$16:$C$18,2,FALSE),)","v":0},null,{"$f":"IF(Z121<>0,VLOOKUP(Z121,整理番号表!$B$22:$C$29,2,FALSE),)","v":0},null,null,{"$f":"IF(AC121<>0,VLOOKUP(AC121,整理番号表!$B$32:$G$60,2,FALSE),)","v":0},null,{"$f":"IF(AE121<>0,VLOOKUP(AE121,整理番号表!$P$5:$R$39,2,FALSE),)","v":0},null,0,null,null,{"$f":"IF(AJ121<>\"\",VLOOKUP(AJ121,整理番号表!$Z$6:$AA$14,2,FALSE),\"\")","v":""},0,null,null,null,null,null,{"$f":"IF(AQ121<>0,VLOOKUP(AQ121,整理番号表!$P$43:$Q$49,2,FALSE),)","v":0},null,null,null,null,0,0,null,0,null,null,null,0,0,0,null,null,0,0,null,{"$f":"IF(BK121<>0,VLOOKUP(BK121,整理番号表!$T$5:$U$16,2,FALSE),)","v":0},null,{"$f":"IF(BM121<>0,VLOOKUP(BM121,整理番号表!$T$22:$U$30,2,FALSE),)","v":0},null,0,"",null,null,null,null,null,"",0,null,null,null,null,null,null,null,null,null,0,0,0,0,0,0,0,0,0,0,0,0,0,0,0,0,0,0,0,0,0,0,0,0,0,0,0,0,null,null,null,null,null,0,0,0,0,0,0,null,0,null,null,null,null,null,null,null,0,null,null,null,null,null,null,null,null,null,null,null,null,null,null,null,null,null,null,null,null,null,null,null,null,null,null,0,0,null,null,0,0,0,{"$f":"IF(OR(AND(1<=$FK121,$FK121<=3),$FK121=6),VLOOKUP($FK121,整理番号表!$B$32:$G$60,2,FALSE),)","v":0},{"$f":"IF(OR($FK121=4,$FK121=7),VLOOKUP($FK121,整理番号表!$B$32:$G$60,2,FALSE),)","v":0},{"$f":"IF($FK121=5,VLOOKUP($FK121,整理番号表!$B$32:$G$60,2,FALSE),)","v":0},{"$f":"IF(AND(8<=$FK121,$FK121<=13),VLOOKUP($FK121,整理番号表!$B$32:$G$60,2,FALSE),)","v":0},0,0,{"$f":"IF(AND(FE121<>1,$FP121=1,SUM($FQ121:FQ121)=0,$FF121=1,$FI121>=2),1,)","v":0},{"$f":"IF(AND(FE121<>1,$FP121=1,SUM($FQ121:FR121)=0,OR(AND($FF121=1,$FI121>0),$FI121>=4)),1,)","v":0},{"$f":"IF(AND(FE121<>1,$FP121=1,SUM($FQ121:FS121)=0,OR($FF121=1,$FI121>=2)),1,)","v":0},{"$f":"IF(AND(FE121<>1,$FP121=1,SUM($FQ121:FT121)=0,$FI121>0),1,)","v":0},0,0,{"$f":"IF(AND(FE121<>1,$FP121=2,SUM($FW121:FW121)=0,$FF121=1,$FJ121>=0.1),1,)","v":0},{"$f":"IF(AND(FE121<>1,$FP121=2,SUM($FW121:FX121)=0,OR(AND($FF121=1,$FI121>0),$FJ121>=0.2)),1,)","v":0},{"$f":"IF(AND(FE121<>1,$FP121=2,SUM($FW121:FY121)=0,OR($FF121=1,$FJ121>=0.1)),1,)","v":0},{"$f":"IF(AND(FE121<>1,$FP121=2,SUM($FW121:FZ121)=0,$FI121>0),1,)","v":0},0,{"$f":"IF(AND(FE121<>1,$FP121=3,SUM($GB121:GB121)=0,AND($FF121=1,$FJ121>=0.05)),1,)","v":0},{"$f":"IF(AND(FE121<>1,$FP121=3,SUM($GB121:GC121)=0,OR(AND($FF121=1,$FI121>0),$FJ121>=0.1)),1,)","v":0},{"$f":"IF(AND(FE121<>1,$FP121=3,SUM($GB121:GD121)=0,OR($FF121=1,$FJ121>=0.05)),1,)","v":0},{"$f":"IF(AND(FE121<>1,$FP121=3,SUM($GB121:GE121)=0,$FI121>0),1,)","v":0},0,null,0,0,0,0,0,0,0,0,0,0,0,0,0,0,0,0,0,0,0,0,0,0,0,0,0,0,0,0,0,0,0,0,0,0,0,0,0,0,0,0,0,0,0,0,0,0,0,0,0,0,0,0,0,0,0,0,0,0,0,0,0,0,0,0,0,0,0,0,0,0,0,0,0,0,0,0,0,0,0,"","","","","","","","","","","","","","","","○",0,0,0,0,0,0,0,"○",0,0,0,"○","○",null,0,0]
[0,0,0,0,0,0,0,0,0,0,110,null,null,null,null,{"$f":"IF(O122<>\"\",VLOOKUP(O122,整理番号表!$Z$17:$AA$20,2,FALSE),)","v":0},0,null,null,null,null,null,{"$f":"IF(V122<>0,VLOOKUP(V122,整理番号表!$B$6:$L$13,2,FALSE),)","v":0},0,{"$f":"IF(X122<>0,VLOOKUP(X122,整理番号表!$B$16:$C$18,2,FALSE),)","v":0},null,{"$f":"IF(Z122<>0,VLOOKUP(Z122,整理番号表!$B$22:$C$29,2,FALSE),)","v":0},null,null,{"$f":"IF(AC122<>0,VLOOKUP(AC122,整理番号表!$B$32:$G$60,2,FALSE),)","v":0},null,{"$f":"IF(AE122<>0,VLOOKUP(AE122,整理番号表!$P$5:$R$39,2,FALSE),)","v":0},null,0,null,null,{"$f":"IF(AJ122<>\"\",VLOOKUP(AJ122,整理番号表!$Z$6:$AA$14,2,FALSE),\"\")","v":""},0,null,null,null,null,null,{"$f":"IF(AQ122<>0,VLOOKUP(AQ122,整理番号表!$P$43:$Q$49,2,FALSE),)","v":0},null,null,null,null,0,0,null,0,null,null,null,0,0,0,null,null,0,0,null,{"$f":"IF(BK122<>0,VLOOKUP(BK122,整理番号表!$T$5:$U$16,2,FALSE),)","v":0},null,{"$f":"IF(BM122<>0,VLOOKUP(BM122,整理番号表!$T$22:$U$30,2,FALSE),)","v":0},null,0,"",null,null,null,null,null,"",0,null,null,null,null,null,null,null,null,null,0,0,0,0,0,0,0,0,0,0,0,0,0,0,0,0,0,0,0,0,0,0,0,0,0,0,0,0,null,null,null,null,null,0,0,0,0,0,0,null,0,null,null,null,null,null,null,null,0,null,null,null,null,null,null,null,null,null,null,null,null,null,null,null,null,null,null,null,null,null,null,null,null,null,null,0,0,null,null,0,0,0,{"$f":"IF(OR(AND(1<=$FK122,$FK122<=3),$FK122=6),VLOOKUP($FK122,整理番号表!$B$32:$G$60,2,FALSE),)","v":0},{"$f":"IF(OR($FK122=4,$FK122=7),VLOOKUP($FK122,整理番号表!$B$32:$G$60,2,FALSE),)","v":0},{"$f":"IF($FK122=5,VLOOKUP($FK122,整理番号表!$B$32:$G$60,2,FALSE),)","v":0},{"$f":"IF(AND(8<=$FK122,$FK122<=13),VLOOKUP($FK122,整理番号表!$B$32:$G$60,2,FALSE),)","v":0},0,0,{"$f":"IF(AND(FE122<>1,$FP122=1,SUM($FQ122:FQ122)=0,$FF122=1,$FI122>=2),1,)","v":0},{"$f":"IF(AND(FE122<>1,$FP122=1,SUM($FQ122:FR122)=0,OR(AND($FF122=1,$FI122>0),$FI122>=4)),1,)","v":0},{"$f":"IF(AND(FE122<>1,$FP122=1,SUM($FQ122:FS122)=0,OR($FF122=1,$FI122>=2)),1,)","v":0},{"$f":"IF(AND(FE122<>1,$FP122=1,SUM($FQ122:FT122)=0,$FI122>0),1,)","v":0},0,0,{"$f":"IF(AND(FE122<>1,$FP122=2,SUM($FW122:FW122)=0,$FF122=1,$FJ122>=0.1),1,)","v":0},{"$f":"IF(AND(FE122<>1,$FP122=2,SUM($FW122:FX122)=0,OR(AND($FF122=1,$FI122>0),$FJ122>=0.2)),1,)","v":0},{"$f":"IF(AND(FE122<>1,$FP122=2,SUM($FW122:FY122)=0,OR($FF122=1,$FJ122>=0.1)),1,)","v":0},{"$f":"IF(AND(FE122<>1,$FP122=2,SUM($FW122:FZ122)=0,$FI122>0),1,)","v":0},0,{"$f":"IF(AND(FE122<>1,$FP122=3,SUM($GB122:GB122)=0,AND($FF122=1,$FJ122>=0.05)),1,)","v":0},{"$f":"IF(AND(FE122<>1,$FP122=3,SUM($GB122:GC122)=0,OR(AND($FF122=1,$FI122>0),$FJ122>=0.1)),1,)","v":0},{"$f":"IF(AND(FE122<>1,$FP122=3,SUM($GB122:GD122)=0,OR($FF122=1,$FJ122>=0.05)),1,)","v":0},{"$f":"IF(AND(FE122<>1,$FP122=3,SUM($GB122:GE122)=0,$FI122>0),1,)","v":0},0,null,0,0,0,0,0,0,0,0,0,0,0,0,0,0,0,0,0,0,0,0,0,0,0,0,0,0,0,0,0,0,0,0,0,0,0,0,0,0,0,0,0,0,0,0,0,0,0,0,0,0,0,0,0,0,0,0,0,0,0,0,0,0,0,0,0,0,0,0,0,0,0,0,0,0,0,0,0,0,0,"","","","","","","","","","","","","","","","○",0,0,0,0,0,0,0,"○",0,0,0,"○","○",null,0,0]
[0,0,0,0,0,0,0,0,0,0,111,null,null,null,null,{"$f":"IF(O123<>\"\",VLOOKUP(O123,整理番号表!$Z$17:$AA$20,2,FALSE),)","v":0},0,null,null,null,null,null,{"$f":"IF(V123<>0,VLOOKUP(V123,整理番号表!$B$6:$L$13,2,FALSE),)","v":0},0,{"$f":"IF(X123<>0,VLOOKUP(X123,整理番号表!$B$16:$C$18,2,FALSE),)","v":0},null,{"$f":"IF(Z123<>0,VLOOKUP(Z123,整理番号表!$B$22:$C$29,2,FALSE),)","v":0},null,null,{"$f":"IF(AC123<>0,VLOOKUP(AC123,整理番号表!$B$32:$G$60,2,FALSE),)","v":0},null,{"$f":"IF(AE123<>0,VLOOKUP(AE123,整理番号表!$P$5:$R$39,2,FALSE),)","v":0},null,0,null,null,{"$f":"IF(AJ123<>\"\",VLOOKUP(AJ123,整理番号表!$Z$6:$AA$14,2,FALSE),\"\")","v":""},0,null,null,null,null,null,{"$f":"IF(AQ123<>0,VLOOKUP(AQ123,整理番号表!$P$43:$Q$49,2,FALSE),)","v":0},null,null,null,null,0,0,null,0,null,null,null,0,0,0,null,null,0,0,null,{"$f":"IF(BK123<>0,VLOOKUP(BK123,整理番号表!$T$5:$U$16,2,FALSE),)","v":0},null,{"$f":"IF(BM123<>0,VLOOKUP(BM123,整理番号表!$T$22:$U$30,2,FALSE),)","v":0},null,0,"",null,null,null,null,null,"",0,null,null,null,null,null,null,null,null,null,0,0,0,0,0,0,0,0,0,0,0,0,0,0,0,0,0,0,0,0,0,0,0,0,0,0,0,0,null,null,null,null,null,0,0,0,0,0,0,null,0,null,null,null,null,null,null,null,0,null,null,null,null,null,null,null,null,null,null,null,null,null,null,null,null,null,null,null,null,null,null,null,null,null,null,0,0,null,null,0,0,0,{"$f":"IF(OR(AND(1<=$FK123,$FK123<=3),$FK123=6),VLOOKUP($FK123,整理番号表!$B$32:$G$60,2,FALSE),)","v":0},{"$f":"IF(OR($FK123=4,$FK123=7),VLOOKUP($FK123,整理番号表!$B$32:$G$60,2,FALSE),)","v":0},{"$f":"IF($FK123=5,VLOOKUP($FK123,整理番号表!$B$32:$G$60,2,FALSE),)","v":0},{"$f":"IF(AND(8<=$FK123,$FK123<=13),VLOOKUP($FK123,整理番号表!$B$32:$G$60,2,FALSE),)","v":0},0,0,{"$f":"IF(AND(FE123<>1,$FP123=1,SUM($FQ123:FQ123)=0,$FF123=1,$FI123>=2),1,)","v":0},{"$f":"IF(AND(FE123<>1,$FP123=1,SUM($FQ123:FR123)=0,OR(AND($FF123=1,$FI123>0),$FI123>=4)),1,)","v":0},{"$f":"IF(AND(FE123<>1,$FP123=1,SUM($FQ123:FS123)=0,OR($FF123=1,$FI123>=2)),1,)","v":0},{"$f":"IF(AND(FE123<>1,$FP123=1,SUM($FQ123:FT123)=0,$FI123>0),1,)","v":0},0,0,{"$f":"IF(AND(FE123<>1,$FP123=2,SUM($FW123:FW123)=0,$FF123=1,$FJ123>=0.1),1,)","v":0},{"$f":"IF(AND(FE123<>1,$FP123=2,SUM($FW123:FX123)=0,OR(AND($FF123=1,$FI123>0),$FJ123>=0.2)),1,)","v":0},{"$f":"IF(AND(FE123<>1,$FP123=2,SUM($FW123:FY123)=0,OR($FF123=1,$FJ123>=0.1)),1,)","v":0},{"$f":"IF(AND(FE123<>1,$FP123=2,SUM($FW123:FZ123)=0,$FI123>0),1,)","v":0},0,{"$f":"IF(AND(FE123<>1,$FP123=3,SUM($GB123:GB123)=0,AND($FF123=1,$FJ123>=0.05)),1,)","v":0},{"$f":"IF(AND(FE123<>1,$FP123=3,SUM($GB123:GC123)=0,OR(AND($FF123=1,$FI123>0),$FJ123>=0.1)),1,)","v":0},{"$f":"IF(AND(FE123<>1,$FP123=3,SUM($GB123:GD123)=0,OR($FF123=1,$FJ123>=0.05)),1,)","v":0},{"$f":"IF(AND(FE123<>1,$FP123=3,SUM($GB123:GE123)=0,$FI123>0),1,)","v":0},0,null,0,0,0,0,0,0,0,0,0,0,0,0,0,0,0,0,0,0,0,0,0,0,0,0,0,0,0,0,0,0,0,0,0,0,0,0,0,0,0,0,0,0,0,0,0,0,0,0,0,0,0,0,0,0,0,0,0,0,0,0,0,0,0,0,0,0,0,0,0,0,0,0,0,0,0,0,0,0,0,"","","","","","","","","","","","","","","","○",0,0,0,0,0,0,0,"○",0,0,0,"○","○",null,0,0]
[0,0,0,0,0,0,0,0,0,0,112,null,null,null,null,{"$f":"IF(O124<>\"\",VLOOKUP(O124,整理番号表!$Z$17:$AA$20,2,FALSE),)","v":0},0,null,null,null,null,null,{"$f":"IF(V124<>0,VLOOKUP(V124,整理番号表!$B$6:$L$13,2,FALSE),)","v":0},0,{"$f":"IF(X124<>0,VLOOKUP(X124,整理番号表!$B$16:$C$18,2,FALSE),)","v":0},null,{"$f":"IF(Z124<>0,VLOOKUP(Z124,整理番号表!$B$22:$C$29,2,FALSE),)","v":0},null,null,{"$f":"IF(AC124<>0,VLOOKUP(AC124,整理番号表!$B$32:$G$60,2,FALSE),)","v":0},null,{"$f":"IF(AE124<>0,VLOOKUP(AE124,整理番号表!$P$5:$R$39,2,FALSE),)","v":0},null,0,null,null,{"$f":"IF(AJ124<>\"\",VLOOKUP(AJ124,整理番号表!$Z$6:$AA$14,2,FALSE),\"\")","v":""},0,null,null,null,null,null,{"$f":"IF(AQ124<>0,VLOOKUP(AQ124,整理番号表!$P$43:$Q$49,2,FALSE),)","v":0},null,null,null,null,0,0,null,0,null,null,null,0,0,0,null,null,0,0,null,{"$f":"IF(BK124<>0,VLOOKUP(BK124,整理番号表!$T$5:$U$16,2,FALSE),)","v":0},null,{"$f":"IF(BM124<>0,VLOOKUP(BM124,整理番号表!$T$22:$U$30,2,FALSE),)","v":0},null,0,"",null,null,null,null,null,"",0,null,null,null,null,null,null,null,null,null,0,0,0,0,0,0,0,0,0,0,0,0,0,0,0,0,0,0,0,0,0,0,0,0,0,0,0,0,null,null,null,null,null,0,0,0,0,0,0,null,0,null,null,null,null,null,null,null,0,null,null,null,null,null,null,null,null,null,null,null,null,null,null,null,null,null,null,null,null,null,null,null,null,null,null,0,0,null,null,0,0,0,{"$f":"IF(OR(AND(1<=$FK124,$FK124<=3),$FK124=6),VLOOKUP($FK124,整理番号表!$B$32:$G$60,2,FALSE),)","v":0},{"$f":"IF(OR($FK124=4,$FK124=7),VLOOKUP($FK124,整理番号表!$B$32:$G$60,2,FALSE),)","v":0},{"$f":"IF($FK124=5,VLOOKUP($FK124,整理番号表!$B$32:$G$60,2,FALSE),)","v":0},{"$f":"IF(AND(8<=$FK124,$FK124<=13),VLOOKUP($FK124,整理番号表!$B$32:$G$60,2,FALSE),)","v":0},0,0,{"$f":"IF(AND(FE124<>1,$FP124=1,SUM($FQ124:FQ124)=0,$FF124=1,$FI124>=2),1,)","v":0},{"$f":"IF(AND(FE124<>1,$FP124=1,SUM($FQ124:FR124)=0,OR(AND($FF124=1,$FI124>0),$FI124>=4)),1,)","v":0},{"$f":"IF(AND(FE124<>1,$FP124=1,SUM($FQ124:FS124)=0,OR($FF124=1,$FI124>=2)),1,)","v":0},{"$f":"IF(AND(FE124<>1,$FP124=1,SUM($FQ124:FT124)=0,$FI124>0),1,)","v":0},0,0,{"$f":"IF(AND(FE124<>1,$FP124=2,SUM($FW124:FW124)=0,$FF124=1,$FJ124>=0.1),1,)","v":0},{"$f":"IF(AND(FE124<>1,$FP124=2,SUM($FW124:FX124)=0,OR(AND($FF124=1,$FI124>0),$FJ124>=0.2)),1,)","v":0},{"$f":"IF(AND(FE124<>1,$FP124=2,SUM($FW124:FY124)=0,OR($FF124=1,$FJ124>=0.1)),1,)","v":0},{"$f":"IF(AND(FE124<>1,$FP124=2,SUM($FW124:FZ124)=0,$FI124>0),1,)","v":0},0,{"$f":"IF(AND(FE124<>1,$FP124=3,SUM($GB124:GB124)=0,AND($FF124=1,$FJ124>=0.05)),1,)","v":0},{"$f":"IF(AND(FE124<>1,$FP124=3,SUM($GB124:GC124)=0,OR(AND($FF124=1,$FI124>0),$FJ124>=0.1)),1,)","v":0},{"$f":"IF(AND(FE124<>1,$FP124=3,SUM($GB124:GD124)=0,OR($FF124=1,$FJ124>=0.05)),1,)","v":0},{"$f":"IF(AND(FE124<>1,$FP124=3,SUM($GB124:GE124)=0,$FI124>0),1,)","v":0},0,null,0,0,0,0,0,0,0,0,0,0,0,0,0,0,0,0,0,0,0,0,0,0,0,0,0,0,0,0,0,0,0,0,0,0,0,0,0,0,0,0,0,0,0,0,0,0,0,0,0,0,0,0,0,0,0,0,0,0,0,0,0,0,0,0,0,0,0,0,0,0,0,0,0,0,0,0,0,0,0,"","","","","","","","","","","","","","","","○",0,0,0,0,0,0,0,"○",0,0,0,"○","○",null,0,0]
[0,0,0,0,0,0,0,0,0,0,113,null,null,null,null,{"$f":"IF(O125<>\"\",VLOOKUP(O125,整理番号表!$Z$17:$AA$20,2,FALSE),)","v":0},0,null,null,null,null,null,{"$f":"IF(V125<>0,VLOOKUP(V125,整理番号表!$B$6:$L$13,2,FALSE),)","v":0},0,{"$f":"IF(X125<>0,VLOOKUP(X125,整理番号表!$B$16:$C$18,2,FALSE),)","v":0},null,{"$f":"IF(Z125<>0,VLOOKUP(Z125,整理番号表!$B$22:$C$29,2,FALSE),)","v":0},null,null,{"$f":"IF(AC125<>0,VLOOKUP(AC125,整理番号表!$B$32:$G$60,2,FALSE),)","v":0},null,{"$f":"IF(AE125<>0,VLOOKUP(AE125,整理番号表!$P$5:$R$39,2,FALSE),)","v":0},null,0,null,null,{"$f":"IF(AJ125<>\"\",VLOOKUP(AJ125,整理番号表!$Z$6:$AA$14,2,FALSE),\"\")","v":""},0,null,null,null,null,null,{"$f":"IF(AQ125<>0,VLOOKUP(AQ125,整理番号表!$P$43:$Q$49,2,FALSE),)","v":0},null,null,null,null,0,0,null,0,null,null,null,0,0,0,null,null,0,0,null,{"$f":"IF(BK125<>0,VLOOKUP(BK125,整理番号表!$T$5:$U$16,2,FALSE),)","v":0},null,{"$f":"IF(BM125<>0,VLOOKUP(BM125,整理番号表!$T$22:$U$30,2,FALSE),)","v":0},null,0,"",null,null,null,null,null,"",0,null,null,null,null,null,null,null,null,null,0,0,0,0,0,0,0,0,0,0,0,0,0,0,0,0,0,0,0,0,0,0,0,0,0,0,0,0,null,null,null,null,null,0,0,0,0,0,0,null,0,null,null,null,null,null,null,null,0,null,null,null,null,null,null,null,null,null,null,null,null,null,null,null,null,null,null,null,null,null,null,null,null,null,null,0,0,null,null,0,0,0,{"$f":"IF(OR(AND(1<=$FK125,$FK125<=3),$FK125=6),VLOOKUP($FK125,整理番号表!$B$32:$G$60,2,FALSE),)","v":0},{"$f":"IF(OR($FK125=4,$FK125=7),VLOOKUP($FK125,整理番号表!$B$32:$G$60,2,FALSE),)","v":0},{"$f":"IF($FK125=5,VLOOKUP($FK125,整理番号表!$B$32:$G$60,2,FALSE),)","v":0},{"$f":"IF(AND(8<=$FK125,$FK125<=13),VLOOKUP($FK125,整理番号表!$B$32:$G$60,2,FALSE),)","v":0},0,0,{"$f":"IF(AND(FE125<>1,$FP125=1,SUM($FQ125:FQ125)=0,$FF125=1,$FI125>=2),1,)","v":0},{"$f":"IF(AND(FE125<>1,$FP125=1,SUM($FQ125:FR125)=0,OR(AND($FF125=1,$FI125>0),$FI125>=4)),1,)","v":0},{"$f":"IF(AND(FE125<>1,$FP125=1,SUM($FQ125:FS125)=0,OR($FF125=1,$FI125>=2)),1,)","v":0},{"$f":"IF(AND(FE125<>1,$FP125=1,SUM($FQ125:FT125)=0,$FI125>0),1,)","v":0},0,0,{"$f":"IF(AND(FE125<>1,$FP125=2,SUM($FW125:FW125)=0,$FF125=1,$FJ125>=0.1),1,)","v":0},{"$f":"IF(AND(FE125<>1,$FP125=2,SUM($FW125:FX125)=0,OR(AND($FF125=1,$FI125>0),$FJ125>=0.2)),1,)","v":0},{"$f":"IF(AND(FE125<>1,$FP125=2,SUM($FW125:FY125)=0,OR($FF125=1,$FJ125>=0.1)),1,)","v":0},{"$f":"IF(AND(FE125<>1,$FP125=2,SUM($FW125:FZ125)=0,$FI125>0),1,)","v":0},0,{"$f":"IF(AND(FE125<>1,$FP125=3,SUM($GB125:GB125)=0,AND($FF125=1,$FJ125>=0.05)),1,)","v":0},{"$f":"IF(AND(FE125<>1,$FP125=3,SUM($GB125:GC125)=0,OR(AND($FF125=1,$FI125>0),$FJ125>=0.1)),1,)","v":0},{"$f":"IF(AND(FE125<>1,$FP125=3,SUM($GB125:GD125)=0,OR($FF125=1,$FJ125>=0.05)),1,)","v":0},{"$f":"IF(AND(FE125<>1,$FP125=3,SUM($GB125:GE125)=0,$FI125>0),1,)","v":0},0,null,0,0,0,0,0,0,0,0,0,0,0,0,0,0,0,0,0,0,0,0,0,0,0,0,0,0,0,0,0,0,0,0,0,0,0,0,0,0,0,0,0,0,0,0,0,0,0,0,0,0,0,0,0,0,0,0,0,0,0,0,0,0,0,0,0,0,0,0,0,0,0,0,0,0,0,0,0,0,0,"","","","","","","","","","","","","","","","○",0,0,0,0,0,0,0,"○",0,0,0,"○","○",null,0,0]
[0,0,0,0,0,0,0,0,0,0,114,null,null,null,null,{"$f":"IF(O126<>\"\",VLOOKUP(O126,整理番号表!$Z$17:$AA$20,2,FALSE),)","v":0},0,null,null,null,null,null,{"$f":"IF(V126<>0,VLOOKUP(V126,整理番号表!$B$6:$L$13,2,FALSE),)","v":0},0,{"$f":"IF(X126<>0,VLOOKUP(X126,整理番号表!$B$16:$C$18,2,FALSE),)","v":0},null,{"$f":"IF(Z126<>0,VLOOKUP(Z126,整理番号表!$B$22:$C$29,2,FALSE),)","v":0},null,null,{"$f":"IF(AC126<>0,VLOOKUP(AC126,整理番号表!$B$32:$G$60,2,FALSE),)","v":0},null,{"$f":"IF(AE126<>0,VLOOKUP(AE126,整理番号表!$P$5:$R$39,2,FALSE),)","v":0},null,0,null,null,{"$f":"IF(AJ126<>\"\",VLOOKUP(AJ126,整理番号表!$Z$6:$AA$14,2,FALSE),\"\")","v":""},0,null,null,null,null,null,{"$f":"IF(AQ126<>0,VLOOKUP(AQ126,整理番号表!$P$43:$Q$49,2,FALSE),)","v":0},null,null,null,null,0,0,null,0,null,null,null,0,0,0,null,null,0,0,null,{"$f":"IF(BK126<>0,VLOOKUP(BK126,整理番号表!$T$5:$U$16,2,FALSE),)","v":0},null,{"$f":"IF(BM126<>0,VLOOKUP(BM126,整理番号表!$T$22:$U$30,2,FALSE),)","v":0},null,0,"",null,null,null,null,null,"",0,null,null,null,null,null,null,null,null,null,0,0,0,0,0,0,0,0,0,0,0,0,0,0,0,0,0,0,0,0,0,0,0,0,0,0,0,0,null,null,null,null,null,0,0,0,0,0,0,null,0,null,null,null,null,null,null,null,0,null,null,null,null,null,null,null,null,null,null,null,null,null,null,null,null,null,null,null,null,null,null,null,null,null,null,0,0,null,null,0,0,0,{"$f":"IF(OR(AND(1<=$FK126,$FK126<=3),$FK126=6),VLOOKUP($FK126,整理番号表!$B$32:$G$60,2,FALSE),)","v":0},{"$f":"IF(OR($FK126=4,$FK126=7),VLOOKUP($FK126,整理番号表!$B$32:$G$60,2,FALSE),)","v":0},{"$f":"IF($FK126=5,VLOOKUP($FK126,整理番号表!$B$32:$G$60,2,FALSE),)","v":0},{"$f":"IF(AND(8<=$FK126,$FK126<=13),VLOOKUP($FK126,整理番号表!$B$32:$G$60,2,FALSE),)","v":0},0,0,{"$f":"IF(AND(FE126<>1,$FP126=1,SUM($FQ126:FQ126)=0,$FF126=1,$FI126>=2),1,)","v":0},{"$f":"IF(AND(FE126<>1,$FP126=1,SUM($FQ126:FR126)=0,OR(AND($FF126=1,$FI126>0),$FI126>=4)),1,)","v":0},{"$f":"IF(AND(FE126<>1,$FP126=1,SUM($FQ126:FS126)=0,OR($FF126=1,$FI126>=2)),1,)","v":0},{"$f":"IF(AND(FE126<>1,$FP126=1,SUM($FQ126:FT126)=0,$FI126>0),1,)","v":0},0,0,{"$f":"IF(AND(FE126<>1,$FP126=2,SUM($FW126:FW126)=0,$FF126=1,$FJ126>=0.1),1,)","v":0},{"$f":"IF(AND(FE126<>1,$FP126=2,SUM($FW126:FX126)=0,OR(AND($FF126=1,$FI126>0),$FJ126>=0.2)),1,)","v":0},{"$f":"IF(AND(FE126<>1,$FP126=2,SUM($FW126:FY126)=0,OR($FF126=1,$FJ126>=0.1)),1,)","v":0},{"$f":"IF(AND(FE126<>1,$FP126=2,SUM($FW126:FZ126)=0,$FI126>0),1,)","v":0},0,{"$f":"IF(AND(FE126<>1,$FP126=3,SUM($GB126:GB126)=0,AND($FF126=1,$FJ126>=0.05)),1,)","v":0},{"$f":"IF(AND(FE126<>1,$FP126=3,SUM($GB126:GC126)=0,OR(AND($FF126=1,$FI126>0),$FJ126>=0.1)),1,)","v":0},{"$f":"IF(AND(FE126<>1,$FP126=3,SUM($GB126:GD126)=0,OR($FF126=1,$FJ126>=0.05)),1,)","v":0},{"$f":"IF(AND(FE126<>1,$FP126=3,SUM($GB126:GE126)=0,$FI126>0),1,)","v":0},0,null,0,0,0,0,0,0,0,0,0,0,0,0,0,0,0,0,0,0,0,0,0,0,0,0,0,0,0,0,0,0,0,0,0,0,0,0,0,0,0,0,0,0,0,0,0,0,0,0,0,0,0,0,0,0,0,0,0,0,0,0,0,0,0,0,0,0,0,0,0,0,0,0,0,0,0,0,0,0,0,"","","","","","","","","","","","","","","","○",0,0,0,0,0,0,0,"○",0,0,0,"○","○",null,0,0]
[0,0,0,0,0,0,0,0,0,0,115,null,null,null,null,{"$f":"IF(O127<>\"\",VLOOKUP(O127,整理番号表!$Z$17:$AA$20,2,FALSE),)","v":0},0,null,null,null,null,null,{"$f":"IF(V127<>0,VLOOKUP(V127,整理番号表!$B$6:$L$13,2,FALSE),)","v":0},0,{"$f":"IF(X127<>0,VLOOKUP(X127,整理番号表!$B$16:$C$18,2,FALSE),)","v":0},null,{"$f":"IF(Z127<>0,VLOOKUP(Z127,整理番号表!$B$22:$C$29,2,FALSE),)","v":0},null,null,{"$f":"IF(AC127<>0,VLOOKUP(AC127,整理番号表!$B$32:$G$60,2,FALSE),)","v":0},null,{"$f":"IF(AE127<>0,VLOOKUP(AE127,整理番号表!$P$5:$R$39,2,FALSE),)","v":0},null,0,null,null,{"$f":"IF(AJ127<>\"\",VLOOKUP(AJ127,整理番号表!$Z$6:$AA$14,2,FALSE),\"\")","v":""},0,null,null,null,null,null,{"$f":"IF(AQ127<>0,VLOOKUP(AQ127,整理番号表!$P$43:$Q$49,2,FALSE),)","v":0},null,null,null,null,0,0,null,0,null,null,null,0,0,0,null,null,0,0,null,{"$f":"IF(BK127<>0,VLOOKUP(BK127,整理番号表!$T$5:$U$16,2,FALSE),)","v":0},null,{"$f":"IF(BM127<>0,VLOOKUP(BM127,整理番号表!$T$22:$U$30,2,FALSE),)","v":0},null,0,"",null,null,null,null,null,"",0,null,null,null,null,null,null,null,null,null,0,0,0,0,0,0,0,0,0,0,0,0,0,0,0,0,0,0,0,0,0,0,0,0,0,0,0,0,null,null,null,null,null,0,0,0,0,0,0,null,0,null,null,null,null,null,null,null,0,null,null,null,null,null,null,null,null,null,null,null,null,null,null,null,null,null,null,null,null,null,null,null,null,null,null,0,0,null,null,0,0,0,{"$f":"IF(OR(AND(1<=$FK127,$FK127<=3),$FK127=6),VLOOKUP($FK127,整理番号表!$B$32:$G$60,2,FALSE),)","v":0},{"$f":"IF(OR($FK127=4,$FK127=7),VLOOKUP($FK127,整理番号表!$B$32:$G$60,2,FALSE),)","v":0},{"$f":"IF($FK127=5,VLOOKUP($FK127,整理番号表!$B$32:$G$60,2,FALSE),)","v":0},{"$f":"IF(AND(8<=$FK127,$FK127<=13),VLOOKUP($FK127,整理番号表!$B$32:$G$60,2,FALSE),)","v":0},0,0,{"$f":"IF(AND(FE127<>1,$FP127=1,SUM($FQ127:FQ127)=0,$FF127=1,$FI127>=2),1,)","v":0},{"$f":"IF(AND(FE127<>1,$FP127=1,SUM($FQ127:FR127)=0,OR(AND($FF127=1,$FI127>0),$FI127>=4)),1,)","v":0},{"$f":"IF(AND(FE127<>1,$FP127=1,SUM($FQ127:FS127)=0,OR($FF127=1,$FI127>=2)),1,)","v":0},{"$f":"IF(AND(FE127<>1,$FP127=1,SUM($FQ127:FT127)=0,$FI127>0),1,)","v":0},0,0,{"$f":"IF(AND(FE127<>1,$FP127=2,SUM($FW127:FW127)=0,$FF127=1,$FJ127>=0.1),1,)","v":0},{"$f":"IF(AND(FE127<>1,$FP127=2,SUM($FW127:FX127)=0,OR(AND($FF127=1,$FI127>0),$FJ127>=0.2)),1,)","v":0},{"$f":"IF(AND(FE127<>1,$FP127=2,SUM($FW127:FY127)=0,OR($FF127=1,$FJ127>=0.1)),1,)","v":0},{"$f":"IF(AND(FE127<>1,$FP127=2,SUM($FW127:FZ127)=0,$FI127>0),1,)","v":0},0,{"$f":"IF(AND(FE127<>1,$FP127=3,SUM($GB127:GB127)=0,AND($FF127=1,$FJ127>=0.05)),1,)","v":0},{"$f":"IF(AND(FE127<>1,$FP127=3,SUM($GB127:GC127)=0,OR(AND($FF127=1,$FI127>0),$FJ127>=0.1)),1,)","v":0},{"$f":"IF(AND(FE127<>1,$FP127=3,SUM($GB127:GD127)=0,OR($FF127=1,$FJ127>=0.05)),1,)","v":0},{"$f":"IF(AND(FE127<>1,$FP127=3,SUM($GB127:GE127)=0,$FI127>0),1,)","v":0},0,null,0,0,0,0,0,0,0,0,0,0,0,0,0,0,0,0,0,0,0,0,0,0,0,0,0,0,0,0,0,0,0,0,0,0,0,0,0,0,0,0,0,0,0,0,0,0,0,0,0,0,0,0,0,0,0,0,0,0,0,0,0,0,0,0,0,0,0,0,0,0,0,0,0,0,0,0,0,0,0,"","","","","","","","","","","","","","","","○",0,0,0,0,0,0,0,"○",0,0,0,"○","○",null,0,0]
[0,0,0,0,0,0,0,0,0,0,117,null,null,null,null,{"$f":"IF(O129<>\"\",VLOOKUP(O129,整理番号表!$Z$17:$AA$20,2,FALSE),)","v":0},0,null,null,null,null,null,{"$f":"IF(V129<>0,VLOOKUP(V129,整理番号表!$B$6:$L$13,2,FALSE),)","v":0},0,{"$f":"IF(X129<>0,VLOOKUP(X129,整理番号表!$B$16:$C$18,2,FALSE),)","v":0},null,{"$f":"IF(Z129<>0,VLOOKUP(Z129,整理番号表!$B$22:$C$29,2,FALSE),)","v":0},null,null,{"$f":"IF(AC129<>0,VLOOKUP(AC129,整理番号表!$B$32:$G$60,2,FALSE),)","v":0},null,{"$f":"IF(AE129<>0,VLOOKUP(AE129,整理番号表!$P$5:$R$39,2,FALSE),)","v":0},null,0,null,null,{"$f":"IF(AJ129<>\"\",VLOOKUP(AJ129,整理番号表!$Z$6:$AA$14,2,FALSE),\"\")","v":""},0,null,null,null,null,null,{"$f":"IF(AQ129<>0,VLOOKUP(AQ129,整理番号表!$P$43:$Q$49,2,FALSE),)","v":0},null,null,null,null,0,0,null,0,null,null,null,0,0,0,null,null,0,0,null,{"$f":"IF(BK129<>0,VLOOKUP(BK129,整理番号表!$T$5:$U$16,2,FALSE),)","v":0},null,{"$f":"IF(BM129<>0,VLOOKUP(BM129,整理番号表!$T$22:$U$30,2,FALSE),)","v":0},null,0,"",null,null,null,null,null,"",0,null,null,null,null,null,null,null,null,null,0,0,0,0,0,0,0,0,0,0,0,0,0,0,0,0,0,0,0,0,0,0,0,0,0,0,0,0,null,null,null,null,null,0,0,0,0,0,0,null,0,null,null,null,null,null,null,null,0,null,null,null,null,null,null,null,null,null,null,null,null,null,null,null,null,null,null,null,null,null,null,null,null,null,null,0,0,null,null,0,0,0,{"$f":"IF(OR(AND(1<=$FK129,$FK129<=3),$FK129=6),VLOOKUP($FK129,整理番号表!$B$32:$G$60,2,FALSE),)","v":0},{"$f":"IF(OR($FK129=4,$FK129=7),VLOOKUP($FK129,整理番号表!$B$32:$G$60,2,FALSE),)","v":0},{"$f":"IF($FK129=5,VLOOKUP($FK129,整理番号表!$B$32:$G$60,2,FALSE),)","v":0},{"$f":"IF(AND(8<=$FK129,$FK129<=13),VLOOKUP($FK129,整理番号表!$B$32:$G$60,2,FALSE),)","v":0},0,0,{"$f":"IF(AND(FE129<>1,$FP129=1,SUM($FQ129:FQ129)=0,$FF129=1,$FI129>=2),1,)","v":0},{"$f":"IF(AND(FE129<>1,$FP129=1,SUM($FQ129:FR129)=0,OR(AND($FF129=1,$FI129>0),$FI129>=4)),1,)","v":0},{"$f":"IF(AND(FE129<>1,$FP129=1,SUM($FQ129:FS129)=0,OR($FF129=1,$FI129>=2)),1,)","v":0},{"$f":"IF(AND(FE129<>1,$FP129=1,SUM($FQ129:FT129)=0,$FI129>0),1,)","v":0},0,0,{"$f":"IF(AND(FE129<>1,$FP129=2,SUM($FW129:FW129)=0,$FF129=1,$FJ129>=0.1),1,)","v":0},{"$f":"IF(AND(FE129<>1,$FP129=2,SUM($FW129:FX129)=0,OR(AND($FF129=1,$FI129>0),$FJ129>=0.2)),1,)","v":0},{"$f":"IF(AND(FE129<>1,$FP129=2,SUM($FW129:FY129)=0,OR($FF129=1,$FJ129>=0.1)),1,)","v":0},{"$f":"IF(AND(FE129<>1,$FP129=2,SUM($FW129:FZ129)=0,$FI129>0),1,)","v":0},0,{"$f":"IF(AND(FE129<>1,$FP129=3,SUM($GB129:GB129)=0,AND($FF129=1,$FJ129>=0.05)),1,)","v":0},{"$f":"IF(AND(FE129<>1,$FP129=3,SUM($GB129:GC129)=0,OR(AND($FF129=1,$FI129>0),$FJ129>=0.1)),1,)","v":0},{"$f":"IF(AND(FE129<>1,$FP129=3,SUM($GB129:GD129)=0,OR($FF129=1,$FJ129>=0.05)),1,)","v":0},{"$f":"IF(AND(FE129<>1,$FP129=3,SUM($GB129:GE129)=0,$FI129>0),1,)","v":0},0,null,0,0,0,0,0,0,0,0,0,0,0,0,0,0,0,0,0,0,0,0,0,0,0,0,0,0,0,0,0,0,0,0,0,0,0,0,0,0,0,0,0,0,0,0,0,0,0,0,0,0,0,0,0,0,0,0,0,0,0,0,0,0,0,0,0,0,0,0,0,0,0,0,0,0,0,0,0,0,0,"","","","","","","","","","","","","","","","○",0,0,0,0,0,0,0,"○",0,0,0,"○","○",null,0,0]
[0,0,0,0,0,0,0,0,0,0,118,null,null,null,null,{"$f":"IF(O130<>\"\",VLOOKUP(O130,整理番号表!$Z$17:$AA$20,2,FALSE),)","v":0},0,null,null,null,null,null,{"$f":"IF(V130<>0,VLOOKUP(V130,整理番号表!$B$6:$L$13,2,FALSE),)","v":0},0,{"$f":"IF(X130<>0,VLOOKUP(X130,整理番号表!$B$16:$C$18,2,FALSE),)","v":0},null,{"$f":"IF(Z130<>0,VLOOKUP(Z130,整理番号表!$B$22:$C$29,2,FALSE),)","v":0},null,null,{"$f":"IF(AC130<>0,VLOOKUP(AC130,整理番号表!$B$32:$G$60,2,FALSE),)","v":0},null,{"$f":"IF(AE130<>0,VLOOKUP(AE130,整理番号表!$P$5:$R$39,2,FALSE),)","v":0},null,0,null,null,{"$f":"IF(AJ130<>\"\",VLOOKUP(AJ130,整理番号表!$Z$6:$AA$14,2,FALSE),\"\")","v":""},0,null,null,null,null,null,{"$f":"IF(AQ130<>0,VLOOKUP(AQ130,整理番号表!$P$43:$Q$49,2,FALSE),)","v":0},null,null,null,null,0,0,null,0,null,null,null,0,0,0,null,null,0,0,null,{"$f":"IF(BK130<>0,VLOOKUP(BK130,整理番号表!$T$5:$U$16,2,FALSE),)","v":0},null,{"$f":"IF(BM130<>0,VLOOKUP(BM130,整理番号表!$T$22:$U$30,2,FALSE),)","v":0},null,0,"",null,null,null,null,null,"",0,null,null,null,null,null,null,null,null,null,0,0,0,0,0,0,0,0,0,0,0,0,0,0,0,0,0,0,0,0,0,0,0,0,0,0,0,0,null,null,null,null,null,0,0,0,0,0,0,null,0,null,null,null,null,null,null,null,0,null,null,null,null,null,null,null,null,null,null,null,null,null,null,null,null,null,null,null,null,null,null,null,null,null,null,0,0,null,null,0,0,0,{"$f":"IF(OR(AND(1<=$FK130,$FK130<=3),$FK130=6),VLOOKUP($FK130,整理番号表!$B$32:$G$60,2,FALSE),)","v":0},{"$f":"IF(OR($FK130=4,$FK130=7),VLOOKUP($FK130,整理番号表!$B$32:$G$60,2,FALSE),)","v":0},{"$f":"IF($FK130=5,VLOOKUP($FK130,整理番号表!$B$32:$G$60,2,FALSE),)","v":0},{"$f":"IF(AND(8<=$FK130,$FK130<=13),VLOOKUP($FK130,整理番号表!$B$32:$G$60,2,FALSE),)","v":0},0,0,{"$f":"IF(AND(FE130<>1,$FP130=1,SUM($FQ130:FQ130)=0,$FF130=1,$FI130>=2),1,)","v":0},{"$f":"IF(AND(FE130<>1,$FP130=1,SUM($FQ130:FR130)=0,OR(AND($FF130=1,$FI130>0),$FI130>=4)),1,)","v":0},{"$f":"IF(AND(FE130<>1,$FP130=1,SUM($FQ130:FS130)=0,OR($FF130=1,$FI130>=2)),1,)","v":0},{"$f":"IF(AND(FE130<>1,$FP130=1,SUM($FQ130:FT130)=0,$FI130>0),1,)","v":0},0,0,{"$f":"IF(AND(FE130<>1,$FP130=2,SUM($FW130:FW130)=0,$FF130=1,$FJ130>=0.1),1,)","v":0},{"$f":"IF(AND(FE130<>1,$FP130=2,SUM($FW130:FX130)=0,OR(AND($FF130=1,$FI130>0),$FJ130>=0.2)),1,)","v":0},{"$f":"IF(AND(FE130<>1,$FP130=2,SUM($FW130:FY130)=0,OR($FF130=1,$FJ130>=0.1)),1,)","v":0},{"$f":"IF(AND(FE130<>1,$FP130=2,SUM($FW130:FZ130)=0,$FI130>0),1,)","v":0},0,{"$f":"IF(AND(FE130<>1,$FP130=3,SUM($GB130:GB130)=0,AND($FF130=1,$FJ130>=0.05)),1,)","v":0},{"$f":"IF(AND(FE130<>1,$FP130=3,SUM($GB130:GC130)=0,OR(AND($FF130=1,$FI130>0),$FJ130>=0.1)),1,)","v":0},{"$f":"IF(AND(FE130<>1,$FP130=3,SUM($GB130:GD130)=0,OR($FF130=1,$FJ130>=0.05)),1,)","v":0},{"$f":"IF(AND(FE130<>1,$FP130=3,SUM($GB130:GE130)=0,$FI130>0),1,)","v":0},0,null,0,0,0,0,0,0,0,0,0,0,0,0,0,0,0,0,0,0,0,0,0,0,0,0,0,0,0,0,0,0,0,0,0,0,0,0,0,0,0,0,0,0,0,0,0,0,0,0,0,0,0,0,0,0,0,0,0,0,0,0,0,0,0,0,0,0,0,0,0,0,0,0,0,0,0,0,0,0,0,"","","","","","","","","","","","","","","","○",0,0,0,0,0,0,0,"○",0,0,0,"○","○",null,0,0]
[0,0,0,0,0,0,0,0,0,0,120,null,null,null,null,{"$f":"IF(O132<>\"\",VLOOKUP(O132,整理番号表!$Z$17:$AA$20,2,FALSE),)","v":0},0,null,null,null,null,null,{"$f":"IF(V132<>0,VLOOKUP(V132,整理番号表!$B$6:$L$13,2,FALSE),)","v":0},0,{"$f":"IF(X132<>0,VLOOKUP(X132,整理番号表!$B$16:$C$18,2,FALSE),)","v":0},null,{"$f":"IF(Z132<>0,VLOOKUP(Z132,整理番号表!$B$22:$C$29,2,FALSE),)","v":0},null,null,{"$f":"IF(AC132<>0,VLOOKUP(AC132,整理番号表!$B$32:$G$60,2,FALSE),)","v":0},null,{"$f":"IF(AE132<>0,VLOOKUP(AE132,整理番号表!$P$5:$R$39,2,FALSE),)","v":0},null,0,null,null,{"$f":"IF(AJ132<>\"\",VLOOKUP(AJ132,整理番号表!$Z$6:$AA$14,2,FALSE),\"\")","v":""},0,null,null,null,null,null,{"$f":"IF(AQ132<>0,VLOOKUP(AQ132,整理番号表!$P$43:$Q$49,2,FALSE),)","v":0},null,null,null,null,0,0,null,0,null,null,null,0,0,0,null,null,0,0,null,{"$f":"IF(BK132<>0,VLOOKUP(BK132,整理番号表!$T$5:$U$16,2,FALSE),)","v":0},null,{"$f":"IF(BM132<>0,VLOOKUP(BM132,整理番号表!$T$22:$U$30,2,FALSE),)","v":0},null,0,"",null,null,null,null,null,"",0,null,null,null,null,null,null,null,null,null,0,0,0,0,0,0,0,0,0,0,0,0,0,0,0,0,0,0,0,0,0,0,0,0,0,0,0,0,null,null,null,null,null,0,0,0,0,0,0,null,0,null,null,null,null,null,null,null,0,null,null,null,null,null,null,null,null,null,null,null,null,null,null,null,null,null,null,null,null,null,null,null,null,null,null,0,0,null,null,0,0,0,{"$f":"IF(OR(AND(1<=$FK132,$FK132<=3),$FK132=6),VLOOKUP($FK132,整理番号表!$B$32:$G$60,2,FALSE),)","v":0},{"$f":"IF(OR($FK132=4,$FK132=7),VLOOKUP($FK132,整理番号表!$B$32:$G$60,2,FALSE),)","v":0},{"$f":"IF($FK132=5,VLOOKUP($FK132,整理番号表!$B$32:$G$60,2,FALSE),)","v":0},{"$f":"IF(AND(8<=$FK132,$FK132<=13),VLOOKUP($FK132,整理番号表!$B$32:$G$60,2,FALSE),)","v":0},0,0,{"$f":"IF(AND(FE132<>1,$FP132=1,SUM($FQ132:FQ132)=0,$FF132=1,$FI132>=2),1,)","v":0},{"$f":"IF(AND(FE132<>1,$FP132=1,SUM($FQ132:FR132)=0,OR(AND($FF132=1,$FI132>0),$FI132>=4)),1,)","v":0},{"$f":"IF(AND(FE132<>1,$FP132=1,SUM($FQ132:FS132)=0,OR($FF132=1,$FI132>=2)),1,)","v":0},{"$f":"IF(AND(FE132<>1,$FP132=1,SUM($FQ132:FT132)=0,$FI132>0),1,)","v":0},0,0,{"$f":"IF(AND(FE132<>1,$FP132=2,SUM($FW132:FW132)=0,$FF132=1,$FJ132>=0.1),1,)","v":0},{"$f":"IF(AND(FE132<>1,$FP132=2,SUM($FW132:FX132)=0,OR(AND($FF132=1,$FI132>0),$FJ132>=0.2)),1,)","v":0},{"$f":"IF(AND(FE132<>1,$FP132=2,SUM($FW132:FY132)=0,OR($FF132=1,$FJ132>=0.1)),1,)","v":0},{"$f":"IF(AND(FE132<>1,$FP132=2,SUM($FW132:FZ132)=0,$FI132>0),1,)","v":0},0,{"$f":"IF(AND(FE132<>1,$FP132=3,SUM($GB132:GB132)=0,AND($FF132=1,$FJ132>=0.05)),1,)","v":0},{"$f":"IF(AND(FE132<>1,$FP132=3,SUM($GB132:GC132)=0,OR(AND($FF132=1,$FI132>0),$FJ132>=0.1)),1,)","v":0},{"$f":"IF(AND(FE132<>1,$FP132=3,SUM($GB132:GD132)=0,OR($FF132=1,$FJ132>=0.05)),1,)","v":0},{"$f":"IF(AND(FE132<>1,$FP132=3,SUM($GB132:GE132)=0,$FI132>0),1,)","v":0},0,null,0,0,0,0,0,0,0,0,0,0,0,0,0,0,0,0,0,0,0,0,0,0,0,0,0,0,0,0,0,0,0,0,0,0,0,0,0,0,0,0,0,0,0,0,0,0,0,0,0,0,0,0,0,0,0,0,0,0,0,0,0,0,0,0,0,0,0,0,0,0,0,0,0,0,0,0,0,0,0,"","","","","","","","","","","","","","","","○",0,0,0,0,0,0,0,"○",0,0,0,"○","○",null,0,0]
[0,0,0,0,0,0,0,0,0,0,121,null,null,null,null,{"$f":"IF(O133<>\"\",VLOOKUP(O133,整理番号表!$Z$17:$AA$20,2,FALSE),)","v":0},0,null,null,null,null,null,{"$f":"IF(V133<>0,VLOOKUP(V133,整理番号表!$B$6:$L$13,2,FALSE),)","v":0},0,{"$f":"IF(X133<>0,VLOOKUP(X133,整理番号表!$B$16:$C$18,2,FALSE),)","v":0},null,{"$f":"IF(Z133<>0,VLOOKUP(Z133,整理番号表!$B$22:$C$29,2,FALSE),)","v":0},null,null,{"$f":"IF(AC133<>0,VLOOKUP(AC133,整理番号表!$B$32:$G$60,2,FALSE),)","v":0},null,{"$f":"IF(AE133<>0,VLOOKUP(AE133,整理番号表!$P$5:$R$39,2,FALSE),)","v":0},null,0,null,null,{"$f":"IF(AJ133<>\"\",VLOOKUP(AJ133,整理番号表!$Z$6:$AA$14,2,FALSE),\"\")","v":""},0,null,null,null,null,null,{"$f":"IF(AQ133<>0,VLOOKUP(AQ133,整理番号表!$P$43:$Q$49,2,FALSE),)","v":0},null,null,null,null,0,0,null,0,null,null,null,0,0,0,null,null,0,0,null,{"$f":"IF(BK133<>0,VLOOKUP(BK133,整理番号表!$T$5:$U$16,2,FALSE),)","v":0},null,{"$f":"IF(BM133<>0,VLOOKUP(BM133,整理番号表!$T$22:$U$30,2,FALSE),)","v":0},null,0,"",null,null,null,null,null,"",0,null,null,null,null,null,null,null,null,null,0,0,0,0,0,0,0,0,0,0,0,0,0,0,0,0,0,0,0,0,0,0,0,0,0,0,0,0,null,null,null,null,null,0,0,0,0,0,0,null,0,null,null,null,null,null,null,null,0,null,null,null,null,null,null,null,null,null,null,null,null,null,null,null,null,null,null,null,null,null,null,null,null,null,null,0,0,null,null,0,0,0,{"$f":"IF(OR(AND(1<=$FK133,$FK133<=3),$FK133=6),VLOOKUP($FK133,整理番号表!$B$32:$G$60,2,FALSE),)","v":0},{"$f":"IF(OR($FK133=4,$FK133=7),VLOOKUP($FK133,整理番号表!$B$32:$G$60,2,FALSE),)","v":0},{"$f":"IF($FK133=5,VLOOKUP($FK133,整理番号表!$B$32:$G$60,2,FALSE),)","v":0},{"$f":"IF(AND(8<=$FK133,$FK133<=13),VLOOKUP($FK133,整理番号表!$B$32:$G$60,2,FALSE),)","v":0},0,0,{"$f":"IF(AND(FE133<>1,$FP133=1,SUM($FQ133:FQ133)=0,$FF133=1,$FI133>=2),1,)","v":0},{"$f":"IF(AND(FE133<>1,$FP133=1,SUM($FQ133:FR133)=0,OR(AND($FF133=1,$FI133>0),$FI133>=4)),1,)","v":0},{"$f":"IF(AND(FE133<>1,$FP133=1,SUM($FQ133:FS133)=0,OR($FF133=1,$FI133>=2)),1,)","v":0},{"$f":"IF(AND(FE133<>1,$FP133=1,SUM($FQ133:FT133)=0,$FI133>0),1,)","v":0},0,0,{"$f":"IF(AND(FE133<>1,$FP133=2,SUM($FW133:FW133)=0,$FF133=1,$FJ133>=0.1),1,)","v":0},{"$f":"IF(AND(FE133<>1,$FP133=2,SUM($FW133:FX133)=0,OR(AND($FF133=1,$FI133>0),$FJ133>=0.2)),1,)","v":0},{"$f":"IF(AND(FE133<>1,$FP133=2,SUM($FW133:FY133)=0,OR($FF133=1,$FJ133>=0.1)),1,)","v":0},{"$f":"IF(AND(FE133<>1,$FP133=2,SUM($FW133:FZ133)=0,$FI133>0),1,)","v":0},0,{"$f":"IF(AND(FE133<>1,$FP133=3,SUM($GB133:GB133)=0,AND($FF133=1,$FJ133>=0.05)),1,)","v":0},{"$f":"IF(AND(FE133<>1,$FP133=3,SUM($GB133:GC133)=0,OR(AND($FF133=1,$FI133>0),$FJ133>=0.1)),1,)","v":0},{"$f":"IF(AND(FE133<>1,$FP133=3,SUM($GB133:GD133)=0,OR($FF133=1,$FJ133>=0.05)),1,)","v":0},{"$f":"IF(AND(FE133<>1,$FP133=3,SUM($GB133:GE133)=0,$FI133>0),1,)","v":0},0,null,0,0,0,0,0,0,0,0,0,0,0,0,0,0,0,0,0,0,0,0,0,0,0,0,0,0,0,0,0,0,0,0,0,0,0,0,0,0,0,0,0,0,0,0,0,0,0,0,0,0,0,0,0,0,0,0,0,0,0,0,0,0,0,0,0,0,0,0,0,0,0,0,0,0,0,0,0,0,0,"","","","","","","","","","","","","","","","○",0,0,0,0,0,0,0,"○",0,0,0,"○","○",null,0,0]
[0,0,0,0,0,0,0,0,0,0,123,null,null,null,null,{"$f":"IF(O135<>\"\",VLOOKUP(O135,整理番号表!$Z$17:$AA$20,2,FALSE),)","v":0},0,null,null,null,null,null,{"$f":"IF(V135<>0,VLOOKUP(V135,整理番号表!$B$6:$L$13,2,FALSE),)","v":0},0,{"$f":"IF(X135<>0,VLOOKUP(X135,整理番号表!$B$16:$C$18,2,FALSE),)","v":0},null,{"$f":"IF(Z135<>0,VLOOKUP(Z135,整理番号表!$B$22:$C$29,2,FALSE),)","v":0},null,null,{"$f":"IF(AC135<>0,VLOOKUP(AC135,整理番号表!$B$32:$G$60,2,FALSE),)","v":0},null,{"$f":"IF(AE135<>0,VLOOKUP(AE135,整理番号表!$P$5:$R$39,2,FALSE),)","v":0},null,0,null,null,{"$f":"IF(AJ135<>\"\",VLOOKUP(AJ135,整理番号表!$Z$6:$AA$14,2,FALSE),\"\")","v":""},0,null,null,null,null,null,{"$f":"IF(AQ135<>0,VLOOKUP(AQ135,整理番号表!$P$43:$Q$49,2,FALSE),)","v":0},null,null,null,null,0,0,null,0,null,null,null,0,0,0,null,null,0,0,null,{"$f":"IF(BK135<>0,VLOOKUP(BK135,整理番号表!$T$5:$U$16,2,FALSE),)","v":0},null,{"$f":"IF(BM135<>0,VLOOKUP(BM135,整理番号表!$T$22:$U$30,2,FALSE),)","v":0},null,0,"",null,null,null,null,null,"",0,null,null,null,null,null,null,null,null,null,0,0,0,0,0,0,0,0,0,0,0,0,0,0,0,0,0,0,0,0,0,0,0,0,0,0,0,0,null,null,null,null,null,0,0,0,0,0,0,null,0,null,null,null,null,null,null,null,0,null,null,null,null,null,null,null,null,null,null,null,null,null,null,null,null,null,null,null,null,null,null,null,null,null,null,0,0,null,null,0,0,0,{"$f":"IF(OR(AND(1<=$FK135,$FK135<=3),$FK135=6),VLOOKUP($FK135,整理番号表!$B$32:$G$60,2,FALSE),)","v":0},{"$f":"IF(OR($FK135=4,$FK135=7),VLOOKUP($FK135,整理番号表!$B$32:$G$60,2,FALSE),)","v":0},{"$f":"IF($FK135=5,VLOOKUP($FK135,整理番号表!$B$32:$G$60,2,FALSE),)","v":0},{"$f":"IF(AND(8<=$FK135,$FK135<=13),VLOOKUP($FK135,整理番号表!$B$32:$G$60,2,FALSE),)","v":0},0,0,{"$f":"IF(AND(FE135<>1,$FP135=1,SUM($FQ135:FQ135)=0,$FF135=1,$FI135>=2),1,)","v":0},{"$f":"IF(AND(FE135<>1,$FP135=1,SUM($FQ135:FR135)=0,OR(AND($FF135=1,$FI135>0),$FI135>=4)),1,)","v":0},{"$f":"IF(AND(FE135<>1,$FP135=1,SUM($FQ135:FS135)=0,OR($FF135=1,$FI135>=2)),1,)","v":0},{"$f":"IF(AND(FE135<>1,$FP135=1,SUM($FQ135:FT135)=0,$FI135>0),1,)","v":0},0,0,{"$f":"IF(AND(FE135<>1,$FP135=2,SUM($FW135:FW135)=0,$FF135=1,$FJ135>=0.1),1,)","v":0},{"$f":"IF(AND(FE135<>1,$FP135=2,SUM($FW135:FX135)=0,OR(AND($FF135=1,$FI135>0),$FJ135>=0.2)),1,)","v":0},{"$f":"IF(AND(FE135<>1,$FP135=2,SUM($FW135:FY135)=0,OR($FF135=1,$FJ135>=0.1)),1,)","v":0},{"$f":"IF(AND(FE135<>1,$FP135=2,SUM($FW135:FZ135)=0,$FI135>0),1,)","v":0},0,{"$f":"IF(AND(FE135<>1,$FP135=3,SUM($GB135:GB135)=0,AND($FF135=1,$FJ135>=0.05)),1,)","v":0},{"$f":"IF(AND(FE135<>1,$FP135=3,SUM($GB135:GC135)=0,OR(AND($FF135=1,$FI135>0),$FJ135>=0.1)),1,)","v":0},{"$f":"IF(AND(FE135<>1,$FP135=3,SUM($GB135:GD135)=0,OR($FF135=1,$FJ135>=0.05)),1,)","v":0},{"$f":"IF(AND(FE135<>1,$FP135=3,SUM($GB135:GE135)=0,$FI135>0),1,)","v":0},0,null,0,0,0,0,0,0,0,0,0,0,0,0,0,0,0,0,0,0,0,0,0,0,0,0,0,0,0,0,0,0,0,0,0,0,0,0,0,0,0,0,0,0,0,0,0,0,0,0,0,0,0,0,0,0,0,0,0,0,0,0,0,0,0,0,0,0,0,0,0,0,0,0,0,0,0,0,0,0,0,"","","","","","","","","","","","","","","","○",0,0,0,0,0,0,0,"○",0,0,0,"○","○",null,0,0]
[0,0,0,0,0,0,0,0,0,0,124,null,null,null,null,{"$f":"IF(O136<>\"\",VLOOKUP(O136,整理番号表!$Z$17:$AA$20,2,FALSE),)","v":0},0,null,null,null,null,null,{"$f":"IF(V136<>0,VLOOKUP(V136,整理番号表!$B$6:$L$13,2,FALSE),)","v":0},0,{"$f":"IF(X136<>0,VLOOKUP(X136,整理番号表!$B$16:$C$18,2,FALSE),)","v":0},null,{"$f":"IF(Z136<>0,VLOOKUP(Z136,整理番号表!$B$22:$C$29,2,FALSE),)","v":0},null,null,{"$f":"IF(AC136<>0,VLOOKUP(AC136,整理番号表!$B$32:$G$60,2,FALSE),)","v":0},null,{"$f":"IF(AE136<>0,VLOOKUP(AE136,整理番号表!$P$5:$R$39,2,FALSE),)","v":0},null,0,null,null,{"$f":"IF(AJ136<>\"\",VLOOKUP(AJ136,整理番号表!$Z$6:$AA$14,2,FALSE),\"\")","v":""},0,null,null,null,null,null,{"$f":"IF(AQ136<>0,VLOOKUP(AQ136,整理番号表!$P$43:$Q$49,2,FALSE),)","v":0},null,null,null,null,0,0,null,0,null,null,null,0,0,0,null,null,0,0,null,{"$f":"IF(BK136<>0,VLOOKUP(BK136,整理番号表!$T$5:$U$16,2,FALSE),)","v":0},null,{"$f":"IF(BM136<>0,VLOOKUP(BM136,整理番号表!$T$22:$U$30,2,FALSE),)","v":0},null,0,"",null,null,null,null,null,"",0,null,null,null,null,null,null,null,null,null,0,0,0,0,0,0,0,0,0,0,0,0,0,0,0,0,0,0,0,0,0,0,0,0,0,0,0,0,null,null,null,null,null,0,0,0,0,0,0,null,0,null,null,null,null,null,null,null,0,null,null,null,null,null,null,null,null,null,null,null,null,null,null,null,null,null,null,null,null,null,null,null,null,null,null,0,0,null,null,0,0,0,{"$f":"IF(OR(AND(1<=$FK136,$FK136<=3),$FK136=6),VLOOKUP($FK136,整理番号表!$B$32:$G$60,2,FALSE),)","v":0},{"$f":"IF(OR($FK136=4,$FK136=7),VLOOKUP($FK136,整理番号表!$B$32:$G$60,2,FALSE),)","v":0},{"$f":"IF($FK136=5,VLOOKUP($FK136,整理番号表!$B$32:$G$60,2,FALSE),)","v":0},{"$f":"IF(AND(8<=$FK136,$FK136<=13),VLOOKUP($FK136,整理番号表!$B$32:$G$60,2,FALSE),)","v":0},0,0,{"$f":"IF(AND(FE136<>1,$FP136=1,SUM($FQ136:FQ136)=0,$FF136=1,$FI136>=2),1,)","v":0},{"$f":"IF(AND(FE136<>1,$FP136=1,SUM($FQ136:FR136)=0,OR(AND($FF136=1,$FI136>0),$FI136>=4)),1,)","v":0},{"$f":"IF(AND(FE136<>1,$FP136=1,SUM($FQ136:FS136)=0,OR($FF136=1,$FI136>=2)),1,)","v":0},{"$f":"IF(AND(FE136<>1,$FP136=1,SUM($FQ136:FT136)=0,$FI136>0),1,)","v":0},0,0,{"$f":"IF(AND(FE136<>1,$FP136=2,SUM($FW136:FW136)=0,$FF136=1,$FJ136>=0.1),1,)","v":0},{"$f":"IF(AND(FE136<>1,$FP136=2,SUM($FW136:FX136)=0,OR(AND($FF136=1,$FI136>0),$FJ136>=0.2)),1,)","v":0},{"$f":"IF(AND(FE136<>1,$FP136=2,SUM($FW136:FY136)=0,OR($FF136=1,$FJ136>=0.1)),1,)","v":0},{"$f":"IF(AND(FE136<>1,$FP136=2,SUM($FW136:FZ136)=0,$FI136>0),1,)","v":0},0,{"$f":"IF(AND(FE136<>1,$FP136=3,SUM($GB136:GB136)=0,AND($FF136=1,$FJ136>=0.05)),1,)","v":0},{"$f":"IF(AND(FE136<>1,$FP136=3,SUM($GB136:GC136)=0,OR(AND($FF136=1,$FI136>0),$FJ136>=0.1)),1,)","v":0},{"$f":"IF(AND(FE136<>1,$FP136=3,SUM($GB136:GD136)=0,OR($FF136=1,$FJ136>=0.05)),1,)","v":0},{"$f":"IF(AND(FE136<>1,$FP136=3,SUM($GB136:GE136)=0,$FI136>0),1,)","v":0},0,null,0,0,0,0,0,0,0,0,0,0,0,0,0,0,0,0,0,0,0,0,0,0,0,0,0,0,0,0,0,0,0,0,0,0,0,0,0,0,0,0,0,0,0,0,0,0,0,0,0,0,0,0,0,0,0,0,0,0,0,0,0,0,0,0,0,0,0,0,0,0,0,0,0,0,0,0,0,0,0,"","","","","","","","","","","","","","","","○",0,0,0,0,0,0,0,"○",0,0,0,"○","○",null,0,0]
[0,0,0,0,0,0,0,0,0,0,127,null,null,null,null,{"$f":"IF(O139<>\"\",VLOOKUP(O139,整理番号表!$Z$17:$AA$20,2,FALSE),)","v":0},0,null,null,null,null,null,{"$f":"IF(V139<>0,VLOOKUP(V139,整理番号表!$B$6:$L$13,2,FALSE),)","v":0},0,{"$f":"IF(X139<>0,VLOOKUP(X139,整理番号表!$B$16:$C$18,2,FALSE),)","v":0},null,{"$f":"IF(Z139<>0,VLOOKUP(Z139,整理番号表!$B$22:$C$29,2,FALSE),)","v":0},null,null,{"$f":"IF(AC139<>0,VLOOKUP(AC139,整理番号表!$B$32:$G$60,2,FALSE),)","v":0},null,{"$f":"IF(AE139<>0,VLOOKUP(AE139,整理番号表!$P$5:$R$39,2,FALSE),)","v":0},null,0,null,null,{"$f":"IF(AJ139<>\"\",VLOOKUP(AJ139,整理番号表!$Z$6:$AA$14,2,FALSE),\"\")","v":""},0,null,null,null,null,null,{"$f":"IF(AQ139<>0,VLOOKUP(AQ139,整理番号表!$P$43:$Q$49,2,FALSE),)","v":0},null,null,null,null,0,0,null,0,null,null,null,0,0,0,null,null,0,0,null,{"$f":"IF(BK139<>0,VLOOKUP(BK139,整理番号表!$T$5:$U$16,2,FALSE),)","v":0},null,{"$f":"IF(BM139<>0,VLOOKUP(BM139,整理番号表!$T$22:$U$30,2,FALSE),)","v":0},null,0,"",null,null,null,null,null,"",0,null,null,null,null,null,null,null,null,null,0,0,0,0,0,0,0,0,0,0,0,0,0,0,0,0,0,0,0,0,0,0,0,0,0,0,0,0,null,null,null,null,null,0,0,0,0,0,0,null,0,null,null,null,null,null,null,null,0,null,null,null,null,null,null,null,null,null,null,null,null,null,null,null,null,null,null,null,null,null,null,null,null,null,null,0,0,null,null,0,0,0,{"$f":"IF(OR(AND(1<=$FK139,$FK139<=3),$FK139=6),VLOOKUP($FK139,整理番号表!$B$32:$G$60,2,FALSE),)","v":0},{"$f":"IF(OR($FK139=4,$FK139=7),VLOOKUP($FK139,整理番号表!$B$32:$G$60,2,FALSE),)","v":0},{"$f":"IF($FK139=5,VLOOKUP($FK139,整理番号表!$B$32:$G$60,2,FALSE),)","v":0},{"$f":"IF(AND(8<=$FK139,$FK139<=13),VLOOKUP($FK139,整理番号表!$B$32:$G$60,2,FALSE),)","v":0},0,0,{"$f":"IF(AND(FE139<>1,$FP139=1,SUM($FQ139:FQ139)=0,$FF139=1,$FI139>=2),1,)","v":0},{"$f":"IF(AND(FE139<>1,$FP139=1,SUM($FQ139:FR139)=0,OR(AND($FF139=1,$FI139>0),$FI139>=4)),1,)","v":0},{"$f":"IF(AND(FE139<>1,$FP139=1,SUM($FQ139:FS139)=0,OR($FF139=1,$FI139>=2)),1,)","v":0},{"$f":"IF(AND(FE139<>1,$FP139=1,SUM($FQ139:FT139)=0,$FI139>0),1,)","v":0},0,0,{"$f":"IF(AND(FE139<>1,$FP139=2,SUM($FW139:FW139)=0,$FF139=1,$FJ139>=0.1),1,)","v":0},{"$f":"IF(AND(FE139<>1,$FP139=2,SUM($FW139:FX139)=0,OR(AND($FF139=1,$FI139>0),$FJ139>=0.2)),1,)","v":0},{"$f":"IF(AND(FE139<>1,$FP139=2,SUM($FW139:FY139)=0,OR($FF139=1,$FJ139>=0.1)),1,)","v":0},{"$f":"IF(AND(FE139<>1,$FP139=2,SUM($FW139:FZ139)=0,$FI139>0),1,)","v":0},0,{"$f":"IF(AND(FE139<>1,$FP139=3,SUM($GB139:GB139)=0,AND($FF139=1,$FJ139>=0.05)),1,)","v":0},{"$f":"IF(AND(FE139<>1,$FP139=3,SUM($GB139:GC139)=0,OR(AND($FF139=1,$FI139>0),$FJ139>=0.1)),1,)","v":0},{"$f":"IF(AND(FE139<>1,$FP139=3,SUM($GB139:GD139)=0,OR($FF139=1,$FJ139>=0.05)),1,)","v":0},{"$f":"IF(AND(FE139<>1,$FP139=3,SUM($GB139:GE139)=0,$FI139>0),1,)","v":0},0,null,0,0,0,0,0,0,0,0,0,0,0,0,0,0,0,0,0,0,0,0,0,0,0,0,0,0,0,0,0,0,0,0,0,0,0,0,0,0,0,0,0,0,0,0,0,0,0,0,0,0,0,0,0,0,0,0,0,0,0,0,0,0,0,0,0,0,0,0,0,0,0,0,0,0,0,0,0,0,0,"","","","","","","","","","","","","","","","○",0,0,0,0,0,0,0,"○",0,0,0,"○","○",null,0,0]
[0,0,0,0,0,0,0,0,0,0,128,null,null,null,null,{"$f":"IF(O140<>\"\",VLOOKUP(O140,整理番号表!$Z$17:$AA$20,2,FALSE),)","v":0},0,null,null,null,null,null,{"$f":"IF(V140<>0,VLOOKUP(V140,整理番号表!$B$6:$L$13,2,FALSE),)","v":0},0,{"$f":"IF(X140<>0,VLOOKUP(X140,整理番号表!$B$16:$C$18,2,FALSE),)","v":0},null,{"$f":"IF(Z140<>0,VLOOKUP(Z140,整理番号表!$B$22:$C$29,2,FALSE),)","v":0},null,null,{"$f":"IF(AC140<>0,VLOOKUP(AC140,整理番号表!$B$32:$G$60,2,FALSE),)","v":0},null,{"$f":"IF(AE140<>0,VLOOKUP(AE140,整理番号表!$P$5:$R$39,2,FALSE),)","v":0},null,0,null,null,{"$f":"IF(AJ140<>\"\",VLOOKUP(AJ140,整理番号表!$Z$6:$AA$14,2,FALSE),\"\")","v":""},0,null,null,null,null,null,{"$f":"IF(AQ140<>0,VLOOKUP(AQ140,整理番号表!$P$43:$Q$49,2,FALSE),)","v":0},null,null,null,null,0,0,null,0,null,null,null,0,0,0,null,null,0,0,null,{"$f":"IF(BK140<>0,VLOOKUP(BK140,整理番号表!$T$5:$U$16,2,FALSE),)","v":0},null,{"$f":"IF(BM140<>0,VLOOKUP(BM140,整理番号表!$T$22:$U$30,2,FALSE),)","v":0},null,0,"",null,null,null,null,null,"",0,null,null,null,null,null,null,null,null,null,0,0,0,0,0,0,0,0,0,0,0,0,0,0,0,0,0,0,0,0,0,0,0,0,0,0,0,0,null,null,null,null,null,0,0,0,0,0,0,null,0,null,null,null,null,null,null,null,0,null,null,null,null,null,null,null,null,null,null,null,null,null,null,null,null,null,null,null,null,null,null,null,null,null,null,0,0,null,null,0,0,0,{"$f":"IF(OR(AND(1<=$FK140,$FK140<=3),$FK140=6),VLOOKUP($FK140,整理番号表!$B$32:$G$60,2,FALSE),)","v":0},{"$f":"IF(OR($FK140=4,$FK140=7),VLOOKUP($FK140,整理番号表!$B$32:$G$60,2,FALSE),)","v":0},{"$f":"IF($FK140=5,VLOOKUP($FK140,整理番号表!$B$32:$G$60,2,FALSE),)","v":0},{"$f":"IF(AND(8<=$FK140,$FK140<=13),VLOOKUP($FK140,整理番号表!$B$32:$G$60,2,FALSE),)","v":0},0,0,{"$f":"IF(AND(FE140<>1,$FP140=1,SUM($FQ140:FQ140)=0,$FF140=1,$FI140>=2),1,)","v":0},{"$f":"IF(AND(FE140<>1,$FP140=1,SUM($FQ140:FR140)=0,OR(AND($FF140=1,$FI140>0),$FI140>=4)),1,)","v":0},{"$f":"IF(AND(FE140<>1,$FP140=1,SUM($FQ140:FS140)=0,OR($FF140=1,$FI140>=2)),1,)","v":0},{"$f":"IF(AND(FE140<>1,$FP140=1,SUM($FQ140:FT140)=0,$FI140>0),1,)","v":0},0,0,{"$f":"IF(AND(FE140<>1,$FP140=2,SUM($FW140:FW140)=0,$FF140=1,$FJ140>=0.1),1,)","v":0},{"$f":"IF(AND(FE140<>1,$FP140=2,SUM($FW140:FX140)=0,OR(AND($FF140=1,$FI140>0),$FJ140>=0.2)),1,)","v":0},{"$f":"IF(AND(FE140<>1,$FP140=2,SUM($FW140:FY140)=0,OR($FF140=1,$FJ140>=0.1)),1,)","v":0},{"$f":"IF(AND(FE140<>1,$FP140=2,SUM($FW140:FZ140)=0,$FI140>0),1,)","v":0},0,{"$f":"IF(AND(FE140<>1,$FP140=3,SUM($GB140:GB140)=0,AND($FF140=1,$FJ140>=0.05)),1,)","v":0},{"$f":"IF(AND(FE140<>1,$FP140=3,SUM($GB140:GC140)=0,OR(AND($FF140=1,$FI140>0),$FJ140>=0.1)),1,)","v":0},{"$f":"IF(AND(FE140<>1,$FP140=3,SUM($GB140:GD140)=0,OR($FF140=1,$FJ140>=0.05)),1,)","v":0},{"$f":"IF(AND(FE140<>1,$FP140=3,SUM($GB140:GE140)=0,$FI140>0),1,)","v":0},0,null,0,0,0,0,0,0,0,0,0,0,0,0,0,0,0,0,0,0,0,0,0,0,0,0,0,0,0,0,0,0,0,0,0,0,0,0,0,0,0,0,0,0,0,0,0,0,0,0,0,0,0,0,0,0,0,0,0,0,0,0,0,0,0,0,0,0,0,0,0,0,0,0,0,0,0,0,0,0,0,"","","","","","","","","","","","","","","","○",0,0,0,0,0,0,0,"○",0,0,0,"○","○",null,0,0]
[0,0,0,0,0,0,0,0,0,0,130,null,null,null,null,{"$f":"IF(O142<>\"\",VLOOKUP(O142,整理番号表!$Z$17:$AA$20,2,FALSE),)","v":0},0,null,null,null,null,null,{"$f":"IF(V142<>0,VLOOKUP(V142,整理番号表!$B$6:$L$13,2,FALSE),)","v":0},0,{"$f":"IF(X142<>0,VLOOKUP(X142,整理番号表!$B$16:$C$18,2,FALSE),)","v":0},null,{"$f":"IF(Z142<>0,VLOOKUP(Z142,整理番号表!$B$22:$C$29,2,FALSE),)","v":0},null,null,{"$f":"IF(AC142<>0,VLOOKUP(AC142,整理番号表!$B$32:$G$60,2,FALSE),)","v":0},null,{"$f":"IF(AE142<>0,VLOOKUP(AE142,整理番号表!$P$5:$R$39,2,FALSE),)","v":0},null,0,null,null,{"$f":"IF(AJ142<>\"\",VLOOKUP(AJ142,整理番号表!$Z$6:$AA$14,2,FALSE),\"\")","v":""},0,null,null,null,null,null,{"$f":"IF(AQ142<>0,VLOOKUP(AQ142,整理番号表!$P$43:$Q$49,2,FALSE),)","v":0},null,null,null,null,0,0,null,0,null,null,null,0,0,0,null,null,0,0,null,{"$f":"IF(BK142<>0,VLOOKUP(BK142,整理番号表!$T$5:$U$16,2,FALSE),)","v":0},null,{"$f":"IF(BM142<>0,VLOOKUP(BM142,整理番号表!$T$22:$U$30,2,FALSE),)","v":0},null,0,"",null,null,null,null,null,"",{"$f":"IF(BR142>0,IF(BS142=2,ROUNDDOWN((BV142-BR142),0),IF(BS142=1,ROUNDDOWN((BV142-BR142)*3/4,0),\"\")),IF(BV142>0,BV142,0))","v":0},null,null,null,null,null,null,null,null,null,0,0,0,0,0,0,0,0,0,0,0,0,0,0,0,0,0,0,0,0,0,0,0,0,0,0,0,0,null,null,null,null,null,0,0,0,0,0,0,null,0,null,null,null,null,null,null,null,0,null,null,null,null,null,null,null,null,null,null,null,null,null,null,null,null,null,null,null,null,null,null,null,null,null,null,{"$f":"IF(X142=2,1,)","v":0},{"$f":"IF(AND(I142=1,OR(V142=1,V142=3)),1,)","v":0},null,null,{"$f":"IF(AND(I142=1,FG142<>FH142),FH142-FG142,0)","v":0},{"$f":"IF(AND(I142=1,FG142>0),ROUNDDOWN(FI142/FG142,2),0)","v":0},{"$f":"IF(I142=1,AC142,)","v":0},{"$f":"IF(OR(AND(1<=$FK142,$FK142<=3),$FK142=6),VLOOKUP($FK142,整理番号表!$B$32:$G$60,2,FALSE),)","v":0},{"$f":"IF(OR($FK142=4,$FK142=7),VLOOKUP($FK142,整理番号表!$B$32:$G$60,2,FALSE),)","v":0},{"$f":"IF($FK142=5,VLOOKUP($FK142,整理番号表!$B$32:$G$60,2,FALSE),)","v":0},{"$f":"IF(AND(8<=$FK142,$FK142<=13),VLOOKUP($FK142,整理番号表!$B$32:$G$60,2,FALSE),)","v":0},{"$f":"IF(FL142<>0,1,IF(FM142<>0,2,IF(FN142<>0,3,IF(FO142<>0,4,))))","v":0},{"$f":"IF(AND(FE142<>1,$FP142=1,$FF142=1,$FI142>=4),1,)","v":0},{"$f":"IF(AND(FE142<>1,$FP142=1,SUM($FQ142:FQ142)=0,$FF142=1,$FI142>=2),1,)","v":0},{"$f":"IF(AND(FE142<>1,$FP142=1,SUM($FQ142:FR142)=0,OR(AND($FF142=1,$FI142>0),$FI142>=4)),1,)","v":0},{"$f":"IF(AND(FE142<>1,$FP142=1,SUM($FQ142:FS142)=0,OR($FF142=1,$FI142>=2)),1,)","v":0},{"$f":"IF(AND(FE142<>1,$FP142=1,SUM($FQ142:FT142)=0,$FI142>0),1,)","v":0},{"$f":"IF(AND(FE142<>1,$FP142=4,$FI142>0),1,)","v":0},{"$f":"IF(AND(FE142<>1,$FP142=2,$FF142=1,$FJ142>=0.2),1,)","v":0},{"$f":"IF(AND(FE142<>1,$FP142=2,SUM($FW142:FW142)=0,$FF142=1,$FJ142>=0.1),1,)","v":0},{"$f":"IF(AND(FE142<>1,$FP142=2,SUM($FW142:FX142)=0,OR(AND($FF142=1,$FI142>0),$FJ142>=0.2)),1,)","v":0},{"$f":"IF(AND(FE142<>1,$FP142=2,SUM($FW142:FY142)=0,OR($FF142=1,$FJ142>=0.1)),1,)","v":0},{"$f":"IF(AND(FE142<>1,$FP142=2,SUM($FW142:FZ142)=0,$FI142>0),1,)","v":0},{"$f":"IF(AND(FE142<>1,$FP142=3,$FF142=1,$FJ142>=0.1),1,)","v":0},{"$f":"IF(AND(FE142<>1,$FP142=3,SUM($GB142:GB142)=0,AND($FF142=1,$FJ142>=0.05)),1,)","v":0},{"$f":"IF(AND(FE142<>1,$FP142=3,SUM($GB142:GC142)=0,OR(AND($FF142=1,$FI142>0),$FJ142>=0.1)),1,)","v":0},{"$f":"IF(AND(FE142<>1,$FP142=3,SUM($GB142:GD142)=0,OR($FF142=1,$FJ142>=0.05)),1,)","v":0},{"$f":"IF(AND(FE142<>1,$FP142=3,SUM($GB142:GE142)=0,$FI142>0),1,)","v":0},{"$f":"IF(AND($FE142=1,$FI142>0),1,)","v":0},null,0,0,0,0,0,0,0,0,0,0,0,0,0,0,0,0,0,0,0,0,0,0,0,0,0,0,0,0,0,0,0,0,0,0,0,0,0,0,0,0,0,0,0,0,0,0,0,0,0,0,0,0,0,0,0,0,0,0,0,0,0,0,0,0,0,0,0,0,0,0,0,0,0,0,0,0,0,0,0,"","","","","","","","","","","","","","",{"$f":"IF(EQ142=1,IF(CG142=1,\"○\",\"×\"),\"\")","v":""},"○",0,0,0,0,0,0,0,"○",0,0,0,"○","○",null,0,0]
[0,0,0,0,0,0,0,0,0,0,131,null,null,null,null,{"$f":"IF(O143<>\"\",VLOOKUP(O143,整理番号表!$Z$17:$AA$20,2,FALSE),)","v":0},0,null,null,null,null,null,{"$f":"IF(V143<>0,VLOOKUP(V143,整理番号表!$B$6:$L$13,2,FALSE),)","v":0},0,{"$f":"IF(X143<>0,VLOOKUP(X143,整理番号表!$B$16:$C$18,2,FALSE),)","v":0},null,{"$f":"IF(Z143<>0,VLOOKUP(Z143,整理番号表!$B$22:$C$29,2,FALSE),)","v":0},null,null,{"$f":"IF(AC143<>0,VLOOKUP(AC143,整理番号表!$B$32:$G$60,2,FALSE),)","v":0},null,{"$f":"IF(AE143<>0,VLOOKUP(AE143,整理番号表!$P$5:$R$39,2,FALSE),)","v":0},null,0,null,null,{"$f":"IF(AJ143<>\"\",VLOOKUP(AJ143,整理番号表!$Z$6:$AA$14,2,FALSE),\"\")","v":""},0,null,null,null,null,null,{"$f":"IF(AQ143<>0,VLOOKUP(AQ143,整理番号表!$P$43:$Q$49,2,FALSE),)","v":0},null,null,null,null,0,0,null,0,null,null,null,0,0,0,null,null,0,0,null,{"$f":"IF(BK143<>0,VLOOKUP(BK143,整理番号表!$T$5:$U$16,2,FALSE),)","v":0},null,{"$f":"IF(BM143<>0,VLOOKUP(BM143,整理番号表!$T$22:$U$30,2,FALSE),)","v":0},null,0,"",null,null,null,null,null,"",0,null,null,null,null,null,null,null,null,null,0,0,0,0,0,0,0,0,0,0,0,0,0,0,0,0,0,0,0,0,0,0,0,0,0,0,0,0,null,null,null,null,null,0,0,0,0,0,0,null,0,null,null,null,null,null,null,null,0,null,null,null,null,null,null,null,null,null,null,null,null,null,null,null,null,null,null,null,null,null,null,null,null,null,null,0,0,null,null,0,0,0,{"$f":"IF(OR(AND(1<=$FK143,$FK143<=3),$FK143=6),VLOOKUP($FK143,整理番号表!$B$32:$G$60,2,FALSE),)","v":0},{"$f":"IF(OR($FK143=4,$FK143=7),VLOOKUP($FK143,整理番号表!$B$32:$G$60,2,FALSE),)","v":0},{"$f":"IF($FK143=5,VLOOKUP($FK143,整理番号表!$B$32:$G$60,2,FALSE),)","v":0},{"$f":"IF(AND(8<=$FK143,$FK143<=13),VLOOKUP($FK143,整理番号表!$B$32:$G$60,2,FALSE),)","v":0},0,0,{"$f":"IF(AND(FE143<>1,$FP143=1,SUM($FQ143:FQ143)=0,$FF143=1,$FI143>=2),1,)","v":0},{"$f":"IF(AND(FE143<>1,$FP143=1,SUM($FQ143:FR143)=0,OR(AND($FF143=1,$FI143>0),$FI143>=4)),1,)","v":0},{"$f":"IF(AND(FE143<>1,$FP143=1,SUM($FQ143:FS143)=0,OR($FF143=1,$FI143>=2)),1,)","v":0},{"$f":"IF(AND(FE143<>1,$FP143=1,SUM($FQ143:FT143)=0,$FI143>0),1,)","v":0},0,0,{"$f":"IF(AND(FE143<>1,$FP143=2,SUM($FW143:FW143)=0,$FF143=1,$FJ143>=0.1),1,)","v":0},{"$f":"IF(AND(FE143<>1,$FP143=2,SUM($FW143:FX143)=0,OR(AND($FF143=1,$FI143>0),$FJ143>=0.2)),1,)","v":0},{"$f":"IF(AND(FE143<>1,$FP143=2,SUM($FW143:FY143)=0,OR($FF143=1,$FJ143>=0.1)),1,)","v":0},{"$f":"IF(AND(FE143<>1,$FP143=2,SUM($FW143:FZ143)=0,$FI143>0),1,)","v":0},0,{"$f":"IF(AND(FE143<>1,$FP143=3,SUM($GB143:GB143)=0,AND($FF143=1,$FJ143>=0.05)),1,)","v":0},{"$f":"IF(AND(FE143<>1,$FP143=3,SUM($GB143:GC143)=0,OR(AND($FF143=1,$FI143>0),$FJ143>=0.1)),1,)","v":0},{"$f":"IF(AND(FE143<>1,$FP143=3,SUM($GB143:GD143)=0,OR($FF143=1,$FJ143>=0.05)),1,)","v":0},{"$f":"IF(AND(FE143<>1,$FP143=3,SUM($GB143:GE143)=0,$FI143>0),1,)","v":0},0,null,0,0,0,0,0,0,0,0,0,0,0,0,0,0,0,0,0,0,0,0,0,0,0,0,0,0,0,0,0,0,0,0,0,0,0,0,0,0,0,0,0,0,0,0,0,0,0,0,0,0,0,0,0,0,0,0,0,0,0,0,0,0,0,0,0,0,0,0,0,0,0,0,0,0,0,0,0,0,0,"","","","","","","","","","","","","","","","○",0,0,0,0,0,0,0,"○",0,0,0,"○","○",null,0,0]
[0,0,0,0,0,0,0,0,0,0,133,null,null,null,null,{"$f":"IF(O145<>\"\",VLOOKUP(O145,整理番号表!$Z$17:$AA$20,2,FALSE),)","v":0},0,null,null,null,null,null,{"$f":"IF(V145<>0,VLOOKUP(V145,整理番号表!$B$6:$L$13,2,FALSE),)","v":0},0,{"$f":"IF(X145<>0,VLOOKUP(X145,整理番号表!$B$16:$C$18,2,FALSE),)","v":0},null,{"$f":"IF(Z145<>0,VLOOKUP(Z145,整理番号表!$B$22:$C$29,2,FALSE),)","v":0},null,null,{"$f":"IF(AC145<>0,VLOOKUP(AC145,整理番号表!$B$32:$G$60,2,FALSE),)","v":0},null,{"$f":"IF(AE145<>0,VLOOKUP(AE145,整理番号表!$P$5:$R$39,2,FALSE),)","v":0},null,0,null,null,{"$f":"IF(AJ145<>\"\",VLOOKUP(AJ145,整理番号表!$Z$6:$AA$14,2,FALSE),\"\")","v":""},0,null,null,null,null,null,{"$f":"IF(AQ145<>0,VLOOKUP(AQ145,整理番号表!$P$43:$Q$49,2,FALSE),)","v":0},null,null,null,null,0,0,null,0,null,null,null,0,0,0,null,null,0,0,null,{"$f":"IF(BK145<>0,VLOOKUP(BK145,整理番号表!$T$5:$U$16,2,FALSE),)","v":0},null,{"$f":"IF(BM145<>0,VLOOKUP(BM145,整理番号表!$T$22:$U$30,2,FALSE),)","v":0},null,0,"",null,null,null,null,null,"",0,null,null,null,null,null,null,null,null,null,0,0,0,0,0,0,0,0,0,0,0,0,0,0,0,0,0,0,0,0,0,0,0,0,0,0,0,0,null,null,null,null,null,0,0,0,0,0,0,null,0,null,null,null,null,null,null,null,0,null,null,null,null,null,null,null,null,null,null,null,null,null,null,null,null,null,null,null,null,null,null,null,null,null,null,0,0,null,null,0,0,0,{"$f":"IF(OR(AND(1<=$FK145,$FK145<=3),$FK145=6),VLOOKUP($FK145,整理番号表!$B$32:$G$60,2,FALSE),)","v":0},{"$f":"IF(OR($FK145=4,$FK145=7),VLOOKUP($FK145,整理番号表!$B$32:$G$60,2,FALSE),)","v":0},{"$f":"IF($FK145=5,VLOOKUP($FK145,整理番号表!$B$32:$G$60,2,FALSE),)","v":0},{"$f":"IF(AND(8<=$FK145,$FK145<=13),VLOOKUP($FK145,整理番号表!$B$32:$G$60,2,FALSE),)","v":0},0,0,{"$f":"IF(AND(FE145<>1,$FP145=1,SUM($FQ145:FQ145)=0,$FF145=1,$FI145>=2),1,)","v":0},{"$f":"IF(AND(FE145<>1,$FP145=1,SUM($FQ145:FR145)=0,OR(AND($FF145=1,$FI145>0),$FI145>=4)),1,)","v":0},{"$f":"IF(AND(FE145<>1,$FP145=1,SUM($FQ145:FS145)=0,OR($FF145=1,$FI145>=2)),1,)","v":0},{"$f":"IF(AND(FE145<>1,$FP145=1,SUM($FQ145:FT145)=0,$FI145>0),1,)","v":0},0,0,{"$f":"IF(AND(FE145<>1,$FP145=2,SUM($FW145:FW145)=0,$FF145=1,$FJ145>=0.1),1,)","v":0},{"$f":"IF(AND(FE145<>1,$FP145=2,SUM($FW145:FX145)=0,OR(AND($FF145=1,$FI145>0),$FJ145>=0.2)),1,)","v":0},{"$f":"IF(AND(FE145<>1,$FP145=2,SUM($FW145:FY145)=0,OR($FF145=1,$FJ145>=0.1)),1,)","v":0},{"$f":"IF(AND(FE145<>1,$FP145=2,SUM($FW145:FZ145)=0,$FI145>0),1,)","v":0},0,{"$f":"IF(AND(FE145<>1,$FP145=3,SUM($GB145:GB145)=0,AND($FF145=1,$FJ145>=0.05)),1,)","v":0},{"$f":"IF(AND(FE145<>1,$FP145=3,SUM($GB145:GC145)=0,OR(AND($FF145=1,$FI145>0),$FJ145>=0.1)),1,)","v":0},{"$f":"IF(AND(FE145<>1,$FP145=3,SUM($GB145:GD145)=0,OR($FF145=1,$FJ145>=0.05)),1,)","v":0},{"$f":"IF(AND(FE145<>1,$FP145=3,SUM($GB145:GE145)=0,$FI145>0),1,)","v":0},0,null,0,0,0,0,0,0,0,0,0,0,0,0,0,0,0,0,0,0,0,0,0,0,0,0,0,0,0,0,0,0,0,0,0,0,0,0,0,0,0,0,0,0,0,0,0,0,0,0,0,0,0,0,0,0,0,0,0,0,0,0,0,0,0,0,0,0,0,0,0,0,0,0,0,0,0,0,0,0,0,"","","","","","","","","","","","","","","","○",0,0,0,0,0,0,0,"○",0,0,0,"○","○",null,0,0]
[0,0,0,0,0,0,0,0,0,0,134,null,null,null,null,{"$f":"IF(O146<>\"\",VLOOKUP(O146,整理番号表!$Z$17:$AA$20,2,FALSE),)","v":0},0,null,null,null,null,null,{"$f":"IF(V146<>0,VLOOKUP(V146,整理番号表!$B$6:$L$13,2,FALSE),)","v":0},0,{"$f":"IF(X146<>0,VLOOKUP(X146,整理番号表!$B$16:$C$18,2,FALSE),)","v":0},null,{"$f":"IF(Z146<>0,VLOOKUP(Z146,整理番号表!$B$22:$C$29,2,FALSE),)","v":0},null,null,{"$f":"IF(AC146<>0,VLOOKUP(AC146,整理番号表!$B$32:$G$60,2,FALSE),)","v":0},null,{"$f":"IF(AE146<>0,VLOOKUP(AE146,整理番号表!$P$5:$R$39,2,FALSE),)","v":0},null,0,null,null,{"$f":"IF(AJ146<>\"\",VLOOKUP(AJ146,整理番号表!$Z$6:$AA$14,2,FALSE),\"\")","v":""},0,null,null,null,null,null,{"$f":"IF(AQ146<>0,VLOOKUP(AQ146,整理番号表!$P$43:$Q$49,2,FALSE),)","v":0},null,null,null,null,0,0,null,0,null,null,null,0,0,0,null,null,0,0,null,{"$f":"IF(BK146<>0,VLOOKUP(BK146,整理番号表!$T$5:$U$16,2,FALSE),)","v":0},null,{"$f":"IF(BM146<>0,VLOOKUP(BM146,整理番号表!$T$22:$U$30,2,FALSE),)","v":0},null,0,"",null,null,null,null,null,"",0,null,null,null,null,null,null,null,null,null,0,0,0,0,0,0,0,0,0,0,0,0,0,0,0,0,0,0,0,0,0,0,0,0,0,0,0,0,null,null,null,null,null,0,0,0,0,0,0,null,0,null,null,null,null,null,null,null,0,null,null,null,null,null,null,null,null,null,null,null,null,null,null,null,null,null,null,null,null,null,null,null,null,null,null,0,0,null,null,0,0,0,{"$f":"IF(OR(AND(1<=$FK146,$FK146<=3),$FK146=6),VLOOKUP($FK146,整理番号表!$B$32:$G$60,2,FALSE),)","v":0},{"$f":"IF(OR($FK146=4,$FK146=7),VLOOKUP($FK146,整理番号表!$B$32:$G$60,2,FALSE),)","v":0},{"$f":"IF($FK146=5,VLOOKUP($FK146,整理番号表!$B$32:$G$60,2,FALSE),)","v":0},{"$f":"IF(AND(8<=$FK146,$FK146<=13),VLOOKUP($FK146,整理番号表!$B$32:$G$60,2,FALSE),)","v":0},0,0,{"$f":"IF(AND(FE146<>1,$FP146=1,SUM($FQ146:FQ146)=0,$FF146=1,$FI146>=2),1,)","v":0},{"$f":"IF(AND(FE146<>1,$FP146=1,SUM($FQ146:FR146)=0,OR(AND($FF146=1,$FI146>0),$FI146>=4)),1,)","v":0},{"$f":"IF(AND(FE146<>1,$FP146=1,SUM($FQ146:FS146)=0,OR($FF146=1,$FI146>=2)),1,)","v":0},{"$f":"IF(AND(FE146<>1,$FP146=1,SUM($FQ146:FT146)=0,$FI146>0),1,)","v":0},0,0,{"$f":"IF(AND(FE146<>1,$FP146=2,SUM($FW146:FW146)=0,$FF146=1,$FJ146>=0.1),1,)","v":0},{"$f":"IF(AND(FE146<>1,$FP146=2,SUM($FW146:FX146)=0,OR(AND($FF146=1,$FI146>0),$FJ146>=0.2)),1,)","v":0},{"$f":"IF(AND(FE146<>1,$FP146=2,SUM($FW146:FY146)=0,OR($FF146=1,$FJ146>=0.1)),1,)","v":0},{"$f":"IF(AND(FE146<>1,$FP146=2,SUM($FW146:FZ146)=0,$FI146>0),1,)","v":0},0,{"$f":"IF(AND(FE146<>1,$FP146=3,SUM($GB146:GB146)=0,AND($FF146=1,$FJ146>=0.05)),1,)","v":0},{"$f":"IF(AND(FE146<>1,$FP146=3,SUM($GB146:GC146)=0,OR(AND($FF146=1,$FI146>0),$FJ146>=0.1)),1,)","v":0},{"$f":"IF(AND(FE146<>1,$FP146=3,SUM($GB146:GD146)=0,OR($FF146=1,$FJ146>=0.05)),1,)","v":0},{"$f":"IF(AND(FE146<>1,$FP146=3,SUM($GB146:GE146)=0,$FI146>0),1,)","v":0},0,null,0,0,0,0,0,0,0,0,0,0,0,0,0,0,0,0,0,0,0,0,0,0,0,0,0,0,0,0,0,0,0,0,0,0,0,0,0,0,0,0,0,0,0,0,0,0,0,0,0,0,0,0,0,0,0,0,0,0,0,0,0,0,0,0,0,0,0,0,0,0,0,0,0,0,0,0,0,0,0,"","","","","","","","","","","","","","","","○",0,0,0,0,0,0,0,"○",0,0,0,"○","○",null,0,0]
[0,0,0,0,0,0,0,0,0,0,136,null,null,null,null,{"$f":"IF(O148<>\"\",VLOOKUP(O148,整理番号表!$Z$17:$AA$20,2,FALSE),)","v":0},0,null,null,null,null,null,{"$f":"IF(V148<>0,VLOOKUP(V148,整理番号表!$B$6:$L$13,2,FALSE),)","v":0},0,{"$f":"IF(X148<>0,VLOOKUP(X148,整理番号表!$B$16:$C$18,2,FALSE),)","v":0},null,{"$f":"IF(Z148<>0,VLOOKUP(Z148,整理番号表!$B$22:$C$29,2,FALSE),)","v":0},null,null,{"$f":"IF(AC148<>0,VLOOKUP(AC148,整理番号表!$B$32:$G$60,2,FALSE),)","v":0},null,{"$f":"IF(AE148<>0,VLOOKUP(AE148,整理番号表!$P$5:$R$39,2,FALSE),)","v":0},null,0,null,null,{"$f":"IF(AJ148<>\"\",VLOOKUP(AJ148,整理番号表!$Z$6:$AA$14,2,FALSE),\"\")","v":""},{"$f":"IF(AJ148<>0,1,)","v":0},null,null,null,null,null,{"$f":"IF(AQ148<>0,VLOOKUP(AQ148,整理番号表!$P$43:$Q$49,2,FALSE),)","v":0},null,null,null,null,0,0,null,0,null,null,null,0,0,0,null,null,0,0,null,{"$f":"IF(BK148<>0,VLOOKUP(BK148,整理番号表!$T$5:$U$16,2,FALSE),)","v":0},null,{"$f":"IF(BM148<>0,VLOOKUP(BM148,整理番号表!$T$22:$U$30,2,FALSE),)","v":0},null,{"$f":"IF(BO148=1,AY148,)","v":0},{"$f":"IF(AND(R148<>\"\",I148=1),1,\"\")","v":""},null,null,null,null,null,{"$f":"IF(BS148=2,ROUNDDOWN((BV148-BR148)/ABS(BR148),2),IF(BS148=1,ROUNDDOWN((BV148-BR148)/ABS(BR148)*3/4,2),\"\"))","v":""},0,null,null,null,null,null,null,null,null,null,0,0,0,0,0,0,0,0,0,0,0,0,0,0,0,0,0,0,0,0,0,0,0,0,0,0,0,0,null,null,null,null,null,{"$f":"SUM(FQ148,FW148,GB148)","v":0},{"$f":"SUM(FR148,FX148,GC148)","v":0},{"$f":"SUM(FS148,FY148,GD148)","v":0},{"$f":"SUM(FT148,FZ148,GE148)","v":0},{"$f":"SUM(FU148,FV148,GA148,GF148)","v":0},{"$f":"GG148","v":0},null,0,null,null,null,null,null,null,null,0,null,null,null,null,null,null,null,null,null,null,null,null,null,null,null,null,null,null,null,null,null,null,null,null,null,null,0,0,null,null,0,0,0,{"$f":"IF(OR(AND(1<=$FK148,$FK148<=3),$FK148=6),VLOOKUP($FK148,整理番号表!$B$32:$G$60,2,FALSE),)","v":0},{"$f":"IF(OR($FK148=4,$FK148=7),VLOOKUP($FK148,整理番号表!$B$32:$G$60,2,FALSE),)","v":0},{"$f":"IF($FK148=5,VLOOKUP($FK148,整理番号表!$B$32:$G$60,2,FALSE),)","v":0},{"$f":"IF(AND(8<=$FK148,$FK148<=13),VLOOKUP($FK148,整理番号表!$B$32:$G$60,2,FALSE),)","v":0},0,0,{"$f":"IF(AND(FE148<>1,$FP148=1,SUM($FQ148:FQ148)=0,$FF148=1,$FI148>=2),1,)","v":0},{"$f":"IF(AND(FE148<>1,$FP148=1,SUM($FQ148:FR148)=0,OR(AND($FF148=1,$FI148>0),$FI148>=4)),1,)","v":0},{"$f":"IF(AND(FE148<>1,$FP148=1,SUM($FQ148:FS148)=0,OR($FF148=1,$FI148>=2)),1,)","v":0},{"$f":"IF(AND(FE148<>1,$FP148=1,SUM($FQ148:FT148)=0,$FI148>0),1,)","v":0},0,0,{"$f":"IF(AND(FE148<>1,$FP148=2,SUM($FW148:FW148)=0,$FF148=1,$FJ148>=0.1),1,)","v":0},{"$f":"IF(AND(FE148<>1,$FP148=2,SUM($FW148:FX148)=0,OR(AND($FF148=1,$FI148>0),$FJ148>=0.2)),1,)","v":0},{"$f":"IF(AND(FE148<>1,$FP148=2,SUM($FW148:FY148)=0,OR($FF148=1,$FJ148>=0.1)),1,)","v":0},{"$f":"IF(AND(FE148<>1,$FP148=2,SUM($FW148:FZ148)=0,$FI148>0),1,)","v":0},0,{"$f":"IF(AND(FE148<>1,$FP148=3,SUM($GB148:GB148)=0,AND($FF148=1,$FJ148>=0.05)),1,)","v":0},{"$f":"IF(AND(FE148<>1,$FP148=3,SUM($GB148:GC148)=0,OR(AND($FF148=1,$FI148>0),$FJ148>=0.1)),1,)","v":0},{"$f":"IF(AND(FE148<>1,$FP148=3,SUM($GB148:GD148)=0,OR($FF148=1,$FJ148>=0.05)),1,)","v":0},{"$f":"IF(AND(FE148<>1,$FP148=3,SUM($GB148:GE148)=0,$FI148>0),1,)","v":0},0,null,{"$f":"IF($I148=1,CH148*GI$5,0)","v":0},{"$f":"IF($I148=1,CI148*GJ$5,0)","v":0},{"$f":"IF($I148=1,CJ148*GK$5,0)","v":0},{"$f":"IF($I148=1,CK148*GL$5,0)","v":0},{"$f":"IF($I148=1,CL148*GM$5,0)","v":0},{"$f":"IF($I148=1,CM148*GN$5,0)","v":0},{"$f":"IF($I148=1,CN148*GO$5,0)","v":0},{"$f":"IF($I148=1,CO148*GP$5,0)","v":0},{"$f":"IF($I148=1,CP148*GQ$5,0)","v":0},{"$f":"IF($I148=1,CQ148*GR$5,0)","v":0},{"$f":"IF($I148=1,CR148*GS$5,0)","v":0},{"$f":"IF($I148=1,CS148*GT$5,0)","v":0},{"$f":"IF($I148=1,CT148*GU$5,0)","v":0},{"$f":"IF($I148=1,CU148*GV$5,0)","v":0},{"$f":"IF($I148=1,CV148*GW$5,0)","v":0},{"$f":"IF($I148=1,CW148*GX$5,0)","v":0},{"$f":"IF($I148=1,CX148*GY$5,0)","v":0},{"$f":"IF($I148=1,CY148*GZ$5,0)","v":0},{"$f":"IF($I148=1,CZ148*HA$5,0)","v":0},{"$f":"IF($I148=1,DA148*HB$5,0)","v":0},{"$f":"IF($I148=1,DB148*HC$5,0)","v":0},{"$f":"IF($I148=1,DC148*HD$5,0)","v":0},{"$f":"IF($I148=1,DD148*HE$5,0)","v":0},{"$f":"IF($I148=1,DE148*HF$5,0)","v":0},{"$f":"IF($I148=1,DF148*HG$5,0)","v":0},{"$f":"IF($I148=1,DG148*HH$5,0)","v":0},{"$f":"IF($I148=1,DH148*HI$5,0)","v":0},{"$f":"IF($I148=1,DI148*HJ$5,0)","v":0},{"$f":"IF($I148=1,DJ148*HK$5,0)","v":0},{"$f":"IF($I148=1,DK148*HL$5,0)","v":0},{"$f":"IF($I148=1,DL148*HM$5,0)","v":0},{"$f":"IF($I148=1,DM148*HN$5,0)","v":0},{"$f":"IF($I148=1,DN148*HO$5,0)","v":0},{"$f":"IF($I148=1,DO148*HP$5,0)","v":0},{"$f":"IF($I148=1,DP148*HQ$5,0)","v":0},{"$f":"IF($I148=1,DQ148*HR$5,0)","v":0},{"$f":"IF($I148=1,DR148*HS$5,0)","v":0},{"$f":"IF($I148=1,DS148*HT$5,0)","v":0},{"$f":"IF($I148=1,DT148*HU$5,0)","v":0},{"$f":"IF($I148=1,DU148*HV$5,0)","v":0},{"$f":"IF($I148=1,DV148*HW$5,0)","v":0},{"$f":"IF($I148=1,DW148*HX$5,0)","v":0},{"$f":"IF($I148=1,DX148*HY$5,0)","v":0},{"$f":"IF($I148=1,DY148*HZ$5,0)","v":0},{"$f":"IF($I148=1,DZ148*IA$5,0)","v":0},{"$f":"IF($I148=1,EA148*IB$5,0)","v":0},{"$f":"IF($I148=1,EB148*IC$5,0)","v":0},{"$f":"IF($I148=1,EC148*ID$5,0)","v":0},{"$f":"IF($I148=1,ED148*IE$5,0)","v":0},{"$f":"IF($I148=1,EE148*IF$5,0)","v":0},{"$f":"IF($I148=1,EF148*IG$5,0)","v":0},{"$f":"IF($I148=1,EG148*IH$5,0)","v":0},{"$f":"IF($I148=1,EH148*II$5,0)","v":0},{"$f":"IF($I148=1,EI148*IJ$5,0)","v":0},{"$f":"IF($I148=1,EJ148*IK$5,0)","v":0},{"$f":"IF($I148=1,EK148*IL$5,0)","v":0},{"$f":"IF($I148=1,EL148*IM$5,0)","v":0},{"$f":"IF($I148=1,EM148*IN$5,0)","v":0},{"$f":"IF($I148=1,EN148*IO$5,0)","v":0},{"$f":"IF($I148=1,EO148*IP$5,0)","v":0},{"$f":"IF($I148=1,EP148*IQ$5,0)","v":0},{"$f":"IF($I148=1,EQ148*IR$5,0)","v":0},{"$f":"IF($I148=1,ER148*IS$5,0)","v":0},{"$f":"IF($I148=1,ES148*IT$5,0)","v":0},{"$f":"IF($I148=1,ET148*IU$5,0)","v":0},{"$f":"IF($I148=1,EU148*IV$5,0)","v":0},{"$f":"IF($I148=1,EV148*IW$5,0)","v":0},{"$f":"IF($I148=1,EW148*IX$5,0)","v":0},{"$f":"IF($I148=1,EX148*IY$5,0)","v":0},{"$f":"IF($I148=1,EY148*IZ$5,0)","v":0},0,{"$f":"IF($I148=1,IF(FA148<>\"\",JB$5,0),0)","v":0},{"$f":"IF($I148=1,FB148*JC$5,0)","v":0},{"$f":"IF($I148=1,FC148*JD$5,0)","v":0},{"$f":"SUM(GI148:JD148)","v":0},{"$f":"IF(G148=1,SUMIF($C$13:$C$350,C148,$JE$13:$JE$350),0)","v":0},{"$f":"IF(G148=1,SUMIF($C$13:$C$350,C148,$I$13:$I$350),0)","v":0},{"$f":"IF(JG148>0,JF148/JG148,0)","v":0},0,"","","","","","","","","","","","","","","","○",0,0,0,0,0,0,0,"○",0,0,0,"○","○",null,0,0]
[{"$f":"D149*1000000+C149*10000+Q149*100+AH149","v":0},{"$f":"IF(L149<>\"\",IF(L149<>L148,B148+1,B148),0)","v":0},{"$f":"IF(N149<>\"\",IF(N149<>N148,C148+1,C148),0)","v":0},{"$f":"IF(M149<>\"\",IF(M149<>M148,D148+1,D148),0)","v":0},{"$f":"IF(R149<>\"\",IF(OR(R149<>R148,N149<>N148),E148+1,E148),0)","v":0},{"$f":"IF(BP149>0,E149,0)","v":0},{"$f":"IF(N149<>\"\",IF(N149<>N148,1,0),0)","v":0},{"$f":"IF(M149<>\"\",IF(M149<>M148,1,0),0)","v":0},{"$f":"IF(R149<>\"\",IF(R149<>R148,1,0),0)","v":0},{"$f":"IF(AND(I149=1,SUMIF($E$13:$E$350,E149,$F$13:$F$350)>0),1,0)","v":0},137,null,null,null,null,{"$f":"IF(O149<>\"\",VLOOKUP(O149,整理番号表!$Z$17:$AA$20,2,FALSE),)","v":0},{"$f":"IF(R149<>\"\",IF(N149<>N148,1,IF(R149<>R148,Q148+1,Q148)),)","v":0},null,null,null,null,null,{"$f":"IF(V149<>0,VLOOKUP(V149,整理番号表!$B$6:$L$13,2,FALSE),)","v":0},{"$f":"IF(V149<>0,IF(V149=4,2,1),)","v":0},{"$f":"IF(X149<>0,VLOOKUP(X149,整理番号表!$B$16:$C$18,2,FALSE),)","v":0},null,{"$f":"IF(Z149<>0,VLOOKUP(Z149,整理番号表!$B$22:$C$29,2,FALSE),)","v":0},null,null,{"$f":"IF(AC149<>0,VLOOKUP(AC149,整理番号表!$B$32:$G$60,2,FALSE),)","v":0},null,{"$f":"IF(AE149<>0,VLOOKUP(AE149,整理番号表!$P$5:$R$39,2,FALSE),)","v":0},null,0,null,null,{"$f":"IF(AJ149<>\"\",VLOOKUP(AJ149,整理番号表!$Z$6:$AA$14,2,FALSE),\"\")","v":""},0,null,null,null,null,null,{"$f":"IF(AQ149<>0,VLOOKUP(AQ149,整理番号表!$P$43:$Q$49,2,FALSE),)","v":0},null,null,null,null,{"$f":"IF(AL149=1,IF(KC149>0,MIN(ROUNDDOWN(KC149,-3),IF(AND(X149=1,AB149=\"法人\"),30000000,IF(AND(X149=1,AB149=\"法人以外\"),15000000,IF(X149=2,1000000,0)))),0),0)","v":0},{"$f":"IF(KF149>0,ROUNDDOWN(KF149,-3),0)","v":0},null,0,null,null,null,{"$f":"IF(I149=1,MIN(KH149,KJ149),0)","v":0},{"$f":"IF(AV149<>0,AX149/AV149,)","v":0},{"$f":"IF(AV149<>0,AY149/AV149,)","v":0},null,null,{"$f":"IF(AX149>0,IF(AU149=1,ROUNDDOWN(AV149*10/110,0),IF(AU149=2,\"該当なし\",\"含税額\")),0)","v":0},{"$f":"IF(AX149>0,IF(AU149<>1,\" \",IF(AU149=1,ROUNDDOWN(ROUNDDOWN((AX149/(AV149-BI149)),5)*BI149,0))),0)","v":0},null,{"$f":"IF(BK149<>0,VLOOKUP(BK149,整理番号表!$T$5:$U$16,2,FALSE),)","v":0},null,{"$f":"IF(BM149<>0,VLOOKUP(BM149,整理番号表!$T$22:$U$30,2,FALSE),)","v":0},null,0,"",null,null,null,null,null,"",0,null,null,null,null,null,null,null,null,null,0,0,0,0,0,0,0,0,0,0,0,0,0,0,0,0,0,0,0,0,0,0,0,0,0,0,0,0,null,null,null,null,null,0,0,0,0,0,0,null,0,null,null,null,null,null,null,null,0,null,null,null,null,null,null,null,null,null,null,null,null,null,null,null,null,null,null,null,null,null,null,null,null,null,null,0,0,null,null,0,0,0,{"$f":"IF(OR(AND(1<=$FK149,$FK149<=3),$FK149=6),VLOOKUP($FK149,整理番号表!$B$32:$G$60,2,FALSE),)","v":0},{"$f":"IF(OR($FK149=4,$FK149=7),VLOOKUP($FK149,整理番号表!$B$32:$G$60,2,FALSE),)","v":0},{"$f":"IF($FK149=5,VLOOKUP($FK149,整理番号表!$B$32:$G$60,2,FALSE),)","v":0},{"$f":"IF(AND(8<=$FK149,$FK149<=13),VLOOKUP($FK149,整理番号表!$B$32:$G$60,2,FALSE),)","v":0},0,0,{"$f":"IF(AND(FE149<>1,$FP149=1,SUM($FQ149:FQ149)=0,$FF149=1,$FI149>=2),1,)","v":0},{"$f":"IF(AND(FE149<>1,$FP149=1,SUM($FQ149:FR149)=0,OR(AND($FF149=1,$FI149>0),$FI149>=4)),1,)","v":0},{"$f":"IF(AND(FE149<>1,$FP149=1,SUM($FQ149:FS149)=0,OR($FF149=1,$FI149>=2)),1,)","v":0},{"$f":"IF(AND(FE149<>1,$FP149=1,SUM($FQ149:FT149)=0,$FI149>0),1,)","v":0},0,0,{"$f":"IF(AND(FE149<>1,$FP149=2,SUM($FW149:FW149)=0,$FF149=1,$FJ149>=0.1),1,)","v":0},{"$f":"IF(AND(FE149<>1,$FP149=2,SUM($FW149:FX149)=0,OR(AND($FF149=1,$FI149>0),$FJ149>=0.2)),1,)","v":0},{"$f":"IF(AND(FE149<>1,$FP149=2,SUM($FW149:FY149)=0,OR($FF149=1,$FJ149>=0.1)),1,)","v":0},{"$f":"IF(AND(FE149<>1,$FP149=2,SUM($FW149:FZ149)=0,$FI149>0),1,)","v":0},0,{"$f":"IF(AND(FE149<>1,$FP149=3,SUM($GB149:GB149)=0,AND($FF149=1,$FJ149>=0.05)),1,)","v":0},{"$f":"IF(AND(FE149<>1,$FP149=3,SUM($GB149:GC149)=0,OR(AND($FF149=1,$FI149>0),$FJ149>=0.1)),1,)","v":0},{"$f":"IF(AND(FE149<>1,$FP149=3,SUM($GB149:GD149)=0,OR($FF149=1,$FJ149>=0.05)),1,)","v":0},{"$f":"IF(AND(FE149<>1,$FP149=3,SUM($GB149:GE149)=0,$FI149>0),1,)","v":0},0,null,0,0,0,0,0,0,0,0,0,0,0,0,0,0,0,0,0,0,0,0,0,0,0,0,0,0,0,0,0,0,0,0,0,0,0,0,0,0,0,0,0,0,0,0,0,0,0,0,0,0,0,0,0,0,0,0,0,0,0,0,0,0,0,0,0,0,0,0,0,0,0,0,0,0,0,0,0,0,{"$f":"IF(X149=2,1,0)","v":0},{"$f":"IF(AI149<>\"\",IF(X149=2,\"認\",IF(AND(X149=1,AY149>0),\"○\",\"×\")),\"\")","v":""},{"$f":"IF(AI149<>\"\",IF(AV149>=500000,\"○\",\"×\"),\"\")","v":""},{"$f":"IF(AI149<>\"\",IF(AND(5<=BH149,BH149<=20),\"○\",IF(OR(AND(4<=BH149,BH149<=24),OR(AE149=30,AE149=31),AG149=1),\"△\",\"×\")),\"\")","v":""},{"$f":"IF(AI149<>\"\",IF(AT149>0,\"○\",\"×\"),\"\")","v":""},{"$f":"IF(I149=1,IF(BR149=0,\"△\",IF(OR(AND(X149=1,BW149>=0.1),AND(X149=2,BW149>0)),\"○\",\"×\")),\"\")","v":""},{"$f":"IF(SUM(DO149:DT149)>0,IF(BY149=1,\"○\",\"×\"),\"\")","v":""},{"$f":"IF(BY149=1,IF(AND(FI149>0,FJ149>0),\"○\",\"×\"),\"\")","v":""},{"$f":"IF(SUM(DX149)>0,IF(BZ149=1,\"○\",\"×\"),\"\")","v":""},{"$f":"IF(SUM(EA149,EC149)>0,IF(CA149=1,\"○\",\"×\"),\"\")","v":""},{"$f":"IF(SUM(EE149)>0,IF(CB149=1,\"○\",\"×\"),\"\")","v":""},{"$f":"IF(SUM(EH149)>0,IF(CC149=1,\"○\",\"×\"),\"\")","v":""},{"$f":"IF(SUM(EK149)>0,IF(CD149=1,\"○\",\"×\"),\"\")","v":""},{"$f":"IF(SUM(EM149)>0,IF(CE149=1,\"○\",\"×\"),\"\")","v":""},{"$f":"IF(SUM(EN149:EP149)>0,IF(CF149=1,\"○\",\"×\"),\"\")","v":""},"",{"$f":"IF(COUNTIF(JJ149:JX149,\"×\")>=1,\"×\",\"○\")","v":"○"},{"$f":"AU149","v":0},{"$f":"AV149","v":0},{"$f":"IF(JZ149=1,ROUNDUP(KA149*100/110,0),KA149)","v":0},{"$f":"ROUNDDOWN(KB149*1/2,0)","v":0},{"$f":"IF(X149=2,\"認める者\",AY149)","v":0},{"$f":"AV149-SUM(AY149,BA149:BC149)","v":0},{"$f":"IF(X149=1,MIN(KC149:KE149),IF(X149=2,MIN(KC149,KE149),0))","v":0},{"$f":"IF(AX149<=KF149,\"○\",\"×\")","v":"○"},{"$f":"IF(I149=1,IF(X149=2,1000000,IF(AND(X149=1,AB149=\"法人\"),30000000,IF(AND(X149=1,AB149=\"法人以外\"),15000000,0))),0)","v":0},{"$f":"IF(I149=1,SUMIF($E$13:$E$350,E149,$AW$13:$AW$350),0)","v":0},{"$f":"IF(I149=1,SUMIF($E$13:$E$350,E149,$AX$13:$AX$350),0)","v":0},{"$f":"IF(OR(AND(KJ149>0,KH149<KJ149),AND(KI149>0,KH149<KI149)),\"×\",\"○\")","v":"○"},{"$f":"IF(OR(JY149=\"×\",KG149=\"×\",KK149=\"×\"),\"×\",\"○\")","v":"○"},null,{"$f":"C149","v":0},{"$f":"D149","v":0}]
[0,0,0,0,0,0,0,0,0,0,139,null,null,null,null,{"$f":"IF(O151<>\"\",VLOOKUP(O151,整理番号表!$Z$17:$AA$20,2,FALSE),)","v":0},0,null,null,null,null,null,{"$f":"IF(V151<>0,VLOOKUP(V151,整理番号表!$B$6:$L$13,2,FALSE),)","v":0},0,{"$f":"IF(X151<>0,VLOOKUP(X151,整理番号表!$B$16:$C$18,2,FALSE),)","v":0},null,{"$f":"IF(Z151<>0,VLOOKUP(Z151,整理番号表!$B$22:$C$29,2,FALSE),)","v":0},null,null,{"$f":"IF(AC151<>0,VLOOKUP(AC151,整理番号表!$B$32:$G$60,2,FALSE),)","v":0},null,{"$f":"IF(AE151<>0,VLOOKUP(AE151,整理番号表!$P$5:$R$39,2,FALSE),)","v":0},null,0,null,null,{"$f":"IF(AJ151<>\"\",VLOOKUP(AJ151,整理番号表!$Z$6:$AA$14,2,FALSE),\"\")","v":""},0,null,null,null,null,null,{"$f":"IF(AQ151<>0,VLOOKUP(AQ151,整理番号表!$P$43:$Q$49,2,FALSE),)","v":0},null,null,null,null,0,0,null,0,null,null,null,0,0,0,null,null,0,0,null,{"$f":"IF(BK151<>0,VLOOKUP(BK151,整理番号表!$T$5:$U$16,2,FALSE),)","v":0},null,{"$f":"IF(BM151<>0,VLOOKUP(BM151,整理番号表!$T$22:$U$30,2,FALSE),)","v":0},null,0,"",null,null,null,null,null,"",0,null,null,null,null,null,null,null,null,null,0,0,0,0,0,0,0,0,0,0,0,0,0,0,0,0,0,0,0,0,0,0,0,0,0,0,0,0,null,null,null,null,null,0,0,0,0,0,0,null,0,null,null,null,null,null,null,null,0,null,null,null,null,null,null,null,null,null,null,null,null,null,null,null,null,null,null,null,null,null,null,null,null,null,null,0,0,null,null,0,0,0,{"$f":"IF(OR(AND(1<=$FK151,$FK151<=3),$FK151=6),VLOOKUP($FK151,整理番号表!$B$32:$G$60,2,FALSE),)","v":0},{"$f":"IF(OR($FK151=4,$FK151=7),VLOOKUP($FK151,整理番号表!$B$32:$G$60,2,FALSE),)","v":0},{"$f":"IF($FK151=5,VLOOKUP($FK151,整理番号表!$B$32:$G$60,2,FALSE),)","v":0},{"$f":"IF(AND(8<=$FK151,$FK151<=13),VLOOKUP($FK151,整理番号表!$B$32:$G$60,2,FALSE),)","v":0},0,0,{"$f":"IF(AND(FE151<>1,$FP151=1,SUM($FQ151:FQ151)=0,$FF151=1,$FI151>=2),1,)","v":0},{"$f":"IF(AND(FE151<>1,$FP151=1,SUM($FQ151:FR151)=0,OR(AND($FF151=1,$FI151>0),$FI151>=4)),1,)","v":0},{"$f":"IF(AND(FE151<>1,$FP151=1,SUM($FQ151:FS151)=0,OR($FF151=1,$FI151>=2)),1,)","v":0},{"$f":"IF(AND(FE151<>1,$FP151=1,SUM($FQ151:FT151)=0,$FI151>0),1,)","v":0},0,0,{"$f":"IF(AND(FE151<>1,$FP151=2,SUM($FW151:FW151)=0,$FF151=1,$FJ151>=0.1),1,)","v":0},{"$f":"IF(AND(FE151<>1,$FP151=2,SUM($FW151:FX151)=0,OR(AND($FF151=1,$FI151>0),$FJ151>=0.2)),1,)","v":0},{"$f":"IF(AND(FE151<>1,$FP151=2,SUM($FW151:FY151)=0,OR($FF151=1,$FJ151>=0.1)),1,)","v":0},{"$f":"IF(AND(FE151<>1,$FP151=2,SUM($FW151:FZ151)=0,$FI151>0),1,)","v":0},0,{"$f":"IF(AND(FE151<>1,$FP151=3,SUM($GB151:GB151)=0,AND($FF151=1,$FJ151>=0.05)),1,)","v":0},{"$f":"IF(AND(FE151<>1,$FP151=3,SUM($GB151:GC151)=0,OR(AND($FF151=1,$FI151>0),$FJ151>=0.1)),1,)","v":0},{"$f":"IF(AND(FE151<>1,$FP151=3,SUM($GB151:GD151)=0,OR($FF151=1,$FJ151>=0.05)),1,)","v":0},{"$f":"IF(AND(FE151<>1,$FP151=3,SUM($GB151:GE151)=0,$FI151>0),1,)","v":0},0,null,0,0,0,0,0,0,0,0,0,0,0,0,0,0,0,0,0,0,0,0,0,0,0,0,0,0,0,0,0,0,0,0,0,0,0,0,0,0,0,0,0,0,0,0,0,0,0,0,0,0,0,0,0,0,0,0,0,0,0,0,0,0,0,0,0,0,0,0,0,0,0,0,0,0,0,0,0,0,0,"","","","","","","","","","","","","","","","○",0,0,0,0,0,0,0,"○",0,0,0,"○","○",null,0,0]
[0,0,0,0,0,0,0,0,0,0,140,null,null,null,null,{"$f":"IF(O152<>\"\",VLOOKUP(O152,整理番号表!$Z$17:$AA$20,2,FALSE),)","v":0},0,null,null,null,null,null,{"$f":"IF(V152<>0,VLOOKUP(V152,整理番号表!$B$6:$L$13,2,FALSE),)","v":0},0,{"$f":"IF(X152<>0,VLOOKUP(X152,整理番号表!$B$16:$C$18,2,FALSE),)","v":0},null,{"$f":"IF(Z152<>0,VLOOKUP(Z152,整理番号表!$B$22:$C$29,2,FALSE),)","v":0},null,null,{"$f":"IF(AC152<>0,VLOOKUP(AC152,整理番号表!$B$32:$G$60,2,FALSE),)","v":0},null,{"$f":"IF(AE152<>0,VLOOKUP(AE152,整理番号表!$P$5:$R$39,2,FALSE),)","v":0},null,0,null,null,{"$f":"IF(AJ152<>\"\",VLOOKUP(AJ152,整理番号表!$Z$6:$AA$14,2,FALSE),\"\")","v":""},0,null,null,null,null,null,{"$f":"IF(AQ152<>0,VLOOKUP(AQ152,整理番号表!$P$43:$Q$49,2,FALSE),)","v":0},null,null,null,null,0,0,null,0,null,null,null,0,0,0,null,null,0,0,null,{"$f":"IF(BK152<>0,VLOOKUP(BK152,整理番号表!$T$5:$U$16,2,FALSE),)","v":0},null,{"$f":"IF(BM152<>0,VLOOKUP(BM152,整理番号表!$T$22:$U$30,2,FALSE),)","v":0},null,0,"",null,null,null,null,null,"",0,null,null,null,null,null,null,null,null,null,0,0,0,0,0,0,0,0,0,0,0,0,0,0,0,0,0,0,0,0,0,0,0,0,0,0,0,0,null,null,null,null,null,0,0,0,0,0,0,null,0,null,null,null,null,null,null,null,0,null,null,null,null,null,null,null,null,null,null,null,null,null,null,null,null,null,null,null,null,null,null,null,null,null,null,0,0,null,null,0,0,0,{"$f":"IF(OR(AND(1<=$FK152,$FK152<=3),$FK152=6),VLOOKUP($FK152,整理番号表!$B$32:$G$60,2,FALSE),)","v":0},{"$f":"IF(OR($FK152=4,$FK152=7),VLOOKUP($FK152,整理番号表!$B$32:$G$60,2,FALSE),)","v":0},{"$f":"IF($FK152=5,VLOOKUP($FK152,整理番号表!$B$32:$G$60,2,FALSE),)","v":0},{"$f":"IF(AND(8<=$FK152,$FK152<=13),VLOOKUP($FK152,整理番号表!$B$32:$G$60,2,FALSE),)","v":0},0,0,{"$f":"IF(AND(FE152<>1,$FP152=1,SUM($FQ152:FQ152)=0,$FF152=1,$FI152>=2),1,)","v":0},{"$f":"IF(AND(FE152<>1,$FP152=1,SUM($FQ152:FR152)=0,OR(AND($FF152=1,$FI152>0),$FI152>=4)),1,)","v":0},{"$f":"IF(AND(FE152<>1,$FP152=1,SUM($FQ152:FS152)=0,OR($FF152=1,$FI152>=2)),1,)","v":0},{"$f":"IF(AND(FE152<>1,$FP152=1,SUM($FQ152:FT152)=0,$FI152>0),1,)","v":0},0,0,{"$f":"IF(AND(FE152<>1,$FP152=2,SUM($FW152:FW152)=0,$FF152=1,$FJ152>=0.1),1,)","v":0},{"$f":"IF(AND(FE152<>1,$FP152=2,SUM($FW152:FX152)=0,OR(AND($FF152=1,$FI152>0),$FJ152>=0.2)),1,)","v":0},{"$f":"IF(AND(FE152<>1,$FP152=2,SUM($FW152:FY152)=0,OR($FF152=1,$FJ152>=0.1)),1,)","v":0},{"$f":"IF(AND(FE152<>1,$FP152=2,SUM($FW152:FZ152)=0,$FI152>0),1,)","v":0},0,{"$f":"IF(AND(FE152<>1,$FP152=3,SUM($GB152:GB152)=0,AND($FF152=1,$FJ152>=0.05)),1,)","v":0},{"$f":"IF(AND(FE152<>1,$FP152=3,SUM($GB152:GC152)=0,OR(AND($FF152=1,$FI152>0),$FJ152>=0.1)),1,)","v":0},{"$f":"IF(AND(FE152<>1,$FP152=3,SUM($GB152:GD152)=0,OR($FF152=1,$FJ152>=0.05)),1,)","v":0},{"$f":"IF(AND(FE152<>1,$FP152=3,SUM($GB152:GE152)=0,$FI152>0),1,)","v":0},0,null,0,0,0,0,0,0,0,0,0,0,0,0,0,0,0,0,0,0,0,0,0,0,0,0,0,0,0,0,0,0,0,0,0,0,0,0,0,0,0,0,0,0,0,0,0,0,0,0,0,0,0,0,0,0,0,0,0,0,0,0,0,0,0,0,0,0,0,0,0,0,0,0,0,0,0,0,0,0,0,"","","","","","","","","","","","","","","","○",0,0,0,0,0,0,0,"○",0,0,0,"○","○",null,0,0]
[0,0,0,0,0,0,0,0,0,0,142,null,null,null,null,{"$f":"IF(O154<>\"\",VLOOKUP(O154,整理番号表!$Z$17:$AA$20,2,FALSE),)","v":0},0,null,null,null,null,null,{"$f":"IF(V154<>0,VLOOKUP(V154,整理番号表!$B$6:$L$13,2,FALSE),)","v":0},0,{"$f":"IF(X154<>0,VLOOKUP(X154,整理番号表!$B$16:$C$18,2,FALSE),)","v":0},null,{"$f":"IF(Z154<>0,VLOOKUP(Z154,整理番号表!$B$22:$C$29,2,FALSE),)","v":0},null,null,{"$f":"IF(AC154<>0,VLOOKUP(AC154,整理番号表!$B$32:$G$60,2,FALSE),)","v":0},null,{"$f":"IF(AE154<>0,VLOOKUP(AE154,整理番号表!$P$5:$R$39,2,FALSE),)","v":0},null,0,null,null,{"$f":"IF(AJ154<>\"\",VLOOKUP(AJ154,整理番号表!$Z$6:$AA$14,2,FALSE),\"\")","v":""},0,null,null,null,null,null,{"$f":"IF(AQ154<>0,VLOOKUP(AQ154,整理番号表!$P$43:$Q$49,2,FALSE),)","v":0},null,null,null,null,0,0,null,0,null,null,null,0,0,0,null,null,0,0,null,{"$f":"IF(BK154<>0,VLOOKUP(BK154,整理番号表!$T$5:$U$16,2,FALSE),)","v":0},null,{"$f":"IF(BM154<>0,VLOOKUP(BM154,整理番号表!$T$22:$U$30,2,FALSE),)","v":0},null,0,"",null,null,null,null,null,"",0,null,null,null,null,null,null,null,null,null,0,0,0,0,0,0,0,0,0,0,0,0,0,0,0,0,0,0,0,0,0,0,0,0,0,0,0,0,null,null,null,null,null,0,0,0,0,0,0,null,0,null,null,null,null,null,null,null,0,null,null,null,null,null,null,null,null,null,null,null,null,null,null,null,null,null,null,null,null,null,null,null,null,null,null,0,0,null,null,0,0,0,{"$f":"IF(OR(AND(1<=$FK154,$FK154<=3),$FK154=6),VLOOKUP($FK154,整理番号表!$B$32:$G$60,2,FALSE),)","v":0},{"$f":"IF(OR($FK154=4,$FK154=7),VLOOKUP($FK154,整理番号表!$B$32:$G$60,2,FALSE),)","v":0},{"$f":"IF($FK154=5,VLOOKUP($FK154,整理番号表!$B$32:$G$60,2,FALSE),)","v":0},{"$f":"IF(AND(8<=$FK154,$FK154<=13),VLOOKUP($FK154,整理番号表!$B$32:$G$60,2,FALSE),)","v":0},0,0,{"$f":"IF(AND(FE154<>1,$FP154=1,SUM($FQ154:FQ154)=0,$FF154=1,$FI154>=2),1,)","v":0},{"$f":"IF(AND(FE154<>1,$FP154=1,SUM($FQ154:FR154)=0,OR(AND($FF154=1,$FI154>0),$FI154>=4)),1,)","v":0},{"$f":"IF(AND(FE154<>1,$FP154=1,SUM($FQ154:FS154)=0,OR($FF154=1,$FI154>=2)),1,)","v":0},{"$f":"IF(AND(FE154<>1,$FP154=1,SUM($FQ154:FT154)=0,$FI154>0),1,)","v":0},0,0,{"$f":"IF(AND(FE154<>1,$FP154=2,SUM($FW154:FW154)=0,$FF154=1,$FJ154>=0.1),1,)","v":0},{"$f":"IF(AND(FE154<>1,$FP154=2,SUM($FW154:FX154)=0,OR(AND($FF154=1,$FI154>0),$FJ154>=0.2)),1,)","v":0},{"$f":"IF(AND(FE154<>1,$FP154=2,SUM($FW154:FY154)=0,OR($FF154=1,$FJ154>=0.1)),1,)","v":0},{"$f":"IF(AND(FE154<>1,$FP154=2,SUM($FW154:FZ154)=0,$FI154>0),1,)","v":0},0,{"$f":"IF(AND(FE154<>1,$FP154=3,SUM($GB154:GB154)=0,AND($FF154=1,$FJ154>=0.05)),1,)","v":0},{"$f":"IF(AND(FE154<>1,$FP154=3,SUM($GB154:GC154)=0,OR(AND($FF154=1,$FI154>0),$FJ154>=0.1)),1,)","v":0},{"$f":"IF(AND(FE154<>1,$FP154=3,SUM($GB154:GD154)=0,OR($FF154=1,$FJ154>=0.05)),1,)","v":0},{"$f":"IF(AND(FE154<>1,$FP154=3,SUM($GB154:GE154)=0,$FI154>0),1,)","v":0},0,null,0,0,0,0,0,0,0,0,0,0,0,0,0,0,0,0,0,0,0,0,0,0,0,0,0,0,0,0,0,0,0,0,0,0,0,0,0,0,0,0,0,0,0,0,0,0,0,0,0,0,0,0,0,0,0,0,0,0,0,0,0,0,0,0,0,0,0,0,0,0,0,0,0,0,0,0,0,0,0,"","","","","","","","","","","","","","","","○",0,0,0,0,0,0,0,"○",0,0,0,"○","○",null,0,0]
[0,0,0,0,0,0,0,0,0,0,143,null,null,null,null,{"$f":"IF(O155<>\"\",VLOOKUP(O155,整理番号表!$Z$17:$AA$20,2,FALSE),)","v":0},0,null,null,null,null,null,{"$f":"IF(V155<>0,VLOOKUP(V155,整理番号表!$B$6:$L$13,2,FALSE),)","v":0},0,{"$f":"IF(X155<>0,VLOOKUP(X155,整理番号表!$B$16:$C$18,2,FALSE),)","v":0},null,{"$f":"IF(Z155<>0,VLOOKUP(Z155,整理番号表!$B$22:$C$29,2,FALSE),)","v":0},null,null,{"$f":"IF(AC155<>0,VLOOKUP(AC155,整理番号表!$B$32:$G$60,2,FALSE),)","v":0},null,{"$f":"IF(AE155<>0,VLOOKUP(AE155,整理番号表!$P$5:$R$39,2,FALSE),)","v":0},null,0,null,null,{"$f":"IF(AJ155<>\"\",VLOOKUP(AJ155,整理番号表!$Z$6:$AA$14,2,FALSE),\"\")","v":""},0,null,null,null,null,null,{"$f":"IF(AQ155<>0,VLOOKUP(AQ155,整理番号表!$P$43:$Q$49,2,FALSE),)","v":0},null,null,null,null,0,0,null,0,null,null,null,0,0,0,null,null,0,0,null,{"$f":"IF(BK155<>0,VLOOKUP(BK155,整理番号表!$T$5:$U$16,2,FALSE),)","v":0},null,{"$f":"IF(BM155<>0,VLOOKUP(BM155,整理番号表!$T$22:$U$30,2,FALSE),)","v":0},null,0,"",null,null,null,null,null,"",0,null,null,null,null,null,null,null,null,null,0,0,0,0,0,0,0,0,0,0,0,0,0,0,0,0,0,0,0,0,0,0,0,0,0,0,0,0,null,null,null,null,null,0,0,0,0,0,0,null,0,null,null,null,null,null,null,null,0,null,null,null,null,null,null,null,null,null,null,null,null,null,null,null,null,null,null,null,null,null,null,null,null,null,null,0,0,null,null,0,0,0,{"$f":"IF(OR(AND(1<=$FK155,$FK155<=3),$FK155=6),VLOOKUP($FK155,整理番号表!$B$32:$G$60,2,FALSE),)","v":0},{"$f":"IF(OR($FK155=4,$FK155=7),VLOOKUP($FK155,整理番号表!$B$32:$G$60,2,FALSE),)","v":0},{"$f":"IF($FK155=5,VLOOKUP($FK155,整理番号表!$B$32:$G$60,2,FALSE),)","v":0},{"$f":"IF(AND(8<=$FK155,$FK155<=13),VLOOKUP($FK155,整理番号表!$B$32:$G$60,2,FALSE),)","v":0},0,0,{"$f":"IF(AND(FE155<>1,$FP155=1,SUM($FQ155:FQ155)=0,$FF155=1,$FI155>=2),1,)","v":0},{"$f":"IF(AND(FE155<>1,$FP155=1,SUM($FQ155:FR155)=0,OR(AND($FF155=1,$FI155>0),$FI155>=4)),1,)","v":0},{"$f":"IF(AND(FE155<>1,$FP155=1,SUM($FQ155:FS155)=0,OR($FF155=1,$FI155>=2)),1,)","v":0},{"$f":"IF(AND(FE155<>1,$FP155=1,SUM($FQ155:FT155)=0,$FI155>0),1,)","v":0},0,0,{"$f":"IF(AND(FE155<>1,$FP155=2,SUM($FW155:FW155)=0,$FF155=1,$FJ155>=0.1),1,)","v":0},{"$f":"IF(AND(FE155<>1,$FP155=2,SUM($FW155:FX155)=0,OR(AND($FF155=1,$FI155>0),$FJ155>=0.2)),1,)","v":0},{"$f":"IF(AND(FE155<>1,$FP155=2,SUM($FW155:FY155)=0,OR($FF155=1,$FJ155>=0.1)),1,)","v":0},{"$f":"IF(AND(FE155<>1,$FP155=2,SUM($FW155:FZ155)=0,$FI155>0),1,)","v":0},0,{"$f":"IF(AND(FE155<>1,$FP155=3,SUM($GB155:GB155)=0,AND($FF155=1,$FJ155>=0.05)),1,)","v":0},{"$f":"IF(AND(FE155<>1,$FP155=3,SUM($GB155:GC155)=0,OR(AND($FF155=1,$FI155>0),$FJ155>=0.1)),1,)","v":0},{"$f":"IF(AND(FE155<>1,$FP155=3,SUM($GB155:GD155)=0,OR($FF155=1,$FJ155>=0.05)),1,)","v":0},{"$f":"IF(AND(FE155<>1,$FP155=3,SUM($GB155:GE155)=0,$FI155>0),1,)","v":0},0,null,0,0,0,0,0,0,0,0,0,0,0,0,0,0,0,0,0,0,0,0,0,0,0,0,0,0,0,0,0,0,0,0,0,0,0,0,0,0,0,0,0,0,0,0,0,0,0,0,0,0,0,0,0,0,0,0,0,0,0,0,0,0,0,0,0,0,0,0,0,0,0,0,0,0,0,0,0,0,0,"","","","","","","","","","","","","","","","○",0,0,0,0,0,0,0,"○",0,0,0,"○","○",null,0,0]
[0,0,0,0,0,0,0,0,0,0,145,null,null,null,null,{"$f":"IF(O157<>\"\",VLOOKUP(O157,整理番号表!$Z$17:$AA$20,2,FALSE),)","v":0},0,null,null,null,null,null,{"$f":"IF(V157<>0,VLOOKUP(V157,整理番号表!$B$6:$L$13,2,FALSE),)","v":0},0,{"$f":"IF(X157<>0,VLOOKUP(X157,整理番号表!$B$16:$C$18,2,FALSE),)","v":0},null,{"$f":"IF(Z157<>0,VLOOKUP(Z157,整理番号表!$B$22:$C$29,2,FALSE),)","v":0},null,null,{"$f":"IF(AC157<>0,VLOOKUP(AC157,整理番号表!$B$32:$G$60,2,FALSE),)","v":0},null,{"$f":"IF(AE157<>0,VLOOKUP(AE157,整理番号表!$P$5:$R$39,2,FALSE),)","v":0},null,0,null,null,{"$f":"IF(AJ157<>\"\",VLOOKUP(AJ157,整理番号表!$Z$6:$AA$14,2,FALSE),\"\")","v":""},0,null,null,null,null,null,{"$f":"IF(AQ157<>0,VLOOKUP(AQ157,整理番号表!$P$43:$Q$49,2,FALSE),)","v":0},null,null,null,null,0,0,null,0,null,null,null,0,0,0,null,null,0,0,null,{"$f":"IF(BK157<>0,VLOOKUP(BK157,整理番号表!$T$5:$U$16,2,FALSE),)","v":0},null,{"$f":"IF(BM157<>0,VLOOKUP(BM157,整理番号表!$T$22:$U$30,2,FALSE),)","v":0},null,0,"",null,null,null,null,null,"",0,null,null,null,null,null,null,null,null,null,0,0,0,0,0,0,0,0,0,0,0,0,0,0,0,0,0,0,0,0,0,0,0,0,0,0,0,0,null,null,null,null,null,0,0,0,0,0,0,null,0,null,null,null,null,null,null,null,0,null,null,null,null,null,null,null,null,null,null,null,null,null,null,null,null,null,null,null,null,null,null,null,null,null,null,0,0,null,null,0,0,0,{"$f":"IF(OR(AND(1<=$FK157,$FK157<=3),$FK157=6),VLOOKUP($FK157,整理番号表!$B$32:$G$60,2,FALSE),)","v":0},{"$f":"IF(OR($FK157=4,$FK157=7),VLOOKUP($FK157,整理番号表!$B$32:$G$60,2,FALSE),)","v":0},{"$f":"IF($FK157=5,VLOOKUP($FK157,整理番号表!$B$32:$G$60,2,FALSE),)","v":0},{"$f":"IF(AND(8<=$FK157,$FK157<=13),VLOOKUP($FK157,整理番号表!$B$32:$G$60,2,FALSE),)","v":0},0,0,{"$f":"IF(AND(FE157<>1,$FP157=1,SUM($FQ157:FQ157)=0,$FF157=1,$FI157>=2),1,)","v":0},{"$f":"IF(AND(FE157<>1,$FP157=1,SUM($FQ157:FR157)=0,OR(AND($FF157=1,$FI157>0),$FI157>=4)),1,)","v":0},{"$f":"IF(AND(FE157<>1,$FP157=1,SUM($FQ157:FS157)=0,OR($FF157=1,$FI157>=2)),1,)","v":0},{"$f":"IF(AND(FE157<>1,$FP157=1,SUM($FQ157:FT157)=0,$FI157>0),1,)","v":0},0,0,{"$f":"IF(AND(FE157<>1,$FP157=2,SUM($FW157:FW157)=0,$FF157=1,$FJ157>=0.1),1,)","v":0},{"$f":"IF(AND(FE157<>1,$FP157=2,SUM($FW157:FX157)=0,OR(AND($FF157=1,$FI157>0),$FJ157>=0.2)),1,)","v":0},{"$f":"IF(AND(FE157<>1,$FP157=2,SUM($FW157:FY157)=0,OR($FF157=1,$FJ157>=0.1)),1,)","v":0},{"$f":"IF(AND(FE157<>1,$FP157=2,SUM($FW157:FZ157)=0,$FI157>0),1,)","v":0},0,{"$f":"IF(AND(FE157<>1,$FP157=3,SUM($GB157:GB157)=0,AND($FF157=1,$FJ157>=0.05)),1,)","v":0},{"$f":"IF(AND(FE157<>1,$FP157=3,SUM($GB157:GC157)=0,OR(AND($FF157=1,$FI157>0),$FJ157>=0.1)),1,)","v":0},{"$f":"IF(AND(FE157<>1,$FP157=3,SUM($GB157:GD157)=0,OR($FF157=1,$FJ157>=0.05)),1,)","v":0},{"$f":"IF(AND(FE157<>1,$FP157=3,SUM($GB157:GE157)=0,$FI157>0),1,)","v":0},0,null,0,0,0,0,0,0,0,0,0,0,0,0,0,0,0,0,0,0,0,0,0,0,0,0,0,0,0,0,0,0,0,0,0,0,0,0,0,0,0,0,0,0,0,0,0,0,0,0,0,0,0,0,0,0,0,0,0,0,0,0,0,0,0,0,0,0,0,0,0,0,0,0,0,0,0,0,0,0,0,"","","","","","","","","","","","","","","","○",0,0,0,0,0,0,0,"○",0,0,0,"○","○",null,0,0]
[0,0,0,0,0,0,0,0,0,0,146,null,null,null,null,{"$f":"IF(O158<>\"\",VLOOKUP(O158,整理番号表!$Z$17:$AA$20,2,FALSE),)","v":0},0,null,null,null,null,null,{"$f":"IF(V158<>0,VLOOKUP(V158,整理番号表!$B$6:$L$13,2,FALSE),)","v":0},0,{"$f":"IF(X158<>0,VLOOKUP(X158,整理番号表!$B$16:$C$18,2,FALSE),)","v":0},null,{"$f":"IF(Z158<>0,VLOOKUP(Z158,整理番号表!$B$22:$C$29,2,FALSE),)","v":0},null,null,{"$f":"IF(AC158<>0,VLOOKUP(AC158,整理番号表!$B$32:$G$60,2,FALSE),)","v":0},null,{"$f":"IF(AE158<>0,VLOOKUP(AE158,整理番号表!$P$5:$R$39,2,FALSE),)","v":0},null,0,null,null,{"$f":"IF(AJ158<>\"\",VLOOKUP(AJ158,整理番号表!$Z$6:$AA$14,2,FALSE),\"\")","v":""},0,null,null,null,null,null,{"$f":"IF(AQ158<>0,VLOOKUP(AQ158,整理番号表!$P$43:$Q$49,2,FALSE),)","v":0},null,null,null,null,0,0,null,0,null,null,null,0,0,0,null,null,0,0,null,{"$f":"IF(BK158<>0,VLOOKUP(BK158,整理番号表!$T$5:$U$16,2,FALSE),)","v":0},null,{"$f":"IF(BM158<>0,VLOOKUP(BM158,整理番号表!$T$22:$U$30,2,FALSE),)","v":0},null,0,"",null,null,null,null,null,"",0,null,null,null,null,null,null,null,null,null,0,0,0,0,0,0,0,0,0,0,0,0,0,0,0,0,0,0,0,0,0,0,0,0,0,0,0,0,null,null,null,null,null,0,0,0,0,0,0,null,0,null,null,null,null,null,null,null,0,null,null,null,null,null,null,null,null,null,null,null,null,null,null,null,null,null,null,null,null,null,null,null,null,null,null,0,0,null,null,0,0,0,{"$f":"IF(OR(AND(1<=$FK158,$FK158<=3),$FK158=6),VLOOKUP($FK158,整理番号表!$B$32:$G$60,2,FALSE),)","v":0},{"$f":"IF(OR($FK158=4,$FK158=7),VLOOKUP($FK158,整理番号表!$B$32:$G$60,2,FALSE),)","v":0},{"$f":"IF($FK158=5,VLOOKUP($FK158,整理番号表!$B$32:$G$60,2,FALSE),)","v":0},{"$f":"IF(AND(8<=$FK158,$FK158<=13),VLOOKUP($FK158,整理番号表!$B$32:$G$60,2,FALSE),)","v":0},0,0,{"$f":"IF(AND(FE158<>1,$FP158=1,SUM($FQ158:FQ158)=0,$FF158=1,$FI158>=2),1,)","v":0},{"$f":"IF(AND(FE158<>1,$FP158=1,SUM($FQ158:FR158)=0,OR(AND($FF158=1,$FI158>0),$FI158>=4)),1,)","v":0},{"$f":"IF(AND(FE158<>1,$FP158=1,SUM($FQ158:FS158)=0,OR($FF158=1,$FI158>=2)),1,)","v":0},{"$f":"IF(AND(FE158<>1,$FP158=1,SUM($FQ158:FT158)=0,$FI158>0),1,)","v":0},0,0,{"$f":"IF(AND(FE158<>1,$FP158=2,SUM($FW158:FW158)=0,$FF158=1,$FJ158>=0.1),1,)","v":0},{"$f":"IF(AND(FE158<>1,$FP158=2,SUM($FW158:FX158)=0,OR(AND($FF158=1,$FI158>0),$FJ158>=0.2)),1,)","v":0},{"$f":"IF(AND(FE158<>1,$FP158=2,SUM($FW158:FY158)=0,OR($FF158=1,$FJ158>=0.1)),1,)","v":0},{"$f":"IF(AND(FE158<>1,$FP158=2,SUM($FW158:FZ158)=0,$FI158>0),1,)","v":0},0,{"$f":"IF(AND(FE158<>1,$FP158=3,SUM($GB158:GB158)=0,AND($FF158=1,$FJ158>=0.05)),1,)","v":0},{"$f":"IF(AND(FE158<>1,$FP158=3,SUM($GB158:GC158)=0,OR(AND($FF158=1,$FI158>0),$FJ158>=0.1)),1,)","v":0},{"$f":"IF(AND(FE158<>1,$FP158=3,SUM($GB158:GD158)=0,OR($FF158=1,$FJ158>=0.05)),1,)","v":0},{"$f":"IF(AND(FE158<>1,$FP158=3,SUM($GB158:GE158)=0,$FI158>0),1,)","v":0},0,null,0,0,0,0,0,0,0,0,0,0,0,0,0,0,0,0,0,0,0,0,0,0,0,0,0,0,0,0,0,0,0,0,0,0,0,0,0,0,0,0,0,0,0,0,0,0,0,0,0,0,0,0,0,0,0,0,0,0,0,0,0,0,0,0,0,0,0,0,0,0,0,0,0,0,0,0,0,0,0,"","","","","","","","","","","","","","","","○",0,0,0,0,0,0,0,"○",0,0,0,"○","○",null,0,0]
[0,0,0,0,0,0,0,0,0,0,149,null,null,null,null,{"$f":"IF(O161<>\"\",VLOOKUP(O161,整理番号表!$Z$17:$AA$20,2,FALSE),)","v":0},0,null,null,null,null,null,{"$f":"IF(V161<>0,VLOOKUP(V161,整理番号表!$B$6:$L$13,2,FALSE),)","v":0},0,{"$f":"IF(X161<>0,VLOOKUP(X161,整理番号表!$B$16:$C$18,2,FALSE),)","v":0},null,{"$f":"IF(Z161<>0,VLOOKUP(Z161,整理番号表!$B$22:$C$29,2,FALSE),)","v":0},null,null,{"$f":"IF(AC161<>0,VLOOKUP(AC161,整理番号表!$B$32:$G$60,2,FALSE),)","v":0},null,{"$f":"IF(AE161<>0,VLOOKUP(AE161,整理番号表!$P$5:$R$39,2,FALSE),)","v":0},null,0,null,null,{"$f":"IF(AJ161<>\"\",VLOOKUP(AJ161,整理番号表!$Z$6:$AA$14,2,FALSE),\"\")","v":""},0,null,null,null,null,null,{"$f":"IF(AQ161<>0,VLOOKUP(AQ161,整理番号表!$P$43:$Q$49,2,FALSE),)","v":0},null,null,null,null,0,0,null,0,null,null,null,0,0,0,null,null,0,0,null,{"$f":"IF(BK161<>0,VLOOKUP(BK161,整理番号表!$T$5:$U$16,2,FALSE),)","v":0},null,{"$f":"IF(BM161<>0,VLOOKUP(BM161,整理番号表!$T$22:$U$30,2,FALSE),)","v":0},null,0,"",null,null,null,null,null,"",0,null,null,null,null,null,null,null,null,null,0,0,0,0,0,0,0,0,0,0,0,0,0,0,0,0,0,0,0,0,0,0,0,0,0,0,0,0,null,null,null,null,null,0,0,0,0,0,0,null,0,null,null,null,null,null,null,null,0,null,null,null,null,null,null,null,null,null,null,null,null,null,null,null,null,null,null,null,null,null,null,null,null,null,null,0,0,null,null,0,0,0,{"$f":"IF(OR(AND(1<=$FK161,$FK161<=3),$FK161=6),VLOOKUP($FK161,整理番号表!$B$32:$G$60,2,FALSE),)","v":0},{"$f":"IF(OR($FK161=4,$FK161=7),VLOOKUP($FK161,整理番号表!$B$32:$G$60,2,FALSE),)","v":0},{"$f":"IF($FK161=5,VLOOKUP($FK161,整理番号表!$B$32:$G$60,2,FALSE),)","v":0},{"$f":"IF(AND(8<=$FK161,$FK161<=13),VLOOKUP($FK161,整理番号表!$B$32:$G$60,2,FALSE),)","v":0},0,0,{"$f":"IF(AND(FE161<>1,$FP161=1,SUM($FQ161:FQ161)=0,$FF161=1,$FI161>=2),1,)","v":0},{"$f":"IF(AND(FE161<>1,$FP161=1,SUM($FQ161:FR161)=0,OR(AND($FF161=1,$FI161>0),$FI161>=4)),1,)","v":0},{"$f":"IF(AND(FE161<>1,$FP161=1,SUM($FQ161:FS161)=0,OR($FF161=1,$FI161>=2)),1,)","v":0},{"$f":"IF(AND(FE161<>1,$FP161=1,SUM($FQ161:FT161)=0,$FI161>0),1,)","v":0},0,0,{"$f":"IF(AND(FE161<>1,$FP161=2,SUM($FW161:FW161)=0,$FF161=1,$FJ161>=0.1),1,)","v":0},{"$f":"IF(AND(FE161<>1,$FP161=2,SUM($FW161:FX161)=0,OR(AND($FF161=1,$FI161>0),$FJ161>=0.2)),1,)","v":0},{"$f":"IF(AND(FE161<>1,$FP161=2,SUM($FW161:FY161)=0,OR($FF161=1,$FJ161>=0.1)),1,)","v":0},{"$f":"IF(AND(FE161<>1,$FP161=2,SUM($FW161:FZ161)=0,$FI161>0),1,)","v":0},0,{"$f":"IF(AND(FE161<>1,$FP161=3,SUM($GB161:GB161)=0,AND($FF161=1,$FJ161>=0.05)),1,)","v":0},{"$f":"IF(AND(FE161<>1,$FP161=3,SUM($GB161:GC161)=0,OR(AND($FF161=1,$FI161>0),$FJ161>=0.1)),1,)","v":0},{"$f":"IF(AND(FE161<>1,$FP161=3,SUM($GB161:GD161)=0,OR($FF161=1,$FJ161>=0.05)),1,)","v":0},{"$f":"IF(AND(FE161<>1,$FP161=3,SUM($GB161:GE161)=0,$FI161>0),1,)","v":0},0,null,0,0,0,0,0,0,0,0,0,0,0,0,0,0,0,0,0,0,0,0,0,0,0,0,0,0,0,0,0,0,0,0,0,0,0,0,0,0,0,0,0,0,0,0,0,0,0,0,0,0,0,0,0,0,0,0,0,0,0,0,0,0,0,0,0,0,0,0,0,0,0,0,0,0,0,0,0,0,0,"","","","","","","","","","","","","","","","○",0,0,0,0,0,0,0,"○",0,0,0,"○","○",null,0,0]
[0,0,0,0,0,0,0,0,0,0,150,null,null,null,null,{"$f":"IF(O162<>\"\",VLOOKUP(O162,整理番号表!$Z$17:$AA$20,2,FALSE),)","v":0},0,null,null,null,null,null,{"$f":"IF(V162<>0,VLOOKUP(V162,整理番号表!$B$6:$L$13,2,FALSE),)","v":0},0,{"$f":"IF(X162<>0,VLOOKUP(X162,整理番号表!$B$16:$C$18,2,FALSE),)","v":0},null,{"$f":"IF(Z162<>0,VLOOKUP(Z162,整理番号表!$B$22:$C$29,2,FALSE),)","v":0},null,null,{"$f":"IF(AC162<>0,VLOOKUP(AC162,整理番号表!$B$32:$G$60,2,FALSE),)","v":0},null,{"$f":"IF(AE162<>0,VLOOKUP(AE162,整理番号表!$P$5:$R$39,2,FALSE),)","v":0},null,0,null,null,{"$f":"IF(AJ162<>\"\",VLOOKUP(AJ162,整理番号表!$Z$6:$AA$14,2,FALSE),\"\")","v":""},0,null,null,null,null,null,{"$f":"IF(AQ162<>0,VLOOKUP(AQ162,整理番号表!$P$43:$Q$49,2,FALSE),)","v":0},null,null,null,null,0,0,null,0,null,null,null,0,0,0,null,null,0,0,null,{"$f":"IF(BK162<>0,VLOOKUP(BK162,整理番号表!$T$5:$U$16,2,FALSE),)","v":0},null,{"$f":"IF(BM162<>0,VLOOKUP(BM162,整理番号表!$T$22:$U$30,2,FALSE),)","v":0},null,0,"",null,null,null,null,null,"",0,null,null,null,null,null,null,null,null,null,0,0,0,0,0,0,0,0,0,0,0,0,0,0,0,0,0,0,0,0,0,0,0,0,0,0,0,0,null,null,null,null,null,0,0,0,0,0,0,null,0,null,null,null,null,null,null,null,0,null,null,null,null,null,null,null,null,null,null,null,null,null,null,null,null,null,null,null,null,null,null,null,null,null,null,0,0,null,null,0,0,0,{"$f":"IF(OR(AND(1<=$FK162,$FK162<=3),$FK162=6),VLOOKUP($FK162,整理番号表!$B$32:$G$60,2,FALSE),)","v":0},{"$f":"IF(OR($FK162=4,$FK162=7),VLOOKUP($FK162,整理番号表!$B$32:$G$60,2,FALSE),)","v":0},{"$f":"IF($FK162=5,VLOOKUP($FK162,整理番号表!$B$32:$G$60,2,FALSE),)","v":0},{"$f":"IF(AND(8<=$FK162,$FK162<=13),VLOOKUP($FK162,整理番号表!$B$32:$G$60,2,FALSE),)","v":0},0,0,{"$f":"IF(AND(FE162<>1,$FP162=1,SUM($FQ162:FQ162)=0,$FF162=1,$FI162>=2),1,)","v":0},{"$f":"IF(AND(FE162<>1,$FP162=1,SUM($FQ162:FR162)=0,OR(AND($FF162=1,$FI162>0),$FI162>=4)),1,)","v":0},{"$f":"IF(AND(FE162<>1,$FP162=1,SUM($FQ162:FS162)=0,OR($FF162=1,$FI162>=2)),1,)","v":0},{"$f":"IF(AND(FE162<>1,$FP162=1,SUM($FQ162:FT162)=0,$FI162>0),1,)","v":0},0,0,{"$f":"IF(AND(FE162<>1,$FP162=2,SUM($FW162:FW162)=0,$FF162=1,$FJ162>=0.1),1,)","v":0},{"$f":"IF(AND(FE162<>1,$FP162=2,SUM($FW162:FX162)=0,OR(AND($FF162=1,$FI162>0),$FJ162>=0.2)),1,)","v":0},{"$f":"IF(AND(FE162<>1,$FP162=2,SUM($FW162:FY162)=0,OR($FF162=1,$FJ162>=0.1)),1,)","v":0},{"$f":"IF(AND(FE162<>1,$FP162=2,SUM($FW162:FZ162)=0,$FI162>0),1,)","v":0},0,{"$f":"IF(AND(FE162<>1,$FP162=3,SUM($GB162:GB162)=0,AND($FF162=1,$FJ162>=0.05)),1,)","v":0},{"$f":"IF(AND(FE162<>1,$FP162=3,SUM($GB162:GC162)=0,OR(AND($FF162=1,$FI162>0),$FJ162>=0.1)),1,)","v":0},{"$f":"IF(AND(FE162<>1,$FP162=3,SUM($GB162:GD162)=0,OR($FF162=1,$FJ162>=0.05)),1,)","v":0},{"$f":"IF(AND(FE162<>1,$FP162=3,SUM($GB162:GE162)=0,$FI162>0),1,)","v":0},0,null,0,0,0,0,0,0,0,0,0,0,0,0,0,0,0,0,0,0,0,0,0,0,0,0,0,0,0,0,0,0,0,0,0,0,0,0,0,0,0,0,0,0,0,0,0,0,0,0,0,0,0,0,0,0,0,0,0,0,0,0,0,0,0,0,0,0,0,0,0,0,0,0,0,0,0,0,0,0,0,"","","","","","","","","","","","","","","","○",0,0,0,0,0,0,0,"○",0,0,0,"○","○",null,0,0]
[0,0,0,0,0,0,0,0,0,0,152,null,null,null,null,{"$f":"IF(O164<>\"\",VLOOKUP(O164,整理番号表!$Z$17:$AA$20,2,FALSE),)","v":0},0,null,null,null,null,null,{"$f":"IF(V164<>0,VLOOKUP(V164,整理番号表!$B$6:$L$13,2,FALSE),)","v":0},0,{"$f":"IF(X164<>0,VLOOKUP(X164,整理番号表!$B$16:$C$18,2,FALSE),)","v":0},null,{"$f":"IF(Z164<>0,VLOOKUP(Z164,整理番号表!$B$22:$C$29,2,FALSE),)","v":0},null,null,{"$f":"IF(AC164<>0,VLOOKUP(AC164,整理番号表!$B$32:$G$60,2,FALSE),)","v":0},null,{"$f":"IF(AE164<>0,VLOOKUP(AE164,整理番号表!$P$5:$R$39,2,FALSE),)","v":0},null,0,null,null,{"$f":"IF(AJ164<>\"\",VLOOKUP(AJ164,整理番号表!$Z$6:$AA$14,2,FALSE),\"\")","v":""},0,null,null,null,null,null,{"$f":"IF(AQ164<>0,VLOOKUP(AQ164,整理番号表!$P$43:$Q$49,2,FALSE),)","v":0},null,null,null,null,0,0,null,0,null,null,null,0,0,0,null,null,0,0,null,{"$f":"IF(BK164<>0,VLOOKUP(BK164,整理番号表!$T$5:$U$16,2,FALSE),)","v":0},null,{"$f":"IF(BM164<>0,VLOOKUP(BM164,整理番号表!$T$22:$U$30,2,FALSE),)","v":0},null,0,"",null,null,null,null,null,"",0,null,null,null,null,null,null,null,null,null,0,0,0,0,0,0,0,0,0,0,0,0,0,0,0,0,0,0,0,0,0,0,0,0,0,0,0,0,null,null,null,null,null,0,0,0,0,0,0,null,0,null,null,null,null,null,null,null,0,null,null,null,null,null,null,null,null,null,null,null,null,null,null,null,null,null,null,null,null,null,null,null,null,null,null,0,0,null,null,0,0,0,{"$f":"IF(OR(AND(1<=$FK164,$FK164<=3),$FK164=6),VLOOKUP($FK164,整理番号表!$B$32:$G$60,2,FALSE),)","v":0},{"$f":"IF(OR($FK164=4,$FK164=7),VLOOKUP($FK164,整理番号表!$B$32:$G$60,2,FALSE),)","v":0},{"$f":"IF($FK164=5,VLOOKUP($FK164,整理番号表!$B$32:$G$60,2,FALSE),)","v":0},{"$f":"IF(AND(8<=$FK164,$FK164<=13),VLOOKUP($FK164,整理番号表!$B$32:$G$60,2,FALSE),)","v":0},0,0,{"$f":"IF(AND(FE164<>1,$FP164=1,SUM($FQ164:FQ164)=0,$FF164=1,$FI164>=2),1,)","v":0},{"$f":"IF(AND(FE164<>1,$FP164=1,SUM($FQ164:FR164)=0,OR(AND($FF164=1,$FI164>0),$FI164>=4)),1,)","v":0},{"$f":"IF(AND(FE164<>1,$FP164=1,SUM($FQ164:FS164)=0,OR($FF164=1,$FI164>=2)),1,)","v":0},{"$f":"IF(AND(FE164<>1,$FP164=1,SUM($FQ164:FT164)=0,$FI164>0),1,)","v":0},0,0,{"$f":"IF(AND(FE164<>1,$FP164=2,SUM($FW164:FW164)=0,$FF164=1,$FJ164>=0.1),1,)","v":0},{"$f":"IF(AND(FE164<>1,$FP164=2,SUM($FW164:FX164)=0,OR(AND($FF164=1,$FI164>0),$FJ164>=0.2)),1,)","v":0},{"$f":"IF(AND(FE164<>1,$FP164=2,SUM($FW164:FY164)=0,OR($FF164=1,$FJ164>=0.1)),1,)","v":0},{"$f":"IF(AND(FE164<>1,$FP164=2,SUM($FW164:FZ164)=0,$FI164>0),1,)","v":0},0,{"$f":"IF(AND(FE164<>1,$FP164=3,SUM($GB164:GB164)=0,AND($FF164=1,$FJ164>=0.05)),1,)","v":0},{"$f":"IF(AND(FE164<>1,$FP164=3,SUM($GB164:GC164)=0,OR(AND($FF164=1,$FI164>0),$FJ164>=0.1)),1,)","v":0},{"$f":"IF(AND(FE164<>1,$FP164=3,SUM($GB164:GD164)=0,OR($FF164=1,$FJ164>=0.05)),1,)","v":0},{"$f":"IF(AND(FE164<>1,$FP164=3,SUM($GB164:GE164)=0,$FI164>0),1,)","v":0},0,null,0,0,0,0,0,0,0,0,0,0,0,0,0,0,0,0,0,0,0,0,0,0,0,0,0,0,0,0,0,0,0,0,0,0,0,0,0,0,0,0,0,0,0,0,0,0,0,0,0,0,0,0,0,0,0,0,0,0,0,0,0,0,0,0,0,0,0,0,0,0,0,0,0,0,0,0,0,0,0,"","","","","","","","","","","","","","","","○",0,0,0,0,0,0,0,"○",0,0,0,"○","○",null,0,0]
[0,0,0,0,0,0,0,0,0,0,153,null,null,null,null,{"$f":"IF(O165<>\"\",VLOOKUP(O165,整理番号表!$Z$17:$AA$20,2,FALSE),)","v":0},0,null,null,null,null,null,{"$f":"IF(V165<>0,VLOOKUP(V165,整理番号表!$B$6:$L$13,2,FALSE),)","v":0},0,{"$f":"IF(X165<>0,VLOOKUP(X165,整理番号表!$B$16:$C$18,2,FALSE),)","v":0},null,{"$f":"IF(Z165<>0,VLOOKUP(Z165,整理番号表!$B$22:$C$29,2,FALSE),)","v":0},null,null,{"$f":"IF(AC165<>0,VLOOKUP(AC165,整理番号表!$B$32:$G$60,2,FALSE),)","v":0},null,{"$f":"IF(AE165<>0,VLOOKUP(AE165,整理番号表!$P$5:$R$39,2,FALSE),)","v":0},null,0,null,null,{"$f":"IF(AJ165<>\"\",VLOOKUP(AJ165,整理番号表!$Z$6:$AA$14,2,FALSE),\"\")","v":""},0,null,null,null,null,null,{"$f":"IF(AQ165<>0,VLOOKUP(AQ165,整理番号表!$P$43:$Q$49,2,FALSE),)","v":0},null,null,null,null,0,0,null,0,null,null,null,0,0,0,null,null,0,0,null,{"$f":"IF(BK165<>0,VLOOKUP(BK165,整理番号表!$T$5:$U$16,2,FALSE),)","v":0},null,{"$f":"IF(BM165<>0,VLOOKUP(BM165,整理番号表!$T$22:$U$30,2,FALSE),)","v":0},null,0,"",null,null,null,null,null,"",0,null,null,null,null,null,null,null,null,null,0,0,0,0,0,0,0,0,0,0,0,0,0,0,0,0,0,0,0,0,0,0,0,0,0,0,0,0,null,null,null,null,null,0,0,0,0,0,0,null,0,null,null,null,null,null,null,null,0,null,null,null,null,null,null,null,null,null,null,null,null,null,null,null,null,null,null,null,null,null,null,null,null,null,null,0,0,null,null,0,0,0,{"$f":"IF(OR(AND(1<=$FK165,$FK165<=3),$FK165=6),VLOOKUP($FK165,整理番号表!$B$32:$G$60,2,FALSE),)","v":0},{"$f":"IF(OR($FK165=4,$FK165=7),VLOOKUP($FK165,整理番号表!$B$32:$G$60,2,FALSE),)","v":0},{"$f":"IF($FK165=5,VLOOKUP($FK165,整理番号表!$B$32:$G$60,2,FALSE),)","v":0},{"$f":"IF(AND(8<=$FK165,$FK165<=13),VLOOKUP($FK165,整理番号表!$B$32:$G$60,2,FALSE),)","v":0},0,0,{"$f":"IF(AND(FE165<>1,$FP165=1,SUM($FQ165:FQ165)=0,$FF165=1,$FI165>=2),1,)","v":0},{"$f":"IF(AND(FE165<>1,$FP165=1,SUM($FQ165:FR165)=0,OR(AND($FF165=1,$FI165>0),$FI165>=4)),1,)","v":0},{"$f":"IF(AND(FE165<>1,$FP165=1,SUM($FQ165:FS165)=0,OR($FF165=1,$FI165>=2)),1,)","v":0},{"$f":"IF(AND(FE165<>1,$FP165=1,SUM($FQ165:FT165)=0,$FI165>0),1,)","v":0},0,0,{"$f":"IF(AND(FE165<>1,$FP165=2,SUM($FW165:FW165)=0,$FF165=1,$FJ165>=0.1),1,)","v":0},{"$f":"IF(AND(FE165<>1,$FP165=2,SUM($FW165:FX165)=0,OR(AND($FF165=1,$FI165>0),$FJ165>=0.2)),1,)","v":0},{"$f":"IF(AND(FE165<>1,$FP165=2,SUM($FW165:FY165)=0,OR($FF165=1,$FJ165>=0.1)),1,)","v":0},{"$f":"IF(AND(FE165<>1,$FP165=2,SUM($FW165:FZ165)=0,$FI165>0),1,)","v":0},0,{"$f":"IF(AND(FE165<>1,$FP165=3,SUM($GB165:GB165)=0,AND($FF165=1,$FJ165>=0.05)),1,)","v":0},{"$f":"IF(AND(FE165<>1,$FP165=3,SUM($GB165:GC165)=0,OR(AND($FF165=1,$FI165>0),$FJ165>=0.1)),1,)","v":0},{"$f":"IF(AND(FE165<>1,$FP165=3,SUM($GB165:GD165)=0,OR($FF165=1,$FJ165>=0.05)),1,)","v":0},{"$f":"IF(AND(FE165<>1,$FP165=3,SUM($GB165:GE165)=0,$FI165>0),1,)","v":0},0,null,0,0,0,0,0,0,0,0,0,0,0,0,0,0,0,0,0,0,0,0,0,0,0,0,0,0,0,0,0,0,0,0,0,0,0,0,0,0,0,0,0,0,0,0,0,0,0,0,0,0,0,0,0,0,0,0,0,0,0,0,0,0,0,0,0,0,0,0,0,0,0,0,0,0,0,0,0,0,0,"","","","","","","","","","","","","","","","○",0,0,0,0,0,0,0,"○",0,0,0,"○","○",null,0,0]
[0,0,0,0,0,0,0,0,0,0,155,null,null,null,null,{"$f":"IF(O167<>\"\",VLOOKUP(O167,整理番号表!$Z$17:$AA$20,2,FALSE),)","v":0},0,null,null,null,null,null,{"$f":"IF(V167<>0,VLOOKUP(V167,整理番号表!$B$6:$L$13,2,FALSE),)","v":0},0,{"$f":"IF(X167<>0,VLOOKUP(X167,整理番号表!$B$16:$C$18,2,FALSE),)","v":0},null,{"$f":"IF(Z167<>0,VLOOKUP(Z167,整理番号表!$B$22:$C$29,2,FALSE),)","v":0},null,null,{"$f":"IF(AC167<>0,VLOOKUP(AC167,整理番号表!$B$32:$G$60,2,FALSE),)","v":0},null,{"$f":"IF(AE167<>0,VLOOKUP(AE167,整理番号表!$P$5:$R$39,2,FALSE),)","v":0},null,0,null,null,{"$f":"IF(AJ167<>\"\",VLOOKUP(AJ167,整理番号表!$Z$6:$AA$14,2,FALSE),\"\")","v":""},0,null,null,null,null,null,{"$f":"IF(AQ167<>0,VLOOKUP(AQ167,整理番号表!$P$43:$Q$49,2,FALSE),)","v":0},null,null,null,null,0,0,null,0,null,null,null,0,0,0,null,null,0,0,null,{"$f":"IF(BK167<>0,VLOOKUP(BK167,整理番号表!$T$5:$U$16,2,FALSE),)","v":0},null,{"$f":"IF(BM167<>0,VLOOKUP(BM167,整理番号表!$T$22:$U$30,2,FALSE),)","v":0},null,0,"",null,null,null,null,null,"",0,null,null,null,null,null,null,null,null,null,0,0,0,0,0,0,0,0,0,0,0,0,0,0,0,0,0,0,0,0,0,0,0,0,0,0,0,0,null,null,null,null,null,0,0,0,0,0,0,null,0,null,null,null,null,null,null,null,0,null,null,null,null,null,null,null,null,null,null,null,null,null,null,null,null,null,null,null,null,null,null,null,null,null,null,0,0,null,null,0,0,0,{"$f":"IF(OR(AND(1<=$FK167,$FK167<=3),$FK167=6),VLOOKUP($FK167,整理番号表!$B$32:$G$60,2,FALSE),)","v":0},{"$f":"IF(OR($FK167=4,$FK167=7),VLOOKUP($FK167,整理番号表!$B$32:$G$60,2,FALSE),)","v":0},{"$f":"IF($FK167=5,VLOOKUP($FK167,整理番号表!$B$32:$G$60,2,FALSE),)","v":0},{"$f":"IF(AND(8<=$FK167,$FK167<=13),VLOOKUP($FK167,整理番号表!$B$32:$G$60,2,FALSE),)","v":0},0,0,{"$f":"IF(AND(FE167<>1,$FP167=1,SUM($FQ167:FQ167)=0,$FF167=1,$FI167>=2),1,)","v":0},{"$f":"IF(AND(FE167<>1,$FP167=1,SUM($FQ167:FR167)=0,OR(AND($FF167=1,$FI167>0),$FI167>=4)),1,)","v":0},{"$f":"IF(AND(FE167<>1,$FP167=1,SUM($FQ167:FS167)=0,OR($FF167=1,$FI167>=2)),1,)","v":0},{"$f":"IF(AND(FE167<>1,$FP167=1,SUM($FQ167:FT167)=0,$FI167>0),1,)","v":0},0,0,{"$f":"IF(AND(FE167<>1,$FP167=2,SUM($FW167:FW167)=0,$FF167=1,$FJ167>=0.1),1,)","v":0},{"$f":"IF(AND(FE167<>1,$FP167=2,SUM($FW167:FX167)=0,OR(AND($FF167=1,$FI167>0),$FJ167>=0.2)),1,)","v":0},{"$f":"IF(AND(FE167<>1,$FP167=2,SUM($FW167:FY167)=0,OR($FF167=1,$FJ167>=0.1)),1,)","v":0},{"$f":"IF(AND(FE167<>1,$FP167=2,SUM($FW167:FZ167)=0,$FI167>0),1,)","v":0},0,{"$f":"IF(AND(FE167<>1,$FP167=3,SUM($GB167:GB167)=0,AND($FF167=1,$FJ167>=0.05)),1,)","v":0},{"$f":"IF(AND(FE167<>1,$FP167=3,SUM($GB167:GC167)=0,OR(AND($FF167=1,$FI167>0),$FJ167>=0.1)),1,)","v":0},{"$f":"IF(AND(FE167<>1,$FP167=3,SUM($GB167:GD167)=0,OR($FF167=1,$FJ167>=0.05)),1,)","v":0},{"$f":"IF(AND(FE167<>1,$FP167=3,SUM($GB167:GE167)=0,$FI167>0),1,)","v":0},0,null,0,0,0,0,0,0,0,0,0,0,0,0,0,0,0,0,0,0,0,0,0,0,0,0,0,0,0,0,0,0,0,0,0,0,0,0,0,0,0,0,0,0,0,0,0,0,0,0,0,0,0,0,0,0,0,0,0,0,0,0,0,0,0,0,0,0,0,0,0,0,0,0,0,0,0,0,0,0,0,"","","","","","","","","","","","","","","","○",0,0,0,0,0,0,0,"○",0,0,0,"○","○",null,0,0]
[0,0,0,0,0,0,0,0,0,0,156,null,null,null,null,{"$f":"IF(O168<>\"\",VLOOKUP(O168,整理番号表!$Z$17:$AA$20,2,FALSE),)","v":0},0,null,null,null,null,null,{"$f":"IF(V168<>0,VLOOKUP(V168,整理番号表!$B$6:$L$13,2,FALSE),)","v":0},0,{"$f":"IF(X168<>0,VLOOKUP(X168,整理番号表!$B$16:$C$18,2,FALSE),)","v":0},null,{"$f":"IF(Z168<>0,VLOOKUP(Z168,整理番号表!$B$22:$C$29,2,FALSE),)","v":0},null,null,{"$f":"IF(AC168<>0,VLOOKUP(AC168,整理番号表!$B$32:$G$60,2,FALSE),)","v":0},null,{"$f":"IF(AE168<>0,VLOOKUP(AE168,整理番号表!$P$5:$R$39,2,FALSE),)","v":0},null,0,null,null,{"$f":"IF(AJ168<>\"\",VLOOKUP(AJ168,整理番号表!$Z$6:$AA$14,2,FALSE),\"\")","v":""},0,null,null,null,null,null,{"$f":"IF(AQ168<>0,VLOOKUP(AQ168,整理番号表!$P$43:$Q$49,2,FALSE),)","v":0},null,null,null,null,0,0,null,0,null,null,null,0,0,0,null,null,0,0,null,{"$f":"IF(BK168<>0,VLOOKUP(BK168,整理番号表!$T$5:$U$16,2,FALSE),)","v":0},null,{"$f":"IF(BM168<>0,VLOOKUP(BM168,整理番号表!$T$22:$U$30,2,FALSE),)","v":0},null,0,"",null,null,null,null,null,"",0,null,null,null,null,null,null,null,null,null,0,0,0,0,0,0,0,0,0,0,0,0,0,0,0,0,0,0,0,0,0,0,0,0,0,0,0,0,null,null,null,null,null,0,0,0,0,0,0,null,0,null,null,null,null,null,null,null,0,null,null,null,null,null,null,null,null,null,null,null,null,null,null,null,null,null,null,null,null,null,null,null,null,null,null,0,0,null,null,0,0,0,{"$f":"IF(OR(AND(1<=$FK168,$FK168<=3),$FK168=6),VLOOKUP($FK168,整理番号表!$B$32:$G$60,2,FALSE),)","v":0},{"$f":"IF(OR($FK168=4,$FK168=7),VLOOKUP($FK168,整理番号表!$B$32:$G$60,2,FALSE),)","v":0},{"$f":"IF($FK168=5,VLOOKUP($FK168,整理番号表!$B$32:$G$60,2,FALSE),)","v":0},{"$f":"IF(AND(8<=$FK168,$FK168<=13),VLOOKUP($FK168,整理番号表!$B$32:$G$60,2,FALSE),)","v":0},0,0,{"$f":"IF(AND(FE168<>1,$FP168=1,SUM($FQ168:FQ168)=0,$FF168=1,$FI168>=2),1,)","v":0},{"$f":"IF(AND(FE168<>1,$FP168=1,SUM($FQ168:FR168)=0,OR(AND($FF168=1,$FI168>0),$FI168>=4)),1,)","v":0},{"$f":"IF(AND(FE168<>1,$FP168=1,SUM($FQ168:FS168)=0,OR($FF168=1,$FI168>=2)),1,)","v":0},{"$f":"IF(AND(FE168<>1,$FP168=1,SUM($FQ168:FT168)=0,$FI168>0),1,)","v":0},0,0,{"$f":"IF(AND(FE168<>1,$FP168=2,SUM($FW168:FW168)=0,$FF168=1,$FJ168>=0.1),1,)","v":0},{"$f":"IF(AND(FE168<>1,$FP168=2,SUM($FW168:FX168)=0,OR(AND($FF168=1,$FI168>0),$FJ168>=0.2)),1,)","v":0},{"$f":"IF(AND(FE168<>1,$FP168=2,SUM($FW168:FY168)=0,OR($FF168=1,$FJ168>=0.1)),1,)","v":0},{"$f":"IF(AND(FE168<>1,$FP168=2,SUM($FW168:FZ168)=0,$FI168>0),1,)","v":0},0,{"$f":"IF(AND(FE168<>1,$FP168=3,SUM($GB168:GB168)=0,AND($FF168=1,$FJ168>=0.05)),1,)","v":0},{"$f":"IF(AND(FE168<>1,$FP168=3,SUM($GB168:GC168)=0,OR(AND($FF168=1,$FI168>0),$FJ168>=0.1)),1,)","v":0},{"$f":"IF(AND(FE168<>1,$FP168=3,SUM($GB168:GD168)=0,OR($FF168=1,$FJ168>=0.05)),1,)","v":0},{"$f":"IF(AND(FE168<>1,$FP168=3,SUM($GB168:GE168)=0,$FI168>0),1,)","v":0},0,null,0,0,0,0,0,0,0,0,0,0,0,0,0,0,0,0,0,0,0,0,0,0,0,0,0,0,0,0,0,0,0,0,0,0,0,0,0,0,0,0,0,0,0,0,0,0,0,0,0,0,0,0,0,0,0,0,0,0,0,0,0,0,0,0,0,0,0,0,0,0,0,0,0,0,0,0,0,0,0,"","","","","","","","","","","","","","","","○",0,0,0,0,0,0,0,"○",0,0,0,"○","○",null,0,0]
[0,0,0,0,0,0,0,0,0,0,158,null,null,null,null,{"$f":"IF(O170<>\"\",VLOOKUP(O170,整理番号表!$Z$17:$AA$20,2,FALSE),)","v":0},0,null,null,null,null,null,{"$f":"IF(V170<>0,VLOOKUP(V170,整理番号表!$B$6:$L$13,2,FALSE),)","v":0},0,{"$f":"IF(X170<>0,VLOOKUP(X170,整理番号表!$B$16:$C$18,2,FALSE),)","v":0},null,{"$f":"IF(Z170<>0,VLOOKUP(Z170,整理番号表!$B$22:$C$29,2,FALSE),)","v":0},null,null,{"$f":"IF(AC170<>0,VLOOKUP(AC170,整理番号表!$B$32:$G$60,2,FALSE),)","v":0},null,{"$f":"IF(AE170<>0,VLOOKUP(AE170,整理番号表!$P$5:$R$39,2,FALSE),)","v":0},null,0,null,null,{"$f":"IF(AJ170<>\"\",VLOOKUP(AJ170,整理番号表!$Z$6:$AA$14,2,FALSE),\"\")","v":""},0,null,null,null,null,null,{"$f":"IF(AQ170<>0,VLOOKUP(AQ170,整理番号表!$P$43:$Q$49,2,FALSE),)","v":0},null,null,null,null,0,0,null,0,null,null,null,0,0,0,null,null,0,0,null,{"$f":"IF(BK170<>0,VLOOKUP(BK170,整理番号表!$T$5:$U$16,2,FALSE),)","v":0},null,{"$f":"IF(BM170<>0,VLOOKUP(BM170,整理番号表!$T$22:$U$30,2,FALSE),)","v":0},null,0,"",null,null,null,null,null,"",0,null,null,null,null,null,null,null,null,null,0,0,0,0,0,0,0,0,0,0,0,0,0,0,0,0,0,0,0,0,0,0,0,0,0,0,0,0,null,null,null,null,null,0,0,0,0,0,0,null,0,null,null,null,null,null,null,null,0,null,null,null,null,null,null,null,null,null,null,null,null,null,null,null,null,null,null,null,null,null,null,null,null,null,null,0,0,null,null,0,0,0,{"$f":"IF(OR(AND(1<=$FK170,$FK170<=3),$FK170=6),VLOOKUP($FK170,整理番号表!$B$32:$G$60,2,FALSE),)","v":0},{"$f":"IF(OR($FK170=4,$FK170=7),VLOOKUP($FK170,整理番号表!$B$32:$G$60,2,FALSE),)","v":0},{"$f":"IF($FK170=5,VLOOKUP($FK170,整理番号表!$B$32:$G$60,2,FALSE),)","v":0},{"$f":"IF(AND(8<=$FK170,$FK170<=13),VLOOKUP($FK170,整理番号表!$B$32:$G$60,2,FALSE),)","v":0},0,0,{"$f":"IF(AND(FE170<>1,$FP170=1,SUM($FQ170:FQ170)=0,$FF170=1,$FI170>=2),1,)","v":0},{"$f":"IF(AND(FE170<>1,$FP170=1,SUM($FQ170:FR170)=0,OR(AND($FF170=1,$FI170>0),$FI170>=4)),1,)","v":0},{"$f":"IF(AND(FE170<>1,$FP170=1,SUM($FQ170:FS170)=0,OR($FF170=1,$FI170>=2)),1,)","v":0},{"$f":"IF(AND(FE170<>1,$FP170=1,SUM($FQ170:FT170)=0,$FI170>0),1,)","v":0},0,0,{"$f":"IF(AND(FE170<>1,$FP170=2,SUM($FW170:FW170)=0,$FF170=1,$FJ170>=0.1),1,)","v":0},{"$f":"IF(AND(FE170<>1,$FP170=2,SUM($FW170:FX170)=0,OR(AND($FF170=1,$FI170>0),$FJ170>=0.2)),1,)","v":0},{"$f":"IF(AND(FE170<>1,$FP170=2,SUM($FW170:FY170)=0,OR($FF170=1,$FJ170>=0.1)),1,)","v":0},{"$f":"IF(AND(FE170<>1,$FP170=2,SUM($FW170:FZ170)=0,$FI170>0),1,)","v":0},0,{"$f":"IF(AND(FE170<>1,$FP170=3,SUM($GB170:GB170)=0,AND($FF170=1,$FJ170>=0.05)),1,)","v":0},{"$f":"IF(AND(FE170<>1,$FP170=3,SUM($GB170:GC170)=0,OR(AND($FF170=1,$FI170>0),$FJ170>=0.1)),1,)","v":0},{"$f":"IF(AND(FE170<>1,$FP170=3,SUM($GB170:GD170)=0,OR($FF170=1,$FJ170>=0.05)),1,)","v":0},{"$f":"IF(AND(FE170<>1,$FP170=3,SUM($GB170:GE170)=0,$FI170>0),1,)","v":0},0,null,0,0,0,0,0,0,0,0,0,0,0,0,0,0,0,0,0,0,0,0,0,0,0,0,0,0,0,0,0,0,0,0,0,0,0,0,0,0,0,0,0,0,0,0,0,0,0,0,0,0,0,0,0,0,0,0,0,0,0,0,0,0,0,0,0,0,0,0,0,0,0,0,0,0,0,0,0,0,0,"","","","","","","","","","","","","","","","○",0,0,0,0,0,0,0,"○",0,0,0,"○","○",null,0,0]
[0,0,0,0,0,0,0,0,0,0,159,null,null,null,null,{"$f":"IF(O171<>\"\",VLOOKUP(O171,整理番号表!$Z$17:$AA$20,2,FALSE),)","v":0},0,null,null,null,null,null,{"$f":"IF(V171<>0,VLOOKUP(V171,整理番号表!$B$6:$L$13,2,FALSE),)","v":0},0,{"$f":"IF(X171<>0,VLOOKUP(X171,整理番号表!$B$16:$C$18,2,FALSE),)","v":0},null,{"$f":"IF(Z171<>0,VLOOKUP(Z171,整理番号表!$B$22:$C$29,2,FALSE),)","v":0},null,null,{"$f":"IF(AC171<>0,VLOOKUP(AC171,整理番号表!$B$32:$G$60,2,FALSE),)","v":0},null,{"$f":"IF(AE171<>0,VLOOKUP(AE171,整理番号表!$P$5:$R$39,2,FALSE),)","v":0},null,0,null,null,{"$f":"IF(AJ171<>\"\",VLOOKUP(AJ171,整理番号表!$Z$6:$AA$14,2,FALSE),\"\")","v":""},0,null,null,null,null,null,{"$f":"IF(AQ171<>0,VLOOKUP(AQ171,整理番号表!$P$43:$Q$49,2,FALSE),)","v":0},null,null,null,null,0,0,null,0,null,null,null,0,0,0,null,null,0,0,null,{"$f":"IF(BK171<>0,VLOOKUP(BK171,整理番号表!$T$5:$U$16,2,FALSE),)","v":0},null,{"$f":"IF(BM171<>0,VLOOKUP(BM171,整理番号表!$T$22:$U$30,2,FALSE),)","v":0},null,0,"",null,null,null,null,null,"",0,null,null,null,null,null,null,null,null,null,0,0,0,0,0,0,0,0,0,0,0,0,0,0,0,0,0,0,0,0,0,0,0,0,0,0,0,0,null,null,null,null,null,0,0,0,0,0,0,null,0,null,null,null,null,null,null,null,0,null,null,null,null,null,null,null,null,null,null,null,null,null,null,null,null,null,null,null,null,null,null,null,null,null,null,0,0,null,null,0,0,0,{"$f":"IF(OR(AND(1<=$FK171,$FK171<=3),$FK171=6),VLOOKUP($FK171,整理番号表!$B$32:$G$60,2,FALSE),)","v":0},{"$f":"IF(OR($FK171=4,$FK171=7),VLOOKUP($FK171,整理番号表!$B$32:$G$60,2,FALSE),)","v":0},{"$f":"IF($FK171=5,VLOOKUP($FK171,整理番号表!$B$32:$G$60,2,FALSE),)","v":0},{"$f":"IF(AND(8<=$FK171,$FK171<=13),VLOOKUP($FK171,整理番号表!$B$32:$G$60,2,FALSE),)","v":0},0,0,{"$f":"IF(AND(FE171<>1,$FP171=1,SUM($FQ171:FQ171)=0,$FF171=1,$FI171>=2),1,)","v":0},{"$f":"IF(AND(FE171<>1,$FP171=1,SUM($FQ171:FR171)=0,OR(AND($FF171=1,$FI171>0),$FI171>=4)),1,)","v":0},{"$f":"IF(AND(FE171<>1,$FP171=1,SUM($FQ171:FS171)=0,OR($FF171=1,$FI171>=2)),1,)","v":0},{"$f":"IF(AND(FE171<>1,$FP171=1,SUM($FQ171:FT171)=0,$FI171>0),1,)","v":0},0,0,{"$f":"IF(AND(FE171<>1,$FP171=2,SUM($FW171:FW171)=0,$FF171=1,$FJ171>=0.1),1,)","v":0},{"$f":"IF(AND(FE171<>1,$FP171=2,SUM($FW171:FX171)=0,OR(AND($FF171=1,$FI171>0),$FJ171>=0.2)),1,)","v":0},{"$f":"IF(AND(FE171<>1,$FP171=2,SUM($FW171:FY171)=0,OR($FF171=1,$FJ171>=0.1)),1,)","v":0},{"$f":"IF(AND(FE171<>1,$FP171=2,SUM($FW171:FZ171)=0,$FI171>0),1,)","v":0},0,{"$f":"IF(AND(FE171<>1,$FP171=3,SUM($GB171:GB171)=0,AND($FF171=1,$FJ171>=0.05)),1,)","v":0},{"$f":"IF(AND(FE171<>1,$FP171=3,SUM($GB171:GC171)=0,OR(AND($FF171=1,$FI171>0),$FJ171>=0.1)),1,)","v":0},{"$f":"IF(AND(FE171<>1,$FP171=3,SUM($GB171:GD171)=0,OR($FF171=1,$FJ171>=0.05)),1,)","v":0},{"$f":"IF(AND(FE171<>1,$FP171=3,SUM($GB171:GE171)=0,$FI171>0),1,)","v":0},0,null,0,0,0,0,0,0,0,0,0,0,0,0,0,0,0,0,0,0,0,0,0,0,0,0,0,0,0,0,0,0,0,0,0,0,0,0,0,0,0,0,0,0,0,0,0,0,0,0,0,0,0,0,0,0,0,0,0,0,0,0,0,0,0,0,0,0,0,0,0,0,0,0,0,0,0,0,0,0,0,"","","","","","","","","","","","","","","","○",0,0,0,0,0,0,0,"○",0,0,0,"○","○",null,0,0]
[0,0,0,0,0,0,0,0,0,0,161,null,null,null,null,{"$f":"IF(O173<>\"\",VLOOKUP(O173,整理番号表!$Z$17:$AA$20,2,FALSE),)","v":0},0,null,null,null,null,null,{"$f":"IF(V173<>0,VLOOKUP(V173,整理番号表!$B$6:$L$13,2,FALSE),)","v":0},0,{"$f":"IF(X173<>0,VLOOKUP(X173,整理番号表!$B$16:$C$18,2,FALSE),)","v":0},null,{"$f":"IF(Z173<>0,VLOOKUP(Z173,整理番号表!$B$22:$C$29,2,FALSE),)","v":0},null,null,{"$f":"IF(AC173<>0,VLOOKUP(AC173,整理番号表!$B$32:$G$60,2,FALSE),)","v":0},null,{"$f":"IF(AE173<>0,VLOOKUP(AE173,整理番号表!$P$5:$R$39,2,FALSE),)","v":0},null,0,null,null,{"$f":"IF(AJ173<>\"\",VLOOKUP(AJ173,整理番号表!$Z$6:$AA$14,2,FALSE),\"\")","v":""},0,null,null,null,null,null,{"$f":"IF(AQ173<>0,VLOOKUP(AQ173,整理番号表!$P$43:$Q$49,2,FALSE),)","v":0},null,null,null,null,0,0,null,0,null,null,null,0,0,0,null,null,0,0,null,{"$f":"IF(BK173<>0,VLOOKUP(BK173,整理番号表!$T$5:$U$16,2,FALSE),)","v":0},null,{"$f":"IF(BM173<>0,VLOOKUP(BM173,整理番号表!$T$22:$U$30,2,FALSE),)","v":0},null,0,"",null,null,null,null,null,"",0,null,null,null,null,null,null,null,null,null,0,0,0,0,0,0,0,0,0,0,0,0,0,0,0,0,0,0,0,0,0,0,0,0,0,0,0,0,null,null,null,null,null,0,0,0,0,0,0,null,0,null,null,null,null,null,null,null,0,null,null,null,null,null,null,null,null,null,null,null,null,null,null,null,null,null,null,null,null,null,null,null,null,null,null,0,0,null,null,0,0,0,{"$f":"IF(OR(AND(1<=$FK173,$FK173<=3),$FK173=6),VLOOKUP($FK173,整理番号表!$B$32:$G$60,2,FALSE),)","v":0},{"$f":"IF(OR($FK173=4,$FK173=7),VLOOKUP($FK173,整理番号表!$B$32:$G$60,2,FALSE),)","v":0},{"$f":"IF($FK173=5,VLOOKUP($FK173,整理番号表!$B$32:$G$60,2,FALSE),)","v":0},{"$f":"IF(AND(8<=$FK173,$FK173<=13),VLOOKUP($FK173,整理番号表!$B$32:$G$60,2,FALSE),)","v":0},0,0,{"$f":"IF(AND(FE173<>1,$FP173=1,SUM($FQ173:FQ173)=0,$FF173=1,$FI173>=2),1,)","v":0},{"$f":"IF(AND(FE173<>1,$FP173=1,SUM($FQ173:FR173)=0,OR(AND($FF173=1,$FI173>0),$FI173>=4)),1,)","v":0},{"$f":"IF(AND(FE173<>1,$FP173=1,SUM($FQ173:FS173)=0,OR($FF173=1,$FI173>=2)),1,)","v":0},{"$f":"IF(AND(FE173<>1,$FP173=1,SUM($FQ173:FT173)=0,$FI173>0),1,)","v":0},0,0,{"$f":"IF(AND(FE173<>1,$FP173=2,SUM($FW173:FW173)=0,$FF173=1,$FJ173>=0.1),1,)","v":0},{"$f":"IF(AND(FE173<>1,$FP173=2,SUM($FW173:FX173)=0,OR(AND($FF173=1,$FI173>0),$FJ173>=0.2)),1,)","v":0},{"$f":"IF(AND(FE173<>1,$FP173=2,SUM($FW173:FY173)=0,OR($FF173=1,$FJ173>=0.1)),1,)","v":0},{"$f":"IF(AND(FE173<>1,$FP173=2,SUM($FW173:FZ173)=0,$FI173>0),1,)","v":0},0,{"$f":"IF(AND(FE173<>1,$FP173=3,SUM($GB173:GB173)=0,AND($FF173=1,$FJ173>=0.05)),1,)","v":0},{"$f":"IF(AND(FE173<>1,$FP173=3,SUM($GB173:GC173)=0,OR(AND($FF173=1,$FI173>0),$FJ173>=0.1)),1,)","v":0},{"$f":"IF(AND(FE173<>1,$FP173=3,SUM($GB173:GD173)=0,OR($FF173=1,$FJ173>=0.05)),1,)","v":0},{"$f":"IF(AND(FE173<>1,$FP173=3,SUM($GB173:GE173)=0,$FI173>0),1,)","v":0},0,null,0,0,0,0,0,0,0,0,0,0,0,0,0,0,0,0,0,0,0,0,0,0,0,0,0,0,0,0,0,0,0,0,0,0,0,0,0,0,0,0,0,0,0,0,0,0,0,0,0,0,0,0,0,0,0,0,0,0,0,0,0,0,0,0,0,0,0,0,0,0,0,0,0,0,0,0,0,0,0,"","","","","","","","","","","","","","","","○",0,0,0,0,0,0,0,"○",0,0,0,"○","○",null,0,0]
[0,0,0,0,0,0,0,0,0,0,162,null,null,null,null,{"$f":"IF(O174<>\"\",VLOOKUP(O174,整理番号表!$Z$17:$AA$20,2,FALSE),)","v":0},0,null,null,null,null,null,{"$f":"IF(V174<>0,VLOOKUP(V174,整理番号表!$B$6:$L$13,2,FALSE),)","v":0},0,{"$f":"IF(X174<>0,VLOOKUP(X174,整理番号表!$B$16:$C$18,2,FALSE),)","v":0},null,{"$f":"IF(Z174<>0,VLOOKUP(Z174,整理番号表!$B$22:$C$29,2,FALSE),)","v":0},null,null,{"$f":"IF(AC174<>0,VLOOKUP(AC174,整理番号表!$B$32:$G$60,2,FALSE),)","v":0},null,{"$f":"IF(AE174<>0,VLOOKUP(AE174,整理番号表!$P$5:$R$39,2,FALSE),)","v":0},null,0,null,null,{"$f":"IF(AJ174<>\"\",VLOOKUP(AJ174,整理番号表!$Z$6:$AA$14,2,FALSE),\"\")","v":""},0,null,null,null,null,null,{"$f":"IF(AQ174<>0,VLOOKUP(AQ174,整理番号表!$P$43:$Q$49,2,FALSE),)","v":0},null,null,null,null,0,0,null,0,null,null,null,0,0,0,null,null,0,0,null,{"$f":"IF(BK174<>0,VLOOKUP(BK174,整理番号表!$T$5:$U$16,2,FALSE),)","v":0},null,{"$f":"IF(BM174<>0,VLOOKUP(BM174,整理番号表!$T$22:$U$30,2,FALSE),)","v":0},null,0,"",null,null,null,null,null,"",0,null,null,null,null,null,null,null,null,null,0,0,0,0,0,0,0,0,0,0,0,0,0,0,0,0,0,0,0,0,0,0,0,0,0,0,0,0,null,null,null,null,null,0,0,0,0,0,0,null,0,null,null,null,null,null,null,null,0,null,null,null,null,null,null,null,null,null,null,null,null,null,null,null,null,null,null,null,null,null,null,null,null,null,null,0,0,null,null,0,0,0,{"$f":"IF(OR(AND(1<=$FK174,$FK174<=3),$FK174=6),VLOOKUP($FK174,整理番号表!$B$32:$G$60,2,FALSE),)","v":0},{"$f":"IF(OR($FK174=4,$FK174=7),VLOOKUP($FK174,整理番号表!$B$32:$G$60,2,FALSE),)","v":0},{"$f":"IF($FK174=5,VLOOKUP($FK174,整理番号表!$B$32:$G$60,2,FALSE),)","v":0},{"$f":"IF(AND(8<=$FK174,$FK174<=13),VLOOKUP($FK174,整理番号表!$B$32:$G$60,2,FALSE),)","v":0},0,0,{"$f":"IF(AND(FE174<>1,$FP174=1,SUM($FQ174:FQ174)=0,$FF174=1,$FI174>=2),1,)","v":0},{"$f":"IF(AND(FE174<>1,$FP174=1,SUM($FQ174:FR174)=0,OR(AND($FF174=1,$FI174>0),$FI174>=4)),1,)","v":0},{"$f":"IF(AND(FE174<>1,$FP174=1,SUM($FQ174:FS174)=0,OR($FF174=1,$FI174>=2)),1,)","v":0},{"$f":"IF(AND(FE174<>1,$FP174=1,SUM($FQ174:FT174)=0,$FI174>0),1,)","v":0},0,0,{"$f":"IF(AND(FE174<>1,$FP174=2,SUM($FW174:FW174)=0,$FF174=1,$FJ174>=0.1),1,)","v":0},{"$f":"IF(AND(FE174<>1,$FP174=2,SUM($FW174:FX174)=0,OR(AND($FF174=1,$FI174>0),$FJ174>=0.2)),1,)","v":0},{"$f":"IF(AND(FE174<>1,$FP174=2,SUM($FW174:FY174)=0,OR($FF174=1,$FJ174>=0.1)),1,)","v":0},{"$f":"IF(AND(FE174<>1,$FP174=2,SUM($FW174:FZ174)=0,$FI174>0),1,)","v":0},0,{"$f":"IF(AND(FE174<>1,$FP174=3,SUM($GB174:GB174)=0,AND($FF174=1,$FJ174>=0.05)),1,)","v":0},{"$f":"IF(AND(FE174<>1,$FP174=3,SUM($GB174:GC174)=0,OR(AND($FF174=1,$FI174>0),$FJ174>=0.1)),1,)","v":0},{"$f":"IF(AND(FE174<>1,$FP174=3,SUM($GB174:GD174)=0,OR($FF174=1,$FJ174>=0.05)),1,)","v":0},{"$f":"IF(AND(FE174<>1,$FP174=3,SUM($GB174:GE174)=0,$FI174>0),1,)","v":0},0,null,0,0,0,0,0,0,0,0,0,0,0,0,0,0,0,0,0,0,0,0,0,0,0,0,0,0,0,0,0,0,0,0,0,0,0,0,0,0,0,0,0,0,0,0,0,0,0,0,0,0,0,0,0,0,0,0,0,0,0,0,0,0,0,0,0,0,0,0,0,0,0,0,0,0,0,0,0,0,0,"","","","","","","","","","","","","","","","○",0,0,0,0,0,0,0,"○",0,0,0,"○","○",null,0,0]
[0,0,0,0,0,0,0,0,0,0,164,null,null,null,null,{"$f":"IF(O176<>\"\",VLOOKUP(O176,整理番号表!$Z$17:$AA$20,2,FALSE),)","v":0},0,null,null,null,null,null,{"$f":"IF(V176<>0,VLOOKUP(V176,整理番号表!$B$6:$L$13,2,FALSE),)","v":0},0,{"$f":"IF(X176<>0,VLOOKUP(X176,整理番号表!$B$16:$C$18,2,FALSE),)","v":0},null,{"$f":"IF(Z176<>0,VLOOKUP(Z176,整理番号表!$B$22:$C$29,2,FALSE),)","v":0},null,null,{"$f":"IF(AC176<>0,VLOOKUP(AC176,整理番号表!$B$32:$G$60,2,FALSE),)","v":0},null,{"$f":"IF(AE176<>0,VLOOKUP(AE176,整理番号表!$P$5:$R$39,2,FALSE),)","v":0},null,0,null,null,{"$f":"IF(AJ176<>\"\",VLOOKUP(AJ176,整理番号表!$Z$6:$AA$14,2,FALSE),\"\")","v":""},0,null,null,null,null,null,{"$f":"IF(AQ176<>0,VLOOKUP(AQ176,整理番号表!$P$43:$Q$49,2,FALSE),)","v":0},null,null,null,null,0,0,null,0,null,null,null,0,0,0,null,null,0,0,null,{"$f":"IF(BK176<>0,VLOOKUP(BK176,整理番号表!$T$5:$U$16,2,FALSE),)","v":0},null,{"$f":"IF(BM176<>0,VLOOKUP(BM176,整理番号表!$T$22:$U$30,2,FALSE),)","v":0},null,0,"",null,null,null,null,null,"",0,null,null,null,null,null,null,null,null,null,0,0,0,0,0,0,0,0,0,0,0,0,0,0,0,0,0,0,0,0,0,0,0,0,0,0,0,0,null,null,null,null,null,0,0,0,0,0,0,null,0,null,null,null,null,null,null,null,0,null,null,null,null,null,null,null,null,null,null,null,null,null,null,null,null,null,null,null,null,null,null,null,null,null,null,0,0,null,null,0,0,0,{"$f":"IF(OR(AND(1<=$FK176,$FK176<=3),$FK176=6),VLOOKUP($FK176,整理番号表!$B$32:$G$60,2,FALSE),)","v":0},{"$f":"IF(OR($FK176=4,$FK176=7),VLOOKUP($FK176,整理番号表!$B$32:$G$60,2,FALSE),)","v":0},{"$f":"IF($FK176=5,VLOOKUP($FK176,整理番号表!$B$32:$G$60,2,FALSE),)","v":0},{"$f":"IF(AND(8<=$FK176,$FK176<=13),VLOOKUP($FK176,整理番号表!$B$32:$G$60,2,FALSE),)","v":0},0,0,{"$f":"IF(AND(FE176<>1,$FP176=1,SUM($FQ176:FQ176)=0,$FF176=1,$FI176>=2),1,)","v":0},{"$f":"IF(AND(FE176<>1,$FP176=1,SUM($FQ176:FR176)=0,OR(AND($FF176=1,$FI176>0),$FI176>=4)),1,)","v":0},{"$f":"IF(AND(FE176<>1,$FP176=1,SUM($FQ176:FS176)=0,OR($FF176=1,$FI176>=2)),1,)","v":0},{"$f":"IF(AND(FE176<>1,$FP176=1,SUM($FQ176:FT176)=0,$FI176>0),1,)","v":0},0,0,{"$f":"IF(AND(FE176<>1,$FP176=2,SUM($FW176:FW176)=0,$FF176=1,$FJ176>=0.1),1,)","v":0},{"$f":"IF(AND(FE176<>1,$FP176=2,SUM($FW176:FX176)=0,OR(AND($FF176=1,$FI176>0),$FJ176>=0.2)),1,)","v":0},{"$f":"IF(AND(FE176<>1,$FP176=2,SUM($FW176:FY176)=0,OR($FF176=1,$FJ176>=0.1)),1,)","v":0},{"$f":"IF(AND(FE176<>1,$FP176=2,SUM($FW176:FZ176)=0,$FI176>0),1,)","v":0},0,{"$f":"IF(AND(FE176<>1,$FP176=3,SUM($GB176:GB176)=0,AND($FF176=1,$FJ176>=0.05)),1,)","v":0},{"$f":"IF(AND(FE176<>1,$FP176=3,SUM($GB176:GC176)=0,OR(AND($FF176=1,$FI176>0),$FJ176>=0.1)),1,)","v":0},{"$f":"IF(AND(FE176<>1,$FP176=3,SUM($GB176:GD176)=0,OR($FF176=1,$FJ176>=0.05)),1,)","v":0},{"$f":"IF(AND(FE176<>1,$FP176=3,SUM($GB176:GE176)=0,$FI176>0),1,)","v":0},0,null,0,0,0,0,0,0,0,0,0,0,0,0,0,0,0,0,0,0,0,0,0,0,0,0,0,0,0,0,0,0,0,0,0,0,0,0,0,0,0,0,0,0,0,0,0,0,0,0,0,0,0,0,0,0,0,0,0,0,0,0,0,0,0,0,0,0,0,0,0,0,0,0,0,0,0,0,0,0,0,"","","","","","","","","","","","","","","","○",0,0,0,0,0,0,0,"○",0,0,0,"○","○",null,0,0]
[0,0,0,0,0,0,0,0,0,0,165,null,null,null,null,{"$f":"IF(O177<>\"\",VLOOKUP(O177,整理番号表!$Z$17:$AA$20,2,FALSE),)","v":0},0,null,null,null,null,null,{"$f":"IF(V177<>0,VLOOKUP(V177,整理番号表!$B$6:$L$13,2,FALSE),)","v":0},0,{"$f":"IF(X177<>0,VLOOKUP(X177,整理番号表!$B$16:$C$18,2,FALSE),)","v":0},null,{"$f":"IF(Z177<>0,VLOOKUP(Z177,整理番号表!$B$22:$C$29,2,FALSE),)","v":0},null,null,{"$f":"IF(AC177<>0,VLOOKUP(AC177,整理番号表!$B$32:$G$60,2,FALSE),)","v":0},null,{"$f":"IF(AE177<>0,VLOOKUP(AE177,整理番号表!$P$5:$R$39,2,FALSE),)","v":0},null,0,null,null,{"$f":"IF(AJ177<>\"\",VLOOKUP(AJ177,整理番号表!$Z$6:$AA$14,2,FALSE),\"\")","v":""},0,null,null,null,null,null,{"$f":"IF(AQ177<>0,VLOOKUP(AQ177,整理番号表!$P$43:$Q$49,2,FALSE),)","v":0},null,null,null,null,0,0,null,0,null,null,null,0,0,0,null,null,0,0,null,{"$f":"IF(BK177<>0,VLOOKUP(BK177,整理番号表!$T$5:$U$16,2,FALSE),)","v":0},null,{"$f":"IF(BM177<>0,VLOOKUP(BM177,整理番号表!$T$22:$U$30,2,FALSE),)","v":0},null,0,"",null,null,null,null,null,"",0,null,null,null,null,null,null,null,null,null,0,0,0,0,0,0,0,0,0,0,0,0,0,0,0,0,0,0,0,0,0,0,0,0,0,0,0,0,null,null,null,null,null,0,0,0,0,0,0,null,0,null,null,null,null,null,null,null,0,null,null,null,null,null,null,null,null,null,null,null,null,null,null,null,null,null,null,null,null,null,null,null,null,null,null,0,0,null,null,0,0,0,{"$f":"IF(OR(AND(1<=$FK177,$FK177<=3),$FK177=6),VLOOKUP($FK177,整理番号表!$B$32:$G$60,2,FALSE),)","v":0},{"$f":"IF(OR($FK177=4,$FK177=7),VLOOKUP($FK177,整理番号表!$B$32:$G$60,2,FALSE),)","v":0},{"$f":"IF($FK177=5,VLOOKUP($FK177,整理番号表!$B$32:$G$60,2,FALSE),)","v":0},{"$f":"IF(AND(8<=$FK177,$FK177<=13),VLOOKUP($FK177,整理番号表!$B$32:$G$60,2,FALSE),)","v":0},0,0,{"$f":"IF(AND(FE177<>1,$FP177=1,SUM($FQ177:FQ177)=0,$FF177=1,$FI177>=2),1,)","v":0},{"$f":"IF(AND(FE177<>1,$FP177=1,SUM($FQ177:FR177)=0,OR(AND($FF177=1,$FI177>0),$FI177>=4)),1,)","v":0},{"$f":"IF(AND(FE177<>1,$FP177=1,SUM($FQ177:FS177)=0,OR($FF177=1,$FI177>=2)),1,)","v":0},{"$f":"IF(AND(FE177<>1,$FP177=1,SUM($FQ177:FT177)=0,$FI177>0),1,)","v":0},0,0,{"$f":"IF(AND(FE177<>1,$FP177=2,SUM($FW177:FW177)=0,$FF177=1,$FJ177>=0.1),1,)","v":0},{"$f":"IF(AND(FE177<>1,$FP177=2,SUM($FW177:FX177)=0,OR(AND($FF177=1,$FI177>0),$FJ177>=0.2)),1,)","v":0},{"$f":"IF(AND(FE177<>1,$FP177=2,SUM($FW177:FY177)=0,OR($FF177=1,$FJ177>=0.1)),1,)","v":0},{"$f":"IF(AND(FE177<>1,$FP177=2,SUM($FW177:FZ177)=0,$FI177>0),1,)","v":0},0,{"$f":"IF(AND(FE177<>1,$FP177=3,SUM($GB177:GB177)=0,AND($FF177=1,$FJ177>=0.05)),1,)","v":0},{"$f":"IF(AND(FE177<>1,$FP177=3,SUM($GB177:GC177)=0,OR(AND($FF177=1,$FI177>0),$FJ177>=0.1)),1,)","v":0},{"$f":"IF(AND(FE177<>1,$FP177=3,SUM($GB177:GD177)=0,OR($FF177=1,$FJ177>=0.05)),1,)","v":0},{"$f":"IF(AND(FE177<>1,$FP177=3,SUM($GB177:GE177)=0,$FI177>0),1,)","v":0},0,null,0,0,0,0,0,0,0,0,0,0,0,0,0,0,0,0,0,0,0,0,0,0,0,0,0,0,0,0,0,0,0,0,0,0,0,0,0,0,0,0,0,0,0,0,0,0,0,0,0,0,0,0,0,0,0,0,0,0,0,0,0,0,0,0,0,0,0,0,0,0,0,0,0,0,0,0,0,0,0,"","","","","","","","","","","","","","","","○",0,0,0,0,0,0,0,"○",0,0,0,"○","○",null,0,0]
[0,0,0,0,0,0,0,0,0,0,167,null,null,null,null,{"$f":"IF(O179<>\"\",VLOOKUP(O179,整理番号表!$Z$17:$AA$20,2,FALSE),)","v":0},0,null,null,null,null,null,{"$f":"IF(V179<>0,VLOOKUP(V179,整理番号表!$B$6:$L$13,2,FALSE),)","v":0},0,{"$f":"IF(X179<>0,VLOOKUP(X179,整理番号表!$B$16:$C$18,2,FALSE),)","v":0},null,{"$f":"IF(Z179<>0,VLOOKUP(Z179,整理番号表!$B$22:$C$29,2,FALSE),)","v":0},null,null,{"$f":"IF(AC179<>0,VLOOKUP(AC179,整理番号表!$B$32:$G$60,2,FALSE),)","v":0},null,{"$f":"IF(AE179<>0,VLOOKUP(AE179,整理番号表!$P$5:$R$39,2,FALSE),)","v":0},null,0,null,null,{"$f":"IF(AJ179<>\"\",VLOOKUP(AJ179,整理番号表!$Z$6:$AA$14,2,FALSE),\"\")","v":""},0,null,null,null,null,null,{"$f":"IF(AQ179<>0,VLOOKUP(AQ179,整理番号表!$P$43:$Q$49,2,FALSE),)","v":0},null,null,null,null,0,0,null,0,null,null,null,0,0,0,null,null,0,0,null,{"$f":"IF(BK179<>0,VLOOKUP(BK179,整理番号表!$T$5:$U$16,2,FALSE),)","v":0},null,{"$f":"IF(BM179<>0,VLOOKUP(BM179,整理番号表!$T$22:$U$30,2,FALSE),)","v":0},null,0,"",null,null,null,null,null,"",0,null,null,null,null,null,null,null,null,null,0,0,0,0,0,0,0,0,0,0,0,0,0,0,0,0,0,0,0,0,0,0,0,0,0,0,0,0,null,null,null,null,null,0,0,0,0,0,0,null,0,null,null,null,null,null,null,null,0,null,null,null,null,null,null,null,null,null,null,null,null,null,null,null,null,null,null,null,null,null,null,null,null,null,null,0,0,null,null,0,0,0,{"$f":"IF(OR(AND(1<=$FK179,$FK179<=3),$FK179=6),VLOOKUP($FK179,整理番号表!$B$32:$G$60,2,FALSE),)","v":0},{"$f":"IF(OR($FK179=4,$FK179=7),VLOOKUP($FK179,整理番号表!$B$32:$G$60,2,FALSE),)","v":0},{"$f":"IF($FK179=5,VLOOKUP($FK179,整理番号表!$B$32:$G$60,2,FALSE),)","v":0},{"$f":"IF(AND(8<=$FK179,$FK179<=13),VLOOKUP($FK179,整理番号表!$B$32:$G$60,2,FALSE),)","v":0},0,0,{"$f":"IF(AND(FE179<>1,$FP179=1,SUM($FQ179:FQ179)=0,$FF179=1,$FI179>=2),1,)","v":0},{"$f":"IF(AND(FE179<>1,$FP179=1,SUM($FQ179:FR179)=0,OR(AND($FF179=1,$FI179>0),$FI179>=4)),1,)","v":0},{"$f":"IF(AND(FE179<>1,$FP179=1,SUM($FQ179:FS179)=0,OR($FF179=1,$FI179>=2)),1,)","v":0},{"$f":"IF(AND(FE179<>1,$FP179=1,SUM($FQ179:FT179)=0,$FI179>0),1,)","v":0},0,0,{"$f":"IF(AND(FE179<>1,$FP179=2,SUM($FW179:FW179)=0,$FF179=1,$FJ179>=0.1),1,)","v":0},{"$f":"IF(AND(FE179<>1,$FP179=2,SUM($FW179:FX179)=0,OR(AND($FF179=1,$FI179>0),$FJ179>=0.2)),1,)","v":0},{"$f":"IF(AND(FE179<>1,$FP179=2,SUM($FW179:FY179)=0,OR($FF179=1,$FJ179>=0.1)),1,)","v":0},{"$f":"IF(AND(FE179<>1,$FP179=2,SUM($FW179:FZ179)=0,$FI179>0),1,)","v":0},0,{"$f":"IF(AND(FE179<>1,$FP179=3,SUM($GB179:GB179)=0,AND($FF179=1,$FJ179>=0.05)),1,)","v":0},{"$f":"IF(AND(FE179<>1,$FP179=3,SUM($GB179:GC179)=0,OR(AND($FF179=1,$FI179>0),$FJ179>=0.1)),1,)","v":0},{"$f":"IF(AND(FE179<>1,$FP179=3,SUM($GB179:GD179)=0,OR($FF179=1,$FJ179>=0.05)),1,)","v":0},{"$f":"IF(AND(FE179<>1,$FP179=3,SUM($GB179:GE179)=0,$FI179>0),1,)","v":0},0,null,0,0,0,0,0,0,0,0,0,0,0,0,0,0,0,0,0,0,0,0,0,0,0,0,0,0,0,0,0,0,0,0,0,0,0,0,0,0,0,0,0,0,0,0,0,0,0,0,0,0,0,0,0,0,0,0,0,0,0,0,0,0,0,0,0,0,0,0,0,0,0,0,0,0,0,0,0,0,0,"","","","","","","","","","","","","","","","○",0,0,0,0,0,0,0,"○",0,0,0,"○","○",null,0,0]
[0,0,0,0,0,0,0,0,0,0,168,null,null,null,null,{"$f":"IF(O180<>\"\",VLOOKUP(O180,整理番号表!$Z$17:$AA$20,2,FALSE),)","v":0},0,null,null,null,null,null,{"$f":"IF(V180<>0,VLOOKUP(V180,整理番号表!$B$6:$L$13,2,FALSE),)","v":0},0,{"$f":"IF(X180<>0,VLOOKUP(X180,整理番号表!$B$16:$C$18,2,FALSE),)","v":0},null,{"$f":"IF(Z180<>0,VLOOKUP(Z180,整理番号表!$B$22:$C$29,2,FALSE),)","v":0},null,null,{"$f":"IF(AC180<>0,VLOOKUP(AC180,整理番号表!$B$32:$G$60,2,FALSE),)","v":0},null,{"$f":"IF(AE180<>0,VLOOKUP(AE180,整理番号表!$P$5:$R$39,2,FALSE),)","v":0},null,0,null,null,{"$f":"IF(AJ180<>\"\",VLOOKUP(AJ180,整理番号表!$Z$6:$AA$14,2,FALSE),\"\")","v":""},0,null,null,null,null,null,{"$f":"IF(AQ180<>0,VLOOKUP(AQ180,整理番号表!$P$43:$Q$49,2,FALSE),)","v":0},null,null,null,null,0,0,null,0,null,null,null,0,0,0,null,null,0,0,null,{"$f":"IF(BK180<>0,VLOOKUP(BK180,整理番号表!$T$5:$U$16,2,FALSE),)","v":0},null,{"$f":"IF(BM180<>0,VLOOKUP(BM180,整理番号表!$T$22:$U$30,2,FALSE),)","v":0},null,0,"",null,null,null,null,null,"",0,null,null,null,null,null,null,null,null,null,0,0,0,0,0,0,0,0,0,0,0,0,0,0,0,0,0,0,0,0,0,0,0,0,0,0,0,0,null,null,null,null,null,0,0,0,0,0,0,null,0,null,null,null,null,null,null,null,0,null,null,null,null,null,null,null,null,null,null,null,null,null,null,null,null,null,null,null,null,null,null,null,null,null,null,0,0,null,null,0,0,0,{"$f":"IF(OR(AND(1<=$FK180,$FK180<=3),$FK180=6),VLOOKUP($FK180,整理番号表!$B$32:$G$60,2,FALSE),)","v":0},{"$f":"IF(OR($FK180=4,$FK180=7),VLOOKUP($FK180,整理番号表!$B$32:$G$60,2,FALSE),)","v":0},{"$f":"IF($FK180=5,VLOOKUP($FK180,整理番号表!$B$32:$G$60,2,FALSE),)","v":0},{"$f":"IF(AND(8<=$FK180,$FK180<=13),VLOOKUP($FK180,整理番号表!$B$32:$G$60,2,FALSE),)","v":0},0,0,{"$f":"IF(AND(FE180<>1,$FP180=1,SUM($FQ180:FQ180)=0,$FF180=1,$FI180>=2),1,)","v":0},{"$f":"IF(AND(FE180<>1,$FP180=1,SUM($FQ180:FR180)=0,OR(AND($FF180=1,$FI180>0),$FI180>=4)),1,)","v":0},{"$f":"IF(AND(FE180<>1,$FP180=1,SUM($FQ180:FS180)=0,OR($FF180=1,$FI180>=2)),1,)","v":0},{"$f":"IF(AND(FE180<>1,$FP180=1,SUM($FQ180:FT180)=0,$FI180>0),1,)","v":0},0,0,{"$f":"IF(AND(FE180<>1,$FP180=2,SUM($FW180:FW180)=0,$FF180=1,$FJ180>=0.1),1,)","v":0},{"$f":"IF(AND(FE180<>1,$FP180=2,SUM($FW180:FX180)=0,OR(AND($FF180=1,$FI180>0),$FJ180>=0.2)),1,)","v":0},{"$f":"IF(AND(FE180<>1,$FP180=2,SUM($FW180:FY180)=0,OR($FF180=1,$FJ180>=0.1)),1,)","v":0},{"$f":"IF(AND(FE180<>1,$FP180=2,SUM($FW180:FZ180)=0,$FI180>0),1,)","v":0},0,{"$f":"IF(AND(FE180<>1,$FP180=3,SUM($GB180:GB180)=0,AND($FF180=1,$FJ180>=0.05)),1,)","v":0},{"$f":"IF(AND(FE180<>1,$FP180=3,SUM($GB180:GC180)=0,OR(AND($FF180=1,$FI180>0),$FJ180>=0.1)),1,)","v":0},{"$f":"IF(AND(FE180<>1,$FP180=3,SUM($GB180:GD180)=0,OR($FF180=1,$FJ180>=0.05)),1,)","v":0},{"$f":"IF(AND(FE180<>1,$FP180=3,SUM($GB180:GE180)=0,$FI180>0),1,)","v":0},0,null,0,0,0,0,0,0,0,0,0,0,0,0,0,0,0,0,0,0,0,0,0,0,0,0,0,0,0,0,0,0,0,0,0,0,0,0,0,0,0,0,0,0,0,0,0,0,0,0,0,0,0,0,0,0,0,0,0,0,0,0,0,0,0,0,0,0,0,0,0,0,0,0,0,0,0,0,0,0,0,"","","","","","","","","","","","","","","","○",0,0,0,0,0,0,0,"○",0,0,0,"○","○",null,0,0]
[0,0,0,0,0,0,0,0,0,0,171,null,null,null,null,{"$f":"IF(O183<>\"\",VLOOKUP(O183,整理番号表!$Z$17:$AA$20,2,FALSE),)","v":0},0,null,null,null,null,null,{"$f":"IF(V183<>0,VLOOKUP(V183,整理番号表!$B$6:$L$13,2,FALSE),)","v":0},0,{"$f":"IF(X183<>0,VLOOKUP(X183,整理番号表!$B$16:$C$18,2,FALSE),)","v":0},null,{"$f":"IF(Z183<>0,VLOOKUP(Z183,整理番号表!$B$22:$C$29,2,FALSE),)","v":0},null,null,{"$f":"IF(AC183<>0,VLOOKUP(AC183,整理番号表!$B$32:$G$60,2,FALSE),)","v":0},null,{"$f":"IF(AE183<>0,VLOOKUP(AE183,整理番号表!$P$5:$R$39,2,FALSE),)","v":0},null,0,null,null,{"$f":"IF(AJ183<>\"\",VLOOKUP(AJ183,整理番号表!$Z$6:$AA$14,2,FALSE),\"\")","v":""},0,null,null,null,null,null,{"$f":"IF(AQ183<>0,VLOOKUP(AQ183,整理番号表!$P$43:$Q$49,2,FALSE),)","v":0},null,null,null,null,0,0,null,0,null,null,null,0,0,0,null,null,0,0,null,{"$f":"IF(BK183<>0,VLOOKUP(BK183,整理番号表!$T$5:$U$16,2,FALSE),)","v":0},null,{"$f":"IF(BM183<>0,VLOOKUP(BM183,整理番号表!$T$22:$U$30,2,FALSE),)","v":0},null,0,"",null,null,null,null,null,"",0,null,null,null,null,null,null,null,null,null,0,0,0,0,0,0,0,0,0,0,0,0,0,0,0,0,0,0,0,0,0,0,0,0,0,0,0,0,null,null,null,null,null,0,0,0,0,0,0,null,0,null,null,null,null,null,null,null,0,null,null,null,null,null,null,null,null,null,null,null,null,null,null,null,null,null,null,null,null,null,null,null,null,null,null,0,0,null,null,0,0,0,{"$f":"IF(OR(AND(1<=$FK183,$FK183<=3),$FK183=6),VLOOKUP($FK183,整理番号表!$B$32:$G$60,2,FALSE),)","v":0},{"$f":"IF(OR($FK183=4,$FK183=7),VLOOKUP($FK183,整理番号表!$B$32:$G$60,2,FALSE),)","v":0},{"$f":"IF($FK183=5,VLOOKUP($FK183,整理番号表!$B$32:$G$60,2,FALSE),)","v":0},{"$f":"IF(AND(8<=$FK183,$FK183<=13),VLOOKUP($FK183,整理番号表!$B$32:$G$60,2,FALSE),)","v":0},0,0,{"$f":"IF(AND(FE183<>1,$FP183=1,SUM($FQ183:FQ183)=0,$FF183=1,$FI183>=2),1,)","v":0},{"$f":"IF(AND(FE183<>1,$FP183=1,SUM($FQ183:FR183)=0,OR(AND($FF183=1,$FI183>0),$FI183>=4)),1,)","v":0},{"$f":"IF(AND(FE183<>1,$FP183=1,SUM($FQ183:FS183)=0,OR($FF183=1,$FI183>=2)),1,)","v":0},{"$f":"IF(AND(FE183<>1,$FP183=1,SUM($FQ183:FT183)=0,$FI183>0),1,)","v":0},0,0,{"$f":"IF(AND(FE183<>1,$FP183=2,SUM($FW183:FW183)=0,$FF183=1,$FJ183>=0.1),1,)","v":0},{"$f":"IF(AND(FE183<>1,$FP183=2,SUM($FW183:FX183)=0,OR(AND($FF183=1,$FI183>0),$FJ183>=0.2)),1,)","v":0},{"$f":"IF(AND(FE183<>1,$FP183=2,SUM($FW183:FY183)=0,OR($FF183=1,$FJ183>=0.1)),1,)","v":0},{"$f":"IF(AND(FE183<>1,$FP183=2,SUM($FW183:FZ183)=0,$FI183>0),1,)","v":0},0,{"$f":"IF(AND(FE183<>1,$FP183=3,SUM($GB183:GB183)=0,AND($FF183=1,$FJ183>=0.05)),1,)","v":0},{"$f":"IF(AND(FE183<>1,$FP183=3,SUM($GB183:GC183)=0,OR(AND($FF183=1,$FI183>0),$FJ183>=0.1)),1,)","v":0},{"$f":"IF(AND(FE183<>1,$FP183=3,SUM($GB183:GD183)=0,OR($FF183=1,$FJ183>=0.05)),1,)","v":0},{"$f":"IF(AND(FE183<>1,$FP183=3,SUM($GB183:GE183)=0,$FI183>0),1,)","v":0},0,null,0,0,0,0,0,0,0,0,0,0,0,0,0,0,0,0,0,0,0,0,0,0,0,0,0,0,0,0,0,0,0,0,0,0,0,0,0,0,0,0,0,0,0,0,0,0,0,0,0,0,0,0,0,0,0,0,0,0,0,0,0,0,0,0,0,0,0,0,0,0,0,0,0,0,0,0,0,0,0,"","","","","","","","","","","","","","","","○",0,0,0,0,0,0,0,"○",0,0,0,"○","○",null,0,0]
[0,0,0,0,0,0,0,0,0,0,172,null,null,null,null,{"$f":"IF(O184<>\"\",VLOOKUP(O184,整理番号表!$Z$17:$AA$20,2,FALSE),)","v":0},0,null,null,null,null,null,{"$f":"IF(V184<>0,VLOOKUP(V184,整理番号表!$B$6:$L$13,2,FALSE),)","v":0},0,{"$f":"IF(X184<>0,VLOOKUP(X184,整理番号表!$B$16:$C$18,2,FALSE),)","v":0},null,{"$f":"IF(Z184<>0,VLOOKUP(Z184,整理番号表!$B$22:$C$29,2,FALSE),)","v":0},null,null,{"$f":"IF(AC184<>0,VLOOKUP(AC184,整理番号表!$B$32:$G$60,2,FALSE),)","v":0},null,{"$f":"IF(AE184<>0,VLOOKUP(AE184,整理番号表!$P$5:$R$39,2,FALSE),)","v":0},null,0,null,null,{"$f":"IF(AJ184<>\"\",VLOOKUP(AJ184,整理番号表!$Z$6:$AA$14,2,FALSE),\"\")","v":""},0,null,null,null,null,null,{"$f":"IF(AQ184<>0,VLOOKUP(AQ184,整理番号表!$P$43:$Q$49,2,FALSE),)","v":0},null,null,null,null,0,0,null,0,null,null,null,0,0,0,null,null,0,0,null,{"$f":"IF(BK184<>0,VLOOKUP(BK184,整理番号表!$T$5:$U$16,2,FALSE),)","v":0},null,{"$f":"IF(BM184<>0,VLOOKUP(BM184,整理番号表!$T$22:$U$30,2,FALSE),)","v":0},null,0,"",null,null,null,null,null,"",0,null,null,null,null,null,null,null,null,null,0,0,0,0,0,0,0,0,0,0,0,0,0,0,0,0,0,0,0,0,0,0,0,0,0,0,0,0,null,null,null,null,null,0,0,0,0,0,0,null,0,null,null,null,null,null,null,null,0,null,null,null,null,null,null,null,null,null,null,null,null,null,null,null,null,null,null,null,null,null,null,null,null,null,null,0,0,null,null,0,0,0,{"$f":"IF(OR(AND(1<=$FK184,$FK184<=3),$FK184=6),VLOOKUP($FK184,整理番号表!$B$32:$G$60,2,FALSE),)","v":0},{"$f":"IF(OR($FK184=4,$FK184=7),VLOOKUP($FK184,整理番号表!$B$32:$G$60,2,FALSE),)","v":0},{"$f":"IF($FK184=5,VLOOKUP($FK184,整理番号表!$B$32:$G$60,2,FALSE),)","v":0},{"$f":"IF(AND(8<=$FK184,$FK184<=13),VLOOKUP($FK184,整理番号表!$B$32:$G$60,2,FALSE),)","v":0},0,0,{"$f":"IF(AND(FE184<>1,$FP184=1,SUM($FQ184:FQ184)=0,$FF184=1,$FI184>=2),1,)","v":0},{"$f":"IF(AND(FE184<>1,$FP184=1,SUM($FQ184:FR184)=0,OR(AND($FF184=1,$FI184>0),$FI184>=4)),1,)","v":0},{"$f":"IF(AND(FE184<>1,$FP184=1,SUM($FQ184:FS184)=0,OR($FF184=1,$FI184>=2)),1,)","v":0},{"$f":"IF(AND(FE184<>1,$FP184=1,SUM($FQ184:FT184)=0,$FI184>0),1,)","v":0},0,0,{"$f":"IF(AND(FE184<>1,$FP184=2,SUM($FW184:FW184)=0,$FF184=1,$FJ184>=0.1),1,)","v":0},{"$f":"IF(AND(FE184<>1,$FP184=2,SUM($FW184:FX184)=0,OR(AND($FF184=1,$FI184>0),$FJ184>=0.2)),1,)","v":0},{"$f":"IF(AND(FE184<>1,$FP184=2,SUM($FW184:FY184)=0,OR($FF184=1,$FJ184>=0.1)),1,)","v":0},{"$f":"IF(AND(FE184<>1,$FP184=2,SUM($FW184:FZ184)=0,$FI184>0),1,)","v":0},0,{"$f":"IF(AND(FE184<>1,$FP184=3,SUM($GB184:GB184)=0,AND($FF184=1,$FJ184>=0.05)),1,)","v":0},{"$f":"IF(AND(FE184<>1,$FP184=3,SUM($GB184:GC184)=0,OR(AND($FF184=1,$FI184>0),$FJ184>=0.1)),1,)","v":0},{"$f":"IF(AND(FE184<>1,$FP184=3,SUM($GB184:GD184)=0,OR($FF184=1,$FJ184>=0.05)),1,)","v":0},{"$f":"IF(AND(FE184<>1,$FP184=3,SUM($GB184:GE184)=0,$FI184>0),1,)","v":0},0,null,0,0,0,0,0,0,0,0,0,0,0,0,0,0,0,0,0,0,0,0,0,0,0,0,0,0,0,0,0,0,0,0,0,0,0,0,0,0,0,0,0,0,0,0,0,0,0,0,0,0,0,0,0,0,0,0,0,0,0,0,0,0,0,0,0,0,0,0,0,0,0,0,0,0,0,0,0,0,0,"","","","","","","","","","","","","","","","○",0,0,0,0,0,0,0,"○",0,0,0,"○","○",null,0,0]
[0,0,0,0,0,0,0,0,0,0,174,null,null,null,null,{"$f":"IF(O186<>\"\",VLOOKUP(O186,整理番号表!$Z$17:$AA$20,2,FALSE),)","v":0},0,null,null,null,null,null,{"$f":"IF(V186<>0,VLOOKUP(V186,整理番号表!$B$6:$L$13,2,FALSE),)","v":0},0,{"$f":"IF(X186<>0,VLOOKUP(X186,整理番号表!$B$16:$C$18,2,FALSE),)","v":0},null,{"$f":"IF(Z186<>0,VLOOKUP(Z186,整理番号表!$B$22:$C$29,2,FALSE),)","v":0},null,null,{"$f":"IF(AC186<>0,VLOOKUP(AC186,整理番号表!$B$32:$G$60,2,FALSE),)","v":0},null,{"$f":"IF(AE186<>0,VLOOKUP(AE186,整理番号表!$P$5:$R$39,2,FALSE),)","v":0},null,0,null,null,{"$f":"IF(AJ186<>\"\",VLOOKUP(AJ186,整理番号表!$Z$6:$AA$14,2,FALSE),\"\")","v":""},0,null,null,null,null,null,{"$f":"IF(AQ186<>0,VLOOKUP(AQ186,整理番号表!$P$43:$Q$49,2,FALSE),)","v":0},null,null,null,null,0,0,null,0,null,null,null,0,0,0,null,null,0,0,null,{"$f":"IF(BK186<>0,VLOOKUP(BK186,整理番号表!$T$5:$U$16,2,FALSE),)","v":0},null,{"$f":"IF(BM186<>0,VLOOKUP(BM186,整理番号表!$T$22:$U$30,2,FALSE),)","v":0},null,0,"",null,null,null,null,null,"",0,null,null,null,null,null,null,null,null,null,0,0,0,0,0,0,0,0,0,0,0,0,0,0,0,0,0,0,0,0,0,0,0,0,0,0,0,0,null,null,null,null,null,0,0,0,0,0,0,null,0,null,null,null,null,null,null,null,0,null,null,null,null,null,null,null,null,null,null,null,null,null,null,null,null,null,null,null,null,null,null,null,null,null,null,0,0,null,null,0,0,0,{"$f":"IF(OR(AND(1<=$FK186,$FK186<=3),$FK186=6),VLOOKUP($FK186,整理番号表!$B$32:$G$60,2,FALSE),)","v":0},{"$f":"IF(OR($FK186=4,$FK186=7),VLOOKUP($FK186,整理番号表!$B$32:$G$60,2,FALSE),)","v":0},{"$f":"IF($FK186=5,VLOOKUP($FK186,整理番号表!$B$32:$G$60,2,FALSE),)","v":0},{"$f":"IF(AND(8<=$FK186,$FK186<=13),VLOOKUP($FK186,整理番号表!$B$32:$G$60,2,FALSE),)","v":0},0,0,{"$f":"IF(AND(FE186<>1,$FP186=1,SUM($FQ186:FQ186)=0,$FF186=1,$FI186>=2),1,)","v":0},{"$f":"IF(AND(FE186<>1,$FP186=1,SUM($FQ186:FR186)=0,OR(AND($FF186=1,$FI186>0),$FI186>=4)),1,)","v":0},{"$f":"IF(AND(FE186<>1,$FP186=1,SUM($FQ186:FS186)=0,OR($FF186=1,$FI186>=2)),1,)","v":0},{"$f":"IF(AND(FE186<>1,$FP186=1,SUM($FQ186:FT186)=0,$FI186>0),1,)","v":0},0,0,{"$f":"IF(AND(FE186<>1,$FP186=2,SUM($FW186:FW186)=0,$FF186=1,$FJ186>=0.1),1,)","v":0},{"$f":"IF(AND(FE186<>1,$FP186=2,SUM($FW186:FX186)=0,OR(AND($FF186=1,$FI186>0),$FJ186>=0.2)),1,)","v":0},{"$f":"IF(AND(FE186<>1,$FP186=2,SUM($FW186:FY186)=0,OR($FF186=1,$FJ186>=0.1)),1,)","v":0},{"$f":"IF(AND(FE186<>1,$FP186=2,SUM($FW186:FZ186)=0,$FI186>0),1,)","v":0},0,{"$f":"IF(AND(FE186<>1,$FP186=3,SUM($GB186:GB186)=0,AND($FF186=1,$FJ186>=0.05)),1,)","v":0},{"$f":"IF(AND(FE186<>1,$FP186=3,SUM($GB186:GC186)=0,OR(AND($FF186=1,$FI186>0),$FJ186>=0.1)),1,)","v":0},{"$f":"IF(AND(FE186<>1,$FP186=3,SUM($GB186:GD186)=0,OR($FF186=1,$FJ186>=0.05)),1,)","v":0},{"$f":"IF(AND(FE186<>1,$FP186=3,SUM($GB186:GE186)=0,$FI186>0),1,)","v":0},0,null,0,0,0,0,0,0,0,0,0,0,0,0,0,0,0,0,0,0,0,0,0,0,0,0,0,0,0,0,0,0,0,0,0,0,0,0,0,0,0,0,0,0,0,0,0,0,0,0,0,0,0,0,0,0,0,0,0,0,0,0,0,0,0,0,0,0,0,0,0,0,0,0,0,0,0,0,0,0,0,"","","","","","","","","","","","","","","","○",0,0,0,0,0,0,0,"○",0,0,0,"○","○",null,0,0]
[0,0,0,0,0,0,0,0,0,0,175,null,null,null,null,{"$f":"IF(O187<>\"\",VLOOKUP(O187,整理番号表!$Z$17:$AA$20,2,FALSE),)","v":0},0,null,null,null,null,null,{"$f":"IF(V187<>0,VLOOKUP(V187,整理番号表!$B$6:$L$13,2,FALSE),)","v":0},0,{"$f":"IF(X187<>0,VLOOKUP(X187,整理番号表!$B$16:$C$18,2,FALSE),)","v":0},null,{"$f":"IF(Z187<>0,VLOOKUP(Z187,整理番号表!$B$22:$C$29,2,FALSE),)","v":0},null,null,{"$f":"IF(AC187<>0,VLOOKUP(AC187,整理番号表!$B$32:$G$60,2,FALSE),)","v":0},null,{"$f":"IF(AE187<>0,VLOOKUP(AE187,整理番号表!$P$5:$R$39,2,FALSE),)","v":0},null,0,null,null,{"$f":"IF(AJ187<>\"\",VLOOKUP(AJ187,整理番号表!$Z$6:$AA$14,2,FALSE),\"\")","v":""},0,null,null,null,null,null,{"$f":"IF(AQ187<>0,VLOOKUP(AQ187,整理番号表!$P$43:$Q$49,2,FALSE),)","v":0},null,null,null,null,0,0,null,0,null,null,null,0,0,0,null,null,0,0,null,{"$f":"IF(BK187<>0,VLOOKUP(BK187,整理番号表!$T$5:$U$16,2,FALSE),)","v":0},null,{"$f":"IF(BM187<>0,VLOOKUP(BM187,整理番号表!$T$22:$U$30,2,FALSE),)","v":0},null,0,"",null,null,null,null,null,"",0,null,null,null,null,null,null,null,null,null,0,0,0,0,0,0,0,0,0,0,0,0,0,0,0,0,0,0,0,0,0,0,0,0,0,0,0,0,null,null,null,null,null,0,0,0,0,0,0,null,0,null,null,null,null,null,null,null,0,null,null,null,null,null,null,null,null,null,null,null,null,null,null,null,null,null,null,null,null,null,null,null,null,null,null,0,0,null,null,0,0,0,{"$f":"IF(OR(AND(1<=$FK187,$FK187<=3),$FK187=6),VLOOKUP($FK187,整理番号表!$B$32:$G$60,2,FALSE),)","v":0},{"$f":"IF(OR($FK187=4,$FK187=7),VLOOKUP($FK187,整理番号表!$B$32:$G$60,2,FALSE),)","v":0},{"$f":"IF($FK187=5,VLOOKUP($FK187,整理番号表!$B$32:$G$60,2,FALSE),)","v":0},{"$f":"IF(AND(8<=$FK187,$FK187<=13),VLOOKUP($FK187,整理番号表!$B$32:$G$60,2,FALSE),)","v":0},0,0,{"$f":"IF(AND(FE187<>1,$FP187=1,SUM($FQ187:FQ187)=0,$FF187=1,$FI187>=2),1,)","v":0},{"$f":"IF(AND(FE187<>1,$FP187=1,SUM($FQ187:FR187)=0,OR(AND($FF187=1,$FI187>0),$FI187>=4)),1,)","v":0},{"$f":"IF(AND(FE187<>1,$FP187=1,SUM($FQ187:FS187)=0,OR($FF187=1,$FI187>=2)),1,)","v":0},{"$f":"IF(AND(FE187<>1,$FP187=1,SUM($FQ187:FT187)=0,$FI187>0),1,)","v":0},0,0,{"$f":"IF(AND(FE187<>1,$FP187=2,SUM($FW187:FW187)=0,$FF187=1,$FJ187>=0.1),1,)","v":0},{"$f":"IF(AND(FE187<>1,$FP187=2,SUM($FW187:FX187)=0,OR(AND($FF187=1,$FI187>0),$FJ187>=0.2)),1,)","v":0},{"$f":"IF(AND(FE187<>1,$FP187=2,SUM($FW187:FY187)=0,OR($FF187=1,$FJ187>=0.1)),1,)","v":0},{"$f":"IF(AND(FE187<>1,$FP187=2,SUM($FW187:FZ187)=0,$FI187>0),1,)","v":0},0,{"$f":"IF(AND(FE187<>1,$FP187=3,SUM($GB187:GB187)=0,AND($FF187=1,$FJ187>=0.05)),1,)","v":0},{"$f":"IF(AND(FE187<>1,$FP187=3,SUM($GB187:GC187)=0,OR(AND($FF187=1,$FI187>0),$FJ187>=0.1)),1,)","v":0},{"$f":"IF(AND(FE187<>1,$FP187=3,SUM($GB187:GD187)=0,OR($FF187=1,$FJ187>=0.05)),1,)","v":0},{"$f":"IF(AND(FE187<>1,$FP187=3,SUM($GB187:GE187)=0,$FI187>0),1,)","v":0},0,null,0,0,0,0,0,0,0,0,0,0,0,0,0,0,0,0,0,0,0,0,0,0,0,0,0,0,0,0,0,0,0,0,0,0,0,0,0,0,0,0,0,0,0,0,0,0,0,0,0,0,0,0,0,0,0,0,0,0,0,0,0,0,0,0,0,0,0,0,0,0,0,0,0,0,0,0,0,0,0,"","","","","","","","","","","","","","","","○",0,0,0,0,0,0,0,"○",0,0,0,"○","○",null,0,0]
[0,0,0,0,0,0,0,0,0,0,177,null,null,null,null,{"$f":"IF(O189<>\"\",VLOOKUP(O189,整理番号表!$Z$17:$AA$20,2,FALSE),)","v":0},0,null,null,null,null,null,{"$f":"IF(V189<>0,VLOOKUP(V189,整理番号表!$B$6:$L$13,2,FALSE),)","v":0},0,{"$f":"IF(X189<>0,VLOOKUP(X189,整理番号表!$B$16:$C$18,2,FALSE),)","v":0},null,{"$f":"IF(Z189<>0,VLOOKUP(Z189,整理番号表!$B$22:$C$29,2,FALSE),)","v":0},null,null,{"$f":"IF(AC189<>0,VLOOKUP(AC189,整理番号表!$B$32:$G$60,2,FALSE),)","v":0},null,{"$f":"IF(AE189<>0,VLOOKUP(AE189,整理番号表!$P$5:$R$39,2,FALSE),)","v":0},null,0,null,null,{"$f":"IF(AJ189<>\"\",VLOOKUP(AJ189,整理番号表!$Z$6:$AA$14,2,FALSE),\"\")","v":""},0,null,null,null,null,null,{"$f":"IF(AQ189<>0,VLOOKUP(AQ189,整理番号表!$P$43:$Q$49,2,FALSE),)","v":0},null,null,null,null,0,0,null,0,null,null,null,0,0,0,null,null,0,0,null,{"$f":"IF(BK189<>0,VLOOKUP(BK189,整理番号表!$T$5:$U$16,2,FALSE),)","v":0},null,{"$f":"IF(BM189<>0,VLOOKUP(BM189,整理番号表!$T$22:$U$30,2,FALSE),)","v":0},null,0,"",null,null,null,null,null,"",0,null,null,null,null,null,null,null,null,null,0,0,0,0,0,0,0,0,0,0,0,0,0,0,0,0,0,0,0,0,0,0,0,0,0,0,0,0,null,null,null,null,null,0,0,0,0,0,0,null,0,null,null,null,null,null,null,null,0,null,null,null,null,null,null,null,null,null,null,null,null,null,null,null,null,null,null,null,null,null,null,null,null,null,null,0,0,null,null,0,0,0,{"$f":"IF(OR(AND(1<=$FK189,$FK189<=3),$FK189=6),VLOOKUP($FK189,整理番号表!$B$32:$G$60,2,FALSE),)","v":0},{"$f":"IF(OR($FK189=4,$FK189=7),VLOOKUP($FK189,整理番号表!$B$32:$G$60,2,FALSE),)","v":0},{"$f":"IF($FK189=5,VLOOKUP($FK189,整理番号表!$B$32:$G$60,2,FALSE),)","v":0},{"$f":"IF(AND(8<=$FK189,$FK189<=13),VLOOKUP($FK189,整理番号表!$B$32:$G$60,2,FALSE),)","v":0},0,0,{"$f":"IF(AND(FE189<>1,$FP189=1,SUM($FQ189:FQ189)=0,$FF189=1,$FI189>=2),1,)","v":0},{"$f":"IF(AND(FE189<>1,$FP189=1,SUM($FQ189:FR189)=0,OR(AND($FF189=1,$FI189>0),$FI189>=4)),1,)","v":0},{"$f":"IF(AND(FE189<>1,$FP189=1,SUM($FQ189:FS189)=0,OR($FF189=1,$FI189>=2)),1,)","v":0},{"$f":"IF(AND(FE189<>1,$FP189=1,SUM($FQ189:FT189)=0,$FI189>0),1,)","v":0},0,0,{"$f":"IF(AND(FE189<>1,$FP189=2,SUM($FW189:FW189)=0,$FF189=1,$FJ189>=0.1),1,)","v":0},{"$f":"IF(AND(FE189<>1,$FP189=2,SUM($FW189:FX189)=0,OR(AND($FF189=1,$FI189>0),$FJ189>=0.2)),1,)","v":0},{"$f":"IF(AND(FE189<>1,$FP189=2,SUM($FW189:FY189)=0,OR($FF189=1,$FJ189>=0.1)),1,)","v":0},{"$f":"IF(AND(FE189<>1,$FP189=2,SUM($FW189:FZ189)=0,$FI189>0),1,)","v":0},0,{"$f":"IF(AND(FE189<>1,$FP189=3,SUM($GB189:GB189)=0,AND($FF189=1,$FJ189>=0.05)),1,)","v":0},{"$f":"IF(AND(FE189<>1,$FP189=3,SUM($GB189:GC189)=0,OR(AND($FF189=1,$FI189>0),$FJ189>=0.1)),1,)","v":0},{"$f":"IF(AND(FE189<>1,$FP189=3,SUM($GB189:GD189)=0,OR($FF189=1,$FJ189>=0.05)),1,)","v":0},{"$f":"IF(AND(FE189<>1,$FP189=3,SUM($GB189:GE189)=0,$FI189>0),1,)","v":0},0,null,0,0,0,0,0,0,0,0,0,0,0,0,0,0,0,0,0,0,0,0,0,0,0,0,0,0,0,0,0,0,0,0,0,0,0,0,0,0,0,0,0,0,0,0,0,0,0,0,0,0,0,0,0,0,0,0,0,0,0,0,0,0,0,0,0,0,0,0,0,0,0,0,0,0,0,0,0,0,0,"","","","","","","","","","","","","","","","○",0,0,0,0,0,0,0,"○",0,0,0,"○","○",null,0,0]
[0,0,0,0,0,0,0,0,0,0,178,null,null,null,null,{"$f":"IF(O190<>\"\",VLOOKUP(O190,整理番号表!$Z$17:$AA$20,2,FALSE),)","v":0},0,null,null,null,null,null,{"$f":"IF(V190<>0,VLOOKUP(V190,整理番号表!$B$6:$L$13,2,FALSE),)","v":0},0,{"$f":"IF(X190<>0,VLOOKUP(X190,整理番号表!$B$16:$C$18,2,FALSE),)","v":0},null,{"$f":"IF(Z190<>0,VLOOKUP(Z190,整理番号表!$B$22:$C$29,2,FALSE),)","v":0},null,null,{"$f":"IF(AC190<>0,VLOOKUP(AC190,整理番号表!$B$32:$G$60,2,FALSE),)","v":0},null,{"$f":"IF(AE190<>0,VLOOKUP(AE190,整理番号表!$P$5:$R$39,2,FALSE),)","v":0},null,0,null,null,{"$f":"IF(AJ190<>\"\",VLOOKUP(AJ190,整理番号表!$Z$6:$AA$14,2,FALSE),\"\")","v":""},0,null,null,null,null,null,{"$f":"IF(AQ190<>0,VLOOKUP(AQ190,整理番号表!$P$43:$Q$49,2,FALSE),)","v":0},null,null,null,null,0,0,null,0,null,null,null,0,0,0,null,null,0,0,null,{"$f":"IF(BK190<>0,VLOOKUP(BK190,整理番号表!$T$5:$U$16,2,FALSE),)","v":0},null,{"$f":"IF(BM190<>0,VLOOKUP(BM190,整理番号表!$T$22:$U$30,2,FALSE),)","v":0},null,0,"",null,null,null,null,null,"",0,null,null,null,null,null,null,null,null,null,0,0,0,0,0,0,0,0,0,0,0,0,0,0,0,0,0,0,0,0,0,0,0,0,0,0,0,0,null,null,null,null,null,0,0,0,0,0,0,null,0,null,null,null,null,null,null,null,0,null,null,null,null,null,null,null,null,null,null,null,null,null,null,null,null,null,null,null,null,null,null,null,null,null,null,0,0,null,null,0,0,0,{"$f":"IF(OR(AND(1<=$FK190,$FK190<=3),$FK190=6),VLOOKUP($FK190,整理番号表!$B$32:$G$60,2,FALSE),)","v":0},{"$f":"IF(OR($FK190=4,$FK190=7),VLOOKUP($FK190,整理番号表!$B$32:$G$60,2,FALSE),)","v":0},{"$f":"IF($FK190=5,VLOOKUP($FK190,整理番号表!$B$32:$G$60,2,FALSE),)","v":0},{"$f":"IF(AND(8<=$FK190,$FK190<=13),VLOOKUP($FK190,整理番号表!$B$32:$G$60,2,FALSE),)","v":0},0,0,{"$f":"IF(AND(FE190<>1,$FP190=1,SUM($FQ190:FQ190)=0,$FF190=1,$FI190>=2),1,)","v":0},{"$f":"IF(AND(FE190<>1,$FP190=1,SUM($FQ190:FR190)=0,OR(AND($FF190=1,$FI190>0),$FI190>=4)),1,)","v":0},{"$f":"IF(AND(FE190<>1,$FP190=1,SUM($FQ190:FS190)=0,OR($FF190=1,$FI190>=2)),1,)","v":0},{"$f":"IF(AND(FE190<>1,$FP190=1,SUM($FQ190:FT190)=0,$FI190>0),1,)","v":0},0,0,{"$f":"IF(AND(FE190<>1,$FP190=2,SUM($FW190:FW190)=0,$FF190=1,$FJ190>=0.1),1,)","v":0},{"$f":"IF(AND(FE190<>1,$FP190=2,SUM($FW190:FX190)=0,OR(AND($FF190=1,$FI190>0),$FJ190>=0.2)),1,)","v":0},{"$f":"IF(AND(FE190<>1,$FP190=2,SUM($FW190:FY190)=0,OR($FF190=1,$FJ190>=0.1)),1,)","v":0},{"$f":"IF(AND(FE190<>1,$FP190=2,SUM($FW190:FZ190)=0,$FI190>0),1,)","v":0},0,{"$f":"IF(AND(FE190<>1,$FP190=3,SUM($GB190:GB190)=0,AND($FF190=1,$FJ190>=0.05)),1,)","v":0},{"$f":"IF(AND(FE190<>1,$FP190=3,SUM($GB190:GC190)=0,OR(AND($FF190=1,$FI190>0),$FJ190>=0.1)),1,)","v":0},{"$f":"IF(AND(FE190<>1,$FP190=3,SUM($GB190:GD190)=0,OR($FF190=1,$FJ190>=0.05)),1,)","v":0},{"$f":"IF(AND(FE190<>1,$FP190=3,SUM($GB190:GE190)=0,$FI190>0),1,)","v":0},0,null,0,0,0,0,0,0,0,0,0,0,0,0,0,0,0,0,0,0,0,0,0,0,0,0,0,0,0,0,0,0,0,0,0,0,0,0,0,0,0,0,0,0,0,0,0,0,0,0,0,0,0,0,0,0,0,0,0,0,0,0,0,0,0,0,0,0,0,0,0,0,0,0,0,0,0,0,0,0,0,"","","","","","","","","","","","","","","","○",0,0,0,0,0,0,0,"○",0,0,0,"○","○",null,0,0]
[0,0,0,0,0,0,0,0,0,0,180,null,null,null,null,{"$f":"IF(O192<>\"\",VLOOKUP(O192,整理番号表!$Z$17:$AA$20,2,FALSE),)","v":0},0,null,null,null,null,null,{"$f":"IF(V192<>0,VLOOKUP(V192,整理番号表!$B$6:$L$13,2,FALSE),)","v":0},0,{"$f":"IF(X192<>0,VLOOKUP(X192,整理番号表!$B$16:$C$18,2,FALSE),)","v":0},null,{"$f":"IF(Z192<>0,VLOOKUP(Z192,整理番号表!$B$22:$C$29,2,FALSE),)","v":0},null,null,{"$f":"IF(AC192<>0,VLOOKUP(AC192,整理番号表!$B$32:$G$60,2,FALSE),)","v":0},null,{"$f":"IF(AE192<>0,VLOOKUP(AE192,整理番号表!$P$5:$R$39,2,FALSE),)","v":0},null,0,null,null,{"$f":"IF(AJ192<>\"\",VLOOKUP(AJ192,整理番号表!$Z$6:$AA$14,2,FALSE),\"\")","v":""},0,null,null,null,null,null,{"$f":"IF(AQ192<>0,VLOOKUP(AQ192,整理番号表!$P$43:$Q$49,2,FALSE),)","v":0},null,null,null,null,0,0,null,0,null,null,null,0,0,0,null,null,0,0,null,{"$f":"IF(BK192<>0,VLOOKUP(BK192,整理番号表!$T$5:$U$16,2,FALSE),)","v":0},null,{"$f":"IF(BM192<>0,VLOOKUP(BM192,整理番号表!$T$22:$U$30,2,FALSE),)","v":0},null,0,"",null,null,null,null,null,"",0,null,null,null,null,null,null,null,null,null,0,0,0,0,0,0,0,0,0,0,0,0,0,0,0,0,0,0,0,0,0,0,0,0,0,0,0,0,null,null,null,null,null,0,0,0,0,0,0,null,0,null,null,null,null,null,null,null,0,null,null,null,null,null,null,null,null,null,null,null,null,null,null,null,null,null,null,null,null,null,null,null,null,null,null,0,0,null,null,0,0,0,{"$f":"IF(OR(AND(1<=$FK192,$FK192<=3),$FK192=6),VLOOKUP($FK192,整理番号表!$B$32:$G$60,2,FALSE),)","v":0},{"$f":"IF(OR($FK192=4,$FK192=7),VLOOKUP($FK192,整理番号表!$B$32:$G$60,2,FALSE),)","v":0},{"$f":"IF($FK192=5,VLOOKUP($FK192,整理番号表!$B$32:$G$60,2,FALSE),)","v":0},{"$f":"IF(AND(8<=$FK192,$FK192<=13),VLOOKUP($FK192,整理番号表!$B$32:$G$60,2,FALSE),)","v":0},0,0,{"$f":"IF(AND(FE192<>1,$FP192=1,SUM($FQ192:FQ192)=0,$FF192=1,$FI192>=2),1,)","v":0},{"$f":"IF(AND(FE192<>1,$FP192=1,SUM($FQ192:FR192)=0,OR(AND($FF192=1,$FI192>0),$FI192>=4)),1,)","v":0},{"$f":"IF(AND(FE192<>1,$FP192=1,SUM($FQ192:FS192)=0,OR($FF192=1,$FI192>=2)),1,)","v":0},{"$f":"IF(AND(FE192<>1,$FP192=1,SUM($FQ192:FT192)=0,$FI192>0),1,)","v":0},0,0,{"$f":"IF(AND(FE192<>1,$FP192=2,SUM($FW192:FW192)=0,$FF192=1,$FJ192>=0.1),1,)","v":0},{"$f":"IF(AND(FE192<>1,$FP192=2,SUM($FW192:FX192)=0,OR(AND($FF192=1,$FI192>0),$FJ192>=0.2)),1,)","v":0},{"$f":"IF(AND(FE192<>1,$FP192=2,SUM($FW192:FY192)=0,OR($FF192=1,$FJ192>=0.1)),1,)","v":0},{"$f":"IF(AND(FE192<>1,$FP192=2,SUM($FW192:FZ192)=0,$FI192>0),1,)","v":0},0,{"$f":"IF(AND(FE192<>1,$FP192=3,SUM($GB192:GB192)=0,AND($FF192=1,$FJ192>=0.05)),1,)","v":0},{"$f":"IF(AND(FE192<>1,$FP192=3,SUM($GB192:GC192)=0,OR(AND($FF192=1,$FI192>0),$FJ192>=0.1)),1,)","v":0},{"$f":"IF(AND(FE192<>1,$FP192=3,SUM($GB192:GD192)=0,OR($FF192=1,$FJ192>=0.05)),1,)","v":0},{"$f":"IF(AND(FE192<>1,$FP192=3,SUM($GB192:GE192)=0,$FI192>0),1,)","v":0},0,null,0,0,0,0,0,0,0,0,0,0,0,0,0,0,0,0,0,0,0,0,0,0,0,0,0,0,0,0,0,0,0,0,0,0,0,0,0,0,0,0,0,0,0,0,0,0,0,0,0,0,0,0,0,0,0,0,0,0,0,0,0,0,0,0,0,0,0,0,0,0,0,0,0,0,0,0,0,0,0,"","","","","","","","","","","","","","","","○",0,0,0,0,0,0,0,"○",0,0,0,"○","○",null,0,0]
[0,0,0,0,0,0,0,0,0,0,181,null,null,null,null,{"$f":"IF(O193<>\"\",VLOOKUP(O193,整理番号表!$Z$17:$AA$20,2,FALSE),)","v":0},0,null,null,null,null,null,{"$f":"IF(V193<>0,VLOOKUP(V193,整理番号表!$B$6:$L$13,2,FALSE),)","v":0},0,{"$f":"IF(X193<>0,VLOOKUP(X193,整理番号表!$B$16:$C$18,2,FALSE),)","v":0},null,{"$f":"IF(Z193<>0,VLOOKUP(Z193,整理番号表!$B$22:$C$29,2,FALSE),)","v":0},null,null,{"$f":"IF(AC193<>0,VLOOKUP(AC193,整理番号表!$B$32:$G$60,2,FALSE),)","v":0},null,{"$f":"IF(AE193<>0,VLOOKUP(AE193,整理番号表!$P$5:$R$39,2,FALSE),)","v":0},null,0,null,null,{"$f":"IF(AJ193<>\"\",VLOOKUP(AJ193,整理番号表!$Z$6:$AA$14,2,FALSE),\"\")","v":""},0,null,null,null,null,null,{"$f":"IF(AQ193<>0,VLOOKUP(AQ193,整理番号表!$P$43:$Q$49,2,FALSE),)","v":0},null,null,null,null,0,0,null,0,null,null,null,0,0,0,null,null,0,0,null,{"$f":"IF(BK193<>0,VLOOKUP(BK193,整理番号表!$T$5:$U$16,2,FALSE),)","v":0},null,{"$f":"IF(BM193<>0,VLOOKUP(BM193,整理番号表!$T$22:$U$30,2,FALSE),)","v":0},null,0,"",null,null,null,null,null,"",0,null,null,null,null,null,null,null,null,null,0,0,0,0,0,0,0,0,0,0,0,0,0,0,0,0,0,0,0,0,0,0,0,0,0,0,0,0,null,null,null,null,null,0,0,0,0,0,0,null,0,null,null,null,null,null,null,null,0,null,null,null,null,null,null,null,null,null,null,null,null,null,null,null,null,null,null,null,null,null,null,null,null,null,null,0,0,null,null,0,0,0,{"$f":"IF(OR(AND(1<=$FK193,$FK193<=3),$FK193=6),VLOOKUP($FK193,整理番号表!$B$32:$G$60,2,FALSE),)","v":0},{"$f":"IF(OR($FK193=4,$FK193=7),VLOOKUP($FK193,整理番号表!$B$32:$G$60,2,FALSE),)","v":0},{"$f":"IF($FK193=5,VLOOKUP($FK193,整理番号表!$B$32:$G$60,2,FALSE),)","v":0},{"$f":"IF(AND(8<=$FK193,$FK193<=13),VLOOKUP($FK193,整理番号表!$B$32:$G$60,2,FALSE),)","v":0},0,0,{"$f":"IF(AND(FE193<>1,$FP193=1,SUM($FQ193:FQ193)=0,$FF193=1,$FI193>=2),1,)","v":0},{"$f":"IF(AND(FE193<>1,$FP193=1,SUM($FQ193:FR193)=0,OR(AND($FF193=1,$FI193>0),$FI193>=4)),1,)","v":0},{"$f":"IF(AND(FE193<>1,$FP193=1,SUM($FQ193:FS193)=0,OR($FF193=1,$FI193>=2)),1,)","v":0},{"$f":"IF(AND(FE193<>1,$FP193=1,SUM($FQ193:FT193)=0,$FI193>0),1,)","v":0},0,0,{"$f":"IF(AND(FE193<>1,$FP193=2,SUM($FW193:FW193)=0,$FF193=1,$FJ193>=0.1),1,)","v":0},{"$f":"IF(AND(FE193<>1,$FP193=2,SUM($FW193:FX193)=0,OR(AND($FF193=1,$FI193>0),$FJ193>=0.2)),1,)","v":0},{"$f":"IF(AND(FE193<>1,$FP193=2,SUM($FW193:FY193)=0,OR($FF193=1,$FJ193>=0.1)),1,)","v":0},{"$f":"IF(AND(FE193<>1,$FP193=2,SUM($FW193:FZ193)=0,$FI193>0),1,)","v":0},0,{"$f":"IF(AND(FE193<>1,$FP193=3,SUM($GB193:GB193)=0,AND($FF193=1,$FJ193>=0.05)),1,)","v":0},{"$f":"IF(AND(FE193<>1,$FP193=3,SUM($GB193:GC193)=0,OR(AND($FF193=1,$FI193>0),$FJ193>=0.1)),1,)","v":0},{"$f":"IF(AND(FE193<>1,$FP193=3,SUM($GB193:GD193)=0,OR($FF193=1,$FJ193>=0.05)),1,)","v":0},{"$f":"IF(AND(FE193<>1,$FP193=3,SUM($GB193:GE193)=0,$FI193>0),1,)","v":0},0,null,0,0,0,0,0,0,0,0,0,0,0,0,0,0,0,0,0,0,0,0,0,0,0,0,0,0,0,0,0,0,0,0,0,0,0,0,0,0,0,0,0,0,0,0,0,0,0,0,0,0,0,0,0,0,0,0,0,0,0,0,0,0,0,0,0,0,0,0,0,0,0,0,0,0,0,0,0,0,0,"","","","","","","","","","","","","","","","○",0,0,0,0,0,0,0,"○",0,0,0,"○","○",null,0,0]
[0,0,0,0,0,0,0,0,0,0,183,null,null,null,null,{"$f":"IF(O195<>\"\",VLOOKUP(O195,整理番号表!$Z$17:$AA$20,2,FALSE),)","v":0},0,null,null,null,null,null,{"$f":"IF(V195<>0,VLOOKUP(V195,整理番号表!$B$6:$L$13,2,FALSE),)","v":0},0,{"$f":"IF(X195<>0,VLOOKUP(X195,整理番号表!$B$16:$C$18,2,FALSE),)","v":0},null,{"$f":"IF(Z195<>0,VLOOKUP(Z195,整理番号表!$B$22:$C$29,2,FALSE),)","v":0},null,null,{"$f":"IF(AC195<>0,VLOOKUP(AC195,整理番号表!$B$32:$G$60,2,FALSE),)","v":0},null,{"$f":"IF(AE195<>0,VLOOKUP(AE195,整理番号表!$P$5:$R$39,2,FALSE),)","v":0},null,0,null,null,{"$f":"IF(AJ195<>\"\",VLOOKUP(AJ195,整理番号表!$Z$6:$AA$14,2,FALSE),\"\")","v":""},0,null,null,null,null,null,{"$f":"IF(AQ195<>0,VLOOKUP(AQ195,整理番号表!$P$43:$Q$49,2,FALSE),)","v":0},null,null,null,null,0,0,null,0,null,null,null,0,0,0,null,null,0,0,null,{"$f":"IF(BK195<>0,VLOOKUP(BK195,整理番号表!$T$5:$U$16,2,FALSE),)","v":0},null,{"$f":"IF(BM195<>0,VLOOKUP(BM195,整理番号表!$T$22:$U$30,2,FALSE),)","v":0},null,0,"",null,null,null,null,null,"",0,null,null,null,null,null,null,null,null,null,0,0,0,0,0,0,0,0,0,0,0,0,0,0,0,0,0,0,0,0,0,0,0,0,0,0,0,0,null,null,null,null,null,0,0,0,0,0,0,null,0,null,null,null,null,null,null,null,0,null,null,null,null,null,null,null,null,null,null,null,null,null,null,null,null,null,null,null,null,null,null,null,null,null,null,0,0,null,null,0,0,0,{"$f":"IF(OR(AND(1<=$FK195,$FK195<=3),$FK195=6),VLOOKUP($FK195,整理番号表!$B$32:$G$60,2,FALSE),)","v":0},{"$f":"IF(OR($FK195=4,$FK195=7),VLOOKUP($FK195,整理番号表!$B$32:$G$60,2,FALSE),)","v":0},{"$f":"IF($FK195=5,VLOOKUP($FK195,整理番号表!$B$32:$G$60,2,FALSE),)","v":0},{"$f":"IF(AND(8<=$FK195,$FK195<=13),VLOOKUP($FK195,整理番号表!$B$32:$G$60,2,FALSE),)","v":0},0,0,{"$f":"IF(AND(FE195<>1,$FP195=1,SUM($FQ195:FQ195)=0,$FF195=1,$FI195>=2),1,)","v":0},{"$f":"IF(AND(FE195<>1,$FP195=1,SUM($FQ195:FR195)=0,OR(AND($FF195=1,$FI195>0),$FI195>=4)),1,)","v":0},{"$f":"IF(AND(FE195<>1,$FP195=1,SUM($FQ195:FS195)=0,OR($FF195=1,$FI195>=2)),1,)","v":0},{"$f":"IF(AND(FE195<>1,$FP195=1,SUM($FQ195:FT195)=0,$FI195>0),1,)","v":0},0,0,{"$f":"IF(AND(FE195<>1,$FP195=2,SUM($FW195:FW195)=0,$FF195=1,$FJ195>=0.1),1,)","v":0},{"$f":"IF(AND(FE195<>1,$FP195=2,SUM($FW195:FX195)=0,OR(AND($FF195=1,$FI195>0),$FJ195>=0.2)),1,)","v":0},{"$f":"IF(AND(FE195<>1,$FP195=2,SUM($FW195:FY195)=0,OR($FF195=1,$FJ195>=0.1)),1,)","v":0},{"$f":"IF(AND(FE195<>1,$FP195=2,SUM($FW195:FZ195)=0,$FI195>0),1,)","v":0},0,{"$f":"IF(AND(FE195<>1,$FP195=3,SUM($GB195:GB195)=0,AND($FF195=1,$FJ195>=0.05)),1,)","v":0},{"$f":"IF(AND(FE195<>1,$FP195=3,SUM($GB195:GC195)=0,OR(AND($FF195=1,$FI195>0),$FJ195>=0.1)),1,)","v":0},{"$f":"IF(AND(FE195<>1,$FP195=3,SUM($GB195:GD195)=0,OR($FF195=1,$FJ195>=0.05)),1,)","v":0},{"$f":"IF(AND(FE195<>1,$FP195=3,SUM($GB195:GE195)=0,$FI195>0),1,)","v":0},0,null,0,0,0,0,0,0,0,0,0,0,0,0,0,0,0,0,0,0,0,0,0,0,0,0,0,0,0,0,0,0,0,0,0,0,0,0,0,0,0,0,0,0,0,0,0,0,0,0,0,0,0,0,0,0,0,0,0,0,0,0,0,0,0,0,0,0,0,0,0,0,0,0,0,0,0,0,0,0,0,"","","","","","","","","","","","","","","","○",0,0,0,0,0,0,0,"○",0,0,0,"○","○",null,0,0]
[0,0,0,0,0,0,0,0,0,0,184,null,null,null,null,{"$f":"IF(O196<>\"\",VLOOKUP(O196,整理番号表!$Z$17:$AA$20,2,FALSE),)","v":0},0,null,null,null,null,null,{"$f":"IF(V196<>0,VLOOKUP(V196,整理番号表!$B$6:$L$13,2,FALSE),)","v":0},0,{"$f":"IF(X196<>0,VLOOKUP(X196,整理番号表!$B$16:$C$18,2,FALSE),)","v":0},null,{"$f":"IF(Z196<>0,VLOOKUP(Z196,整理番号表!$B$22:$C$29,2,FALSE),)","v":0},null,null,{"$f":"IF(AC196<>0,VLOOKUP(AC196,整理番号表!$B$32:$G$60,2,FALSE),)","v":0},null,{"$f":"IF(AE196<>0,VLOOKUP(AE196,整理番号表!$P$5:$R$39,2,FALSE),)","v":0},null,0,null,null,{"$f":"IF(AJ196<>\"\",VLOOKUP(AJ196,整理番号表!$Z$6:$AA$14,2,FALSE),\"\")","v":""},0,null,null,null,null,null,{"$f":"IF(AQ196<>0,VLOOKUP(AQ196,整理番号表!$P$43:$Q$49,2,FALSE),)","v":0},null,null,null,null,0,0,null,0,null,null,null,0,0,0,null,null,0,0,null,{"$f":"IF(BK196<>0,VLOOKUP(BK196,整理番号表!$T$5:$U$16,2,FALSE),)","v":0},null,{"$f":"IF(BM196<>0,VLOOKUP(BM196,整理番号表!$T$22:$U$30,2,FALSE),)","v":0},null,0,"",null,null,null,null,null,"",0,null,null,null,null,null,null,null,null,null,0,0,0,0,0,0,0,0,0,0,0,0,0,0,0,0,0,0,0,0,0,0,0,0,0,0,0,0,null,null,null,null,null,0,0,0,0,0,0,null,0,null,null,null,null,null,null,null,0,null,null,null,null,null,null,null,null,null,null,null,null,null,null,null,null,null,null,null,null,null,null,null,null,null,null,0,0,null,null,0,0,0,{"$f":"IF(OR(AND(1<=$FK196,$FK196<=3),$FK196=6),VLOOKUP($FK196,整理番号表!$B$32:$G$60,2,FALSE),)","v":0},{"$f":"IF(OR($FK196=4,$FK196=7),VLOOKUP($FK196,整理番号表!$B$32:$G$60,2,FALSE),)","v":0},{"$f":"IF($FK196=5,VLOOKUP($FK196,整理番号表!$B$32:$G$60,2,FALSE),)","v":0},{"$f":"IF(AND(8<=$FK196,$FK196<=13),VLOOKUP($FK196,整理番号表!$B$32:$G$60,2,FALSE),)","v":0},0,0,{"$f":"IF(AND(FE196<>1,$FP196=1,SUM($FQ196:FQ196)=0,$FF196=1,$FI196>=2),1,)","v":0},{"$f":"IF(AND(FE196<>1,$FP196=1,SUM($FQ196:FR196)=0,OR(AND($FF196=1,$FI196>0),$FI196>=4)),1,)","v":0},{"$f":"IF(AND(FE196<>1,$FP196=1,SUM($FQ196:FS196)=0,OR($FF196=1,$FI196>=2)),1,)","v":0},{"$f":"IF(AND(FE196<>1,$FP196=1,SUM($FQ196:FT196)=0,$FI196>0),1,)","v":0},0,0,{"$f":"IF(AND(FE196<>1,$FP196=2,SUM($FW196:FW196)=0,$FF196=1,$FJ196>=0.1),1,)","v":0},{"$f":"IF(AND(FE196<>1,$FP196=2,SUM($FW196:FX196)=0,OR(AND($FF196=1,$FI196>0),$FJ196>=0.2)),1,)","v":0},{"$f":"IF(AND(FE196<>1,$FP196=2,SUM($FW196:FY196)=0,OR($FF196=1,$FJ196>=0.1)),1,)","v":0},{"$f":"IF(AND(FE196<>1,$FP196=2,SUM($FW196:FZ196)=0,$FI196>0),1,)","v":0},0,{"$f":"IF(AND(FE196<>1,$FP196=3,SUM($GB196:GB196)=0,AND($FF196=1,$FJ196>=0.05)),1,)","v":0},{"$f":"IF(AND(FE196<>1,$FP196=3,SUM($GB196:GC196)=0,OR(AND($FF196=1,$FI196>0),$FJ196>=0.1)),1,)","v":0},{"$f":"IF(AND(FE196<>1,$FP196=3,SUM($GB196:GD196)=0,OR($FF196=1,$FJ196>=0.05)),1,)","v":0},{"$f":"IF(AND(FE196<>1,$FP196=3,SUM($GB196:GE196)=0,$FI196>0),1,)","v":0},0,null,0,0,0,0,0,0,0,0,0,0,0,0,0,0,0,0,0,0,0,0,0,0,0,0,0,0,0,0,0,0,0,0,0,0,0,0,0,0,0,0,0,0,0,0,0,0,0,0,0,0,0,0,0,0,0,0,0,0,0,0,0,0,0,0,0,0,0,0,0,0,0,0,0,0,0,0,0,0,0,"","","","","","","","","","","","","","","","○",0,0,0,0,0,0,0,"○",0,0,0,"○","○",null,0,0]
[0,0,0,0,0,0,0,0,0,0,186,null,null,null,null,{"$f":"IF(O198<>\"\",VLOOKUP(O198,整理番号表!$Z$17:$AA$20,2,FALSE),)","v":0},0,null,null,null,null,null,{"$f":"IF(V198<>0,VLOOKUP(V198,整理番号表!$B$6:$L$13,2,FALSE),)","v":0},0,{"$f":"IF(X198<>0,VLOOKUP(X198,整理番号表!$B$16:$C$18,2,FALSE),)","v":0},null,{"$f":"IF(Z198<>0,VLOOKUP(Z198,整理番号表!$B$22:$C$29,2,FALSE),)","v":0},null,null,{"$f":"IF(AC198<>0,VLOOKUP(AC198,整理番号表!$B$32:$G$60,2,FALSE),)","v":0},null,{"$f":"IF(AE198<>0,VLOOKUP(AE198,整理番号表!$P$5:$R$39,2,FALSE),)","v":0},null,0,null,null,{"$f":"IF(AJ198<>\"\",VLOOKUP(AJ198,整理番号表!$Z$6:$AA$14,2,FALSE),\"\")","v":""},0,null,null,null,null,null,{"$f":"IF(AQ198<>0,VLOOKUP(AQ198,整理番号表!$P$43:$Q$49,2,FALSE),)","v":0},null,null,null,null,0,0,null,0,null,null,null,0,0,0,null,null,0,0,null,{"$f":"IF(BK198<>0,VLOOKUP(BK198,整理番号表!$T$5:$U$16,2,FALSE),)","v":0},null,{"$f":"IF(BM198<>0,VLOOKUP(BM198,整理番号表!$T$22:$U$30,2,FALSE),)","v":0},null,0,"",null,null,null,null,null,"",0,null,null,null,null,null,null,null,null,null,0,0,0,0,0,0,0,0,0,0,0,0,0,0,0,0,0,0,0,0,0,0,0,0,0,0,0,0,null,null,null,null,null,0,0,0,0,0,0,null,0,null,null,null,null,null,null,null,0,null,null,null,null,null,null,null,null,null,null,null,null,null,null,null,null,null,null,null,null,null,null,null,null,null,null,0,0,null,null,0,0,0,{"$f":"IF(OR(AND(1<=$FK198,$FK198<=3),$FK198=6),VLOOKUP($FK198,整理番号表!$B$32:$G$60,2,FALSE),)","v":0},{"$f":"IF(OR($FK198=4,$FK198=7),VLOOKUP($FK198,整理番号表!$B$32:$G$60,2,FALSE),)","v":0},{"$f":"IF($FK198=5,VLOOKUP($FK198,整理番号表!$B$32:$G$60,2,FALSE),)","v":0},{"$f":"IF(AND(8<=$FK198,$FK198<=13),VLOOKUP($FK198,整理番号表!$B$32:$G$60,2,FALSE),)","v":0},0,0,{"$f":"IF(AND(FE198<>1,$FP198=1,SUM($FQ198:FQ198)=0,$FF198=1,$FI198>=2),1,)","v":0},{"$f":"IF(AND(FE198<>1,$FP198=1,SUM($FQ198:FR198)=0,OR(AND($FF198=1,$FI198>0),$FI198>=4)),1,)","v":0},{"$f":"IF(AND(FE198<>1,$FP198=1,SUM($FQ198:FS198)=0,OR($FF198=1,$FI198>=2)),1,)","v":0},{"$f":"IF(AND(FE198<>1,$FP198=1,SUM($FQ198:FT198)=0,$FI198>0),1,)","v":0},0,0,{"$f":"IF(AND(FE198<>1,$FP198=2,SUM($FW198:FW198)=0,$FF198=1,$FJ198>=0.1),1,)","v":0},{"$f":"IF(AND(FE198<>1,$FP198=2,SUM($FW198:FX198)=0,OR(AND($FF198=1,$FI198>0),$FJ198>=0.2)),1,)","v":0},{"$f":"IF(AND(FE198<>1,$FP198=2,SUM($FW198:FY198)=0,OR($FF198=1,$FJ198>=0.1)),1,)","v":0},{"$f":"IF(AND(FE198<>1,$FP198=2,SUM($FW198:FZ198)=0,$FI198>0),1,)","v":0},0,{"$f":"IF(AND(FE198<>1,$FP198=3,SUM($GB198:GB198)=0,AND($FF198=1,$FJ198>=0.05)),1,)","v":0},{"$f":"IF(AND(FE198<>1,$FP198=3,SUM($GB198:GC198)=0,OR(AND($FF198=1,$FI198>0),$FJ198>=0.1)),1,)","v":0},{"$f":"IF(AND(FE198<>1,$FP198=3,SUM($GB198:GD198)=0,OR($FF198=1,$FJ198>=0.05)),1,)","v":0},{"$f":"IF(AND(FE198<>1,$FP198=3,SUM($GB198:GE198)=0,$FI198>0),1,)","v":0},0,null,0,0,0,0,0,0,0,0,0,0,0,0,0,0,0,0,0,0,0,0,0,0,0,0,0,0,0,0,0,0,0,0,0,0,0,0,0,0,0,0,0,0,0,0,0,0,0,0,0,0,0,0,0,0,0,0,0,0,0,0,0,0,0,0,0,0,0,0,0,0,0,0,0,0,0,0,0,0,0,"","","","","","","","","","","","","","","","○",0,0,0,0,0,0,0,"○",0,0,0,"○","○",null,0,0]
[0,0,0,0,0,0,0,0,0,0,187,null,null,null,null,{"$f":"IF(O199<>\"\",VLOOKUP(O199,整理番号表!$Z$17:$AA$20,2,FALSE),)","v":0},0,null,null,null,null,null,{"$f":"IF(V199<>0,VLOOKUP(V199,整理番号表!$B$6:$L$13,2,FALSE),)","v":0},0,{"$f":"IF(X199<>0,VLOOKUP(X199,整理番号表!$B$16:$C$18,2,FALSE),)","v":0},null,{"$f":"IF(Z199<>0,VLOOKUP(Z199,整理番号表!$B$22:$C$29,2,FALSE),)","v":0},null,null,{"$f":"IF(AC199<>0,VLOOKUP(AC199,整理番号表!$B$32:$G$60,2,FALSE),)","v":0},null,{"$f":"IF(AE199<>0,VLOOKUP(AE199,整理番号表!$P$5:$R$39,2,FALSE),)","v":0},null,0,null,null,{"$f":"IF(AJ199<>\"\",VLOOKUP(AJ199,整理番号表!$Z$6:$AA$14,2,FALSE),\"\")","v":""},0,null,null,null,null,null,{"$f":"IF(AQ199<>0,VLOOKUP(AQ199,整理番号表!$P$43:$Q$49,2,FALSE),)","v":0},null,null,null,null,0,0,null,0,null,null,null,0,0,0,null,null,0,0,null,{"$f":"IF(BK199<>0,VLOOKUP(BK199,整理番号表!$T$5:$U$16,2,FALSE),)","v":0},null,{"$f":"IF(BM199<>0,VLOOKUP(BM199,整理番号表!$T$22:$U$30,2,FALSE),)","v":0},null,0,"",null,null,null,null,null,"",0,null,null,null,null,null,null,null,null,null,0,0,0,0,0,0,0,0,0,0,0,0,0,0,0,0,0,0,0,0,0,0,0,0,0,0,0,0,null,null,null,null,null,0,0,0,0,0,0,null,0,null,null,null,null,null,null,null,0,null,null,null,null,null,null,null,null,null,null,null,null,null,null,null,null,null,null,null,null,null,null,null,null,null,null,0,0,null,null,0,0,0,{"$f":"IF(OR(AND(1<=$FK199,$FK199<=3),$FK199=6),VLOOKUP($FK199,整理番号表!$B$32:$G$60,2,FALSE),)","v":0},{"$f":"IF(OR($FK199=4,$FK199=7),VLOOKUP($FK199,整理番号表!$B$32:$G$60,2,FALSE),)","v":0},{"$f":"IF($FK199=5,VLOOKUP($FK199,整理番号表!$B$32:$G$60,2,FALSE),)","v":0},{"$f":"IF(AND(8<=$FK199,$FK199<=13),VLOOKUP($FK199,整理番号表!$B$32:$G$60,2,FALSE),)","v":0},0,0,{"$f":"IF(AND(FE199<>1,$FP199=1,SUM($FQ199:FQ199)=0,$FF199=1,$FI199>=2),1,)","v":0},{"$f":"IF(AND(FE199<>1,$FP199=1,SUM($FQ199:FR199)=0,OR(AND($FF199=1,$FI199>0),$FI199>=4)),1,)","v":0},{"$f":"IF(AND(FE199<>1,$FP199=1,SUM($FQ199:FS199)=0,OR($FF199=1,$FI199>=2)),1,)","v":0},{"$f":"IF(AND(FE199<>1,$FP199=1,SUM($FQ199:FT199)=0,$FI199>0),1,)","v":0},0,0,{"$f":"IF(AND(FE199<>1,$FP199=2,SUM($FW199:FW199)=0,$FF199=1,$FJ199>=0.1),1,)","v":0},{"$f":"IF(AND(FE199<>1,$FP199=2,SUM($FW199:FX199)=0,OR(AND($FF199=1,$FI199>0),$FJ199>=0.2)),1,)","v":0},{"$f":"IF(AND(FE199<>1,$FP199=2,SUM($FW199:FY199)=0,OR($FF199=1,$FJ199>=0.1)),1,)","v":0},{"$f":"IF(AND(FE199<>1,$FP199=2,SUM($FW199:FZ199)=0,$FI199>0),1,)","v":0},0,{"$f":"IF(AND(FE199<>1,$FP199=3,SUM($GB199:GB199)=0,AND($FF199=1,$FJ199>=0.05)),1,)","v":0},{"$f":"IF(AND(FE199<>1,$FP199=3,SUM($GB199:GC199)=0,OR(AND($FF199=1,$FI199>0),$FJ199>=0.1)),1,)","v":0},{"$f":"IF(AND(FE199<>1,$FP199=3,SUM($GB199:GD199)=0,OR($FF199=1,$FJ199>=0.05)),1,)","v":0},{"$f":"IF(AND(FE199<>1,$FP199=3,SUM($GB199:GE199)=0,$FI199>0),1,)","v":0},0,null,0,0,0,0,0,0,0,0,0,0,0,0,0,0,0,0,0,0,0,0,0,0,0,0,0,0,0,0,0,0,0,0,0,0,0,0,0,0,0,0,0,0,0,0,0,0,0,0,0,0,0,0,0,0,0,0,0,0,0,0,0,0,0,0,0,0,0,0,0,0,0,0,0,0,0,0,0,0,0,"","","","","","","","","","","","","","","","○",0,0,0,0,0,0,0,"○",0,0,0,"○","○",null,0,0]
[0,0,0,0,0,0,0,0,0,0,189,null,null,null,null,{"$f":"IF(O201<>\"\",VLOOKUP(O201,整理番号表!$Z$17:$AA$20,2,FALSE),)","v":0},0,null,null,null,null,null,{"$f":"IF(V201<>0,VLOOKUP(V201,整理番号表!$B$6:$L$13,2,FALSE),)","v":0},0,{"$f":"IF(X201<>0,VLOOKUP(X201,整理番号表!$B$16:$C$18,2,FALSE),)","v":0},null,{"$f":"IF(Z201<>0,VLOOKUP(Z201,整理番号表!$B$22:$C$29,2,FALSE),)","v":0},null,null,{"$f":"IF(AC201<>0,VLOOKUP(AC201,整理番号表!$B$32:$G$60,2,FALSE),)","v":0},null,{"$f":"IF(AE201<>0,VLOOKUP(AE201,整理番号表!$P$5:$R$39,2,FALSE),)","v":0},null,0,null,null,{"$f":"IF(AJ201<>\"\",VLOOKUP(AJ201,整理番号表!$Z$6:$AA$14,2,FALSE),\"\")","v":""},0,null,null,null,null,null,{"$f":"IF(AQ201<>0,VLOOKUP(AQ201,整理番号表!$P$43:$Q$49,2,FALSE),)","v":0},null,null,null,null,0,0,null,0,null,null,null,0,0,0,null,null,0,0,null,{"$f":"IF(BK201<>0,VLOOKUP(BK201,整理番号表!$T$5:$U$16,2,FALSE),)","v":0},null,{"$f":"IF(BM201<>0,VLOOKUP(BM201,整理番号表!$T$22:$U$30,2,FALSE),)","v":0},null,0,"",null,null,null,null,null,"",0,null,null,null,null,null,null,null,null,null,0,0,0,0,0,0,0,0,0,0,0,0,0,0,0,0,0,0,0,0,0,0,0,0,0,0,0,0,null,null,null,null,null,0,0,0,0,0,0,null,0,null,null,null,null,null,null,null,0,null,null,null,null,null,null,null,null,null,null,null,null,null,null,null,null,null,null,null,null,null,null,null,null,null,null,0,0,null,null,0,0,0,{"$f":"IF(OR(AND(1<=$FK201,$FK201<=3),$FK201=6),VLOOKUP($FK201,整理番号表!$B$32:$G$60,2,FALSE),)","v":0},{"$f":"IF(OR($FK201=4,$FK201=7),VLOOKUP($FK201,整理番号表!$B$32:$G$60,2,FALSE),)","v":0},{"$f":"IF($FK201=5,VLOOKUP($FK201,整理番号表!$B$32:$G$60,2,FALSE),)","v":0},{"$f":"IF(AND(8<=$FK201,$FK201<=13),VLOOKUP($FK201,整理番号表!$B$32:$G$60,2,FALSE),)","v":0},0,0,{"$f":"IF(AND(FE201<>1,$FP201=1,SUM($FQ201:FQ201)=0,$FF201=1,$FI201>=2),1,)","v":0},{"$f":"IF(AND(FE201<>1,$FP201=1,SUM($FQ201:FR201)=0,OR(AND($FF201=1,$FI201>0),$FI201>=4)),1,)","v":0},{"$f":"IF(AND(FE201<>1,$FP201=1,SUM($FQ201:FS201)=0,OR($FF201=1,$FI201>=2)),1,)","v":0},{"$f":"IF(AND(FE201<>1,$FP201=1,SUM($FQ201:FT201)=0,$FI201>0),1,)","v":0},0,0,{"$f":"IF(AND(FE201<>1,$FP201=2,SUM($FW201:FW201)=0,$FF201=1,$FJ201>=0.1),1,)","v":0},{"$f":"IF(AND(FE201<>1,$FP201=2,SUM($FW201:FX201)=0,OR(AND($FF201=1,$FI201>0),$FJ201>=0.2)),1,)","v":0},{"$f":"IF(AND(FE201<>1,$FP201=2,SUM($FW201:FY201)=0,OR($FF201=1,$FJ201>=0.1)),1,)","v":0},{"$f":"IF(AND(FE201<>1,$FP201=2,SUM($FW201:FZ201)=0,$FI201>0),1,)","v":0},0,{"$f":"IF(AND(FE201<>1,$FP201=3,SUM($GB201:GB201)=0,AND($FF201=1,$FJ201>=0.05)),1,)","v":0},{"$f":"IF(AND(FE201<>1,$FP201=3,SUM($GB201:GC201)=0,OR(AND($FF201=1,$FI201>0),$FJ201>=0.1)),1,)","v":0},{"$f":"IF(AND(FE201<>1,$FP201=3,SUM($GB201:GD201)=0,OR($FF201=1,$FJ201>=0.05)),1,)","v":0},{"$f":"IF(AND(FE201<>1,$FP201=3,SUM($GB201:GE201)=0,$FI201>0),1,)","v":0},0,null,0,0,0,0,0,0,0,0,0,0,0,0,0,0,0,0,0,0,0,0,0,0,0,0,0,0,0,0,0,0,0,0,0,0,0,0,0,0,0,0,0,0,0,0,0,0,0,0,0,0,0,0,0,0,0,0,0,0,0,0,0,0,0,0,0,0,0,0,0,0,0,0,0,0,0,0,0,0,0,"","","","","","","","","","","","","","","","○",0,0,0,0,0,0,0,"○",0,0,0,"○","○",null,0,0]
[0,0,0,0,0,0,0,0,0,0,190,null,null,null,null,{"$f":"IF(O202<>\"\",VLOOKUP(O202,整理番号表!$Z$17:$AA$20,2,FALSE),)","v":0},0,null,null,null,null,null,{"$f":"IF(V202<>0,VLOOKUP(V202,整理番号表!$B$6:$L$13,2,FALSE),)","v":0},0,{"$f":"IF(X202<>0,VLOOKUP(X202,整理番号表!$B$16:$C$18,2,FALSE),)","v":0},null,{"$f":"IF(Z202<>0,VLOOKUP(Z202,整理番号表!$B$22:$C$29,2,FALSE),)","v":0},null,null,{"$f":"IF(AC202<>0,VLOOKUP(AC202,整理番号表!$B$32:$G$60,2,FALSE),)","v":0},null,{"$f":"IF(AE202<>0,VLOOKUP(AE202,整理番号表!$P$5:$R$39,2,FALSE),)","v":0},null,0,null,null,{"$f":"IF(AJ202<>\"\",VLOOKUP(AJ202,整理番号表!$Z$6:$AA$14,2,FALSE),\"\")","v":""},0,null,null,null,null,null,{"$f":"IF(AQ202<>0,VLOOKUP(AQ202,整理番号表!$P$43:$Q$49,2,FALSE),)","v":0},null,null,null,null,0,0,null,0,null,null,null,0,0,0,null,null,0,0,null,{"$f":"IF(BK202<>0,VLOOKUP(BK202,整理番号表!$T$5:$U$16,2,FALSE),)","v":0},null,{"$f":"IF(BM202<>0,VLOOKUP(BM202,整理番号表!$T$22:$U$30,2,FALSE),)","v":0},null,0,"",null,null,null,null,null,"",0,null,null,null,null,null,null,null,null,null,0,0,0,0,0,0,0,0,0,0,0,0,0,0,0,0,0,0,0,0,0,0,0,0,0,0,0,0,null,null,null,null,null,0,0,0,0,0,0,null,0,null,null,null,null,null,null,null,0,null,null,null,null,null,null,null,null,null,null,null,null,null,null,null,null,null,null,null,null,null,null,null,null,null,null,0,0,null,null,0,0,0,{"$f":"IF(OR(AND(1<=$FK202,$FK202<=3),$FK202=6),VLOOKUP($FK202,整理番号表!$B$32:$G$60,2,FALSE),)","v":0},{"$f":"IF(OR($FK202=4,$FK202=7),VLOOKUP($FK202,整理番号表!$B$32:$G$60,2,FALSE),)","v":0},{"$f":"IF($FK202=5,VLOOKUP($FK202,整理番号表!$B$32:$G$60,2,FALSE),)","v":0},{"$f":"IF(AND(8<=$FK202,$FK202<=13),VLOOKUP($FK202,整理番号表!$B$32:$G$60,2,FALSE),)","v":0},0,0,{"$f":"IF(AND(FE202<>1,$FP202=1,SUM($FQ202:FQ202)=0,$FF202=1,$FI202>=2),1,)","v":0},{"$f":"IF(AND(FE202<>1,$FP202=1,SUM($FQ202:FR202)=0,OR(AND($FF202=1,$FI202>0),$FI202>=4)),1,)","v":0},{"$f":"IF(AND(FE202<>1,$FP202=1,SUM($FQ202:FS202)=0,OR($FF202=1,$FI202>=2)),1,)","v":0},{"$f":"IF(AND(FE202<>1,$FP202=1,SUM($FQ202:FT202)=0,$FI202>0),1,)","v":0},0,0,{"$f":"IF(AND(FE202<>1,$FP202=2,SUM($FW202:FW202)=0,$FF202=1,$FJ202>=0.1),1,)","v":0},{"$f":"IF(AND(FE202<>1,$FP202=2,SUM($FW202:FX202)=0,OR(AND($FF202=1,$FI202>0),$FJ202>=0.2)),1,)","v":0},{"$f":"IF(AND(FE202<>1,$FP202=2,SUM($FW202:FY202)=0,OR($FF202=1,$FJ202>=0.1)),1,)","v":0},{"$f":"IF(AND(FE202<>1,$FP202=2,SUM($FW202:FZ202)=0,$FI202>0),1,)","v":0},0,{"$f":"IF(AND(FE202<>1,$FP202=3,SUM($GB202:GB202)=0,AND($FF202=1,$FJ202>=0.05)),1,)","v":0},{"$f":"IF(AND(FE202<>1,$FP202=3,SUM($GB202:GC202)=0,OR(AND($FF202=1,$FI202>0),$FJ202>=0.1)),1,)","v":0},{"$f":"IF(AND(FE202<>1,$FP202=3,SUM($GB202:GD202)=0,OR($FF202=1,$FJ202>=0.05)),1,)","v":0},{"$f":"IF(AND(FE202<>1,$FP202=3,SUM($GB202:GE202)=0,$FI202>0),1,)","v":0},0,null,0,0,0,0,0,0,0,0,0,0,0,0,0,0,0,0,0,0,0,0,0,0,0,0,0,0,0,0,0,0,0,0,0,0,0,0,0,0,0,0,0,0,0,0,0,0,0,0,0,0,0,0,0,0,0,0,0,0,0,0,0,0,0,0,0,0,0,0,0,0,0,0,0,0,0,0,0,0,0,"","","","","","","","","","","","","","","","○",0,0,0,0,0,0,0,"○",0,0,0,"○","○",null,0,0]
[0,0,0,0,0,0,0,0,0,0,192,null,null,null,null,{"$f":"IF(O204<>\"\",VLOOKUP(O204,整理番号表!$Z$17:$AA$20,2,FALSE),)","v":0},0,null,null,null,null,null,{"$f":"IF(V204<>0,VLOOKUP(V204,整理番号表!$B$6:$L$13,2,FALSE),)","v":0},0,{"$f":"IF(X204<>0,VLOOKUP(X204,整理番号表!$B$16:$C$18,2,FALSE),)","v":0},null,{"$f":"IF(Z204<>0,VLOOKUP(Z204,整理番号表!$B$22:$C$29,2,FALSE),)","v":0},null,null,{"$f":"IF(AC204<>0,VLOOKUP(AC204,整理番号表!$B$32:$G$60,2,FALSE),)","v":0},null,{"$f":"IF(AE204<>0,VLOOKUP(AE204,整理番号表!$P$5:$R$39,2,FALSE),)","v":0},null,0,null,null,{"$f":"IF(AJ204<>\"\",VLOOKUP(AJ204,整理番号表!$Z$6:$AA$14,2,FALSE),\"\")","v":""},0,null,null,null,null,null,{"$f":"IF(AQ204<>0,VLOOKUP(AQ204,整理番号表!$P$43:$Q$49,2,FALSE),)","v":0},null,null,null,null,0,0,null,0,null,null,null,0,0,0,null,null,0,0,null,{"$f":"IF(BK204<>0,VLOOKUP(BK204,整理番号表!$T$5:$U$16,2,FALSE),)","v":0},null,{"$f":"IF(BM204<>0,VLOOKUP(BM204,整理番号表!$T$22:$U$30,2,FALSE),)","v":0},null,0,"",null,null,null,null,null,"",0,null,null,null,null,null,null,null,null,null,0,0,0,0,0,0,0,0,0,0,0,0,0,0,0,0,0,0,0,0,0,0,0,0,0,0,0,0,null,null,null,null,null,0,0,0,0,0,0,null,0,null,null,null,null,null,null,null,0,null,null,null,null,null,null,null,null,null,null,null,null,null,null,null,null,null,null,null,null,null,null,null,null,null,null,0,0,null,null,0,0,0,{"$f":"IF(OR(AND(1<=$FK204,$FK204<=3),$FK204=6),VLOOKUP($FK204,整理番号表!$B$32:$G$60,2,FALSE),)","v":0},{"$f":"IF(OR($FK204=4,$FK204=7),VLOOKUP($FK204,整理番号表!$B$32:$G$60,2,FALSE),)","v":0},{"$f":"IF($FK204=5,VLOOKUP($FK204,整理番号表!$B$32:$G$60,2,FALSE),)","v":0},{"$f":"IF(AND(8<=$FK204,$FK204<=13),VLOOKUP($FK204,整理番号表!$B$32:$G$60,2,FALSE),)","v":0},0,0,{"$f":"IF(AND(FE204<>1,$FP204=1,SUM($FQ204:FQ204)=0,$FF204=1,$FI204>=2),1,)","v":0},{"$f":"IF(AND(FE204<>1,$FP204=1,SUM($FQ204:FR204)=0,OR(AND($FF204=1,$FI204>0),$FI204>=4)),1,)","v":0},{"$f":"IF(AND(FE204<>1,$FP204=1,SUM($FQ204:FS204)=0,OR($FF204=1,$FI204>=2)),1,)","v":0},{"$f":"IF(AND(FE204<>1,$FP204=1,SUM($FQ204:FT204)=0,$FI204>0),1,)","v":0},0,0,{"$f":"IF(AND(FE204<>1,$FP204=2,SUM($FW204:FW204)=0,$FF204=1,$FJ204>=0.1),1,)","v":0},{"$f":"IF(AND(FE204<>1,$FP204=2,SUM($FW204:FX204)=0,OR(AND($FF204=1,$FI204>0),$FJ204>=0.2)),1,)","v":0},{"$f":"IF(AND(FE204<>1,$FP204=2,SUM($FW204:FY204)=0,OR($FF204=1,$FJ204>=0.1)),1,)","v":0},{"$f":"IF(AND(FE204<>1,$FP204=2,SUM($FW204:FZ204)=0,$FI204>0),1,)","v":0},0,{"$f":"IF(AND(FE204<>1,$FP204=3,SUM($GB204:GB204)=0,AND($FF204=1,$FJ204>=0.05)),1,)","v":0},{"$f":"IF(AND(FE204<>1,$FP204=3,SUM($GB204:GC204)=0,OR(AND($FF204=1,$FI204>0),$FJ204>=0.1)),1,)","v":0},{"$f":"IF(AND(FE204<>1,$FP204=3,SUM($GB204:GD204)=0,OR($FF204=1,$FJ204>=0.05)),1,)","v":0},{"$f":"IF(AND(FE204<>1,$FP204=3,SUM($GB204:GE204)=0,$FI204>0),1,)","v":0},0,null,0,0,0,0,0,0,0,0,0,0,0,0,0,0,0,0,0,0,0,0,0,0,0,0,0,0,0,0,0,0,0,0,0,0,0,0,0,0,0,0,0,0,0,0,0,0,0,0,0,0,0,0,0,0,0,0,0,0,0,0,0,0,0,0,0,0,0,0,0,0,0,0,0,0,0,0,0,0,0,"","","","","","","","","","","","","","","","○",0,0,0,0,0,0,0,"○",0,0,0,"○","○",null,0,0]
[0,0,0,0,0,0,0,0,0,0,193,null,null,null,null,{"$f":"IF(O205<>\"\",VLOOKUP(O205,整理番号表!$Z$17:$AA$20,2,FALSE),)","v":0},0,null,null,null,null,null,{"$f":"IF(V205<>0,VLOOKUP(V205,整理番号表!$B$6:$L$13,2,FALSE),)","v":0},0,{"$f":"IF(X205<>0,VLOOKUP(X205,整理番号表!$B$16:$C$18,2,FALSE),)","v":0},null,{"$f":"IF(Z205<>0,VLOOKUP(Z205,整理番号表!$B$22:$C$29,2,FALSE),)","v":0},null,null,{"$f":"IF(AC205<>0,VLOOKUP(AC205,整理番号表!$B$32:$G$60,2,FALSE),)","v":0},null,{"$f":"IF(AE205<>0,VLOOKUP(AE205,整理番号表!$P$5:$R$39,2,FALSE),)","v":0},null,0,null,null,{"$f":"IF(AJ205<>\"\",VLOOKUP(AJ205,整理番号表!$Z$6:$AA$14,2,FALSE),\"\")","v":""},0,null,null,null,null,null,{"$f":"IF(AQ205<>0,VLOOKUP(AQ205,整理番号表!$P$43:$Q$49,2,FALSE),)","v":0},null,null,null,null,0,0,null,0,null,null,null,0,0,0,null,null,0,0,null,{"$f":"IF(BK205<>0,VLOOKUP(BK205,整理番号表!$T$5:$U$16,2,FALSE),)","v":0},null,{"$f":"IF(BM205<>0,VLOOKUP(BM205,整理番号表!$T$22:$U$30,2,FALSE),)","v":0},null,0,"",null,null,null,null,null,"",0,null,null,null,null,null,null,null,null,null,0,0,0,0,0,0,0,0,0,0,0,0,0,0,0,0,0,0,0,0,0,0,0,0,0,0,0,0,null,null,null,null,null,0,0,0,0,0,0,null,0,null,null,null,null,null,null,null,0,null,null,null,null,null,null,null,null,null,null,null,null,null,null,null,null,null,null,null,null,null,null,null,null,null,null,0,0,null,null,0,0,0,{"$f":"IF(OR(AND(1<=$FK205,$FK205<=3),$FK205=6),VLOOKUP($FK205,整理番号表!$B$32:$G$60,2,FALSE),)","v":0},{"$f":"IF(OR($FK205=4,$FK205=7),VLOOKUP($FK205,整理番号表!$B$32:$G$60,2,FALSE),)","v":0},{"$f":"IF($FK205=5,VLOOKUP($FK205,整理番号表!$B$32:$G$60,2,FALSE),)","v":0},{"$f":"IF(AND(8<=$FK205,$FK205<=13),VLOOKUP($FK205,整理番号表!$B$32:$G$60,2,FALSE),)","v":0},0,0,{"$f":"IF(AND(FE205<>1,$FP205=1,SUM($FQ205:FQ205)=0,$FF205=1,$FI205>=2),1,)","v":0},{"$f":"IF(AND(FE205<>1,$FP205=1,SUM($FQ205:FR205)=0,OR(AND($FF205=1,$FI205>0),$FI205>=4)),1,)","v":0},{"$f":"IF(AND(FE205<>1,$FP205=1,SUM($FQ205:FS205)=0,OR($FF205=1,$FI205>=2)),1,)","v":0},{"$f":"IF(AND(FE205<>1,$FP205=1,SUM($FQ205:FT205)=0,$FI205>0),1,)","v":0},0,0,{"$f":"IF(AND(FE205<>1,$FP205=2,SUM($FW205:FW205)=0,$FF205=1,$FJ205>=0.1),1,)","v":0},{"$f":"IF(AND(FE205<>1,$FP205=2,SUM($FW205:FX205)=0,OR(AND($FF205=1,$FI205>0),$FJ205>=0.2)),1,)","v":0},{"$f":"IF(AND(FE205<>1,$FP205=2,SUM($FW205:FY205)=0,OR($FF205=1,$FJ205>=0.1)),1,)","v":0},{"$f":"IF(AND(FE205<>1,$FP205=2,SUM($FW205:FZ205)=0,$FI205>0),1,)","v":0},0,{"$f":"IF(AND(FE205<>1,$FP205=3,SUM($GB205:GB205)=0,AND($FF205=1,$FJ205>=0.05)),1,)","v":0},{"$f":"IF(AND(FE205<>1,$FP205=3,SUM($GB205:GC205)=0,OR(AND($FF205=1,$FI205>0),$FJ205>=0.1)),1,)","v":0},{"$f":"IF(AND(FE205<>1,$FP205=3,SUM($GB205:GD205)=0,OR($FF205=1,$FJ205>=0.05)),1,)","v":0},{"$f":"IF(AND(FE205<>1,$FP205=3,SUM($GB205:GE205)=0,$FI205>0),1,)","v":0},0,null,0,0,0,0,0,0,0,0,0,0,0,0,0,0,0,0,0,0,0,0,0,0,0,0,0,0,0,0,0,0,0,0,0,0,0,0,0,0,0,0,0,0,0,0,0,0,0,0,0,0,0,0,0,0,0,0,0,0,0,0,0,0,0,0,0,0,0,0,0,0,0,0,0,0,0,0,0,0,0,"","","","","","","","","","","","","","","","○",0,0,0,0,0,0,0,"○",0,0,0,"○","○",null,0,0]
[0,0,0,0,0,0,0,0,0,0,196,null,null,null,null,{"$f":"IF(O208<>\"\",VLOOKUP(O208,整理番号表!$Z$17:$AA$20,2,FALSE),)","v":0},0,null,null,null,null,null,{"$f":"IF(V208<>0,VLOOKUP(V208,整理番号表!$B$6:$L$13,2,FALSE),)","v":0},0,{"$f":"IF(X208<>0,VLOOKUP(X208,整理番号表!$B$16:$C$18,2,FALSE),)","v":0},null,{"$f":"IF(Z208<>0,VLOOKUP(Z208,整理番号表!$B$22:$C$29,2,FALSE),)","v":0},null,null,{"$f":"IF(AC208<>0,VLOOKUP(AC208,整理番号表!$B$32:$G$60,2,FALSE),)","v":0},null,{"$f":"IF(AE208<>0,VLOOKUP(AE208,整理番号表!$P$5:$R$39,2,FALSE),)","v":0},null,0,null,null,{"$f":"IF(AJ208<>\"\",VLOOKUP(AJ208,整理番号表!$Z$6:$AA$14,2,FALSE),\"\")","v":""},0,null,null,null,null,null,{"$f":"IF(AQ208<>0,VLOOKUP(AQ208,整理番号表!$P$43:$Q$49,2,FALSE),)","v":0},null,null,null,null,0,0,null,0,null,null,null,0,0,0,null,null,0,0,null,{"$f":"IF(BK208<>0,VLOOKUP(BK208,整理番号表!$T$5:$U$16,2,FALSE),)","v":0},null,{"$f":"IF(BM208<>0,VLOOKUP(BM208,整理番号表!$T$22:$U$30,2,FALSE),)","v":0},null,0,"",null,null,null,null,null,"",0,null,null,null,null,null,null,null,null,null,0,0,0,0,0,0,0,0,0,0,0,0,0,0,0,0,0,0,0,0,0,0,0,0,0,0,0,0,null,null,null,null,null,0,0,0,0,0,0,null,0,null,null,null,null,null,null,null,0,null,null,null,null,null,null,null,null,null,null,null,null,null,null,null,null,null,null,null,null,null,null,null,null,null,null,0,0,null,null,0,0,0,{"$f":"IF(OR(AND(1<=$FK208,$FK208<=3),$FK208=6),VLOOKUP($FK208,整理番号表!$B$32:$G$60,2,FALSE),)","v":0},{"$f":"IF(OR($FK208=4,$FK208=7),VLOOKUP($FK208,整理番号表!$B$32:$G$60,2,FALSE),)","v":0},{"$f":"IF($FK208=5,VLOOKUP($FK208,整理番号表!$B$32:$G$60,2,FALSE),)","v":0},{"$f":"IF(AND(8<=$FK208,$FK208<=13),VLOOKUP($FK208,整理番号表!$B$32:$G$60,2,FALSE),)","v":0},0,0,{"$f":"IF(AND(FE208<>1,$FP208=1,SUM($FQ208:FQ208)=0,$FF208=1,$FI208>=2),1,)","v":0},{"$f":"IF(AND(FE208<>1,$FP208=1,SUM($FQ208:FR208)=0,OR(AND($FF208=1,$FI208>0),$FI208>=4)),1,)","v":0},{"$f":"IF(AND(FE208<>1,$FP208=1,SUM($FQ208:FS208)=0,OR($FF208=1,$FI208>=2)),1,)","v":0},{"$f":"IF(AND(FE208<>1,$FP208=1,SUM($FQ208:FT208)=0,$FI208>0),1,)","v":0},0,0,{"$f":"IF(AND(FE208<>1,$FP208=2,SUM($FW208:FW208)=0,$FF208=1,$FJ208>=0.1),1,)","v":0},{"$f":"IF(AND(FE208<>1,$FP208=2,SUM($FW208:FX208)=0,OR(AND($FF208=1,$FI208>0),$FJ208>=0.2)),1,)","v":0},{"$f":"IF(AND(FE208<>1,$FP208=2,SUM($FW208:FY208)=0,OR($FF208=1,$FJ208>=0.1)),1,)","v":0},{"$f":"IF(AND(FE208<>1,$FP208=2,SUM($FW208:FZ208)=0,$FI208>0),1,)","v":0},0,{"$f":"IF(AND(FE208<>1,$FP208=3,SUM($GB208:GB208)=0,AND($FF208=1,$FJ208>=0.05)),1,)","v":0},{"$f":"IF(AND(FE208<>1,$FP208=3,SUM($GB208:GC208)=0,OR(AND($FF208=1,$FI208>0),$FJ208>=0.1)),1,)","v":0},{"$f":"IF(AND(FE208<>1,$FP208=3,SUM($GB208:GD208)=0,OR($FF208=1,$FJ208>=0.05)),1,)","v":0},{"$f":"IF(AND(FE208<>1,$FP208=3,SUM($GB208:GE208)=0,$FI208>0),1,)","v":0},0,null,0,0,0,0,0,0,0,0,0,0,0,0,0,0,0,0,0,0,0,0,0,0,0,0,0,0,0,0,0,0,0,0,0,0,0,0,0,0,0,0,0,0,0,0,0,0,0,0,0,0,0,0,0,0,0,0,0,0,0,0,0,0,0,0,0,0,0,0,0,0,0,0,0,0,0,0,0,0,0,"","","","","","","","","","","","","","","","○",0,0,0,0,0,0,0,"○",0,0,0,"○","○",null,0,0]
[0,0,0,0,0,0,0,0,0,0,197,null,null,null,null,{"$f":"IF(O209<>\"\",VLOOKUP(O209,整理番号表!$Z$17:$AA$20,2,FALSE),)","v":0},0,null,null,null,null,null,{"$f":"IF(V209<>0,VLOOKUP(V209,整理番号表!$B$6:$L$13,2,FALSE),)","v":0},0,{"$f":"IF(X209<>0,VLOOKUP(X209,整理番号表!$B$16:$C$18,2,FALSE),)","v":0},null,{"$f":"IF(Z209<>0,VLOOKUP(Z209,整理番号表!$B$22:$C$29,2,FALSE),)","v":0},null,null,{"$f":"IF(AC209<>0,VLOOKUP(AC209,整理番号表!$B$32:$G$60,2,FALSE),)","v":0},null,{"$f":"IF(AE209<>0,VLOOKUP(AE209,整理番号表!$P$5:$R$39,2,FALSE),)","v":0},null,0,null,null,{"$f":"IF(AJ209<>\"\",VLOOKUP(AJ209,整理番号表!$Z$6:$AA$14,2,FALSE),\"\")","v":""},0,null,null,null,null,null,{"$f":"IF(AQ209<>0,VLOOKUP(AQ209,整理番号表!$P$43:$Q$49,2,FALSE),)","v":0},null,null,null,null,0,0,null,0,null,null,null,0,0,0,null,null,0,0,null,{"$f":"IF(BK209<>0,VLOOKUP(BK209,整理番号表!$T$5:$U$16,2,FALSE),)","v":0},null,{"$f":"IF(BM209<>0,VLOOKUP(BM209,整理番号表!$T$22:$U$30,2,FALSE),)","v":0},null,0,"",null,null,null,null,null,"",0,null,null,null,null,null,null,null,null,null,0,0,0,0,0,0,0,0,0,0,0,0,0,0,0,0,0,0,0,0,0,0,0,0,0,0,0,0,null,null,null,null,null,0,0,0,0,0,0,null,0,null,null,null,null,null,null,null,0,null,null,null,null,null,null,null,null,null,null,null,null,null,null,null,null,null,null,null,null,null,null,null,null,null,null,0,0,null,null,0,0,0,{"$f":"IF(OR(AND(1<=$FK209,$FK209<=3),$FK209=6),VLOOKUP($FK209,整理番号表!$B$32:$G$60,2,FALSE),)","v":0},{"$f":"IF(OR($FK209=4,$FK209=7),VLOOKUP($FK209,整理番号表!$B$32:$G$60,2,FALSE),)","v":0},{"$f":"IF($FK209=5,VLOOKUP($FK209,整理番号表!$B$32:$G$60,2,FALSE),)","v":0},{"$f":"IF(AND(8<=$FK209,$FK209<=13),VLOOKUP($FK209,整理番号表!$B$32:$G$60,2,FALSE),)","v":0},0,0,{"$f":"IF(AND(FE209<>1,$FP209=1,SUM($FQ209:FQ209)=0,$FF209=1,$FI209>=2),1,)","v":0},{"$f":"IF(AND(FE209<>1,$FP209=1,SUM($FQ209:FR209)=0,OR(AND($FF209=1,$FI209>0),$FI209>=4)),1,)","v":0},{"$f":"IF(AND(FE209<>1,$FP209=1,SUM($FQ209:FS209)=0,OR($FF209=1,$FI209>=2)),1,)","v":0},{"$f":"IF(AND(FE209<>1,$FP209=1,SUM($FQ209:FT209)=0,$FI209>0),1,)","v":0},0,0,{"$f":"IF(AND(FE209<>1,$FP209=2,SUM($FW209:FW209)=0,$FF209=1,$FJ209>=0.1),1,)","v":0},{"$f":"IF(AND(FE209<>1,$FP209=2,SUM($FW209:FX209)=0,OR(AND($FF209=1,$FI209>0),$FJ209>=0.2)),1,)","v":0},{"$f":"IF(AND(FE209<>1,$FP209=2,SUM($FW209:FY209)=0,OR($FF209=1,$FJ209>=0.1)),1,)","v":0},{"$f":"IF(AND(FE209<>1,$FP209=2,SUM($FW209:FZ209)=0,$FI209>0),1,)","v":0},0,{"$f":"IF(AND(FE209<>1,$FP209=3,SUM($GB209:GB209)=0,AND($FF209=1,$FJ209>=0.05)),1,)","v":0},{"$f":"IF(AND(FE209<>1,$FP209=3,SUM($GB209:GC209)=0,OR(AND($FF209=1,$FI209>0),$FJ209>=0.1)),1,)","v":0},{"$f":"IF(AND(FE209<>1,$FP209=3,SUM($GB209:GD209)=0,OR($FF209=1,$FJ209>=0.05)),1,)","v":0},{"$f":"IF(AND(FE209<>1,$FP209=3,SUM($GB209:GE209)=0,$FI209>0),1,)","v":0},0,null,0,0,0,0,0,0,0,0,0,0,0,0,0,0,0,0,0,0,0,0,0,0,0,0,0,0,0,0,0,0,0,0,0,0,0,0,0,0,0,0,0,0,0,0,0,0,0,0,0,0,0,0,0,0,0,0,0,0,0,0,0,0,0,0,0,0,0,0,0,0,0,0,0,0,0,0,0,0,0,"","","","","","","","","","","","","","","","○",0,0,0,0,0,0,0,"○",0,0,0,"○","○",null,0,0]
[0,0,0,0,0,0,0,0,0,0,199,null,null,null,null,{"$f":"IF(O211<>\"\",VLOOKUP(O211,整理番号表!$Z$17:$AA$20,2,FALSE),)","v":0},0,null,null,null,null,null,{"$f":"IF(V211<>0,VLOOKUP(V211,整理番号表!$B$6:$L$13,2,FALSE),)","v":0},0,{"$f":"IF(X211<>0,VLOOKUP(X211,整理番号表!$B$16:$C$18,2,FALSE),)","v":0},null,{"$f":"IF(Z211<>0,VLOOKUP(Z211,整理番号表!$B$22:$C$29,2,FALSE),)","v":0},null,null,{"$f":"IF(AC211<>0,VLOOKUP(AC211,整理番号表!$B$32:$G$60,2,FALSE),)","v":0},null,{"$f":"IF(AE211<>0,VLOOKUP(AE211,整理番号表!$P$5:$R$39,2,FALSE),)","v":0},null,0,null,null,{"$f":"IF(AJ211<>\"\",VLOOKUP(AJ211,整理番号表!$Z$6:$AA$14,2,FALSE),\"\")","v":""},0,null,null,null,null,null,{"$f":"IF(AQ211<>0,VLOOKUP(AQ211,整理番号表!$P$43:$Q$49,2,FALSE),)","v":0},null,null,null,null,0,0,null,0,null,null,null,0,0,0,null,null,0,0,null,{"$f":"IF(BK211<>0,VLOOKUP(BK211,整理番号表!$T$5:$U$16,2,FALSE),)","v":0},null,{"$f":"IF(BM211<>0,VLOOKUP(BM211,整理番号表!$T$22:$U$30,2,FALSE),)","v":0},null,0,"",null,null,null,null,null,"",0,null,null,null,null,null,null,null,null,null,{"$f":"IF(OR($BR211<=0,$BV211<=0),0,IF(AND($X211=1,$I211=1,$EU211<>1,CH$2<=$BW211,$BW211<CI$2),1,))","v":0},{"$f":"IF(OR($BR211<=0,$BV211<=0),0,IF(AND($X211=1,$I211=1,$EU211<>1,CI$2<=$BW211,$BW211<CJ$2),1,))","v":0},{"$f":"IF(OR($BR211<=0,$BV211<=0),0,IF(AND($X211=1,$I211=1,$EU211<>1,CJ$2<=$BW211,$BW211<CK$2),1,))","v":0},{"$f":"IF(OR($BR211<=0,$BV211<=0),0,IF(AND($X211=1,$I211=1,$EU211<>1,CK$2<=$BW211,$BW211<CL$2),1,))","v":0},{"$f":"IF(OR($BR211<=0,$BV211<=0),0,IF(AND($X211=1,$I211=1,$EU211<>1,CL$2<=$BW211,$BW211<CM$2),1,))","v":0},{"$f":"IF(OR($BR211<=0,$BV211<=0),0,IF(AND($X211=1,$I211=1,$EU211<>1,CM$2<=$BW211,$BW211<CN$2),1,))","v":0},0,{"$f":"IF(OR($BR211<=0,$BV211<=0),0,IF(AND($X211=2,$I211=1,$EU211<>1,CO$2<=$BW211,$BW211<CP$2),1,))","v":0},{"$f":"IF(OR($BR211<=0,$BV211<=0),0,IF(AND($X211=2,$I211=1,$EU211<>1,CP$2<=$BW211,$BW211<CQ$2),1,))","v":0},{"$f":"IF(OR($BR211<=0,$BV211<=0),0,IF(AND($X211=2,$I211=1,$EU211<>1,CQ$2<=$BW211,$BW211<CR$2),1,))","v":0},{"$f":"IF(OR($BR211<=0,$BV211<=0),0,IF(AND($X211=2,$I211=1,$EU211<>1,CR$2<=$BW211,$BW211<CS$2),1,))","v":0},{"$f":"IF(OR($BR211<=0,$BV211<=0),0,IF(AND($X211=2,$I211=1,$EU211<>1,CS$2<=$BW211,$BW211<CT$2),1,))","v":0},{"$f":"IF(OR($BR211<=0,$BV211<=0),0,IF(AND($X211=2,$I211=1,$EU211<>1,CT$2<=$BW211,$BW211<CU$2),1,))","v":0},0,{"$f":"IF($BV211<0,0,IF(AND($X211=1,$I211=1,$EU211<>1,CV$2<=$BX211,$BX211<CW$2),1,))","v":0},{"$f":"IF($BV211<0,0,IF(AND($X211=1,$I211=1,$EU211<>1,CW$2<=$BX211,$BX211<CX$2),1,))","v":0},{"$f":"IF($BV211<0,0,IF(AND($X211=1,$I211=1,$EU211<>1,CX$2<=$BX211,$BX211<CY$2),1,))","v":0},{"$f":"IF($BV211<0,0,IF(AND($X211=1,$I211=1,$EU211<>1,CY$2<=$BX211,$BX211<CZ$2),1,))","v":0},{"$f":"IF($BV211<0,0,IF(AND($X211=1,$I211=1,$EU211<>1,CZ$2<=$BX211,$BX211<DA$2),1,))","v":0},{"$f":"IF($BV211<0,0,IF(AND($X211=1,$I211=1,$EU211<>1,DA$2<=$BX211,$BX211<DB$2),1,))","v":0},0,{"$f":"IF($BV211<0,0,IF(AND($X211=2,$I211=1,$EU211<>1,DC$2<=$BX211,$BX211<DD$2),1,))","v":0},{"$f":"IF($BV211<0,0,IF(AND($X211=2,$I211=1,$EU211<>1,DD$2<=$BX211,$BX211<DE$2),1,))","v":0},{"$f":"IF($BV211<0,0,IF(AND($X211=2,$I211=1,$EU211<>1,DE$2<=$BX211,$BX211<DF$2),1,))","v":0},{"$f":"IF($BV211<0,0,IF(AND($X211=2,$I211=1,$EU211<>1,DF$2<=$BX211,$BX211<DG$2),1,))","v":0},{"$f":"IF($BV211<0,0,IF(AND($X211=2,$I211=1,$EU211<>1,DG$2<=$BX211,$BX211<DH$2),1,))","v":0},{"$f":"IF($BV211<0,0,IF(AND($X211=2,$I211=1,$EU211<>1,DH$2<=$BX211,$BX211<DI$2),1,))","v":0},0,null,null,null,null,null,0,0,0,0,0,0,null,0,null,null,null,null,null,null,null,0,null,null,null,null,null,null,null,null,null,null,null,null,null,null,null,null,null,null,null,null,null,null,null,null,null,null,0,0,null,null,0,0,0,{"$f":"IF(OR(AND(1<=$FK211,$FK211<=3),$FK211=6),VLOOKUP($FK211,整理番号表!$B$32:$G$60,2,FALSE),)","v":0},{"$f":"IF(OR($FK211=4,$FK211=7),VLOOKUP($FK211,整理番号表!$B$32:$G$60,2,FALSE),)","v":0},{"$f":"IF($FK211=5,VLOOKUP($FK211,整理番号表!$B$32:$G$60,2,FALSE),)","v":0},{"$f":"IF(AND(8<=$FK211,$FK211<=13),VLOOKUP($FK211,整理番号表!$B$32:$G$60,2,FALSE),)","v":0},0,0,{"$f":"IF(AND(FE211<>1,$FP211=1,SUM($FQ211:FQ211)=0,$FF211=1,$FI211>=2),1,)","v":0},{"$f":"IF(AND(FE211<>1,$FP211=1,SUM($FQ211:FR211)=0,OR(AND($FF211=1,$FI211>0),$FI211>=4)),1,)","v":0},{"$f":"IF(AND(FE211<>1,$FP211=1,SUM($FQ211:FS211)=0,OR($FF211=1,$FI211>=2)),1,)","v":0},{"$f":"IF(AND(FE211<>1,$FP211=1,SUM($FQ211:FT211)=0,$FI211>0),1,)","v":0},0,0,{"$f":"IF(AND(FE211<>1,$FP211=2,SUM($FW211:FW211)=0,$FF211=1,$FJ211>=0.1),1,)","v":0},{"$f":"IF(AND(FE211<>1,$FP211=2,SUM($FW211:FX211)=0,OR(AND($FF211=1,$FI211>0),$FJ211>=0.2)),1,)","v":0},{"$f":"IF(AND(FE211<>1,$FP211=2,SUM($FW211:FY211)=0,OR($FF211=1,$FJ211>=0.1)),1,)","v":0},{"$f":"IF(AND(FE211<>1,$FP211=2,SUM($FW211:FZ211)=0,$FI211>0),1,)","v":0},0,{"$f":"IF(AND(FE211<>1,$FP211=3,SUM($GB211:GB211)=0,AND($FF211=1,$FJ211>=0.05)),1,)","v":0},{"$f":"IF(AND(FE211<>1,$FP211=3,SUM($GB211:GC211)=0,OR(AND($FF211=1,$FI211>0),$FJ211>=0.1)),1,)","v":0},{"$f":"IF(AND(FE211<>1,$FP211=3,SUM($GB211:GD211)=0,OR($FF211=1,$FJ211>=0.05)),1,)","v":0},{"$f":"IF(AND(FE211<>1,$FP211=3,SUM($GB211:GE211)=0,$FI211>0),1,)","v":0},0,null,0,0,0,0,0,0,0,0,0,0,0,0,0,0,0,0,0,0,0,0,0,0,0,0,0,0,0,0,0,0,0,0,0,0,0,0,0,0,0,0,0,0,0,0,0,0,0,0,0,0,0,0,0,0,0,0,0,0,0,0,0,0,0,0,0,0,0,0,0,0,0,0,0,0,0,0,0,0,0,"","","","","","","","","","","","","","","","○",0,0,0,0,0,0,0,"○",0,0,0,"○","○",null,0,0]
[0,0,0,0,0,0,0,0,0,0,200,null,null,null,null,{"$f":"IF(O212<>\"\",VLOOKUP(O212,整理番号表!$Z$17:$AA$20,2,FALSE),)","v":0},0,null,null,null,null,null,{"$f":"IF(V212<>0,VLOOKUP(V212,整理番号表!$B$6:$L$13,2,FALSE),)","v":0},0,{"$f":"IF(X212<>0,VLOOKUP(X212,整理番号表!$B$16:$C$18,2,FALSE),)","v":0},null,{"$f":"IF(Z212<>0,VLOOKUP(Z212,整理番号表!$B$22:$C$29,2,FALSE),)","v":0},null,null,{"$f":"IF(AC212<>0,VLOOKUP(AC212,整理番号表!$B$32:$G$60,2,FALSE),)","v":0},null,{"$f":"IF(AE212<>0,VLOOKUP(AE212,整理番号表!$P$5:$R$39,2,FALSE),)","v":0},null,0,null,null,{"$f":"IF(AJ212<>\"\",VLOOKUP(AJ212,整理番号表!$Z$6:$AA$14,2,FALSE),\"\")","v":""},{"$f":"IF(AJ212<>0,1,)","v":0},null,null,null,null,null,{"$f":"IF(AQ212<>0,VLOOKUP(AQ212,整理番号表!$P$43:$Q$49,2,FALSE),)","v":0},null,null,null,null,0,0,null,0,null,null,null,0,0,0,null,null,0,0,null,{"$f":"IF(BK212<>0,VLOOKUP(BK212,整理番号表!$T$5:$U$16,2,FALSE),)","v":0},null,{"$f":"IF(BM212<>0,VLOOKUP(BM212,整理番号表!$T$22:$U$30,2,FALSE),)","v":0},null,{"$f":"IF(BO212=1,AY212,)","v":0},{"$f":"IF(AND(R212<>\"\",I212=1),1,\"\")","v":""},null,null,null,null,null,{"$f":"IF(BS212=2,ROUNDDOWN((BV212-BR212)/ABS(BR212),2),IF(BS212=1,ROUNDDOWN((BV212-BR212)/ABS(BR212)*3/4,2),\"\"))","v":""},0,null,null,null,null,null,null,null,null,null,0,0,0,0,0,0,0,0,0,0,0,0,0,0,0,0,0,0,0,0,0,0,0,0,0,0,0,0,null,null,null,null,null,{"$f":"SUM(FQ212,FW212,GB212)","v":0},{"$f":"SUM(FR212,FX212,GC212)","v":0},{"$f":"SUM(FS212,FY212,GD212)","v":0},{"$f":"SUM(FT212,FZ212,GE212)","v":0},{"$f":"SUM(FU212,FV212,GA212,GF212)","v":0},{"$f":"GG212","v":0},null,0,null,null,null,null,null,null,null,0,null,null,null,null,null,null,null,null,null,null,null,null,null,null,null,null,null,null,null,null,null,null,null,null,null,null,0,0,null,null,0,0,0,{"$f":"IF(OR(AND(1<=$FK212,$FK212<=3),$FK212=6),VLOOKUP($FK212,整理番号表!$B$32:$G$60,2,FALSE),)","v":0},{"$f":"IF(OR($FK212=4,$FK212=7),VLOOKUP($FK212,整理番号表!$B$32:$G$60,2,FALSE),)","v":0},{"$f":"IF($FK212=5,VLOOKUP($FK212,整理番号表!$B$32:$G$60,2,FALSE),)","v":0},{"$f":"IF(AND(8<=$FK212,$FK212<=13),VLOOKUP($FK212,整理番号表!$B$32:$G$60,2,FALSE),)","v":0},0,0,{"$f":"IF(AND(FE212<>1,$FP212=1,SUM($FQ212:FQ212)=0,$FF212=1,$FI212>=2),1,)","v":0},{"$f":"IF(AND(FE212<>1,$FP212=1,SUM($FQ212:FR212)=0,OR(AND($FF212=1,$FI212>0),$FI212>=4)),1,)","v":0},{"$f":"IF(AND(FE212<>1,$FP212=1,SUM($FQ212:FS212)=0,OR($FF212=1,$FI212>=2)),1,)","v":0},{"$f":"IF(AND(FE212<>1,$FP212=1,SUM($FQ212:FT212)=0,$FI212>0),1,)","v":0},0,0,{"$f":"IF(AND(FE212<>1,$FP212=2,SUM($FW212:FW212)=0,$FF212=1,$FJ212>=0.1),1,)","v":0},{"$f":"IF(AND(FE212<>1,$FP212=2,SUM($FW212:FX212)=0,OR(AND($FF212=1,$FI212>0),$FJ212>=0.2)),1,)","v":0},{"$f":"IF(AND(FE212<>1,$FP212=2,SUM($FW212:FY212)=0,OR($FF212=1,$FJ212>=0.1)),1,)","v":0},{"$f":"IF(AND(FE212<>1,$FP212=2,SUM($FW212:FZ212)=0,$FI212>0),1,)","v":0},0,{"$f":"IF(AND(FE212<>1,$FP212=3,SUM($GB212:GB212)=0,AND($FF212=1,$FJ212>=0.05)),1,)","v":0},{"$f":"IF(AND(FE212<>1,$FP212=3,SUM($GB212:GC212)=0,OR(AND($FF212=1,$FI212>0),$FJ212>=0.1)),1,)","v":0},{"$f":"IF(AND(FE212<>1,$FP212=3,SUM($GB212:GD212)=0,OR($FF212=1,$FJ212>=0.05)),1,)","v":0},{"$f":"IF(AND(FE212<>1,$FP212=3,SUM($GB212:GE212)=0,$FI212>0),1,)","v":0},0,null,{"$f":"IF($I212=1,CH212*GI$5,0)","v":0},{"$f":"IF($I212=1,CI212*GJ$5,0)","v":0},{"$f":"IF($I212=1,CJ212*GK$5,0)","v":0},{"$f":"IF($I212=1,CK212*GL$5,0)","v":0},{"$f":"IF($I212=1,CL212*GM$5,0)","v":0},{"$f":"IF($I212=1,CM212*GN$5,0)","v":0},{"$f":"IF($I212=1,CN212*GO$5,0)","v":0},{"$f":"IF($I212=1,CO212*GP$5,0)","v":0},{"$f":"IF($I212=1,CP212*GQ$5,0)","v":0},{"$f":"IF($I212=1,CQ212*GR$5,0)","v":0},{"$f":"IF($I212=1,CR212*GS$5,0)","v":0},{"$f":"IF($I212=1,CS212*GT$5,0)","v":0},{"$f":"IF($I212=1,CT212*GU$5,0)","v":0},{"$f":"IF($I212=1,CU212*GV$5,0)","v":0},{"$f":"IF($I212=1,CV212*GW$5,0)","v":0},{"$f":"IF($I212=1,CW212*GX$5,0)","v":0},{"$f":"IF($I212=1,CX212*GY$5,0)","v":0},{"$f":"IF($I212=1,CY212*GZ$5,0)","v":0},{"$f":"IF($I212=1,CZ212*HA$5,0)","v":0},{"$f":"IF($I212=1,DA212*HB$5,0)","v":0},{"$f":"IF($I212=1,DB212*HC$5,0)","v":0},{"$f":"IF($I212=1,DC212*HD$5,0)","v":0},{"$f":"IF($I212=1,DD212*HE$5,0)","v":0},{"$f":"IF($I212=1,DE212*HF$5,0)","v":0},{"$f":"IF($I212=1,DF212*HG$5,0)","v":0},{"$f":"IF($I212=1,DG212*HH$5,0)","v":0},{"$f":"IF($I212=1,DH212*HI$5,0)","v":0},{"$f":"IF($I212=1,DI212*HJ$5,0)","v":0},{"$f":"IF($I212=1,DJ212*HK$5,0)","v":0},{"$f":"IF($I212=1,DK212*HL$5,0)","v":0},{"$f":"IF($I212=1,DL212*HM$5,0)","v":0},{"$f":"IF($I212=1,DM212*HN$5,0)","v":0},{"$f":"IF($I212=1,DN212*HO$5,0)","v":0},{"$f":"IF($I212=1,DO212*HP$5,0)","v":0},{"$f":"IF($I212=1,DP212*HQ$5,0)","v":0},{"$f":"IF($I212=1,DQ212*HR$5,0)","v":0},{"$f":"IF($I212=1,DR212*HS$5,0)","v":0},{"$f":"IF($I212=1,DS212*HT$5,0)","v":0},{"$f":"IF($I212=1,DT212*HU$5,0)","v":0},{"$f":"IF($I212=1,DU212*HV$5,0)","v":0},{"$f":"IF($I212=1,DV212*HW$5,0)","v":0},{"$f":"IF($I212=1,DW212*HX$5,0)","v":0},{"$f":"IF($I212=1,DX212*HY$5,0)","v":0},{"$f":"IF($I212=1,DY212*HZ$5,0)","v":0},{"$f":"IF($I212=1,DZ212*IA$5,0)","v":0},{"$f":"IF($I212=1,EA212*IB$5,0)","v":0},{"$f":"IF($I212=1,EB212*IC$5,0)","v":0},{"$f":"IF($I212=1,EC212*ID$5,0)","v":0},{"$f":"IF($I212=1,ED212*IE$5,0)","v":0},{"$f":"IF($I212=1,EE212*IF$5,0)","v":0},{"$f":"IF($I212=1,EF212*IG$5,0)","v":0},{"$f":"IF($I212=1,EG212*IH$5,0)","v":0},{"$f":"IF($I212=1,EH212*II$5,0)","v":0},{"$f":"IF($I212=1,EI212*IJ$5,0)","v":0},{"$f":"IF($I212=1,EJ212*IK$5,0)","v":0},{"$f":"IF($I212=1,EK212*IL$5,0)","v":0},{"$f":"IF($I212=1,EL212*IM$5,0)","v":0},{"$f":"IF($I212=1,EM212*IN$5,0)","v":0},{"$f":"IF($I212=1,EN212*IO$5,0)","v":0},{"$f":"IF($I212=1,EO212*IP$5,0)","v":0},{"$f":"IF($I212=1,EP212*IQ$5,0)","v":0},{"$f":"IF($I212=1,EQ212*IR$5,0)","v":0},{"$f":"IF($I212=1,ER212*IS$5,0)","v":0},{"$f":"IF($I212=1,ES212*IT$5,0)","v":0},{"$f":"IF($I212=1,ET212*IU$5,0)","v":0},{"$f":"IF($I212=1,EU212*IV$5,0)","v":0},{"$f":"IF($I212=1,EV212*IW$5,0)","v":0},{"$f":"IF($I212=1,EW212*IX$5,0)","v":0},{"$f":"IF($I212=1,EX212*IY$5,0)","v":0},{"$f":"IF($I212=1,EY212*IZ$5,0)","v":0},0,{"$f":"IF($I212=1,IF(FA212<>\"\",JB$5,0),0)","v":0},{"$f":"IF($I212=1,FB212*JC$5,0)","v":0},{"$f":"IF($I212=1,FC212*JD$5,0)","v":0},{"$f":"SUM(GI212:JD212)","v":0},{"$f":"IF(G212=1,SUMIF($C$13:$C$350,C212,$JE$13:$JE$350),0)","v":0},{"$f":"IF(G212=1,SUMIF($C$13:$C$350,C212,$I$13:$I$350),0)","v":0},{"$f":"IF(JG212>0,JF212/JG212,0)","v":0},0,"","","","","","","","","","","","","","","","○",0,0,0,0,0,0,0,"○",0,0,0,"○","○",null,0,0]
[0,0,0,0,0,0,0,0,0,0,202,null,null,null,null,{"$f":"IF(O214<>\"\",VLOOKUP(O214,整理番号表!$Z$17:$AA$20,2,FALSE),)","v":0},0,null,null,null,null,null,{"$f":"IF(V214<>0,VLOOKUP(V214,整理番号表!$B$6:$L$13,2,FALSE),)","v":0},0,{"$f":"IF(X214<>0,VLOOKUP(X214,整理番号表!$B$16:$C$18,2,FALSE),)","v":0},null,{"$f":"IF(Z214<>0,VLOOKUP(Z214,整理番号表!$B$22:$C$29,2,FALSE),)","v":0},null,null,{"$f":"IF(AC214<>0,VLOOKUP(AC214,整理番号表!$B$32:$G$60,2,FALSE),)","v":0},null,{"$f":"IF(AE214<>0,VLOOKUP(AE214,整理番号表!$P$5:$R$39,2,FALSE),)","v":0},null,0,null,null,{"$f":"IF(AJ214<>\"\",VLOOKUP(AJ214,整理番号表!$Z$6:$AA$14,2,FALSE),\"\")","v":""},0,null,null,null,null,null,{"$f":"IF(AQ214<>0,VLOOKUP(AQ214,整理番号表!$P$43:$Q$49,2,FALSE),)","v":0},null,null,null,null,0,0,null,0,null,null,null,0,0,0,null,null,0,0,null,{"$f":"IF(BK214<>0,VLOOKUP(BK214,整理番号表!$T$5:$U$16,2,FALSE),)","v":0},null,{"$f":"IF(BM214<>0,VLOOKUP(BM214,整理番号表!$T$22:$U$30,2,FALSE),)","v":0},null,0,"",null,null,null,null,null,"",0,null,null,null,null,null,null,null,null,null,0,0,0,0,0,0,0,0,0,0,0,0,0,0,0,0,0,0,0,0,0,0,0,0,0,0,0,0,null,null,null,null,null,0,0,0,0,0,0,null,0,null,null,null,null,null,null,null,0,null,null,null,null,null,null,null,null,null,null,null,null,null,null,null,null,null,null,null,null,null,null,null,null,null,null,0,0,null,null,0,0,0,{"$f":"IF(OR(AND(1<=$FK214,$FK214<=3),$FK214=6),VLOOKUP($FK214,整理番号表!$B$32:$G$60,2,FALSE),)","v":0},{"$f":"IF(OR($FK214=4,$FK214=7),VLOOKUP($FK214,整理番号表!$B$32:$G$60,2,FALSE),)","v":0},{"$f":"IF($FK214=5,VLOOKUP($FK214,整理番号表!$B$32:$G$60,2,FALSE),)","v":0},{"$f":"IF(AND(8<=$FK214,$FK214<=13),VLOOKUP($FK214,整理番号表!$B$32:$G$60,2,FALSE),)","v":0},0,0,{"$f":"IF(AND(FE214<>1,$FP214=1,SUM($FQ214:FQ214)=0,$FF214=1,$FI214>=2),1,)","v":0},{"$f":"IF(AND(FE214<>1,$FP214=1,SUM($FQ214:FR214)=0,OR(AND($FF214=1,$FI214>0),$FI214>=4)),1,)","v":0},{"$f":"IF(AND(FE214<>1,$FP214=1,SUM($FQ214:FS214)=0,OR($FF214=1,$FI214>=2)),1,)","v":0},{"$f":"IF(AND(FE214<>1,$FP214=1,SUM($FQ214:FT214)=0,$FI214>0),1,)","v":0},0,0,{"$f":"IF(AND(FE214<>1,$FP214=2,SUM($FW214:FW214)=0,$FF214=1,$FJ214>=0.1),1,)","v":0},{"$f":"IF(AND(FE214<>1,$FP214=2,SUM($FW214:FX214)=0,OR(AND($FF214=1,$FI214>0),$FJ214>=0.2)),1,)","v":0},{"$f":"IF(AND(FE214<>1,$FP214=2,SUM($FW214:FY214)=0,OR($FF214=1,$FJ214>=0.1)),1,)","v":0},{"$f":"IF(AND(FE214<>1,$FP214=2,SUM($FW214:FZ214)=0,$FI214>0),1,)","v":0},0,{"$f":"IF(AND(FE214<>1,$FP214=3,SUM($GB214:GB214)=0,AND($FF214=1,$FJ214>=0.05)),1,)","v":0},{"$f":"IF(AND(FE214<>1,$FP214=3,SUM($GB214:GC214)=0,OR(AND($FF214=1,$FI214>0),$FJ214>=0.1)),1,)","v":0},{"$f":"IF(AND(FE214<>1,$FP214=3,SUM($GB214:GD214)=0,OR($FF214=1,$FJ214>=0.05)),1,)","v":0},{"$f":"IF(AND(FE214<>1,$FP214=3,SUM($GB214:GE214)=0,$FI214>0),1,)","v":0},0,null,0,0,0,0,0,0,0,0,0,0,0,0,0,0,0,0,0,0,0,0,0,0,0,0,0,0,0,0,0,0,0,0,0,0,0,0,0,0,0,0,0,0,0,0,0,0,0,0,0,0,0,0,0,0,0,0,0,0,0,0,0,0,0,0,0,0,0,0,0,0,0,0,0,0,0,0,0,0,0,"","","","","","","","","","","","","","","","○",0,0,0,0,0,0,0,"○",0,0,0,"○","○",null,0,0]
[0,0,0,0,0,0,0,0,0,0,203,null,null,null,null,{"$f":"IF(O215<>\"\",VLOOKUP(O215,整理番号表!$Z$17:$AA$20,2,FALSE),)","v":0},0,null,null,null,null,null,{"$f":"IF(V215<>0,VLOOKUP(V215,整理番号表!$B$6:$L$13,2,FALSE),)","v":0},0,{"$f":"IF(X215<>0,VLOOKUP(X215,整理番号表!$B$16:$C$18,2,FALSE),)","v":0},null,{"$f":"IF(Z215<>0,VLOOKUP(Z215,整理番号表!$B$22:$C$29,2,FALSE),)","v":0},null,null,{"$f":"IF(AC215<>0,VLOOKUP(AC215,整理番号表!$B$32:$G$60,2,FALSE),)","v":0},null,{"$f":"IF(AE215<>0,VLOOKUP(AE215,整理番号表!$P$5:$R$39,2,FALSE),)","v":0},null,0,null,null,{"$f":"IF(AJ215<>\"\",VLOOKUP(AJ215,整理番号表!$Z$6:$AA$14,2,FALSE),\"\")","v":""},0,null,null,null,null,null,{"$f":"IF(AQ215<>0,VLOOKUP(AQ215,整理番号表!$P$43:$Q$49,2,FALSE),)","v":0},null,null,null,null,0,0,null,0,null,null,null,0,0,0,null,null,0,0,null,{"$f":"IF(BK215<>0,VLOOKUP(BK215,整理番号表!$T$5:$U$16,2,FALSE),)","v":0},null,{"$f":"IF(BM215<>0,VLOOKUP(BM215,整理番号表!$T$22:$U$30,2,FALSE),)","v":0},null,0,"",null,null,null,null,null,"",0,null,null,null,null,null,null,null,null,null,0,0,0,0,0,0,0,0,0,0,0,0,0,0,0,0,0,0,0,0,0,0,0,0,0,0,0,0,null,null,null,null,null,0,0,0,0,0,0,null,0,null,null,null,null,null,null,null,0,null,null,null,null,null,null,null,null,null,null,null,null,null,null,null,null,null,null,null,null,null,null,null,null,null,null,0,0,null,null,0,0,0,{"$f":"IF(OR(AND(1<=$FK215,$FK215<=3),$FK215=6),VLOOKUP($FK215,整理番号表!$B$32:$G$60,2,FALSE),)","v":0},{"$f":"IF(OR($FK215=4,$FK215=7),VLOOKUP($FK215,整理番号表!$B$32:$G$60,2,FALSE),)","v":0},{"$f":"IF($FK215=5,VLOOKUP($FK215,整理番号表!$B$32:$G$60,2,FALSE),)","v":0},{"$f":"IF(AND(8<=$FK215,$FK215<=13),VLOOKUP($FK215,整理番号表!$B$32:$G$60,2,FALSE),)","v":0},0,0,{"$f":"IF(AND(FE215<>1,$FP215=1,SUM($FQ215:FQ215)=0,$FF215=1,$FI215>=2),1,)","v":0},{"$f":"IF(AND(FE215<>1,$FP215=1,SUM($FQ215:FR215)=0,OR(AND($FF215=1,$FI215>0),$FI215>=4)),1,)","v":0},{"$f":"IF(AND(FE215<>1,$FP215=1,SUM($FQ215:FS215)=0,OR($FF215=1,$FI215>=2)),1,)","v":0},{"$f":"IF(AND(FE215<>1,$FP215=1,SUM($FQ215:FT215)=0,$FI215>0),1,)","v":0},0,0,{"$f":"IF(AND(FE215<>1,$FP215=2,SUM($FW215:FW215)=0,$FF215=1,$FJ215>=0.1),1,)","v":0},{"$f":"IF(AND(FE215<>1,$FP215=2,SUM($FW215:FX215)=0,OR(AND($FF215=1,$FI215>0),$FJ215>=0.2)),1,)","v":0},{"$f":"IF(AND(FE215<>1,$FP215=2,SUM($FW215:FY215)=0,OR($FF215=1,$FJ215>=0.1)),1,)","v":0},{"$f":"IF(AND(FE215<>1,$FP215=2,SUM($FW215:FZ215)=0,$FI215>0),1,)","v":0},0,{"$f":"IF(AND(FE215<>1,$FP215=3,SUM($GB215:GB215)=0,AND($FF215=1,$FJ215>=0.05)),1,)","v":0},{"$f":"IF(AND(FE215<>1,$FP215=3,SUM($GB215:GC215)=0,OR(AND($FF215=1,$FI215>0),$FJ215>=0.1)),1,)","v":0},{"$f":"IF(AND(FE215<>1,$FP215=3,SUM($GB215:GD215)=0,OR($FF215=1,$FJ215>=0.05)),1,)","v":0},{"$f":"IF(AND(FE215<>1,$FP215=3,SUM($GB215:GE215)=0,$FI215>0),1,)","v":0},0,null,0,0,0,0,0,0,0,0,0,0,0,0,0,0,0,0,0,0,0,0,0,0,0,0,0,0,0,0,0,0,0,0,0,0,0,0,0,0,0,0,0,0,0,0,0,0,0,0,0,0,0,0,0,0,0,0,0,0,0,0,0,0,0,0,0,0,0,0,0,0,0,0,0,0,0,0,0,0,0,"","","","","","","","","","","","","","","","○",0,0,0,0,0,0,0,"○",0,0,0,"○","○",null,0,0]
[0,0,0,0,0,0,0,0,0,0,205,null,null,null,null,{"$f":"IF(O217<>\"\",VLOOKUP(O217,整理番号表!$Z$17:$AA$20,2,FALSE),)","v":0},0,null,null,null,null,null,{"$f":"IF(V217<>0,VLOOKUP(V217,整理番号表!$B$6:$L$13,2,FALSE),)","v":0},0,{"$f":"IF(X217<>0,VLOOKUP(X217,整理番号表!$B$16:$C$18,2,FALSE),)","v":0},null,{"$f":"IF(Z217<>0,VLOOKUP(Z217,整理番号表!$B$22:$C$29,2,FALSE),)","v":0},null,null,{"$f":"IF(AC217<>0,VLOOKUP(AC217,整理番号表!$B$32:$G$60,2,FALSE),)","v":0},null,{"$f":"IF(AE217<>0,VLOOKUP(AE217,整理番号表!$P$5:$R$39,2,FALSE),)","v":0},null,0,null,null,{"$f":"IF(AJ217<>\"\",VLOOKUP(AJ217,整理番号表!$Z$6:$AA$14,2,FALSE),\"\")","v":""},0,null,null,null,null,null,{"$f":"IF(AQ217<>0,VLOOKUP(AQ217,整理番号表!$P$43:$Q$49,2,FALSE),)","v":0},null,null,null,null,0,0,null,0,null,null,null,0,0,0,null,null,0,0,null,{"$f":"IF(BK217<>0,VLOOKUP(BK217,整理番号表!$T$5:$U$16,2,FALSE),)","v":0},null,{"$f":"IF(BM217<>0,VLOOKUP(BM217,整理番号表!$T$22:$U$30,2,FALSE),)","v":0},null,0,"",null,null,null,null,null,"",0,null,null,null,null,null,null,null,null,null,0,0,0,0,0,0,0,0,0,0,0,0,0,0,0,0,0,0,0,0,0,0,0,0,0,0,0,0,null,null,null,null,null,0,0,0,0,0,0,null,0,null,null,null,null,null,null,null,0,null,null,null,null,null,null,null,null,null,null,null,null,null,null,null,null,null,null,null,null,null,null,null,null,null,null,0,0,null,null,0,0,0,{"$f":"IF(OR(AND(1<=$FK217,$FK217<=3),$FK217=6),VLOOKUP($FK217,整理番号表!$B$32:$G$60,2,FALSE),)","v":0},{"$f":"IF(OR($FK217=4,$FK217=7),VLOOKUP($FK217,整理番号表!$B$32:$G$60,2,FALSE),)","v":0},{"$f":"IF($FK217=5,VLOOKUP($FK217,整理番号表!$B$32:$G$60,2,FALSE),)","v":0},{"$f":"IF(AND(8<=$FK217,$FK217<=13),VLOOKUP($FK217,整理番号表!$B$32:$G$60,2,FALSE),)","v":0},0,0,{"$f":"IF(AND(FE217<>1,$FP217=1,SUM($FQ217:FQ217)=0,$FF217=1,$FI217>=2),1,)","v":0},{"$f":"IF(AND(FE217<>1,$FP217=1,SUM($FQ217:FR217)=0,OR(AND($FF217=1,$FI217>0),$FI217>=4)),1,)","v":0},{"$f":"IF(AND(FE217<>1,$FP217=1,SUM($FQ217:FS217)=0,OR($FF217=1,$FI217>=2)),1,)","v":0},{"$f":"IF(AND(FE217<>1,$FP217=1,SUM($FQ217:FT217)=0,$FI217>0),1,)","v":0},0,0,{"$f":"IF(AND(FE217<>1,$FP217=2,SUM($FW217:FW217)=0,$FF217=1,$FJ217>=0.1),1,)","v":0},{"$f":"IF(AND(FE217<>1,$FP217=2,SUM($FW217:FX217)=0,OR(AND($FF217=1,$FI217>0),$FJ217>=0.2)),1,)","v":0},{"$f":"IF(AND(FE217<>1,$FP217=2,SUM($FW217:FY217)=0,OR($FF217=1,$FJ217>=0.1)),1,)","v":0},{"$f":"IF(AND(FE217<>1,$FP217=2,SUM($FW217:FZ217)=0,$FI217>0),1,)","v":0},0,{"$f":"IF(AND(FE217<>1,$FP217=3,SUM($GB217:GB217)=0,AND($FF217=1,$FJ217>=0.05)),1,)","v":0},{"$f":"IF(AND(FE217<>1,$FP217=3,SUM($GB217:GC217)=0,OR(AND($FF217=1,$FI217>0),$FJ217>=0.1)),1,)","v":0},{"$f":"IF(AND(FE217<>1,$FP217=3,SUM($GB217:GD217)=0,OR($FF217=1,$FJ217>=0.05)),1,)","v":0},{"$f":"IF(AND(FE217<>1,$FP217=3,SUM($GB217:GE217)=0,$FI217>0),1,)","v":0},0,null,0,0,0,0,0,0,0,0,0,0,0,0,0,0,0,0,0,0,0,0,0,0,0,0,0,0,0,0,0,0,0,0,0,0,0,0,0,0,0,0,0,0,0,0,0,0,0,0,0,0,0,0,0,0,0,0,0,0,0,0,0,0,0,0,0,0,0,0,0,0,0,0,0,0,0,0,0,0,0,"","","","","","","","","","","","","","","","○",0,0,0,0,0,0,0,"○",0,0,0,"○","○",null,0,0]
[0,0,0,0,0,0,0,0,0,0,206,null,null,null,null,{"$f":"IF(O218<>\"\",VLOOKUP(O218,整理番号表!$Z$17:$AA$20,2,FALSE),)","v":0},0,null,null,null,null,null,{"$f":"IF(V218<>0,VLOOKUP(V218,整理番号表!$B$6:$L$13,2,FALSE),)","v":0},0,{"$f":"IF(X218<>0,VLOOKUP(X218,整理番号表!$B$16:$C$18,2,FALSE),)","v":0},null,{"$f":"IF(Z218<>0,VLOOKUP(Z218,整理番号表!$B$22:$C$29,2,FALSE),)","v":0},null,null,{"$f":"IF(AC218<>0,VLOOKUP(AC218,整理番号表!$B$32:$G$60,2,FALSE),)","v":0},null,{"$f":"IF(AE218<>0,VLOOKUP(AE218,整理番号表!$P$5:$R$39,2,FALSE),)","v":0},null,0,null,null,{"$f":"IF(AJ218<>\"\",VLOOKUP(AJ218,整理番号表!$Z$6:$AA$14,2,FALSE),\"\")","v":""},0,null,null,null,null,null,{"$f":"IF(AQ218<>0,VLOOKUP(AQ218,整理番号表!$P$43:$Q$49,2,FALSE),)","v":0},null,null,null,null,0,0,null,0,null,null,null,0,0,0,null,null,0,0,null,{"$f":"IF(BK218<>0,VLOOKUP(BK218,整理番号表!$T$5:$U$16,2,FALSE),)","v":0},null,{"$f":"IF(BM218<>0,VLOOKUP(BM218,整理番号表!$T$22:$U$30,2,FALSE),)","v":0},null,0,"",null,null,null,null,null,"",0,null,null,null,null,null,null,null,null,null,0,0,0,0,0,0,0,0,0,0,0,0,0,0,0,0,0,0,0,0,0,0,0,0,0,0,0,0,null,null,null,null,null,0,0,0,0,0,0,null,0,null,null,null,null,null,null,null,0,null,null,null,null,null,null,null,null,null,null,null,null,null,null,null,null,null,null,null,null,null,null,null,null,null,null,0,0,null,null,0,0,0,{"$f":"IF(OR(AND(1<=$FK218,$FK218<=3),$FK218=6),VLOOKUP($FK218,整理番号表!$B$32:$G$60,2,FALSE),)","v":0},{"$f":"IF(OR($FK218=4,$FK218=7),VLOOKUP($FK218,整理番号表!$B$32:$G$60,2,FALSE),)","v":0},{"$f":"IF($FK218=5,VLOOKUP($FK218,整理番号表!$B$32:$G$60,2,FALSE),)","v":0},{"$f":"IF(AND(8<=$FK218,$FK218<=13),VLOOKUP($FK218,整理番号表!$B$32:$G$60,2,FALSE),)","v":0},0,0,{"$f":"IF(AND(FE218<>1,$FP218=1,SUM($FQ218:FQ218)=0,$FF218=1,$FI218>=2),1,)","v":0},{"$f":"IF(AND(FE218<>1,$FP218=1,SUM($FQ218:FR218)=0,OR(AND($FF218=1,$FI218>0),$FI218>=4)),1,)","v":0},{"$f":"IF(AND(FE218<>1,$FP218=1,SUM($FQ218:FS218)=0,OR($FF218=1,$FI218>=2)),1,)","v":0},{"$f":"IF(AND(FE218<>1,$FP218=1,SUM($FQ218:FT218)=0,$FI218>0),1,)","v":0},0,0,{"$f":"IF(AND(FE218<>1,$FP218=2,SUM($FW218:FW218)=0,$FF218=1,$FJ218>=0.1),1,)","v":0},{"$f":"IF(AND(FE218<>1,$FP218=2,SUM($FW218:FX218)=0,OR(AND($FF218=1,$FI218>0),$FJ218>=0.2)),1,)","v":0},{"$f":"IF(AND(FE218<>1,$FP218=2,SUM($FW218:FY218)=0,OR($FF218=1,$FJ218>=0.1)),1,)","v":0},{"$f":"IF(AND(FE218<>1,$FP218=2,SUM($FW218:FZ218)=0,$FI218>0),1,)","v":0},0,{"$f":"IF(AND(FE218<>1,$FP218=3,SUM($GB218:GB218)=0,AND($FF218=1,$FJ218>=0.05)),1,)","v":0},{"$f":"IF(AND(FE218<>1,$FP218=3,SUM($GB218:GC218)=0,OR(AND($FF218=1,$FI218>0),$FJ218>=0.1)),1,)","v":0},{"$f":"IF(AND(FE218<>1,$FP218=3,SUM($GB218:GD218)=0,OR($FF218=1,$FJ218>=0.05)),1,)","v":0},{"$f":"IF(AND(FE218<>1,$FP218=3,SUM($GB218:GE218)=0,$FI218>0),1,)","v":0},0,null,0,0,0,0,0,0,0,0,0,0,0,0,0,0,0,0,0,0,0,0,0,0,0,0,0,0,0,0,0,0,0,0,0,0,0,0,0,0,0,0,0,0,0,0,0,0,0,0,0,0,0,0,0,0,0,0,0,0,0,0,0,0,0,0,0,0,0,0,0,0,0,0,0,0,0,0,0,0,0,"","","","","","","","","","","","","","","","○",0,0,0,0,0,0,0,"○",0,0,0,"○","○",null,0,0]
[0,0,0,0,0,0,0,0,0,0,208,null,null,null,null,{"$f":"IF(O220<>\"\",VLOOKUP(O220,整理番号表!$Z$17:$AA$20,2,FALSE),)","v":0},0,null,null,null,null,null,{"$f":"IF(V220<>0,VLOOKUP(V220,整理番号表!$B$6:$L$13,2,FALSE),)","v":0},0,{"$f":"IF(X220<>0,VLOOKUP(X220,整理番号表!$B$16:$C$18,2,FALSE),)","v":0},null,{"$f":"IF(Z220<>0,VLOOKUP(Z220,整理番号表!$B$22:$C$29,2,FALSE),)","v":0},null,null,{"$f":"IF(AC220<>0,VLOOKUP(AC220,整理番号表!$B$32:$G$60,2,FALSE),)","v":0},null,{"$f":"IF(AE220<>0,VLOOKUP(AE220,整理番号表!$P$5:$R$39,2,FALSE),)","v":0},null,0,null,null,{"$f":"IF(AJ220<>\"\",VLOOKUP(AJ220,整理番号表!$Z$6:$AA$14,2,FALSE),\"\")","v":""},0,null,null,null,null,null,{"$f":"IF(AQ220<>0,VLOOKUP(AQ220,整理番号表!$P$43:$Q$49,2,FALSE),)","v":0},null,null,null,null,0,0,null,0,null,null,null,0,0,0,null,null,0,0,null,{"$f":"IF(BK220<>0,VLOOKUP(BK220,整理番号表!$T$5:$U$16,2,FALSE),)","v":0},null,{"$f":"IF(BM220<>0,VLOOKUP(BM220,整理番号表!$T$22:$U$30,2,FALSE),)","v":0},null,0,"",null,null,null,null,null,"",0,null,null,null,null,null,null,null,null,null,0,0,0,0,0,0,0,0,0,0,0,0,0,0,0,0,0,0,0,0,0,0,0,0,0,0,0,0,null,null,null,null,null,0,0,0,0,0,0,null,0,null,null,null,null,null,null,null,0,null,null,null,null,null,null,null,null,null,null,null,null,null,null,null,null,null,null,null,null,null,null,null,null,null,null,0,0,null,null,0,0,0,{"$f":"IF(OR(AND(1<=$FK220,$FK220<=3),$FK220=6),VLOOKUP($FK220,整理番号表!$B$32:$G$60,2,FALSE),)","v":0},{"$f":"IF(OR($FK220=4,$FK220=7),VLOOKUP($FK220,整理番号表!$B$32:$G$60,2,FALSE),)","v":0},{"$f":"IF($FK220=5,VLOOKUP($FK220,整理番号表!$B$32:$G$60,2,FALSE),)","v":0},{"$f":"IF(AND(8<=$FK220,$FK220<=13),VLOOKUP($FK220,整理番号表!$B$32:$G$60,2,FALSE),)","v":0},0,0,{"$f":"IF(AND(FE220<>1,$FP220=1,SUM($FQ220:FQ220)=0,$FF220=1,$FI220>=2),1,)","v":0},{"$f":"IF(AND(FE220<>1,$FP220=1,SUM($FQ220:FR220)=0,OR(AND($FF220=1,$FI220>0),$FI220>=4)),1,)","v":0},{"$f":"IF(AND(FE220<>1,$FP220=1,SUM($FQ220:FS220)=0,OR($FF220=1,$FI220>=2)),1,)","v":0},{"$f":"IF(AND(FE220<>1,$FP220=1,SUM($FQ220:FT220)=0,$FI220>0),1,)","v":0},0,0,{"$f":"IF(AND(FE220<>1,$FP220=2,SUM($FW220:FW220)=0,$FF220=1,$FJ220>=0.1),1,)","v":0},{"$f":"IF(AND(FE220<>1,$FP220=2,SUM($FW220:FX220)=0,OR(AND($FF220=1,$FI220>0),$FJ220>=0.2)),1,)","v":0},{"$f":"IF(AND(FE220<>1,$FP220=2,SUM($FW220:FY220)=0,OR($FF220=1,$FJ220>=0.1)),1,)","v":0},{"$f":"IF(AND(FE220<>1,$FP220=2,SUM($FW220:FZ220)=0,$FI220>0),1,)","v":0},0,{"$f":"IF(AND(FE220<>1,$FP220=3,SUM($GB220:GB220)=0,AND($FF220=1,$FJ220>=0.05)),1,)","v":0},{"$f":"IF(AND(FE220<>1,$FP220=3,SUM($GB220:GC220)=0,OR(AND($FF220=1,$FI220>0),$FJ220>=0.1)),1,)","v":0},{"$f":"IF(AND(FE220<>1,$FP220=3,SUM($GB220:GD220)=0,OR($FF220=1,$FJ220>=0.05)),1,)","v":0},{"$f":"IF(AND(FE220<>1,$FP220=3,SUM($GB220:GE220)=0,$FI220>0),1,)","v":0},0,null,0,0,0,0,0,0,0,0,0,0,0,0,0,0,0,0,0,0,0,0,0,0,0,0,0,0,0,0,0,0,0,0,0,0,0,0,0,0,0,0,0,0,0,0,0,0,0,0,0,0,0,0,0,0,0,0,0,0,0,0,0,0,0,0,0,0,0,0,0,0,0,0,0,0,0,0,0,0,0,"","","","","","","","","","","","","","","","○",0,0,0,0,0,0,0,"○",0,0,0,"○","○",null,0,0]
[0,0,0,0,0,0,0,0,0,0,209,null,null,null,null,{"$f":"IF(O221<>\"\",VLOOKUP(O221,整理番号表!$Z$17:$AA$20,2,FALSE),)","v":0},0,null,null,null,null,null,{"$f":"IF(V221<>0,VLOOKUP(V221,整理番号表!$B$6:$L$13,2,FALSE),)","v":0},0,{"$f":"IF(X221<>0,VLOOKUP(X221,整理番号表!$B$16:$C$18,2,FALSE),)","v":0},null,{"$f":"IF(Z221<>0,VLOOKUP(Z221,整理番号表!$B$22:$C$29,2,FALSE),)","v":0},null,null,{"$f":"IF(AC221<>0,VLOOKUP(AC221,整理番号表!$B$32:$G$60,2,FALSE),)","v":0},null,{"$f":"IF(AE221<>0,VLOOKUP(AE221,整理番号表!$P$5:$R$39,2,FALSE),)","v":0},null,0,null,null,{"$f":"IF(AJ221<>\"\",VLOOKUP(AJ221,整理番号表!$Z$6:$AA$14,2,FALSE),\"\")","v":""},0,null,null,null,null,null,{"$f":"IF(AQ221<>0,VLOOKUP(AQ221,整理番号表!$P$43:$Q$49,2,FALSE),)","v":0},null,null,null,null,0,0,null,0,null,null,null,0,0,0,null,null,0,0,null,{"$f":"IF(BK221<>0,VLOOKUP(BK221,整理番号表!$T$5:$U$16,2,FALSE),)","v":0},null,{"$f":"IF(BM221<>0,VLOOKUP(BM221,整理番号表!$T$22:$U$30,2,FALSE),)","v":0},null,0,"",null,null,null,null,null,"",0,null,null,null,null,null,null,null,null,null,0,0,0,0,0,0,0,0,0,0,0,0,0,0,0,0,0,0,0,0,0,0,0,0,0,0,0,0,null,null,null,null,null,0,0,0,0,0,0,null,0,null,null,null,null,null,null,null,0,null,null,null,null,null,null,null,null,null,null,null,null,null,null,null,null,null,null,null,null,null,null,null,null,null,null,0,0,null,null,0,0,0,{"$f":"IF(OR(AND(1<=$FK221,$FK221<=3),$FK221=6),VLOOKUP($FK221,整理番号表!$B$32:$G$60,2,FALSE),)","v":0},{"$f":"IF(OR($FK221=4,$FK221=7),VLOOKUP($FK221,整理番号表!$B$32:$G$60,2,FALSE),)","v":0},{"$f":"IF($FK221=5,VLOOKUP($FK221,整理番号表!$B$32:$G$60,2,FALSE),)","v":0},{"$f":"IF(AND(8<=$FK221,$FK221<=13),VLOOKUP($FK221,整理番号表!$B$32:$G$60,2,FALSE),)","v":0},0,0,{"$f":"IF(AND(FE221<>1,$FP221=1,SUM($FQ221:FQ221)=0,$FF221=1,$FI221>=2),1,)","v":0},{"$f":"IF(AND(FE221<>1,$FP221=1,SUM($FQ221:FR221)=0,OR(AND($FF221=1,$FI221>0),$FI221>=4)),1,)","v":0},{"$f":"IF(AND(FE221<>1,$FP221=1,SUM($FQ221:FS221)=0,OR($FF221=1,$FI221>=2)),1,)","v":0},{"$f":"IF(AND(FE221<>1,$FP221=1,SUM($FQ221:FT221)=0,$FI221>0),1,)","v":0},0,0,{"$f":"IF(AND(FE221<>1,$FP221=2,SUM($FW221:FW221)=0,$FF221=1,$FJ221>=0.1),1,)","v":0},{"$f":"IF(AND(FE221<>1,$FP221=2,SUM($FW221:FX221)=0,OR(AND($FF221=1,$FI221>0),$FJ221>=0.2)),1,)","v":0},{"$f":"IF(AND(FE221<>1,$FP221=2,SUM($FW221:FY221)=0,OR($FF221=1,$FJ221>=0.1)),1,)","v":0},{"$f":"IF(AND(FE221<>1,$FP221=2,SUM($FW221:FZ221)=0,$FI221>0),1,)","v":0},0,{"$f":"IF(AND(FE221<>1,$FP221=3,SUM($GB221:GB221)=0,AND($FF221=1,$FJ221>=0.05)),1,)","v":0},{"$f":"IF(AND(FE221<>1,$FP221=3,SUM($GB221:GC221)=0,OR(AND($FF221=1,$FI221>0),$FJ221>=0.1)),1,)","v":0},{"$f":"IF(AND(FE221<>1,$FP221=3,SUM($GB221:GD221)=0,OR($FF221=1,$FJ221>=0.05)),1,)","v":0},{"$f":"IF(AND(FE221<>1,$FP221=3,SUM($GB221:GE221)=0,$FI221>0),1,)","v":0},0,null,0,0,0,0,0,0,0,0,0,0,0,0,0,0,0,0,0,0,0,0,0,0,0,0,0,0,0,0,0,0,0,0,0,0,0,0,0,0,0,0,0,0,0,0,0,0,0,0,0,0,0,0,0,0,0,0,0,0,0,0,0,0,0,0,0,0,0,0,0,0,0,0,0,0,0,0,0,0,0,"","","","","","","","","","","","","","","","○",0,0,0,0,0,0,0,"○",0,0,0,"○","○",null,0,0]
[0,0,0,0,0,0,0,0,0,0,211,null,null,null,null,{"$f":"IF(O223<>\"\",VLOOKUP(O223,整理番号表!$Z$17:$AA$20,2,FALSE),)","v":0},0,null,null,null,null,null,{"$f":"IF(V223<>0,VLOOKUP(V223,整理番号表!$B$6:$L$13,2,FALSE),)","v":0},0,{"$f":"IF(X223<>0,VLOOKUP(X223,整理番号表!$B$16:$C$18,2,FALSE),)","v":0},null,{"$f":"IF(Z223<>0,VLOOKUP(Z223,整理番号表!$B$22:$C$29,2,FALSE),)","v":0},null,null,{"$f":"IF(AC223<>0,VLOOKUP(AC223,整理番号表!$B$32:$G$60,2,FALSE),)","v":0},null,{"$f":"IF(AE223<>0,VLOOKUP(AE223,整理番号表!$P$5:$R$39,2,FALSE),)","v":0},null,0,null,null,{"$f":"IF(AJ223<>\"\",VLOOKUP(AJ223,整理番号表!$Z$6:$AA$14,2,FALSE),\"\")","v":""},0,null,null,null,null,null,{"$f":"IF(AQ223<>0,VLOOKUP(AQ223,整理番号表!$P$43:$Q$49,2,FALSE),)","v":0},null,null,null,null,0,0,null,0,null,null,null,0,0,0,null,null,0,0,null,{"$f":"IF(BK223<>0,VLOOKUP(BK223,整理番号表!$T$5:$U$16,2,FALSE),)","v":0},null,{"$f":"IF(BM223<>0,VLOOKUP(BM223,整理番号表!$T$22:$U$30,2,FALSE),)","v":0},null,0,"",null,null,null,null,null,"",0,null,null,null,null,null,null,null,null,null,0,0,0,0,0,0,0,0,0,0,0,0,0,0,0,0,0,0,0,0,0,0,0,0,0,0,0,0,null,null,null,null,null,0,0,0,0,0,0,null,0,null,null,null,null,null,null,null,0,null,null,null,null,null,null,null,null,null,null,null,null,null,null,null,null,null,null,null,null,null,null,null,null,null,null,0,0,null,null,0,0,0,{"$f":"IF(OR(AND(1<=$FK223,$FK223<=3),$FK223=6),VLOOKUP($FK223,整理番号表!$B$32:$G$60,2,FALSE),)","v":0},{"$f":"IF(OR($FK223=4,$FK223=7),VLOOKUP($FK223,整理番号表!$B$32:$G$60,2,FALSE),)","v":0},{"$f":"IF($FK223=5,VLOOKUP($FK223,整理番号表!$B$32:$G$60,2,FALSE),)","v":0},{"$f":"IF(AND(8<=$FK223,$FK223<=13),VLOOKUP($FK223,整理番号表!$B$32:$G$60,2,FALSE),)","v":0},0,0,{"$f":"IF(AND(FE223<>1,$FP223=1,SUM($FQ223:FQ223)=0,$FF223=1,$FI223>=2),1,)","v":0},{"$f":"IF(AND(FE223<>1,$FP223=1,SUM($FQ223:FR223)=0,OR(AND($FF223=1,$FI223>0),$FI223>=4)),1,)","v":0},{"$f":"IF(AND(FE223<>1,$FP223=1,SUM($FQ223:FS223)=0,OR($FF223=1,$FI223>=2)),1,)","v":0},{"$f":"IF(AND(FE223<>1,$FP223=1,SUM($FQ223:FT223)=0,$FI223>0),1,)","v":0},0,0,{"$f":"IF(AND(FE223<>1,$FP223=2,SUM($FW223:FW223)=0,$FF223=1,$FJ223>=0.1),1,)","v":0},{"$f":"IF(AND(FE223<>1,$FP223=2,SUM($FW223:FX223)=0,OR(AND($FF223=1,$FI223>0),$FJ223>=0.2)),1,)","v":0},{"$f":"IF(AND(FE223<>1,$FP223=2,SUM($FW223:FY223)=0,OR($FF223=1,$FJ223>=0.1)),1,)","v":0},{"$f":"IF(AND(FE223<>1,$FP223=2,SUM($FW223:FZ223)=0,$FI223>0),1,)","v":0},0,{"$f":"IF(AND(FE223<>1,$FP223=3,SUM($GB223:GB223)=0,AND($FF223=1,$FJ223>=0.05)),1,)","v":0},{"$f":"IF(AND(FE223<>1,$FP223=3,SUM($GB223:GC223)=0,OR(AND($FF223=1,$FI223>0),$FJ223>=0.1)),1,)","v":0},{"$f":"IF(AND(FE223<>1,$FP223=3,SUM($GB223:GD223)=0,OR($FF223=1,$FJ223>=0.05)),1,)","v":0},{"$f":"IF(AND(FE223<>1,$FP223=3,SUM($GB223:GE223)=0,$FI223>0),1,)","v":0},0,null,0,0,0,0,0,0,0,0,0,0,0,0,0,0,0,0,0,0,0,0,0,0,0,0,0,0,0,0,0,0,0,0,0,0,0,0,0,0,0,0,0,0,0,0,0,0,0,0,0,0,0,0,0,0,0,0,0,0,0,0,0,0,0,0,0,0,0,0,0,0,0,0,0,0,0,0,0,0,0,"","","","","","","","","","","","","","","","○",0,0,0,0,0,0,0,"○",0,0,0,"○","○",null,0,0]
[0,0,0,0,0,0,0,0,0,0,212,null,null,null,null,{"$f":"IF(O224<>\"\",VLOOKUP(O224,整理番号表!$Z$17:$AA$20,2,FALSE),)","v":0},0,null,null,null,null,null,{"$f":"IF(V224<>0,VLOOKUP(V224,整理番号表!$B$6:$L$13,2,FALSE),)","v":0},0,{"$f":"IF(X224<>0,VLOOKUP(X224,整理番号表!$B$16:$C$18,2,FALSE),)","v":0},null,{"$f":"IF(Z224<>0,VLOOKUP(Z224,整理番号表!$B$22:$C$29,2,FALSE),)","v":0},null,null,{"$f":"IF(AC224<>0,VLOOKUP(AC224,整理番号表!$B$32:$G$60,2,FALSE),)","v":0},null,{"$f":"IF(AE224<>0,VLOOKUP(AE224,整理番号表!$P$5:$R$39,2,FALSE),)","v":0},null,0,null,null,{"$f":"IF(AJ224<>\"\",VLOOKUP(AJ224,整理番号表!$Z$6:$AA$14,2,FALSE),\"\")","v":""},0,null,null,null,null,null,{"$f":"IF(AQ224<>0,VLOOKUP(AQ224,整理番号表!$P$43:$Q$49,2,FALSE),)","v":0},null,null,null,null,0,0,null,0,null,null,null,0,0,0,null,null,0,0,null,{"$f":"IF(BK224<>0,VLOOKUP(BK224,整理番号表!$T$5:$U$16,2,FALSE),)","v":0},null,{"$f":"IF(BM224<>0,VLOOKUP(BM224,整理番号表!$T$22:$U$30,2,FALSE),)","v":0},null,0,"",null,null,null,null,null,"",0,null,null,null,null,null,null,null,null,null,0,0,0,0,0,0,0,0,0,0,0,0,0,0,0,0,0,0,0,0,0,0,0,0,0,0,0,0,null,null,null,null,null,0,0,0,0,0,0,null,0,null,null,null,null,null,null,null,0,null,null,null,null,null,null,null,null,null,null,null,null,null,null,null,null,null,null,null,null,null,null,null,null,null,null,0,0,null,null,0,0,0,{"$f":"IF(OR(AND(1<=$FK224,$FK224<=3),$FK224=6),VLOOKUP($FK224,整理番号表!$B$32:$G$60,2,FALSE),)","v":0},{"$f":"IF(OR($FK224=4,$FK224=7),VLOOKUP($FK224,整理番号表!$B$32:$G$60,2,FALSE),)","v":0},{"$f":"IF($FK224=5,VLOOKUP($FK224,整理番号表!$B$32:$G$60,2,FALSE),)","v":0},{"$f":"IF(AND(8<=$FK224,$FK224<=13),VLOOKUP($FK224,整理番号表!$B$32:$G$60,2,FALSE),)","v":0},0,0,{"$f":"IF(AND(FE224<>1,$FP224=1,SUM($FQ224:FQ224)=0,$FF224=1,$FI224>=2),1,)","v":0},{"$f":"IF(AND(FE224<>1,$FP224=1,SUM($FQ224:FR224)=0,OR(AND($FF224=1,$FI224>0),$FI224>=4)),1,)","v":0},{"$f":"IF(AND(FE224<>1,$FP224=1,SUM($FQ224:FS224)=0,OR($FF224=1,$FI224>=2)),1,)","v":0},{"$f":"IF(AND(FE224<>1,$FP224=1,SUM($FQ224:FT224)=0,$FI224>0),1,)","v":0},0,0,{"$f":"IF(AND(FE224<>1,$FP224=2,SUM($FW224:FW224)=0,$FF224=1,$FJ224>=0.1),1,)","v":0},{"$f":"IF(AND(FE224<>1,$FP224=2,SUM($FW224:FX224)=0,OR(AND($FF224=1,$FI224>0),$FJ224>=0.2)),1,)","v":0},{"$f":"IF(AND(FE224<>1,$FP224=2,SUM($FW224:FY224)=0,OR($FF224=1,$FJ224>=0.1)),1,)","v":0},{"$f":"IF(AND(FE224<>1,$FP224=2,SUM($FW224:FZ224)=0,$FI224>0),1,)","v":0},0,{"$f":"IF(AND(FE224<>1,$FP224=3,SUM($GB224:GB224)=0,AND($FF224=1,$FJ224>=0.05)),1,)","v":0},{"$f":"IF(AND(FE224<>1,$FP224=3,SUM($GB224:GC224)=0,OR(AND($FF224=1,$FI224>0),$FJ224>=0.1)),1,)","v":0},{"$f":"IF(AND(FE224<>1,$FP224=3,SUM($GB224:GD224)=0,OR($FF224=1,$FJ224>=0.05)),1,)","v":0},{"$f":"IF(AND(FE224<>1,$FP224=3,SUM($GB224:GE224)=0,$FI224>0),1,)","v":0},0,null,0,0,0,0,0,0,0,0,0,0,0,0,0,0,0,0,0,0,0,0,0,0,0,0,0,0,0,0,0,0,0,0,0,0,0,0,0,0,0,0,0,0,0,0,0,0,0,0,0,0,0,0,0,0,0,0,0,0,0,0,0,0,0,0,0,0,0,0,0,0,0,0,0,0,0,0,0,0,0,"","","","","","","","","","","","","","","","○",0,0,0,0,0,0,0,"○",0,0,0,"○","○",null,0,0]
[0,0,0,0,0,0,0,0,0,0,214,null,null,null,null,{"$f":"IF(O226<>\"\",VLOOKUP(O226,整理番号表!$Z$17:$AA$20,2,FALSE),)","v":0},0,null,null,null,null,null,{"$f":"IF(V226<>0,VLOOKUP(V226,整理番号表!$B$6:$L$13,2,FALSE),)","v":0},0,{"$f":"IF(X226<>0,VLOOKUP(X226,整理番号表!$B$16:$C$18,2,FALSE),)","v":0},null,{"$f":"IF(Z226<>0,VLOOKUP(Z226,整理番号表!$B$22:$C$29,2,FALSE),)","v":0},null,null,{"$f":"IF(AC226<>0,VLOOKUP(AC226,整理番号表!$B$32:$G$60,2,FALSE),)","v":0},null,{"$f":"IF(AE226<>0,VLOOKUP(AE226,整理番号表!$P$5:$R$39,2,FALSE),)","v":0},null,0,null,null,{"$f":"IF(AJ226<>\"\",VLOOKUP(AJ226,整理番号表!$Z$6:$AA$14,2,FALSE),\"\")","v":""},0,null,null,null,null,null,{"$f":"IF(AQ226<>0,VLOOKUP(AQ226,整理番号表!$P$43:$Q$49,2,FALSE),)","v":0},null,null,null,null,0,0,null,0,null,null,null,0,0,0,null,null,0,0,null,{"$f":"IF(BK226<>0,VLOOKUP(BK226,整理番号表!$T$5:$U$16,2,FALSE),)","v":0},null,{"$f":"IF(BM226<>0,VLOOKUP(BM226,整理番号表!$T$22:$U$30,2,FALSE),)","v":0},null,0,"",null,null,null,null,null,"",0,null,null,null,null,null,null,null,null,null,0,0,0,0,0,0,0,0,0,0,0,0,0,0,0,0,0,0,0,0,0,0,0,0,0,0,0,0,null,null,null,null,null,0,0,0,0,0,0,null,0,null,null,null,null,null,null,null,0,null,null,null,null,null,null,null,null,null,null,null,null,null,null,null,null,null,null,null,null,null,null,null,null,null,null,0,0,null,null,0,0,0,{"$f":"IF(OR(AND(1<=$FK226,$FK226<=3),$FK226=6),VLOOKUP($FK226,整理番号表!$B$32:$G$60,2,FALSE),)","v":0},{"$f":"IF(OR($FK226=4,$FK226=7),VLOOKUP($FK226,整理番号表!$B$32:$G$60,2,FALSE),)","v":0},{"$f":"IF($FK226=5,VLOOKUP($FK226,整理番号表!$B$32:$G$60,2,FALSE),)","v":0},{"$f":"IF(AND(8<=$FK226,$FK226<=13),VLOOKUP($FK226,整理番号表!$B$32:$G$60,2,FALSE),)","v":0},0,0,{"$f":"IF(AND(FE226<>1,$FP226=1,SUM($FQ226:FQ226)=0,$FF226=1,$FI226>=2),1,)","v":0},{"$f":"IF(AND(FE226<>1,$FP226=1,SUM($FQ226:FR226)=0,OR(AND($FF226=1,$FI226>0),$FI226>=4)),1,)","v":0},{"$f":"IF(AND(FE226<>1,$FP226=1,SUM($FQ226:FS226)=0,OR($FF226=1,$FI226>=2)),1,)","v":0},{"$f":"IF(AND(FE226<>1,$FP226=1,SUM($FQ226:FT226)=0,$FI226>0),1,)","v":0},0,0,{"$f":"IF(AND(FE226<>1,$FP226=2,SUM($FW226:FW226)=0,$FF226=1,$FJ226>=0.1),1,)","v":0},{"$f":"IF(AND(FE226<>1,$FP226=2,SUM($FW226:FX226)=0,OR(AND($FF226=1,$FI226>0),$FJ226>=0.2)),1,)","v":0},{"$f":"IF(AND(FE226<>1,$FP226=2,SUM($FW226:FY226)=0,OR($FF226=1,$FJ226>=0.1)),1,)","v":0},{"$f":"IF(AND(FE226<>1,$FP226=2,SUM($FW226:FZ226)=0,$FI226>0),1,)","v":0},0,{"$f":"IF(AND(FE226<>1,$FP226=3,SUM($GB226:GB226)=0,AND($FF226=1,$FJ226>=0.05)),1,)","v":0},{"$f":"IF(AND(FE226<>1,$FP226=3,SUM($GB226:GC226)=0,OR(AND($FF226=1,$FI226>0),$FJ226>=0.1)),1,)","v":0},{"$f":"IF(AND(FE226<>1,$FP226=3,SUM($GB226:GD226)=0,OR($FF226=1,$FJ226>=0.05)),1,)","v":0},{"$f":"IF(AND(FE226<>1,$FP226=3,SUM($GB226:GE226)=0,$FI226>0),1,)","v":0},0,null,0,0,0,0,0,0,0,0,0,0,0,0,0,0,0,0,0,0,0,0,0,0,0,0,0,0,0,0,0,0,0,0,0,0,0,0,0,0,0,0,0,0,0,0,0,0,0,0,0,0,0,0,0,0,0,0,0,0,0,0,0,0,0,0,0,0,0,0,0,0,0,0,0,0,0,0,0,0,0,"","","","","","","","","","","","","","","","○",0,0,0,0,0,0,0,"○",0,0,0,"○","○",null,0,0]
[0,0,0,0,0,0,0,0,0,0,215,null,null,null,null,{"$f":"IF(O227<>\"\",VLOOKUP(O227,整理番号表!$Z$17:$AA$20,2,FALSE),)","v":0},0,null,null,null,null,null,{"$f":"IF(V227<>0,VLOOKUP(V227,整理番号表!$B$6:$L$13,2,FALSE),)","v":0},0,{"$f":"IF(X227<>0,VLOOKUP(X227,整理番号表!$B$16:$C$18,2,FALSE),)","v":0},null,{"$f":"IF(Z227<>0,VLOOKUP(Z227,整理番号表!$B$22:$C$29,2,FALSE),)","v":0},null,null,{"$f":"IF(AC227<>0,VLOOKUP(AC227,整理番号表!$B$32:$G$60,2,FALSE),)","v":0},null,{"$f":"IF(AE227<>0,VLOOKUP(AE227,整理番号表!$P$5:$R$39,2,FALSE),)","v":0},null,0,null,null,{"$f":"IF(AJ227<>\"\",VLOOKUP(AJ227,整理番号表!$Z$6:$AA$14,2,FALSE),\"\")","v":""},0,null,null,null,null,null,{"$f":"IF(AQ227<>0,VLOOKUP(AQ227,整理番号表!$P$43:$Q$49,2,FALSE),)","v":0},null,null,null,null,0,0,null,0,null,null,null,0,0,0,null,null,0,0,null,{"$f":"IF(BK227<>0,VLOOKUP(BK227,整理番号表!$T$5:$U$16,2,FALSE),)","v":0},null,{"$f":"IF(BM227<>0,VLOOKUP(BM227,整理番号表!$T$22:$U$30,2,FALSE),)","v":0},null,0,"",null,null,null,null,null,"",0,null,null,null,null,null,null,null,null,null,0,0,0,0,0,0,0,0,0,0,0,0,0,0,0,0,0,0,0,0,0,0,0,0,0,0,0,0,null,null,null,null,null,0,0,0,0,0,0,null,0,null,null,null,null,null,null,null,0,null,null,null,null,null,null,null,null,null,null,null,null,null,null,null,null,null,null,null,null,null,null,null,null,null,null,0,0,null,null,0,0,0,{"$f":"IF(OR(AND(1<=$FK227,$FK227<=3),$FK227=6),VLOOKUP($FK227,整理番号表!$B$32:$G$60,2,FALSE),)","v":0},{"$f":"IF(OR($FK227=4,$FK227=7),VLOOKUP($FK227,整理番号表!$B$32:$G$60,2,FALSE),)","v":0},{"$f":"IF($FK227=5,VLOOKUP($FK227,整理番号表!$B$32:$G$60,2,FALSE),)","v":0},{"$f":"IF(AND(8<=$FK227,$FK227<=13),VLOOKUP($FK227,整理番号表!$B$32:$G$60,2,FALSE),)","v":0},0,0,{"$f":"IF(AND(FE227<>1,$FP227=1,SUM($FQ227:FQ227)=0,$FF227=1,$FI227>=2),1,)","v":0},{"$f":"IF(AND(FE227<>1,$FP227=1,SUM($FQ227:FR227)=0,OR(AND($FF227=1,$FI227>0),$FI227>=4)),1,)","v":0},{"$f":"IF(AND(FE227<>1,$FP227=1,SUM($FQ227:FS227)=0,OR($FF227=1,$FI227>=2)),1,)","v":0},{"$f":"IF(AND(FE227<>1,$FP227=1,SUM($FQ227:FT227)=0,$FI227>0),1,)","v":0},0,0,{"$f":"IF(AND(FE227<>1,$FP227=2,SUM($FW227:FW227)=0,$FF227=1,$FJ227>=0.1),1,)","v":0},{"$f":"IF(AND(FE227<>1,$FP227=2,SUM($FW227:FX227)=0,OR(AND($FF227=1,$FI227>0),$FJ227>=0.2)),1,)","v":0},{"$f":"IF(AND(FE227<>1,$FP227=2,SUM($FW227:FY227)=0,OR($FF227=1,$FJ227>=0.1)),1,)","v":0},{"$f":"IF(AND(FE227<>1,$FP227=2,SUM($FW227:FZ227)=0,$FI227>0),1,)","v":0},0,{"$f":"IF(AND(FE227<>1,$FP227=3,SUM($GB227:GB227)=0,AND($FF227=1,$FJ227>=0.05)),1,)","v":0},{"$f":"IF(AND(FE227<>1,$FP227=3,SUM($GB227:GC227)=0,OR(AND($FF227=1,$FI227>0),$FJ227>=0.1)),1,)","v":0},{"$f":"IF(AND(FE227<>1,$FP227=3,SUM($GB227:GD227)=0,OR($FF227=1,$FJ227>=0.05)),1,)","v":0},{"$f":"IF(AND(FE227<>1,$FP227=3,SUM($GB227:GE227)=0,$FI227>0),1,)","v":0},0,null,0,0,0,0,0,0,0,0,0,0,0,0,0,0,0,0,0,0,0,0,0,0,0,0,0,0,0,0,0,0,0,0,0,0,0,0,0,0,0,0,0,0,0,0,0,0,0,0,0,0,0,0,0,0,0,0,0,0,0,0,0,0,0,0,0,0,0,0,0,0,0,0,0,0,0,0,0,0,0,"","","","","","","","","","","","","","","","○",0,0,0,0,0,0,0,"○",0,0,0,"○","○",null,0,0]
[0,0,0,0,0,0,0,0,0,0,218,null,null,null,null,{"$f":"IF(O230<>\"\",VLOOKUP(O230,整理番号表!$Z$17:$AA$20,2,FALSE),)","v":0},0,null,null,null,null,null,{"$f":"IF(V230<>0,VLOOKUP(V230,整理番号表!$B$6:$L$13,2,FALSE),)","v":0},0,{"$f":"IF(X230<>0,VLOOKUP(X230,整理番号表!$B$16:$C$18,2,FALSE),)","v":0},null,{"$f":"IF(Z230<>0,VLOOKUP(Z230,整理番号表!$B$22:$C$29,2,FALSE),)","v":0},null,null,{"$f":"IF(AC230<>0,VLOOKUP(AC230,整理番号表!$B$32:$G$60,2,FALSE),)","v":0},null,{"$f":"IF(AE230<>0,VLOOKUP(AE230,整理番号表!$P$5:$R$39,2,FALSE),)","v":0},null,0,null,null,{"$f":"IF(AJ230<>\"\",VLOOKUP(AJ230,整理番号表!$Z$6:$AA$14,2,FALSE),\"\")","v":""},0,null,null,null,null,null,{"$f":"IF(AQ230<>0,VLOOKUP(AQ230,整理番号表!$P$43:$Q$49,2,FALSE),)","v":0},null,null,null,null,0,0,null,0,null,null,null,0,0,0,null,null,0,0,null,{"$f":"IF(BK230<>0,VLOOKUP(BK230,整理番号表!$T$5:$U$16,2,FALSE),)","v":0},null,{"$f":"IF(BM230<>0,VLOOKUP(BM230,整理番号表!$T$22:$U$30,2,FALSE),)","v":0},null,0,"",null,null,null,null,null,"",0,null,null,null,null,null,null,null,null,null,0,0,0,0,0,0,0,0,0,0,0,0,0,0,0,0,0,0,0,0,0,0,0,0,0,0,0,0,null,null,null,null,null,0,0,0,0,0,0,null,0,null,null,null,null,null,null,null,0,null,null,null,null,null,null,null,null,null,null,null,null,null,null,null,null,null,null,null,null,null,null,null,null,null,null,0,0,null,null,0,0,0,{"$f":"IF(OR(AND(1<=$FK230,$FK230<=3),$FK230=6),VLOOKUP($FK230,整理番号表!$B$32:$G$60,2,FALSE),)","v":0},{"$f":"IF(OR($FK230=4,$FK230=7),VLOOKUP($FK230,整理番号表!$B$32:$G$60,2,FALSE),)","v":0},{"$f":"IF($FK230=5,VLOOKUP($FK230,整理番号表!$B$32:$G$60,2,FALSE),)","v":0},{"$f":"IF(AND(8<=$FK230,$FK230<=13),VLOOKUP($FK230,整理番号表!$B$32:$G$60,2,FALSE),)","v":0},0,0,{"$f":"IF(AND(FE230<>1,$FP230=1,SUM($FQ230:FQ230)=0,$FF230=1,$FI230>=2),1,)","v":0},{"$f":"IF(AND(FE230<>1,$FP230=1,SUM($FQ230:FR230)=0,OR(AND($FF230=1,$FI230>0),$FI230>=4)),1,)","v":0},{"$f":"IF(AND(FE230<>1,$FP230=1,SUM($FQ230:FS230)=0,OR($FF230=1,$FI230>=2)),1,)","v":0},{"$f":"IF(AND(FE230<>1,$FP230=1,SUM($FQ230:FT230)=0,$FI230>0),1,)","v":0},0,0,{"$f":"IF(AND(FE230<>1,$FP230=2,SUM($FW230:FW230)=0,$FF230=1,$FJ230>=0.1),1,)","v":0},{"$f":"IF(AND(FE230<>1,$FP230=2,SUM($FW230:FX230)=0,OR(AND($FF230=1,$FI230>0),$FJ230>=0.2)),1,)","v":0},{"$f":"IF(AND(FE230<>1,$FP230=2,SUM($FW230:FY230)=0,OR($FF230=1,$FJ230>=0.1)),1,)","v":0},{"$f":"IF(AND(FE230<>1,$FP230=2,SUM($FW230:FZ230)=0,$FI230>0),1,)","v":0},0,{"$f":"IF(AND(FE230<>1,$FP230=3,SUM($GB230:GB230)=0,AND($FF230=1,$FJ230>=0.05)),1,)","v":0},{"$f":"IF(AND(FE230<>1,$FP230=3,SUM($GB230:GC230)=0,OR(AND($FF230=1,$FI230>0),$FJ230>=0.1)),1,)","v":0},{"$f":"IF(AND(FE230<>1,$FP230=3,SUM($GB230:GD230)=0,OR($FF230=1,$FJ230>=0.05)),1,)","v":0},{"$f":"IF(AND(FE230<>1,$FP230=3,SUM($GB230:GE230)=0,$FI230>0),1,)","v":0},0,null,0,0,0,0,0,0,0,0,0,0,0,0,0,0,0,0,0,0,0,0,0,0,0,0,0,0,0,0,0,0,0,0,0,0,0,0,0,0,0,0,0,0,0,0,0,0,0,0,0,0,0,0,0,0,0,0,0,0,0,0,0,0,0,0,0,0,0,0,0,0,0,0,0,0,0,0,0,0,0,"","","","","","","","","","","","","","","","○",0,0,0,0,0,0,0,"○",0,0,0,"○","○",null,0,0]
[0,0,0,0,0,0,0,0,0,0,219,null,null,null,null,{"$f":"IF(O231<>\"\",VLOOKUP(O231,整理番号表!$Z$17:$AA$20,2,FALSE),)","v":0},0,null,null,null,null,null,{"$f":"IF(V231<>0,VLOOKUP(V231,整理番号表!$B$6:$L$13,2,FALSE),)","v":0},0,{"$f":"IF(X231<>0,VLOOKUP(X231,整理番号表!$B$16:$C$18,2,FALSE),)","v":0},null,{"$f":"IF(Z231<>0,VLOOKUP(Z231,整理番号表!$B$22:$C$29,2,FALSE),)","v":0},null,null,{"$f":"IF(AC231<>0,VLOOKUP(AC231,整理番号表!$B$32:$G$60,2,FALSE),)","v":0},null,{"$f":"IF(AE231<>0,VLOOKUP(AE231,整理番号表!$P$5:$R$39,2,FALSE),)","v":0},null,0,null,null,{"$f":"IF(AJ231<>\"\",VLOOKUP(AJ231,整理番号表!$Z$6:$AA$14,2,FALSE),\"\")","v":""},0,null,null,null,null,null,{"$f":"IF(AQ231<>0,VLOOKUP(AQ231,整理番号表!$P$43:$Q$49,2,FALSE),)","v":0},null,null,null,null,0,0,null,0,null,null,null,0,0,0,null,null,0,0,null,{"$f":"IF(BK231<>0,VLOOKUP(BK231,整理番号表!$T$5:$U$16,2,FALSE),)","v":0},null,{"$f":"IF(BM231<>0,VLOOKUP(BM231,整理番号表!$T$22:$U$30,2,FALSE),)","v":0},null,0,"",null,null,null,null,null,"",0,null,null,null,null,null,null,null,null,null,0,0,0,0,0,0,0,0,0,0,0,0,0,0,0,0,0,0,0,0,0,0,0,0,0,0,0,0,null,null,null,null,null,0,0,0,0,0,0,null,0,null,null,null,null,null,null,null,0,null,null,null,null,null,null,null,null,null,null,null,null,null,null,null,null,null,null,null,null,null,null,null,null,null,null,0,0,null,null,0,0,0,{"$f":"IF(OR(AND(1<=$FK231,$FK231<=3),$FK231=6),VLOOKUP($FK231,整理番号表!$B$32:$G$60,2,FALSE),)","v":0},{"$f":"IF(OR($FK231=4,$FK231=7),VLOOKUP($FK231,整理番号表!$B$32:$G$60,2,FALSE),)","v":0},{"$f":"IF($FK231=5,VLOOKUP($FK231,整理番号表!$B$32:$G$60,2,FALSE),)","v":0},{"$f":"IF(AND(8<=$FK231,$FK231<=13),VLOOKUP($FK231,整理番号表!$B$32:$G$60,2,FALSE),)","v":0},0,0,{"$f":"IF(AND(FE231<>1,$FP231=1,SUM($FQ231:FQ231)=0,$FF231=1,$FI231>=2),1,)","v":0},{"$f":"IF(AND(FE231<>1,$FP231=1,SUM($FQ231:FR231)=0,OR(AND($FF231=1,$FI231>0),$FI231>=4)),1,)","v":0},{"$f":"IF(AND(FE231<>1,$FP231=1,SUM($FQ231:FS231)=0,OR($FF231=1,$FI231>=2)),1,)","v":0},{"$f":"IF(AND(FE231<>1,$FP231=1,SUM($FQ231:FT231)=0,$FI231>0),1,)","v":0},0,0,{"$f":"IF(AND(FE231<>1,$FP231=2,SUM($FW231:FW231)=0,$FF231=1,$FJ231>=0.1),1,)","v":0},{"$f":"IF(AND(FE231<>1,$FP231=2,SUM($FW231:FX231)=0,OR(AND($FF231=1,$FI231>0),$FJ231>=0.2)),1,)","v":0},{"$f":"IF(AND(FE231<>1,$FP231=2,SUM($FW231:FY231)=0,OR($FF231=1,$FJ231>=0.1)),1,)","v":0},{"$f":"IF(AND(FE231<>1,$FP231=2,SUM($FW231:FZ231)=0,$FI231>0),1,)","v":0},0,{"$f":"IF(AND(FE231<>1,$FP231=3,SUM($GB231:GB231)=0,AND($FF231=1,$FJ231>=0.05)),1,)","v":0},{"$f":"IF(AND(FE231<>1,$FP231=3,SUM($GB231:GC231)=0,OR(AND($FF231=1,$FI231>0),$FJ231>=0.1)),1,)","v":0},{"$f":"IF(AND(FE231<>1,$FP231=3,SUM($GB231:GD231)=0,OR($FF231=1,$FJ231>=0.05)),1,)","v":0},{"$f":"IF(AND(FE231<>1,$FP231=3,SUM($GB231:GE231)=0,$FI231>0),1,)","v":0},0,null,0,0,0,0,0,0,0,0,0,0,0,0,0,0,0,0,0,0,0,0,0,0,0,0,0,0,0,0,0,0,0,0,0,0,0,0,0,0,0,0,0,0,0,0,0,0,0,0,0,0,0,0,0,0,0,0,0,0,0,0,0,0,0,0,0,0,0,0,0,0,0,0,0,0,0,0,0,0,0,"","","","","","","","","","","","","","","","○",0,0,0,0,0,0,0,"○",0,0,0,"○","○",null,0,0]
[0,0,0,0,0,0,0,0,0,0,221,null,null,null,null,{"$f":"IF(O233<>\"\",VLOOKUP(O233,整理番号表!$Z$17:$AA$20,2,FALSE),)","v":0},0,null,null,null,null,null,{"$f":"IF(V233<>0,VLOOKUP(V233,整理番号表!$B$6:$L$13,2,FALSE),)","v":0},0,{"$f":"IF(X233<>0,VLOOKUP(X233,整理番号表!$B$16:$C$18,2,FALSE),)","v":0},null,{"$f":"IF(Z233<>0,VLOOKUP(Z233,整理番号表!$B$22:$C$29,2,FALSE),)","v":0},null,null,{"$f":"IF(AC233<>0,VLOOKUP(AC233,整理番号表!$B$32:$G$60,2,FALSE),)","v":0},null,{"$f":"IF(AE233<>0,VLOOKUP(AE233,整理番号表!$P$5:$R$39,2,FALSE),)","v":0},null,0,null,null,{"$f":"IF(AJ233<>\"\",VLOOKUP(AJ233,整理番号表!$Z$6:$AA$14,2,FALSE),\"\")","v":""},0,null,null,null,null,null,{"$f":"IF(AQ233<>0,VLOOKUP(AQ233,整理番号表!$P$43:$Q$49,2,FALSE),)","v":0},null,null,null,null,0,0,null,0,null,null,null,0,0,0,null,null,0,0,null,{"$f":"IF(BK233<>0,VLOOKUP(BK233,整理番号表!$T$5:$U$16,2,FALSE),)","v":0},null,{"$f":"IF(BM233<>0,VLOOKUP(BM233,整理番号表!$T$22:$U$30,2,FALSE),)","v":0},null,0,"",null,null,null,null,null,"",0,null,null,null,null,null,null,null,null,null,0,0,0,0,0,0,0,0,0,0,0,0,0,0,0,0,0,0,0,0,0,0,0,0,0,0,0,0,null,null,null,null,null,0,0,0,0,0,0,null,0,null,null,null,null,null,null,null,0,null,null,null,null,null,null,null,null,null,null,null,null,null,null,null,null,null,null,null,null,null,null,null,null,null,null,0,0,null,null,0,0,0,{"$f":"IF(OR(AND(1<=$FK233,$FK233<=3),$FK233=6),VLOOKUP($FK233,整理番号表!$B$32:$G$60,2,FALSE),)","v":0},{"$f":"IF(OR($FK233=4,$FK233=7),VLOOKUP($FK233,整理番号表!$B$32:$G$60,2,FALSE),)","v":0},{"$f":"IF($FK233=5,VLOOKUP($FK233,整理番号表!$B$32:$G$60,2,FALSE),)","v":0},{"$f":"IF(AND(8<=$FK233,$FK233<=13),VLOOKUP($FK233,整理番号表!$B$32:$G$60,2,FALSE),)","v":0},0,0,{"$f":"IF(AND(FE233<>1,$FP233=1,SUM($FQ233:FQ233)=0,$FF233=1,$FI233>=2),1,)","v":0},{"$f":"IF(AND(FE233<>1,$FP233=1,SUM($FQ233:FR233)=0,OR(AND($FF233=1,$FI233>0),$FI233>=4)),1,)","v":0},{"$f":"IF(AND(FE233<>1,$FP233=1,SUM($FQ233:FS233)=0,OR($FF233=1,$FI233>=2)),1,)","v":0},{"$f":"IF(AND(FE233<>1,$FP233=1,SUM($FQ233:FT233)=0,$FI233>0),1,)","v":0},0,0,{"$f":"IF(AND(FE233<>1,$FP233=2,SUM($FW233:FW233)=0,$FF233=1,$FJ233>=0.1),1,)","v":0},{"$f":"IF(AND(FE233<>1,$FP233=2,SUM($FW233:FX233)=0,OR(AND($FF233=1,$FI233>0),$FJ233>=0.2)),1,)","v":0},{"$f":"IF(AND(FE233<>1,$FP233=2,SUM($FW233:FY233)=0,OR($FF233=1,$FJ233>=0.1)),1,)","v":0},{"$f":"IF(AND(FE233<>1,$FP233=2,SUM($FW233:FZ233)=0,$FI233>0),1,)","v":0},0,{"$f":"IF(AND(FE233<>1,$FP233=3,SUM($GB233:GB233)=0,AND($FF233=1,$FJ233>=0.05)),1,)","v":0},{"$f":"IF(AND(FE233<>1,$FP233=3,SUM($GB233:GC233)=0,OR(AND($FF233=1,$FI233>0),$FJ233>=0.1)),1,)","v":0},{"$f":"IF(AND(FE233<>1,$FP233=3,SUM($GB233:GD233)=0,OR($FF233=1,$FJ233>=0.05)),1,)","v":0},{"$f":"IF(AND(FE233<>1,$FP233=3,SUM($GB233:GE233)=0,$FI233>0),1,)","v":0},0,null,0,0,0,0,0,0,0,0,0,0,0,0,0,0,0,0,0,0,0,0,0,0,0,0,0,0,0,0,0,0,0,0,0,0,0,0,0,0,0,0,0,0,0,0,0,0,0,0,0,0,0,0,0,0,0,0,0,0,0,0,0,0,0,0,0,0,0,0,0,0,0,0,0,0,0,0,0,0,0,"","","","","","","","","","","","","","","","○",0,0,0,0,0,0,0,"○",0,0,0,"○","○",null,0,0]
[0,0,0,0,0,0,0,0,0,0,222,null,null,null,null,{"$f":"IF(O234<>\"\",VLOOKUP(O234,整理番号表!$Z$17:$AA$20,2,FALSE),)","v":0},0,null,null,null,null,null,{"$f":"IF(V234<>0,VLOOKUP(V234,整理番号表!$B$6:$L$13,2,FALSE),)","v":0},0,{"$f":"IF(X234<>0,VLOOKUP(X234,整理番号表!$B$16:$C$18,2,FALSE),)","v":0},null,{"$f":"IF(Z234<>0,VLOOKUP(Z234,整理番号表!$B$22:$C$29,2,FALSE),)","v":0},null,null,{"$f":"IF(AC234<>0,VLOOKUP(AC234,整理番号表!$B$32:$G$60,2,FALSE),)","v":0},null,{"$f":"IF(AE234<>0,VLOOKUP(AE234,整理番号表!$P$5:$R$39,2,FALSE),)","v":0},null,0,null,null,{"$f":"IF(AJ234<>\"\",VLOOKUP(AJ234,整理番号表!$Z$6:$AA$14,2,FALSE),\"\")","v":""},0,null,null,null,null,null,{"$f":"IF(AQ234<>0,VLOOKUP(AQ234,整理番号表!$P$43:$Q$49,2,FALSE),)","v":0},null,null,null,null,0,0,null,0,null,null,null,0,0,0,null,null,0,0,null,{"$f":"IF(BK234<>0,VLOOKUP(BK234,整理番号表!$T$5:$U$16,2,FALSE),)","v":0},null,{"$f":"IF(BM234<>0,VLOOKUP(BM234,整理番号表!$T$22:$U$30,2,FALSE),)","v":0},null,0,"",null,null,null,null,null,"",0,null,null,null,null,null,null,null,null,null,0,0,0,0,0,0,0,0,0,0,0,0,0,0,0,0,0,0,0,0,0,0,0,0,0,0,0,0,null,null,null,null,null,0,0,0,0,0,0,null,0,null,null,null,null,null,null,null,0,null,null,null,null,null,null,null,null,null,null,null,null,null,null,null,null,null,null,null,null,null,null,null,null,null,null,0,0,null,null,0,0,0,{"$f":"IF(OR(AND(1<=$FK234,$FK234<=3),$FK234=6),VLOOKUP($FK234,整理番号表!$B$32:$G$60,2,FALSE),)","v":0},{"$f":"IF(OR($FK234=4,$FK234=7),VLOOKUP($FK234,整理番号表!$B$32:$G$60,2,FALSE),)","v":0},{"$f":"IF($FK234=5,VLOOKUP($FK234,整理番号表!$B$32:$G$60,2,FALSE),)","v":0},{"$f":"IF(AND(8<=$FK234,$FK234<=13),VLOOKUP($FK234,整理番号表!$B$32:$G$60,2,FALSE),)","v":0},0,0,{"$f":"IF(AND(FE234<>1,$FP234=1,SUM($FQ234:FQ234)=0,$FF234=1,$FI234>=2),1,)","v":0},{"$f":"IF(AND(FE234<>1,$FP234=1,SUM($FQ234:FR234)=0,OR(AND($FF234=1,$FI234>0),$FI234>=4)),1,)","v":0},{"$f":"IF(AND(FE234<>1,$FP234=1,SUM($FQ234:FS234)=0,OR($FF234=1,$FI234>=2)),1,)","v":0},{"$f":"IF(AND(FE234<>1,$FP234=1,SUM($FQ234:FT234)=0,$FI234>0),1,)","v":0},0,0,{"$f":"IF(AND(FE234<>1,$FP234=2,SUM($FW234:FW234)=0,$FF234=1,$FJ234>=0.1),1,)","v":0},{"$f":"IF(AND(FE234<>1,$FP234=2,SUM($FW234:FX234)=0,OR(AND($FF234=1,$FI234>0),$FJ234>=0.2)),1,)","v":0},{"$f":"IF(AND(FE234<>1,$FP234=2,SUM($FW234:FY234)=0,OR($FF234=1,$FJ234>=0.1)),1,)","v":0},{"$f":"IF(AND(FE234<>1,$FP234=2,SUM($FW234:FZ234)=0,$FI234>0),1,)","v":0},0,{"$f":"IF(AND(FE234<>1,$FP234=3,SUM($GB234:GB234)=0,AND($FF234=1,$FJ234>=0.05)),1,)","v":0},{"$f":"IF(AND(FE234<>1,$FP234=3,SUM($GB234:GC234)=0,OR(AND($FF234=1,$FI234>0),$FJ234>=0.1)),1,)","v":0},{"$f":"IF(AND(FE234<>1,$FP234=3,SUM($GB234:GD234)=0,OR($FF234=1,$FJ234>=0.05)),1,)","v":0},{"$f":"IF(AND(FE234<>1,$FP234=3,SUM($GB234:GE234)=0,$FI234>0),1,)","v":0},0,null,0,0,0,0,0,0,0,0,0,0,0,0,0,0,0,0,0,0,0,0,0,0,0,0,0,0,0,0,0,0,0,0,0,0,0,0,0,0,0,0,0,0,0,0,0,0,0,0,0,0,0,0,0,0,0,0,0,0,0,0,0,0,0,0,0,0,0,0,0,0,0,0,0,0,0,0,0,0,0,"","","","","","","","","","","","","","","","○",0,0,0,0,0,0,0,"○",0,0,0,"○","○",null,0,0]
[0,0,0,0,0,0,0,0,0,0,224,null,null,null,null,{"$f":"IF(O236<>\"\",VLOOKUP(O236,整理番号表!$Z$17:$AA$20,2,FALSE),)","v":0},0,null,null,null,null,null,{"$f":"IF(V236<>0,VLOOKUP(V236,整理番号表!$B$6:$L$13,2,FALSE),)","v":0},0,{"$f":"IF(X236<>0,VLOOKUP(X236,整理番号表!$B$16:$C$18,2,FALSE),)","v":0},null,{"$f":"IF(Z236<>0,VLOOKUP(Z236,整理番号表!$B$22:$C$29,2,FALSE),)","v":0},null,null,{"$f":"IF(AC236<>0,VLOOKUP(AC236,整理番号表!$B$32:$G$60,2,FALSE),)","v":0},null,{"$f":"IF(AE236<>0,VLOOKUP(AE236,整理番号表!$P$5:$R$39,2,FALSE),)","v":0},null,0,null,null,{"$f":"IF(AJ236<>\"\",VLOOKUP(AJ236,整理番号表!$Z$6:$AA$14,2,FALSE),\"\")","v":""},0,null,null,null,null,null,{"$f":"IF(AQ236<>0,VLOOKUP(AQ236,整理番号表!$P$43:$Q$49,2,FALSE),)","v":0},null,null,null,null,0,0,null,0,null,null,null,0,0,0,null,null,0,0,null,{"$f":"IF(BK236<>0,VLOOKUP(BK236,整理番号表!$T$5:$U$16,2,FALSE),)","v":0},null,{"$f":"IF(BM236<>0,VLOOKUP(BM236,整理番号表!$T$22:$U$30,2,FALSE),)","v":0},null,0,"",null,null,null,null,null,"",0,null,null,null,null,null,null,null,null,null,0,0,0,0,0,0,0,0,0,0,0,0,0,0,0,0,0,0,0,0,0,0,0,0,0,0,0,0,null,null,null,null,null,0,0,0,0,0,0,null,0,null,null,null,null,null,null,null,0,null,null,null,null,null,null,null,null,null,null,null,null,null,null,null,null,null,null,null,null,null,null,null,null,null,null,0,0,null,null,0,0,0,{"$f":"IF(OR(AND(1<=$FK236,$FK236<=3),$FK236=6),VLOOKUP($FK236,整理番号表!$B$32:$G$60,2,FALSE),)","v":0},{"$f":"IF(OR($FK236=4,$FK236=7),VLOOKUP($FK236,整理番号表!$B$32:$G$60,2,FALSE),)","v":0},{"$f":"IF($FK236=5,VLOOKUP($FK236,整理番号表!$B$32:$G$60,2,FALSE),)","v":0},{"$f":"IF(AND(8<=$FK236,$FK236<=13),VLOOKUP($FK236,整理番号表!$B$32:$G$60,2,FALSE),)","v":0},0,0,{"$f":"IF(AND(FE236<>1,$FP236=1,SUM($FQ236:FQ236)=0,$FF236=1,$FI236>=2),1,)","v":0},{"$f":"IF(AND(FE236<>1,$FP236=1,SUM($FQ236:FR236)=0,OR(AND($FF236=1,$FI236>0),$FI236>=4)),1,)","v":0},{"$f":"IF(AND(FE236<>1,$FP236=1,SUM($FQ236:FS236)=0,OR($FF236=1,$FI236>=2)),1,)","v":0},{"$f":"IF(AND(FE236<>1,$FP236=1,SUM($FQ236:FT236)=0,$FI236>0),1,)","v":0},0,0,{"$f":"IF(AND(FE236<>1,$FP236=2,SUM($FW236:FW236)=0,$FF236=1,$FJ236>=0.1),1,)","v":0},{"$f":"IF(AND(FE236<>1,$FP236=2,SUM($FW236:FX236)=0,OR(AND($FF236=1,$FI236>0),$FJ236>=0.2)),1,)","v":0},{"$f":"IF(AND(FE236<>1,$FP236=2,SUM($FW236:FY236)=0,OR($FF236=1,$FJ236>=0.1)),1,)","v":0},{"$f":"IF(AND(FE236<>1,$FP236=2,SUM($FW236:FZ236)=0,$FI236>0),1,)","v":0},0,{"$f":"IF(AND(FE236<>1,$FP236=3,SUM($GB236:GB236)=0,AND($FF236=1,$FJ236>=0.05)),1,)","v":0},{"$f":"IF(AND(FE236<>1,$FP236=3,SUM($GB236:GC236)=0,OR(AND($FF236=1,$FI236>0),$FJ236>=0.1)),1,)","v":0},{"$f":"IF(AND(FE236<>1,$FP236=3,SUM($GB236:GD236)=0,OR($FF236=1,$FJ236>=0.05)),1,)","v":0},{"$f":"IF(AND(FE236<>1,$FP236=3,SUM($GB236:GE236)=0,$FI236>0),1,)","v":0},0,null,0,0,0,0,0,0,0,0,0,0,0,0,0,0,0,0,0,0,0,0,0,0,0,0,0,0,0,0,0,0,0,0,0,0,0,0,0,0,0,0,0,0,0,0,0,0,0,0,0,0,0,0,0,0,0,0,0,0,0,0,0,0,0,0,0,0,0,0,0,0,0,0,0,0,0,0,0,0,0,"","","","","","","","","","","","","","","","○",0,0,0,0,0,0,0,"○",0,0,0,"○","○",null,0,0]
[0,0,0,0,0,0,0,0,0,0,225,null,null,null,null,{"$f":"IF(O237<>\"\",VLOOKUP(O237,整理番号表!$Z$17:$AA$20,2,FALSE),)","v":0},0,null,null,null,null,null,{"$f":"IF(V237<>0,VLOOKUP(V237,整理番号表!$B$6:$L$13,2,FALSE),)","v":0},0,{"$f":"IF(X237<>0,VLOOKUP(X237,整理番号表!$B$16:$C$18,2,FALSE),)","v":0},null,{"$f":"IF(Z237<>0,VLOOKUP(Z237,整理番号表!$B$22:$C$29,2,FALSE),)","v":0},null,null,{"$f":"IF(AC237<>0,VLOOKUP(AC237,整理番号表!$B$32:$G$60,2,FALSE),)","v":0},null,{"$f":"IF(AE237<>0,VLOOKUP(AE237,整理番号表!$P$5:$R$39,2,FALSE),)","v":0},null,0,null,null,{"$f":"IF(AJ237<>\"\",VLOOKUP(AJ237,整理番号表!$Z$6:$AA$14,2,FALSE),\"\")","v":""},0,null,null,null,null,null,{"$f":"IF(AQ237<>0,VLOOKUP(AQ237,整理番号表!$P$43:$Q$49,2,FALSE),)","v":0},null,null,null,null,0,0,null,0,null,null,null,0,0,0,null,null,0,0,null,{"$f":"IF(BK237<>0,VLOOKUP(BK237,整理番号表!$T$5:$U$16,2,FALSE),)","v":0},null,{"$f":"IF(BM237<>0,VLOOKUP(BM237,整理番号表!$T$22:$U$30,2,FALSE),)","v":0},null,0,"",null,null,null,null,null,"",0,null,null,null,null,null,null,null,null,null,0,0,0,0,0,0,0,0,0,0,0,0,0,0,0,0,0,0,0,0,0,0,0,0,0,0,0,0,null,null,null,null,null,0,0,0,0,0,0,null,0,null,null,null,null,null,null,null,0,null,null,null,null,null,null,null,null,null,null,null,null,null,null,null,null,null,null,null,null,null,null,null,null,null,null,0,0,null,null,0,0,0,{"$f":"IF(OR(AND(1<=$FK237,$FK237<=3),$FK237=6),VLOOKUP($FK237,整理番号表!$B$32:$G$60,2,FALSE),)","v":0},{"$f":"IF(OR($FK237=4,$FK237=7),VLOOKUP($FK237,整理番号表!$B$32:$G$60,2,FALSE),)","v":0},{"$f":"IF($FK237=5,VLOOKUP($FK237,整理番号表!$B$32:$G$60,2,FALSE),)","v":0},{"$f":"IF(AND(8<=$FK237,$FK237<=13),VLOOKUP($FK237,整理番号表!$B$32:$G$60,2,FALSE),)","v":0},0,0,{"$f":"IF(AND(FE237<>1,$FP237=1,SUM($FQ237:FQ237)=0,$FF237=1,$FI237>=2),1,)","v":0},{"$f":"IF(AND(FE237<>1,$FP237=1,SUM($FQ237:FR237)=0,OR(AND($FF237=1,$FI237>0),$FI237>=4)),1,)","v":0},{"$f":"IF(AND(FE237<>1,$FP237=1,SUM($FQ237:FS237)=0,OR($FF237=1,$FI237>=2)),1,)","v":0},{"$f":"IF(AND(FE237<>1,$FP237=1,SUM($FQ237:FT237)=0,$FI237>0),1,)","v":0},0,0,{"$f":"IF(AND(FE237<>1,$FP237=2,SUM($FW237:FW237)=0,$FF237=1,$FJ237>=0.1),1,)","v":0},{"$f":"IF(AND(FE237<>1,$FP237=2,SUM($FW237:FX237)=0,OR(AND($FF237=1,$FI237>0),$FJ237>=0.2)),1,)","v":0},{"$f":"IF(AND(FE237<>1,$FP237=2,SUM($FW237:FY237)=0,OR($FF237=1,$FJ237>=0.1)),1,)","v":0},{"$f":"IF(AND(FE237<>1,$FP237=2,SUM($FW237:FZ237)=0,$FI237>0),1,)","v":0},0,{"$f":"IF(AND(FE237<>1,$FP237=3,SUM($GB237:GB237)=0,AND($FF237=1,$FJ237>=0.05)),1,)","v":0},{"$f":"IF(AND(FE237<>1,$FP237=3,SUM($GB237:GC237)=0,OR(AND($FF237=1,$FI237>0),$FJ237>=0.1)),1,)","v":0},{"$f":"IF(AND(FE237<>1,$FP237=3,SUM($GB237:GD237)=0,OR($FF237=1,$FJ237>=0.05)),1,)","v":0},{"$f":"IF(AND(FE237<>1,$FP237=3,SUM($GB237:GE237)=0,$FI237>0),1,)","v":0},0,null,0,0,0,0,0,0,0,0,0,0,0,0,0,0,0,0,0,0,0,0,0,0,0,0,0,0,0,0,0,0,0,0,0,0,0,0,0,0,0,0,0,0,0,0,0,0,0,0,0,0,0,0,0,0,0,0,0,0,0,0,0,0,0,0,0,0,0,0,0,0,0,0,0,0,0,0,0,0,0,"","","","","","","","","","","","","","","","○",0,0,0,0,0,0,0,"○",0,0,0,"○","○",null,0,0]
[0,0,0,0,0,0,0,0,0,0,227,null,null,null,null,{"$f":"IF(O239<>\"\",VLOOKUP(O239,整理番号表!$Z$17:$AA$20,2,FALSE),)","v":0},0,null,null,null,null,null,{"$f":"IF(V239<>0,VLOOKUP(V239,整理番号表!$B$6:$L$13,2,FALSE),)","v":0},0,{"$f":"IF(X239<>0,VLOOKUP(X239,整理番号表!$B$16:$C$18,2,FALSE),)","v":0},null,{"$f":"IF(Z239<>0,VLOOKUP(Z239,整理番号表!$B$22:$C$29,2,FALSE),)","v":0},null,null,{"$f":"IF(AC239<>0,VLOOKUP(AC239,整理番号表!$B$32:$G$60,2,FALSE),)","v":0},null,{"$f":"IF(AE239<>0,VLOOKUP(AE239,整理番号表!$P$5:$R$39,2,FALSE),)","v":0},null,0,null,null,{"$f":"IF(AJ239<>\"\",VLOOKUP(AJ239,整理番号表!$Z$6:$AA$14,2,FALSE),\"\")","v":""},0,null,null,null,null,null,{"$f":"IF(AQ239<>0,VLOOKUP(AQ239,整理番号表!$P$43:$Q$49,2,FALSE),)","v":0},null,null,null,null,0,0,null,0,null,null,null,0,0,0,null,null,0,0,null,{"$f":"IF(BK239<>0,VLOOKUP(BK239,整理番号表!$T$5:$U$16,2,FALSE),)","v":0},null,{"$f":"IF(BM239<>0,VLOOKUP(BM239,整理番号表!$T$22:$U$30,2,FALSE),)","v":0},null,0,"",null,null,null,null,null,"",0,null,null,null,null,null,null,null,null,null,0,0,0,0,0,0,0,0,0,0,0,0,0,0,0,0,0,0,0,0,0,0,0,0,0,0,0,0,null,null,null,null,null,0,0,0,0,0,0,null,0,null,null,null,null,null,null,null,0,null,null,null,null,null,null,null,null,null,null,null,null,null,null,null,null,null,null,null,null,null,null,null,null,null,null,0,0,null,null,0,0,0,{"$f":"IF(OR(AND(1<=$FK239,$FK239<=3),$FK239=6),VLOOKUP($FK239,整理番号表!$B$32:$G$60,2,FALSE),)","v":0},{"$f":"IF(OR($FK239=4,$FK239=7),VLOOKUP($FK239,整理番号表!$B$32:$G$60,2,FALSE),)","v":0},{"$f":"IF($FK239=5,VLOOKUP($FK239,整理番号表!$B$32:$G$60,2,FALSE),)","v":0},{"$f":"IF(AND(8<=$FK239,$FK239<=13),VLOOKUP($FK239,整理番号表!$B$32:$G$60,2,FALSE),)","v":0},0,0,{"$f":"IF(AND(FE239<>1,$FP239=1,SUM($FQ239:FQ239)=0,$FF239=1,$FI239>=2),1,)","v":0},{"$f":"IF(AND(FE239<>1,$FP239=1,SUM($FQ239:FR239)=0,OR(AND($FF239=1,$FI239>0),$FI239>=4)),1,)","v":0},{"$f":"IF(AND(FE239<>1,$FP239=1,SUM($FQ239:FS239)=0,OR($FF239=1,$FI239>=2)),1,)","v":0},{"$f":"IF(AND(FE239<>1,$FP239=1,SUM($FQ239:FT239)=0,$FI239>0),1,)","v":0},0,0,{"$f":"IF(AND(FE239<>1,$FP239=2,SUM($FW239:FW239)=0,$FF239=1,$FJ239>=0.1),1,)","v":0},{"$f":"IF(AND(FE239<>1,$FP239=2,SUM($FW239:FX239)=0,OR(AND($FF239=1,$FI239>0),$FJ239>=0.2)),1,)","v":0},{"$f":"IF(AND(FE239<>1,$FP239=2,SUM($FW239:FY239)=0,OR($FF239=1,$FJ239>=0.1)),1,)","v":0},{"$f":"IF(AND(FE239<>1,$FP239=2,SUM($FW239:FZ239)=0,$FI239>0),1,)","v":0},0,{"$f":"IF(AND(FE239<>1,$FP239=3,SUM($GB239:GB239)=0,AND($FF239=1,$FJ239>=0.05)),1,)","v":0},{"$f":"IF(AND(FE239<>1,$FP239=3,SUM($GB239:GC239)=0,OR(AND($FF239=1,$FI239>0),$FJ239>=0.1)),1,)","v":0},{"$f":"IF(AND(FE239<>1,$FP239=3,SUM($GB239:GD239)=0,OR($FF239=1,$FJ239>=0.05)),1,)","v":0},{"$f":"IF(AND(FE239<>1,$FP239=3,SUM($GB239:GE239)=0,$FI239>0),1,)","v":0},0,null,0,0,0,0,0,0,0,0,0,0,0,0,0,0,0,0,0,0,0,0,0,0,0,0,0,0,0,0,0,0,0,0,0,0,0,0,0,0,0,0,0,0,0,0,0,0,0,0,0,0,0,0,0,0,0,0,0,0,0,0,0,0,0,0,0,0,0,0,0,0,0,0,0,0,0,0,0,0,0,"","","","","","","","","","","","","","","","○",0,0,0,0,0,0,0,"○",0,0,0,"○","○",null,0,0]
[0,0,0,0,0,0,0,0,0,0,228,null,null,null,null,{"$f":"IF(O240<>\"\",VLOOKUP(O240,整理番号表!$Z$17:$AA$20,2,FALSE),)","v":0},0,null,null,null,null,null,{"$f":"IF(V240<>0,VLOOKUP(V240,整理番号表!$B$6:$L$13,2,FALSE),)","v":0},0,{"$f":"IF(X240<>0,VLOOKUP(X240,整理番号表!$B$16:$C$18,2,FALSE),)","v":0},null,{"$f":"IF(Z240<>0,VLOOKUP(Z240,整理番号表!$B$22:$C$29,2,FALSE),)","v":0},null,null,{"$f":"IF(AC240<>0,VLOOKUP(AC240,整理番号表!$B$32:$G$60,2,FALSE),)","v":0},null,{"$f":"IF(AE240<>0,VLOOKUP(AE240,整理番号表!$P$5:$R$39,2,FALSE),)","v":0},null,0,null,null,{"$f":"IF(AJ240<>\"\",VLOOKUP(AJ240,整理番号表!$Z$6:$AA$14,2,FALSE),\"\")","v":""},0,null,null,null,null,null,{"$f":"IF(AQ240<>0,VLOOKUP(AQ240,整理番号表!$P$43:$Q$49,2,FALSE),)","v":0},null,null,null,null,0,0,null,0,null,null,null,0,0,0,null,null,0,0,null,{"$f":"IF(BK240<>0,VLOOKUP(BK240,整理番号表!$T$5:$U$16,2,FALSE),)","v":0},null,{"$f":"IF(BM240<>0,VLOOKUP(BM240,整理番号表!$T$22:$U$30,2,FALSE),)","v":0},null,0,"",null,null,null,null,null,"",0,null,null,null,null,null,null,null,null,null,0,0,0,0,0,0,0,0,0,0,0,0,0,0,0,0,0,0,0,0,0,0,0,0,0,0,0,0,null,null,null,null,null,0,0,0,0,0,0,null,0,null,null,null,null,null,null,null,0,null,null,null,null,null,null,null,null,null,null,null,null,null,null,null,null,null,null,null,null,null,null,null,null,null,null,0,0,null,null,0,0,0,{"$f":"IF(OR(AND(1<=$FK240,$FK240<=3),$FK240=6),VLOOKUP($FK240,整理番号表!$B$32:$G$60,2,FALSE),)","v":0},{"$f":"IF(OR($FK240=4,$FK240=7),VLOOKUP($FK240,整理番号表!$B$32:$G$60,2,FALSE),)","v":0},{"$f":"IF($FK240=5,VLOOKUP($FK240,整理番号表!$B$32:$G$60,2,FALSE),)","v":0},{"$f":"IF(AND(8<=$FK240,$FK240<=13),VLOOKUP($FK240,整理番号表!$B$32:$G$60,2,FALSE),)","v":0},0,0,{"$f":"IF(AND(FE240<>1,$FP240=1,SUM($FQ240:FQ240)=0,$FF240=1,$FI240>=2),1,)","v":0},{"$f":"IF(AND(FE240<>1,$FP240=1,SUM($FQ240:FR240)=0,OR(AND($FF240=1,$FI240>0),$FI240>=4)),1,)","v":0},{"$f":"IF(AND(FE240<>1,$FP240=1,SUM($FQ240:FS240)=0,OR($FF240=1,$FI240>=2)),1,)","v":0},{"$f":"IF(AND(FE240<>1,$FP240=1,SUM($FQ240:FT240)=0,$FI240>0),1,)","v":0},0,0,{"$f":"IF(AND(FE240<>1,$FP240=2,SUM($FW240:FW240)=0,$FF240=1,$FJ240>=0.1),1,)","v":0},{"$f":"IF(AND(FE240<>1,$FP240=2,SUM($FW240:FX240)=0,OR(AND($FF240=1,$FI240>0),$FJ240>=0.2)),1,)","v":0},{"$f":"IF(AND(FE240<>1,$FP240=2,SUM($FW240:FY240)=0,OR($FF240=1,$FJ240>=0.1)),1,)","v":0},{"$f":"IF(AND(FE240<>1,$FP240=2,SUM($FW240:FZ240)=0,$FI240>0),1,)","v":0},0,{"$f":"IF(AND(FE240<>1,$FP240=3,SUM($GB240:GB240)=0,AND($FF240=1,$FJ240>=0.05)),1,)","v":0},{"$f":"IF(AND(FE240<>1,$FP240=3,SUM($GB240:GC240)=0,OR(AND($FF240=1,$FI240>0),$FJ240>=0.1)),1,)","v":0},{"$f":"IF(AND(FE240<>1,$FP240=3,SUM($GB240:GD240)=0,OR($FF240=1,$FJ240>=0.05)),1,)","v":0},{"$f":"IF(AND(FE240<>1,$FP240=3,SUM($GB240:GE240)=0,$FI240>0),1,)","v":0},0,null,0,0,0,0,0,0,0,0,0,0,0,0,0,0,0,0,0,0,0,0,0,0,0,0,0,0,0,0,0,0,0,0,0,0,0,0,0,0,0,0,0,0,0,0,0,0,0,0,0,0,0,0,0,0,0,0,0,0,0,0,0,0,0,0,0,0,0,0,0,0,0,0,0,0,0,0,0,0,0,"","","","","","","","","","","","","","","","○",0,0,0,0,0,0,0,"○",0,0,0,"○","○",null,0,0]
[0,0,0,0,0,0,0,0,0,0,230,null,null,null,null,{"$f":"IF(O242<>\"\",VLOOKUP(O242,整理番号表!$Z$17:$AA$20,2,FALSE),)","v":0},0,null,null,null,null,null,{"$f":"IF(V242<>0,VLOOKUP(V242,整理番号表!$B$6:$L$13,2,FALSE),)","v":0},0,{"$f":"IF(X242<>0,VLOOKUP(X242,整理番号表!$B$16:$C$18,2,FALSE),)","v":0},null,{"$f":"IF(Z242<>0,VLOOKUP(Z242,整理番号表!$B$22:$C$29,2,FALSE),)","v":0},null,null,{"$f":"IF(AC242<>0,VLOOKUP(AC242,整理番号表!$B$32:$G$60,2,FALSE),)","v":0},null,{"$f":"IF(AE242<>0,VLOOKUP(AE242,整理番号表!$P$5:$R$39,2,FALSE),)","v":0},null,0,null,null,{"$f":"IF(AJ242<>\"\",VLOOKUP(AJ242,整理番号表!$Z$6:$AA$14,2,FALSE),\"\")","v":""},0,null,null,null,null,null,{"$f":"IF(AQ242<>0,VLOOKUP(AQ242,整理番号表!$P$43:$Q$49,2,FALSE),)","v":0},null,null,null,null,0,0,null,0,null,null,null,0,0,0,null,null,0,0,null,{"$f":"IF(BK242<>0,VLOOKUP(BK242,整理番号表!$T$5:$U$16,2,FALSE),)","v":0},null,{"$f":"IF(BM242<>0,VLOOKUP(BM242,整理番号表!$T$22:$U$30,2,FALSE),)","v":0},null,0,"",null,null,null,null,null,"",0,null,null,null,null,null,null,null,null,null,0,0,0,0,0,0,0,0,0,0,0,0,0,0,0,0,0,0,0,0,0,0,0,0,0,0,0,0,null,null,null,null,null,0,0,0,0,0,0,null,0,null,null,null,null,null,null,null,0,null,null,null,null,null,null,null,null,null,null,null,null,null,null,null,null,null,null,null,null,null,null,null,null,null,null,0,0,null,null,0,0,0,{"$f":"IF(OR(AND(1<=$FK242,$FK242<=3),$FK242=6),VLOOKUP($FK242,整理番号表!$B$32:$G$60,2,FALSE),)","v":0},{"$f":"IF(OR($FK242=4,$FK242=7),VLOOKUP($FK242,整理番号表!$B$32:$G$60,2,FALSE),)","v":0},{"$f":"IF($FK242=5,VLOOKUP($FK242,整理番号表!$B$32:$G$60,2,FALSE),)","v":0},{"$f":"IF(AND(8<=$FK242,$FK242<=13),VLOOKUP($FK242,整理番号表!$B$32:$G$60,2,FALSE),)","v":0},0,0,{"$f":"IF(AND(FE242<>1,$FP242=1,SUM($FQ242:FQ242)=0,$FF242=1,$FI242>=2),1,)","v":0},{"$f":"IF(AND(FE242<>1,$FP242=1,SUM($FQ242:FR242)=0,OR(AND($FF242=1,$FI242>0),$FI242>=4)),1,)","v":0},{"$f":"IF(AND(FE242<>1,$FP242=1,SUM($FQ242:FS242)=0,OR($FF242=1,$FI242>=2)),1,)","v":0},{"$f":"IF(AND(FE242<>1,$FP242=1,SUM($FQ242:FT242)=0,$FI242>0),1,)","v":0},0,0,{"$f":"IF(AND(FE242<>1,$FP242=2,SUM($FW242:FW242)=0,$FF242=1,$FJ242>=0.1),1,)","v":0},{"$f":"IF(AND(FE242<>1,$FP242=2,SUM($FW242:FX242)=0,OR(AND($FF242=1,$FI242>0),$FJ242>=0.2)),1,)","v":0},{"$f":"IF(AND(FE242<>1,$FP242=2,SUM($FW242:FY242)=0,OR($FF242=1,$FJ242>=0.1)),1,)","v":0},{"$f":"IF(AND(FE242<>1,$FP242=2,SUM($FW242:FZ242)=0,$FI242>0),1,)","v":0},0,{"$f":"IF(AND(FE242<>1,$FP242=3,SUM($GB242:GB242)=0,AND($FF242=1,$FJ242>=0.05)),1,)","v":0},{"$f":"IF(AND(FE242<>1,$FP242=3,SUM($GB242:GC242)=0,OR(AND($FF242=1,$FI242>0),$FJ242>=0.1)),1,)","v":0},{"$f":"IF(AND(FE242<>1,$FP242=3,SUM($GB242:GD242)=0,OR($FF242=1,$FJ242>=0.05)),1,)","v":0},{"$f":"IF(AND(FE242<>1,$FP242=3,SUM($GB242:GE242)=0,$FI242>0),1,)","v":0},0,null,0,0,0,0,0,0,0,0,0,0,0,0,0,0,0,0,0,0,0,0,0,0,0,0,0,0,0,0,0,0,0,0,0,0,0,0,0,0,0,0,0,0,0,0,0,0,0,0,0,0,0,0,0,0,0,0,0,0,0,0,0,0,0,0,0,0,0,0,0,0,0,0,0,0,0,0,0,0,0,"","","","","","","","","","","","","","","","○",0,0,0,0,0,0,0,"○",0,0,0,"○","○",null,0,0]
[0,0,0,0,0,0,0,0,0,0,231,null,null,null,null,{"$f":"IF(O243<>\"\",VLOOKUP(O243,整理番号表!$Z$17:$AA$20,2,FALSE),)","v":0},0,null,null,null,null,null,{"$f":"IF(V243<>0,VLOOKUP(V243,整理番号表!$B$6:$L$13,2,FALSE),)","v":0},0,{"$f":"IF(X243<>0,VLOOKUP(X243,整理番号表!$B$16:$C$18,2,FALSE),)","v":0},null,{"$f":"IF(Z243<>0,VLOOKUP(Z243,整理番号表!$B$22:$C$29,2,FALSE),)","v":0},null,null,{"$f":"IF(AC243<>0,VLOOKUP(AC243,整理番号表!$B$32:$G$60,2,FALSE),)","v":0},null,{"$f":"IF(AE243<>0,VLOOKUP(AE243,整理番号表!$P$5:$R$39,2,FALSE),)","v":0},null,0,null,null,{"$f":"IF(AJ243<>\"\",VLOOKUP(AJ243,整理番号表!$Z$6:$AA$14,2,FALSE),\"\")","v":""},0,null,null,null,null,null,{"$f":"IF(AQ243<>0,VLOOKUP(AQ243,整理番号表!$P$43:$Q$49,2,FALSE),)","v":0},null,null,null,null,0,0,null,0,null,null,null,0,0,0,null,null,0,0,null,{"$f":"IF(BK243<>0,VLOOKUP(BK243,整理番号表!$T$5:$U$16,2,FALSE),)","v":0},null,{"$f":"IF(BM243<>0,VLOOKUP(BM243,整理番号表!$T$22:$U$30,2,FALSE),)","v":0},null,0,"",null,null,null,null,null,"",0,null,null,null,null,null,null,null,null,null,0,0,0,0,0,0,0,0,0,0,0,0,0,0,0,0,0,0,0,0,0,0,0,0,0,0,0,0,null,null,null,null,null,0,0,0,0,0,0,null,0,null,null,null,null,null,null,null,0,null,null,null,null,null,null,null,null,null,null,null,null,null,null,null,null,null,null,null,null,null,null,null,null,null,null,0,0,null,null,0,0,0,{"$f":"IF(OR(AND(1<=$FK243,$FK243<=3),$FK243=6),VLOOKUP($FK243,整理番号表!$B$32:$G$60,2,FALSE),)","v":0},{"$f":"IF(OR($FK243=4,$FK243=7),VLOOKUP($FK243,整理番号表!$B$32:$G$60,2,FALSE),)","v":0},{"$f":"IF($FK243=5,VLOOKUP($FK243,整理番号表!$B$32:$G$60,2,FALSE),)","v":0},{"$f":"IF(AND(8<=$FK243,$FK243<=13),VLOOKUP($FK243,整理番号表!$B$32:$G$60,2,FALSE),)","v":0},0,0,{"$f":"IF(AND(FE243<>1,$FP243=1,SUM($FQ243:FQ243)=0,$FF243=1,$FI243>=2),1,)","v":0},{"$f":"IF(AND(FE243<>1,$FP243=1,SUM($FQ243:FR243)=0,OR(AND($FF243=1,$FI243>0),$FI243>=4)),1,)","v":0},{"$f":"IF(AND(FE243<>1,$FP243=1,SUM($FQ243:FS243)=0,OR($FF243=1,$FI243>=2)),1,)","v":0},{"$f":"IF(AND(FE243<>1,$FP243=1,SUM($FQ243:FT243)=0,$FI243>0),1,)","v":0},0,0,{"$f":"IF(AND(FE243<>1,$FP243=2,SUM($FW243:FW243)=0,$FF243=1,$FJ243>=0.1),1,)","v":0},{"$f":"IF(AND(FE243<>1,$FP243=2,SUM($FW243:FX243)=0,OR(AND($FF243=1,$FI243>0),$FJ243>=0.2)),1,)","v":0},{"$f":"IF(AND(FE243<>1,$FP243=2,SUM($FW243:FY243)=0,OR($FF243=1,$FJ243>=0.1)),1,)","v":0},{"$f":"IF(AND(FE243<>1,$FP243=2,SUM($FW243:FZ243)=0,$FI243>0),1,)","v":0},0,{"$f":"IF(AND(FE243<>1,$FP243=3,SUM($GB243:GB243)=0,AND($FF243=1,$FJ243>=0.05)),1,)","v":0},{"$f":"IF(AND(FE243<>1,$FP243=3,SUM($GB243:GC243)=0,OR(AND($FF243=1,$FI243>0),$FJ243>=0.1)),1,)","v":0},{"$f":"IF(AND(FE243<>1,$FP243=3,SUM($GB243:GD243)=0,OR($FF243=1,$FJ243>=0.05)),1,)","v":0},{"$f":"IF(AND(FE243<>1,$FP243=3,SUM($GB243:GE243)=0,$FI243>0),1,)","v":0},0,null,0,0,0,0,0,0,0,0,0,0,0,0,0,0,0,0,0,0,0,0,0,0,0,0,0,0,0,0,0,0,0,0,0,0,0,0,0,0,0,0,0,0,0,0,0,0,0,0,0,0,0,0,0,0,0,0,0,0,0,0,0,0,0,0,0,0,0,0,0,0,0,0,0,0,0,0,0,0,0,"","","","","","","","","","","","","","","","○",0,0,0,0,0,0,0,"○",0,0,0,"○","○",null,0,0]
[0,0,0,0,0,0,0,0,0,0,233,null,null,null,null,{"$f":"IF(O245<>\"\",VLOOKUP(O245,整理番号表!$Z$17:$AA$20,2,FALSE),)","v":0},0,null,null,null,null,null,{"$f":"IF(V245<>0,VLOOKUP(V245,整理番号表!$B$6:$L$13,2,FALSE),)","v":0},0,{"$f":"IF(X245<>0,VLOOKUP(X245,整理番号表!$B$16:$C$18,2,FALSE),)","v":0},null,{"$f":"IF(Z245<>0,VLOOKUP(Z245,整理番号表!$B$22:$C$29,2,FALSE),)","v":0},null,null,{"$f":"IF(AC245<>0,VLOOKUP(AC245,整理番号表!$B$32:$G$60,2,FALSE),)","v":0},null,{"$f":"IF(AE245<>0,VLOOKUP(AE245,整理番号表!$P$5:$R$39,2,FALSE),)","v":0},null,0,null,null,{"$f":"IF(AJ245<>\"\",VLOOKUP(AJ245,整理番号表!$Z$6:$AA$14,2,FALSE),\"\")","v":""},0,null,null,null,null,null,{"$f":"IF(AQ245<>0,VLOOKUP(AQ245,整理番号表!$P$43:$Q$49,2,FALSE),)","v":0},null,null,null,null,0,0,null,0,null,null,null,0,0,0,null,null,0,0,null,{"$f":"IF(BK245<>0,VLOOKUP(BK245,整理番号表!$T$5:$U$16,2,FALSE),)","v":0},null,{"$f":"IF(BM245<>0,VLOOKUP(BM245,整理番号表!$T$22:$U$30,2,FALSE),)","v":0},null,0,"",null,null,null,null,null,"",0,null,null,null,null,null,null,null,null,null,0,0,0,0,0,0,0,0,0,0,0,0,0,0,0,0,0,0,0,0,0,0,0,0,0,0,0,0,null,null,null,null,null,0,0,0,0,0,0,null,0,null,null,null,null,null,null,null,0,null,null,null,null,null,null,null,null,null,null,null,null,null,null,null,null,null,null,null,null,null,null,null,null,null,null,0,0,null,null,0,0,0,{"$f":"IF(OR(AND(1<=$FK245,$FK245<=3),$FK245=6),VLOOKUP($FK245,整理番号表!$B$32:$G$60,2,FALSE),)","v":0},{"$f":"IF(OR($FK245=4,$FK245=7),VLOOKUP($FK245,整理番号表!$B$32:$G$60,2,FALSE),)","v":0},{"$f":"IF($FK245=5,VLOOKUP($FK245,整理番号表!$B$32:$G$60,2,FALSE),)","v":0},{"$f":"IF(AND(8<=$FK245,$FK245<=13),VLOOKUP($FK245,整理番号表!$B$32:$G$60,2,FALSE),)","v":0},0,0,{"$f":"IF(AND(FE245<>1,$FP245=1,SUM($FQ245:FQ245)=0,$FF245=1,$FI245>=2),1,)","v":0},{"$f":"IF(AND(FE245<>1,$FP245=1,SUM($FQ245:FR245)=0,OR(AND($FF245=1,$FI245>0),$FI245>=4)),1,)","v":0},{"$f":"IF(AND(FE245<>1,$FP245=1,SUM($FQ245:FS245)=0,OR($FF245=1,$FI245>=2)),1,)","v":0},{"$f":"IF(AND(FE245<>1,$FP245=1,SUM($FQ245:FT245)=0,$FI245>0),1,)","v":0},0,0,{"$f":"IF(AND(FE245<>1,$FP245=2,SUM($FW245:FW245)=0,$FF245=1,$FJ245>=0.1),1,)","v":0},{"$f":"IF(AND(FE245<>1,$FP245=2,SUM($FW245:FX245)=0,OR(AND($FF245=1,$FI245>0),$FJ245>=0.2)),1,)","v":0},{"$f":"IF(AND(FE245<>1,$FP245=2,SUM($FW245:FY245)=0,OR($FF245=1,$FJ245>=0.1)),1,)","v":0},{"$f":"IF(AND(FE245<>1,$FP245=2,SUM($FW245:FZ245)=0,$FI245>0),1,)","v":0},0,{"$f":"IF(AND(FE245<>1,$FP245=3,SUM($GB245:GB245)=0,AND($FF245=1,$FJ245>=0.05)),1,)","v":0},{"$f":"IF(AND(FE245<>1,$FP245=3,SUM($GB245:GC245)=0,OR(AND($FF245=1,$FI245>0),$FJ245>=0.1)),1,)","v":0},{"$f":"IF(AND(FE245<>1,$FP245=3,SUM($GB245:GD245)=0,OR($FF245=1,$FJ245>=0.05)),1,)","v":0},{"$f":"IF(AND(FE245<>1,$FP245=3,SUM($GB245:GE245)=0,$FI245>0),1,)","v":0},0,null,0,0,0,0,0,0,0,0,0,0,0,0,0,0,0,0,0,0,0,0,0,0,0,0,0,0,0,0,0,0,0,0,0,0,0,0,0,0,0,0,0,0,0,0,0,0,0,0,0,0,0,0,0,0,0,0,0,0,0,0,0,0,0,0,0,0,0,0,0,0,0,0,0,0,0,0,0,0,0,"","","","","","","","","","","","","","","","○",0,0,0,0,0,0,0,"○",0,0,0,"○","○",null,0,0]
[0,0,0,0,0,0,0,0,0,0,234,null,null,null,null,{"$f":"IF(O246<>\"\",VLOOKUP(O246,整理番号表!$Z$17:$AA$20,2,FALSE),)","v":0},0,null,null,null,null,null,{"$f":"IF(V246<>0,VLOOKUP(V246,整理番号表!$B$6:$L$13,2,FALSE),)","v":0},0,{"$f":"IF(X246<>0,VLOOKUP(X246,整理番号表!$B$16:$C$18,2,FALSE),)","v":0},null,{"$f":"IF(Z246<>0,VLOOKUP(Z246,整理番号表!$B$22:$C$29,2,FALSE),)","v":0},null,null,{"$f":"IF(AC246<>0,VLOOKUP(AC246,整理番号表!$B$32:$G$60,2,FALSE),)","v":0},null,{"$f":"IF(AE246<>0,VLOOKUP(AE246,整理番号表!$P$5:$R$39,2,FALSE),)","v":0},null,0,null,null,{"$f":"IF(AJ246<>\"\",VLOOKUP(AJ246,整理番号表!$Z$6:$AA$14,2,FALSE),\"\")","v":""},0,null,null,null,null,null,{"$f":"IF(AQ246<>0,VLOOKUP(AQ246,整理番号表!$P$43:$Q$49,2,FALSE),)","v":0},null,null,null,null,0,0,null,0,null,null,null,0,0,0,null,null,0,0,null,{"$f":"IF(BK246<>0,VLOOKUP(BK246,整理番号表!$T$5:$U$16,2,FALSE),)","v":0},null,{"$f":"IF(BM246<>0,VLOOKUP(BM246,整理番号表!$T$22:$U$30,2,FALSE),)","v":0},null,0,"",null,null,null,null,null,"",0,null,null,null,null,null,null,null,null,null,0,0,0,0,0,0,0,0,0,0,0,0,0,0,0,0,0,0,0,0,0,0,0,0,0,0,0,0,null,null,null,null,null,0,0,0,0,0,0,null,0,null,null,null,null,null,null,null,0,null,null,null,null,null,null,null,null,null,null,null,null,null,null,null,null,null,null,null,null,null,null,null,null,null,null,0,0,null,null,0,0,0,{"$f":"IF(OR(AND(1<=$FK246,$FK246<=3),$FK246=6),VLOOKUP($FK246,整理番号表!$B$32:$G$60,2,FALSE),)","v":0},{"$f":"IF(OR($FK246=4,$FK246=7),VLOOKUP($FK246,整理番号表!$B$32:$G$60,2,FALSE),)","v":0},{"$f":"IF($FK246=5,VLOOKUP($FK246,整理番号表!$B$32:$G$60,2,FALSE),)","v":0},{"$f":"IF(AND(8<=$FK246,$FK246<=13),VLOOKUP($FK246,整理番号表!$B$32:$G$60,2,FALSE),)","v":0},0,0,{"$f":"IF(AND(FE246<>1,$FP246=1,SUM($FQ246:FQ246)=0,$FF246=1,$FI246>=2),1,)","v":0},{"$f":"IF(AND(FE246<>1,$FP246=1,SUM($FQ246:FR246)=0,OR(AND($FF246=1,$FI246>0),$FI246>=4)),1,)","v":0},{"$f":"IF(AND(FE246<>1,$FP246=1,SUM($FQ246:FS246)=0,OR($FF246=1,$FI246>=2)),1,)","v":0},{"$f":"IF(AND(FE246<>1,$FP246=1,SUM($FQ246:FT246)=0,$FI246>0),1,)","v":0},0,0,{"$f":"IF(AND(FE246<>1,$FP246=2,SUM($FW246:FW246)=0,$FF246=1,$FJ246>=0.1),1,)","v":0},{"$f":"IF(AND(FE246<>1,$FP246=2,SUM($FW246:FX246)=0,OR(AND($FF246=1,$FI246>0),$FJ246>=0.2)),1,)","v":0},{"$f":"IF(AND(FE246<>1,$FP246=2,SUM($FW246:FY246)=0,OR($FF246=1,$FJ246>=0.1)),1,)","v":0},{"$f":"IF(AND(FE246<>1,$FP246=2,SUM($FW246:FZ246)=0,$FI246>0),1,)","v":0},0,{"$f":"IF(AND(FE246<>1,$FP246=3,SUM($GB246:GB246)=0,AND($FF246=1,$FJ246>=0.05)),1,)","v":0},{"$f":"IF(AND(FE246<>1,$FP246=3,SUM($GB246:GC246)=0,OR(AND($FF246=1,$FI246>0),$FJ246>=0.1)),1,)","v":0},{"$f":"IF(AND(FE246<>1,$FP246=3,SUM($GB246:GD246)=0,OR($FF246=1,$FJ246>=0.05)),1,)","v":0},{"$f":"IF(AND(FE246<>1,$FP246=3,SUM($GB246:GE246)=0,$FI246>0),1,)","v":0},0,null,0,0,0,0,0,0,0,0,0,0,0,0,0,0,0,0,0,0,0,0,0,0,0,0,0,0,0,0,0,0,0,0,0,0,0,0,0,0,0,0,0,0,0,0,0,0,0,0,0,0,0,0,0,0,0,0,0,0,0,0,0,0,0,0,0,0,0,0,0,0,0,0,0,0,0,0,0,0,0,"","","","","","","","","","","","","","","","○",0,0,0,0,0,0,0,"○",0,0,0,"○","○",null,0,0]
[0,0,0,0,0,0,0,0,0,0,236,null,null,null,null,{"$f":"IF(O248<>\"\",VLOOKUP(O248,整理番号表!$Z$17:$AA$20,2,FALSE),)","v":0},0,null,null,null,null,null,{"$f":"IF(V248<>0,VLOOKUP(V248,整理番号表!$B$6:$L$13,2,FALSE),)","v":0},0,{"$f":"IF(X248<>0,VLOOKUP(X248,整理番号表!$B$16:$C$18,2,FALSE),)","v":0},null,{"$f":"IF(Z248<>0,VLOOKUP(Z248,整理番号表!$B$22:$C$29,2,FALSE),)","v":0},null,null,{"$f":"IF(AC248<>0,VLOOKUP(AC248,整理番号表!$B$32:$G$60,2,FALSE),)","v":0},null,{"$f":"IF(AE248<>0,VLOOKUP(AE248,整理番号表!$P$5:$R$39,2,FALSE),)","v":0},null,0,null,null,{"$f":"IF(AJ248<>\"\",VLOOKUP(AJ248,整理番号表!$Z$6:$AA$14,2,FALSE),\"\")","v":""},0,null,null,null,null,null,{"$f":"IF(AQ248<>0,VLOOKUP(AQ248,整理番号表!$P$43:$Q$49,2,FALSE),)","v":0},null,null,null,null,0,0,null,0,null,null,null,0,0,0,null,null,0,0,null,{"$f":"IF(BK248<>0,VLOOKUP(BK248,整理番号表!$T$5:$U$16,2,FALSE),)","v":0},null,{"$f":"IF(BM248<>0,VLOOKUP(BM248,整理番号表!$T$22:$U$30,2,FALSE),)","v":0},null,0,"",null,null,null,null,null,"",0,null,null,null,null,null,null,null,null,null,0,0,0,0,0,0,0,0,0,0,0,0,0,0,0,0,0,0,0,0,0,0,0,0,0,0,0,0,null,null,null,null,null,0,0,0,0,0,0,null,0,null,null,null,null,null,null,null,0,null,null,null,null,null,null,null,null,null,null,null,null,null,null,null,null,null,null,null,null,null,null,null,null,null,null,0,0,null,null,0,0,0,{"$f":"IF(OR(AND(1<=$FK248,$FK248<=3),$FK248=6),VLOOKUP($FK248,整理番号表!$B$32:$G$60,2,FALSE),)","v":0},{"$f":"IF(OR($FK248=4,$FK248=7),VLOOKUP($FK248,整理番号表!$B$32:$G$60,2,FALSE),)","v":0},{"$f":"IF($FK248=5,VLOOKUP($FK248,整理番号表!$B$32:$G$60,2,FALSE),)","v":0},{"$f":"IF(AND(8<=$FK248,$FK248<=13),VLOOKUP($FK248,整理番号表!$B$32:$G$60,2,FALSE),)","v":0},0,0,{"$f":"IF(AND(FE248<>1,$FP248=1,SUM($FQ248:FQ248)=0,$FF248=1,$FI248>=2),1,)","v":0},{"$f":"IF(AND(FE248<>1,$FP248=1,SUM($FQ248:FR248)=0,OR(AND($FF248=1,$FI248>0),$FI248>=4)),1,)","v":0},{"$f":"IF(AND(FE248<>1,$FP248=1,SUM($FQ248:FS248)=0,OR($FF248=1,$FI248>=2)),1,)","v":0},{"$f":"IF(AND(FE248<>1,$FP248=1,SUM($FQ248:FT248)=0,$FI248>0),1,)","v":0},0,0,{"$f":"IF(AND(FE248<>1,$FP248=2,SUM($FW248:FW248)=0,$FF248=1,$FJ248>=0.1),1,)","v":0},{"$f":"IF(AND(FE248<>1,$FP248=2,SUM($FW248:FX248)=0,OR(AND($FF248=1,$FI248>0),$FJ248>=0.2)),1,)","v":0},{"$f":"IF(AND(FE248<>1,$FP248=2,SUM($FW248:FY248)=0,OR($FF248=1,$FJ248>=0.1)),1,)","v":0},{"$f":"IF(AND(FE248<>1,$FP248=2,SUM($FW248:FZ248)=0,$FI248>0),1,)","v":0},0,{"$f":"IF(AND(FE248<>1,$FP248=3,SUM($GB248:GB248)=0,AND($FF248=1,$FJ248>=0.05)),1,)","v":0},{"$f":"IF(AND(FE248<>1,$FP248=3,SUM($GB248:GC248)=0,OR(AND($FF248=1,$FI248>0),$FJ248>=0.1)),1,)","v":0},{"$f":"IF(AND(FE248<>1,$FP248=3,SUM($GB248:GD248)=0,OR($FF248=1,$FJ248>=0.05)),1,)","v":0},{"$f":"IF(AND(FE248<>1,$FP248=3,SUM($GB248:GE248)=0,$FI248>0),1,)","v":0},0,null,0,0,0,0,0,0,0,0,0,0,0,0,0,0,0,0,0,0,0,0,0,0,0,0,0,0,0,0,0,0,0,0,0,0,0,0,0,0,0,0,0,0,0,0,0,0,0,0,0,0,0,0,0,0,0,0,0,0,0,0,0,0,0,0,0,0,0,0,0,0,0,0,0,0,0,0,0,0,0,"","","","","","","","","","","","","","","","○",0,0,0,0,0,0,0,"○",0,0,0,"○","○",null,0,0]
[0,0,0,0,0,0,0,0,0,0,237,null,null,null,null,{"$f":"IF(O249<>\"\",VLOOKUP(O249,整理番号表!$Z$17:$AA$20,2,FALSE),)","v":0},0,null,null,null,null,null,{"$f":"IF(V249<>0,VLOOKUP(V249,整理番号表!$B$6:$L$13,2,FALSE),)","v":0},0,{"$f":"IF(X249<>0,VLOOKUP(X249,整理番号表!$B$16:$C$18,2,FALSE),)","v":0},null,{"$f":"IF(Z249<>0,VLOOKUP(Z249,整理番号表!$B$22:$C$29,2,FALSE),)","v":0},null,null,{"$f":"IF(AC249<>0,VLOOKUP(AC249,整理番号表!$B$32:$G$60,2,FALSE),)","v":0},null,{"$f":"IF(AE249<>0,VLOOKUP(AE249,整理番号表!$P$5:$R$39,2,FALSE),)","v":0},null,0,null,null,{"$f":"IF(AJ249<>\"\",VLOOKUP(AJ249,整理番号表!$Z$6:$AA$14,2,FALSE),\"\")","v":""},0,null,null,null,null,null,{"$f":"IF(AQ249<>0,VLOOKUP(AQ249,整理番号表!$P$43:$Q$49,2,FALSE),)","v":0},null,null,null,null,0,0,null,0,null,null,null,0,0,0,null,null,0,0,null,{"$f":"IF(BK249<>0,VLOOKUP(BK249,整理番号表!$T$5:$U$16,2,FALSE),)","v":0},null,{"$f":"IF(BM249<>0,VLOOKUP(BM249,整理番号表!$T$22:$U$30,2,FALSE),)","v":0},null,0,"",null,null,null,null,null,"",0,null,null,null,null,null,null,null,null,null,0,0,0,0,0,0,0,0,0,0,0,0,0,0,0,0,0,0,0,0,0,0,0,0,0,0,0,0,null,null,null,null,null,0,0,0,0,0,0,null,0,null,null,null,null,null,null,null,0,null,null,null,null,null,null,null,null,null,null,null,null,null,null,null,null,null,null,null,null,null,null,null,null,null,null,0,0,null,null,0,0,0,{"$f":"IF(OR(AND(1<=$FK249,$FK249<=3),$FK249=6),VLOOKUP($FK249,整理番号表!$B$32:$G$60,2,FALSE),)","v":0},{"$f":"IF(OR($FK249=4,$FK249=7),VLOOKUP($FK249,整理番号表!$B$32:$G$60,2,FALSE),)","v":0},{"$f":"IF($FK249=5,VLOOKUP($FK249,整理番号表!$B$32:$G$60,2,FALSE),)","v":0},{"$f":"IF(AND(8<=$FK249,$FK249<=13),VLOOKUP($FK249,整理番号表!$B$32:$G$60,2,FALSE),)","v":0},0,0,{"$f":"IF(AND(FE249<>1,$FP249=1,SUM($FQ249:FQ249)=0,$FF249=1,$FI249>=2),1,)","v":0},{"$f":"IF(AND(FE249<>1,$FP249=1,SUM($FQ249:FR249)=0,OR(AND($FF249=1,$FI249>0),$FI249>=4)),1,)","v":0},{"$f":"IF(AND(FE249<>1,$FP249=1,SUM($FQ249:FS249)=0,OR($FF249=1,$FI249>=2)),1,)","v":0},{"$f":"IF(AND(FE249<>1,$FP249=1,SUM($FQ249:FT249)=0,$FI249>0),1,)","v":0},0,0,{"$f":"IF(AND(FE249<>1,$FP249=2,SUM($FW249:FW249)=0,$FF249=1,$FJ249>=0.1),1,)","v":0},{"$f":"IF(AND(FE249<>1,$FP249=2,SUM($FW249:FX249)=0,OR(AND($FF249=1,$FI249>0),$FJ249>=0.2)),1,)","v":0},{"$f":"IF(AND(FE249<>1,$FP249=2,SUM($FW249:FY249)=0,OR($FF249=1,$FJ249>=0.1)),1,)","v":0},{"$f":"IF(AND(FE249<>1,$FP249=2,SUM($FW249:FZ249)=0,$FI249>0),1,)","v":0},0,{"$f":"IF(AND(FE249<>1,$FP249=3,SUM($GB249:GB249)=0,AND($FF249=1,$FJ249>=0.05)),1,)","v":0},{"$f":"IF(AND(FE249<>1,$FP249=3,SUM($GB249:GC249)=0,OR(AND($FF249=1,$FI249>0),$FJ249>=0.1)),1,)","v":0},{"$f":"IF(AND(FE249<>1,$FP249=3,SUM($GB249:GD249)=0,OR($FF249=1,$FJ249>=0.05)),1,)","v":0},{"$f":"IF(AND(FE249<>1,$FP249=3,SUM($GB249:GE249)=0,$FI249>0),1,)","v":0},0,null,0,0,0,0,0,0,0,0,0,0,0,0,0,0,0,0,0,0,0,0,0,0,0,0,0,0,0,0,0,0,0,0,0,0,0,0,0,0,0,0,0,0,0,0,0,0,0,0,0,0,0,0,0,0,0,0,0,0,0,0,0,0,0,0,0,0,0,0,0,0,0,0,0,0,0,0,0,0,0,"","","","","","","","","","","","","","","","○",0,0,0,0,0,0,0,"○",0,0,0,"○","○",null,0,0]
[0,0,0,0,0,0,0,0,0,0,240,null,null,null,null,{"$f":"IF(O252<>\"\",VLOOKUP(O252,整理番号表!$Z$17:$AA$20,2,FALSE),)","v":0},0,null,null,null,null,null,{"$f":"IF(V252<>0,VLOOKUP(V252,整理番号表!$B$6:$L$13,2,FALSE),)","v":0},0,{"$f":"IF(X252<>0,VLOOKUP(X252,整理番号表!$B$16:$C$18,2,FALSE),)","v":0},null,{"$f":"IF(Z252<>0,VLOOKUP(Z252,整理番号表!$B$22:$C$29,2,FALSE),)","v":0},null,null,{"$f":"IF(AC252<>0,VLOOKUP(AC252,整理番号表!$B$32:$G$60,2,FALSE),)","v":0},null,{"$f":"IF(AE252<>0,VLOOKUP(AE252,整理番号表!$P$5:$R$39,2,FALSE),)","v":0},null,0,null,null,{"$f":"IF(AJ252<>\"\",VLOOKUP(AJ252,整理番号表!$Z$6:$AA$14,2,FALSE),\"\")","v":""},0,null,null,null,null,null,{"$f":"IF(AQ252<>0,VLOOKUP(AQ252,整理番号表!$P$43:$Q$49,2,FALSE),)","v":0},null,null,null,null,0,0,null,0,null,null,null,0,0,0,null,null,0,0,null,{"$f":"IF(BK252<>0,VLOOKUP(BK252,整理番号表!$T$5:$U$16,2,FALSE),)","v":0},null,{"$f":"IF(BM252<>0,VLOOKUP(BM252,整理番号表!$T$22:$U$30,2,FALSE),)","v":0},null,0,"",null,null,null,null,null,"",0,null,null,null,null,null,null,null,null,null,0,0,0,0,0,0,0,0,0,0,0,0,0,0,0,0,0,0,0,0,0,0,0,0,0,0,0,0,null,null,null,null,null,0,0,0,0,0,0,null,0,null,null,null,null,null,null,null,0,null,null,null,null,null,null,null,null,null,null,null,null,null,null,null,null,null,null,null,null,null,null,null,null,null,null,0,0,null,null,0,0,0,{"$f":"IF(OR(AND(1<=$FK252,$FK252<=3),$FK252=6),VLOOKUP($FK252,整理番号表!$B$32:$G$60,2,FALSE),)","v":0},{"$f":"IF(OR($FK252=4,$FK252=7),VLOOKUP($FK252,整理番号表!$B$32:$G$60,2,FALSE),)","v":0},{"$f":"IF($FK252=5,VLOOKUP($FK252,整理番号表!$B$32:$G$60,2,FALSE),)","v":0},{"$f":"IF(AND(8<=$FK252,$FK252<=13),VLOOKUP($FK252,整理番号表!$B$32:$G$60,2,FALSE),)","v":0},0,0,{"$f":"IF(AND(FE252<>1,$FP252=1,SUM($FQ252:FQ252)=0,$FF252=1,$FI252>=2),1,)","v":0},{"$f":"IF(AND(FE252<>1,$FP252=1,SUM($FQ252:FR252)=0,OR(AND($FF252=1,$FI252>0),$FI252>=4)),1,)","v":0},{"$f":"IF(AND(FE252<>1,$FP252=1,SUM($FQ252:FS252)=0,OR($FF252=1,$FI252>=2)),1,)","v":0},{"$f":"IF(AND(FE252<>1,$FP252=1,SUM($FQ252:FT252)=0,$FI252>0),1,)","v":0},0,0,{"$f":"IF(AND(FE252<>1,$FP252=2,SUM($FW252:FW252)=0,$FF252=1,$FJ252>=0.1),1,)","v":0},{"$f":"IF(AND(FE252<>1,$FP252=2,SUM($FW252:FX252)=0,OR(AND($FF252=1,$FI252>0),$FJ252>=0.2)),1,)","v":0},{"$f":"IF(AND(FE252<>1,$FP252=2,SUM($FW252:FY252)=0,OR($FF252=1,$FJ252>=0.1)),1,)","v":0},{"$f":"IF(AND(FE252<>1,$FP252=2,SUM($FW252:FZ252)=0,$FI252>0),1,)","v":0},0,{"$f":"IF(AND(FE252<>1,$FP252=3,SUM($GB252:GB252)=0,AND($FF252=1,$FJ252>=0.05)),1,)","v":0},{"$f":"IF(AND(FE252<>1,$FP252=3,SUM($GB252:GC252)=0,OR(AND($FF252=1,$FI252>0),$FJ252>=0.1)),1,)","v":0},{"$f":"IF(AND(FE252<>1,$FP252=3,SUM($GB252:GD252)=0,OR($FF252=1,$FJ252>=0.05)),1,)","v":0},{"$f":"IF(AND(FE252<>1,$FP252=3,SUM($GB252:GE252)=0,$FI252>0),1,)","v":0},0,null,0,0,0,0,0,0,0,0,0,0,0,0,0,0,0,0,0,0,0,0,0,0,0,0,0,0,0,0,0,0,0,0,0,0,0,0,0,0,0,0,0,0,0,0,0,0,0,0,0,0,0,0,0,0,0,0,0,0,0,0,0,0,0,0,0,0,0,0,0,0,0,0,0,0,0,0,0,0,0,"","","","","","","","","","","","","","","","○",0,0,0,0,0,0,0,"○",0,0,0,"○","○",null,0,0]
[0,0,0,0,0,0,0,0,0,0,241,null,null,null,null,{"$f":"IF(O253<>\"\",VLOOKUP(O253,整理番号表!$Z$17:$AA$20,2,FALSE),)","v":0},0,null,null,null,null,null,{"$f":"IF(V253<>0,VLOOKUP(V253,整理番号表!$B$6:$L$13,2,FALSE),)","v":0},0,{"$f":"IF(X253<>0,VLOOKUP(X253,整理番号表!$B$16:$C$18,2,FALSE),)","v":0},null,{"$f":"IF(Z253<>0,VLOOKUP(Z253,整理番号表!$B$22:$C$29,2,FALSE),)","v":0},null,null,{"$f":"IF(AC253<>0,VLOOKUP(AC253,整理番号表!$B$32:$G$60,2,FALSE),)","v":0},null,{"$f":"IF(AE253<>0,VLOOKUP(AE253,整理番号表!$P$5:$R$39,2,FALSE),)","v":0},null,0,null,null,{"$f":"IF(AJ253<>\"\",VLOOKUP(AJ253,整理番号表!$Z$6:$AA$14,2,FALSE),\"\")","v":""},0,null,null,null,null,null,{"$f":"IF(AQ253<>0,VLOOKUP(AQ253,整理番号表!$P$43:$Q$49,2,FALSE),)","v":0},null,null,null,null,0,0,null,0,null,null,null,0,0,0,null,null,0,0,null,{"$f":"IF(BK253<>0,VLOOKUP(BK253,整理番号表!$T$5:$U$16,2,FALSE),)","v":0},null,{"$f":"IF(BM253<>0,VLOOKUP(BM253,整理番号表!$T$22:$U$30,2,FALSE),)","v":0},null,0,"",null,null,null,null,null,"",0,null,null,null,null,null,null,null,null,null,0,0,0,0,0,0,0,0,0,0,0,0,0,0,0,0,0,0,0,0,0,0,0,0,0,0,0,0,null,null,null,null,null,0,0,0,0,0,0,null,0,null,null,null,null,null,null,null,0,null,null,null,null,null,null,null,null,null,null,null,null,null,null,null,null,null,null,null,null,null,null,null,null,null,null,0,0,null,null,0,0,0,{"$f":"IF(OR(AND(1<=$FK253,$FK253<=3),$FK253=6),VLOOKUP($FK253,整理番号表!$B$32:$G$60,2,FALSE),)","v":0},{"$f":"IF(OR($FK253=4,$FK253=7),VLOOKUP($FK253,整理番号表!$B$32:$G$60,2,FALSE),)","v":0},{"$f":"IF($FK253=5,VLOOKUP($FK253,整理番号表!$B$32:$G$60,2,FALSE),)","v":0},{"$f":"IF(AND(8<=$FK253,$FK253<=13),VLOOKUP($FK253,整理番号表!$B$32:$G$60,2,FALSE),)","v":0},0,0,{"$f":"IF(AND(FE253<>1,$FP253=1,SUM($FQ253:FQ253)=0,$FF253=1,$FI253>=2),1,)","v":0},{"$f":"IF(AND(FE253<>1,$FP253=1,SUM($FQ253:FR253)=0,OR(AND($FF253=1,$FI253>0),$FI253>=4)),1,)","v":0},{"$f":"IF(AND(FE253<>1,$FP253=1,SUM($FQ253:FS253)=0,OR($FF253=1,$FI253>=2)),1,)","v":0},{"$f":"IF(AND(FE253<>1,$FP253=1,SUM($FQ253:FT253)=0,$FI253>0),1,)","v":0},0,0,{"$f":"IF(AND(FE253<>1,$FP253=2,SUM($FW253:FW253)=0,$FF253=1,$FJ253>=0.1),1,)","v":0},{"$f":"IF(AND(FE253<>1,$FP253=2,SUM($FW253:FX253)=0,OR(AND($FF253=1,$FI253>0),$FJ253>=0.2)),1,)","v":0},{"$f":"IF(AND(FE253<>1,$FP253=2,SUM($FW253:FY253)=0,OR($FF253=1,$FJ253>=0.1)),1,)","v":0},{"$f":"IF(AND(FE253<>1,$FP253=2,SUM($FW253:FZ253)=0,$FI253>0),1,)","v":0},0,{"$f":"IF(AND(FE253<>1,$FP253=3,SUM($GB253:GB253)=0,AND($FF253=1,$FJ253>=0.05)),1,)","v":0},{"$f":"IF(AND(FE253<>1,$FP253=3,SUM($GB253:GC253)=0,OR(AND($FF253=1,$FI253>0),$FJ253>=0.1)),1,)","v":0},{"$f":"IF(AND(FE253<>1,$FP253=3,SUM($GB253:GD253)=0,OR($FF253=1,$FJ253>=0.05)),1,)","v":0},{"$f":"IF(AND(FE253<>1,$FP253=3,SUM($GB253:GE253)=0,$FI253>0),1,)","v":0},0,null,0,0,0,0,0,0,0,0,0,0,0,0,0,0,0,0,0,0,0,0,0,0,0,0,0,0,0,0,0,0,0,0,0,0,0,0,0,0,0,0,0,0,0,0,0,0,0,0,0,0,0,0,0,0,0,0,0,0,0,0,0,0,0,0,0,0,0,0,0,0,0,0,0,0,0,0,0,0,0,"","","","","","","","","","","","","","","","○",0,0,0,0,0,0,0,"○",0,0,0,"○","○",null,0,0]
[0,0,0,0,0,0,0,0,0,0,243,null,null,null,null,{"$f":"IF(O255<>\"\",VLOOKUP(O255,整理番号表!$Z$17:$AA$20,2,FALSE),)","v":0},0,null,null,null,null,null,{"$f":"IF(V255<>0,VLOOKUP(V255,整理番号表!$B$6:$L$13,2,FALSE),)","v":0},0,{"$f":"IF(X255<>0,VLOOKUP(X255,整理番号表!$B$16:$C$18,2,FALSE),)","v":0},null,{"$f":"IF(Z255<>0,VLOOKUP(Z255,整理番号表!$B$22:$C$29,2,FALSE),)","v":0},null,null,{"$f":"IF(AC255<>0,VLOOKUP(AC255,整理番号表!$B$32:$G$60,2,FALSE),)","v":0},null,{"$f":"IF(AE255<>0,VLOOKUP(AE255,整理番号表!$P$5:$R$39,2,FALSE),)","v":0},null,0,null,null,{"$f":"IF(AJ255<>\"\",VLOOKUP(AJ255,整理番号表!$Z$6:$AA$14,2,FALSE),\"\")","v":""},0,null,null,null,null,null,{"$f":"IF(AQ255<>0,VLOOKUP(AQ255,整理番号表!$P$43:$Q$49,2,FALSE),)","v":0},null,null,null,null,0,0,null,0,null,null,null,0,0,0,null,null,0,0,null,{"$f":"IF(BK255<>0,VLOOKUP(BK255,整理番号表!$T$5:$U$16,2,FALSE),)","v":0},null,{"$f":"IF(BM255<>0,VLOOKUP(BM255,整理番号表!$T$22:$U$30,2,FALSE),)","v":0},null,0,"",null,null,null,null,null,"",0,null,null,null,null,null,null,null,null,null,0,0,0,0,0,0,0,0,0,0,0,0,0,0,0,0,0,0,0,0,0,0,0,0,0,0,0,0,null,null,null,null,null,0,0,0,0,0,0,null,0,null,null,null,null,null,null,null,0,null,null,null,null,null,null,null,null,null,null,null,null,null,null,null,null,null,null,null,null,null,null,null,null,null,null,0,0,null,null,0,0,0,{"$f":"IF(OR(AND(1<=$FK255,$FK255<=3),$FK255=6),VLOOKUP($FK255,整理番号表!$B$32:$G$60,2,FALSE),)","v":0},{"$f":"IF(OR($FK255=4,$FK255=7),VLOOKUP($FK255,整理番号表!$B$32:$G$60,2,FALSE),)","v":0},{"$f":"IF($FK255=5,VLOOKUP($FK255,整理番号表!$B$32:$G$60,2,FALSE),)","v":0},{"$f":"IF(AND(8<=$FK255,$FK255<=13),VLOOKUP($FK255,整理番号表!$B$32:$G$60,2,FALSE),)","v":0},0,0,{"$f":"IF(AND(FE255<>1,$FP255=1,SUM($FQ255:FQ255)=0,$FF255=1,$FI255>=2),1,)","v":0},{"$f":"IF(AND(FE255<>1,$FP255=1,SUM($FQ255:FR255)=0,OR(AND($FF255=1,$FI255>0),$FI255>=4)),1,)","v":0},{"$f":"IF(AND(FE255<>1,$FP255=1,SUM($FQ255:FS255)=0,OR($FF255=1,$FI255>=2)),1,)","v":0},{"$f":"IF(AND(FE255<>1,$FP255=1,SUM($FQ255:FT255)=0,$FI255>0),1,)","v":0},0,0,{"$f":"IF(AND(FE255<>1,$FP255=2,SUM($FW255:FW255)=0,$FF255=1,$FJ255>=0.1),1,)","v":0},{"$f":"IF(AND(FE255<>1,$FP255=2,SUM($FW255:FX255)=0,OR(AND($FF255=1,$FI255>0),$FJ255>=0.2)),1,)","v":0},{"$f":"IF(AND(FE255<>1,$FP255=2,SUM($FW255:FY255)=0,OR($FF255=1,$FJ255>=0.1)),1,)","v":0},{"$f":"IF(AND(FE255<>1,$FP255=2,SUM($FW255:FZ255)=0,$FI255>0),1,)","v":0},0,{"$f":"IF(AND(FE255<>1,$FP255=3,SUM($GB255:GB255)=0,AND($FF255=1,$FJ255>=0.05)),1,)","v":0},{"$f":"IF(AND(FE255<>1,$FP255=3,SUM($GB255:GC255)=0,OR(AND($FF255=1,$FI255>0),$FJ255>=0.1)),1,)","v":0},{"$f":"IF(AND(FE255<>1,$FP255=3,SUM($GB255:GD255)=0,OR($FF255=1,$FJ255>=0.05)),1,)","v":0},{"$f":"IF(AND(FE255<>1,$FP255=3,SUM($GB255:GE255)=0,$FI255>0),1,)","v":0},0,null,0,0,0,0,0,0,0,0,0,0,0,0,0,0,0,0,0,0,0,0,0,0,0,0,0,0,0,0,0,0,0,0,0,0,0,0,0,0,0,0,0,0,0,0,0,0,0,0,0,0,0,0,0,0,0,0,0,0,0,0,0,0,0,0,0,0,0,0,0,0,0,0,0,0,0,0,0,0,0,"","","","","","","","","","","","","","","","○",0,0,0,0,0,0,0,"○",0,0,0,"○","○",null,0,0]
[0,0,0,0,0,0,0,0,0,0,244,null,null,null,null,{"$f":"IF(O256<>\"\",VLOOKUP(O256,整理番号表!$Z$17:$AA$20,2,FALSE),)","v":0},0,null,null,null,null,null,{"$f":"IF(V256<>0,VLOOKUP(V256,整理番号表!$B$6:$L$13,2,FALSE),)","v":0},0,{"$f":"IF(X256<>0,VLOOKUP(X256,整理番号表!$B$16:$C$18,2,FALSE),)","v":0},null,{"$f":"IF(Z256<>0,VLOOKUP(Z256,整理番号表!$B$22:$C$29,2,FALSE),)","v":0},null,null,{"$f":"IF(AC256<>0,VLOOKUP(AC256,整理番号表!$B$32:$G$60,2,FALSE),)","v":0},null,{"$f":"IF(AE256<>0,VLOOKUP(AE256,整理番号表!$P$5:$R$39,2,FALSE),)","v":0},null,0,null,null,{"$f":"IF(AJ256<>\"\",VLOOKUP(AJ256,整理番号表!$Z$6:$AA$14,2,FALSE),\"\")","v":""},0,null,null,null,null,null,{"$f":"IF(AQ256<>0,VLOOKUP(AQ256,整理番号表!$P$43:$Q$49,2,FALSE),)","v":0},null,null,null,null,0,0,null,0,null,null,null,0,0,0,null,null,0,0,null,{"$f":"IF(BK256<>0,VLOOKUP(BK256,整理番号表!$T$5:$U$16,2,FALSE),)","v":0},null,{"$f":"IF(BM256<>0,VLOOKUP(BM256,整理番号表!$T$22:$U$30,2,FALSE),)","v":0},null,0,"",null,null,null,null,null,"",0,null,null,null,null,null,null,null,null,null,0,0,0,0,0,0,0,0,0,0,0,0,0,0,0,0,0,0,0,0,0,0,0,0,0,0,0,0,null,null,null,null,null,0,0,0,0,0,0,null,0,null,null,null,null,null,null,null,0,null,null,null,null,null,null,null,null,null,null,null,null,null,null,null,null,null,null,null,null,null,null,null,null,null,null,0,0,null,null,0,0,0,{"$f":"IF(OR(AND(1<=$FK256,$FK256<=3),$FK256=6),VLOOKUP($FK256,整理番号表!$B$32:$G$60,2,FALSE),)","v":0},{"$f":"IF(OR($FK256=4,$FK256=7),VLOOKUP($FK256,整理番号表!$B$32:$G$60,2,FALSE),)","v":0},{"$f":"IF($FK256=5,VLOOKUP($FK256,整理番号表!$B$32:$G$60,2,FALSE),)","v":0},{"$f":"IF(AND(8<=$FK256,$FK256<=13),VLOOKUP($FK256,整理番号表!$B$32:$G$60,2,FALSE),)","v":0},0,0,{"$f":"IF(AND(FE256<>1,$FP256=1,SUM($FQ256:FQ256)=0,$FF256=1,$FI256>=2),1,)","v":0},{"$f":"IF(AND(FE256<>1,$FP256=1,SUM($FQ256:FR256)=0,OR(AND($FF256=1,$FI256>0),$FI256>=4)),1,)","v":0},{"$f":"IF(AND(FE256<>1,$FP256=1,SUM($FQ256:FS256)=0,OR($FF256=1,$FI256>=2)),1,)","v":0},{"$f":"IF(AND(FE256<>1,$FP256=1,SUM($FQ256:FT256)=0,$FI256>0),1,)","v":0},0,0,{"$f":"IF(AND(FE256<>1,$FP256=2,SUM($FW256:FW256)=0,$FF256=1,$FJ256>=0.1),1,)","v":0},{"$f":"IF(AND(FE256<>1,$FP256=2,SUM($FW256:FX256)=0,OR(AND($FF256=1,$FI256>0),$FJ256>=0.2)),1,)","v":0},{"$f":"IF(AND(FE256<>1,$FP256=2,SUM($FW256:FY256)=0,OR($FF256=1,$FJ256>=0.1)),1,)","v":0},{"$f":"IF(AND(FE256<>1,$FP256=2,SUM($FW256:FZ256)=0,$FI256>0),1,)","v":0},0,{"$f":"IF(AND(FE256<>1,$FP256=3,SUM($GB256:GB256)=0,AND($FF256=1,$FJ256>=0.05)),1,)","v":0},{"$f":"IF(AND(FE256<>1,$FP256=3,SUM($GB256:GC256)=0,OR(AND($FF256=1,$FI256>0),$FJ256>=0.1)),1,)","v":0},{"$f":"IF(AND(FE256<>1,$FP256=3,SUM($GB256:GD256)=0,OR($FF256=1,$FJ256>=0.05)),1,)","v":0},{"$f":"IF(AND(FE256<>1,$FP256=3,SUM($GB256:GE256)=0,$FI256>0),1,)","v":0},0,null,0,0,0,0,0,0,0,0,0,0,0,0,0,0,0,0,0,0,0,0,0,0,0,0,0,0,0,0,0,0,0,0,0,0,0,0,0,0,0,0,0,0,0,0,0,0,0,0,0,0,0,0,0,0,0,0,0,0,0,0,0,0,0,0,0,0,0,0,0,0,0,0,0,0,0,0,0,0,0,"","","","","","","","","","","","","","","","○",0,0,0,0,0,0,0,"○",0,0,0,"○","○",null,0,0]
[0,0,0,0,0,0,0,0,0,0,246,null,null,null,null,{"$f":"IF(O258<>\"\",VLOOKUP(O258,整理番号表!$Z$17:$AA$20,2,FALSE),)","v":0},0,null,null,null,null,null,{"$f":"IF(V258<>0,VLOOKUP(V258,整理番号表!$B$6:$L$13,2,FALSE),)","v":0},0,{"$f":"IF(X258<>0,VLOOKUP(X258,整理番号表!$B$16:$C$18,2,FALSE),)","v":0},null,{"$f":"IF(Z258<>0,VLOOKUP(Z258,整理番号表!$B$22:$C$29,2,FALSE),)","v":0},null,null,{"$f":"IF(AC258<>0,VLOOKUP(AC258,整理番号表!$B$32:$G$60,2,FALSE),)","v":0},null,{"$f":"IF(AE258<>0,VLOOKUP(AE258,整理番号表!$P$5:$R$39,2,FALSE),)","v":0},null,0,null,null,{"$f":"IF(AJ258<>\"\",VLOOKUP(AJ258,整理番号表!$Z$6:$AA$14,2,FALSE),\"\")","v":""},0,null,null,null,null,null,{"$f":"IF(AQ258<>0,VLOOKUP(AQ258,整理番号表!$P$43:$Q$49,2,FALSE),)","v":0},null,null,null,null,0,0,null,0,null,null,null,0,0,0,null,null,0,0,null,{"$f":"IF(BK258<>0,VLOOKUP(BK258,整理番号表!$T$5:$U$16,2,FALSE),)","v":0},null,{"$f":"IF(BM258<>0,VLOOKUP(BM258,整理番号表!$T$22:$U$30,2,FALSE),)","v":0},null,0,"",null,null,null,null,null,"",0,null,null,null,null,null,null,null,null,null,0,0,0,0,0,0,0,0,0,0,0,0,0,0,0,0,0,0,0,0,0,0,0,0,0,0,0,0,null,null,null,null,null,0,0,0,0,0,0,null,0,null,null,null,null,null,null,null,0,null,null,null,null,null,null,null,null,null,null,null,null,null,null,null,null,null,null,null,null,null,null,null,null,null,null,0,0,null,null,0,0,0,{"$f":"IF(OR(AND(1<=$FK258,$FK258<=3),$FK258=6),VLOOKUP($FK258,整理番号表!$B$32:$G$60,2,FALSE),)","v":0},{"$f":"IF(OR($FK258=4,$FK258=7),VLOOKUP($FK258,整理番号表!$B$32:$G$60,2,FALSE),)","v":0},{"$f":"IF($FK258=5,VLOOKUP($FK258,整理番号表!$B$32:$G$60,2,FALSE),)","v":0},{"$f":"IF(AND(8<=$FK258,$FK258<=13),VLOOKUP($FK258,整理番号表!$B$32:$G$60,2,FALSE),)","v":0},0,0,{"$f":"IF(AND(FE258<>1,$FP258=1,SUM($FQ258:FQ258)=0,$FF258=1,$FI258>=2),1,)","v":0},{"$f":"IF(AND(FE258<>1,$FP258=1,SUM($FQ258:FR258)=0,OR(AND($FF258=1,$FI258>0),$FI258>=4)),1,)","v":0},{"$f":"IF(AND(FE258<>1,$FP258=1,SUM($FQ258:FS258)=0,OR($FF258=1,$FI258>=2)),1,)","v":0},{"$f":"IF(AND(FE258<>1,$FP258=1,SUM($FQ258:FT258)=0,$FI258>0),1,)","v":0},0,0,{"$f":"IF(AND(FE258<>1,$FP258=2,SUM($FW258:FW258)=0,$FF258=1,$FJ258>=0.1),1,)","v":0},{"$f":"IF(AND(FE258<>1,$FP258=2,SUM($FW258:FX258)=0,OR(AND($FF258=1,$FI258>0),$FJ258>=0.2)),1,)","v":0},{"$f":"IF(AND(FE258<>1,$FP258=2,SUM($FW258:FY258)=0,OR($FF258=1,$FJ258>=0.1)),1,)","v":0},{"$f":"IF(AND(FE258<>1,$FP258=2,SUM($FW258:FZ258)=0,$FI258>0),1,)","v":0},0,{"$f":"IF(AND(FE258<>1,$FP258=3,SUM($GB258:GB258)=0,AND($FF258=1,$FJ258>=0.05)),1,)","v":0},{"$f":"IF(AND(FE258<>1,$FP258=3,SUM($GB258:GC258)=0,OR(AND($FF258=1,$FI258>0),$FJ258>=0.1)),1,)","v":0},{"$f":"IF(AND(FE258<>1,$FP258=3,SUM($GB258:GD258)=0,OR($FF258=1,$FJ258>=0.05)),1,)","v":0},{"$f":"IF(AND(FE258<>1,$FP258=3,SUM($GB258:GE258)=0,$FI258>0),1,)","v":0},0,null,0,0,0,0,0,0,0,0,0,0,0,0,0,0,0,0,0,0,0,0,0,0,0,0,0,0,0,0,0,0,0,0,0,0,0,0,0,0,0,0,0,0,0,0,0,0,0,0,0,0,0,0,0,0,0,0,0,0,0,0,0,0,0,0,0,0,0,0,0,0,0,0,0,0,0,0,0,0,0,"","","","","","","","","","","","","","","","○",0,0,0,0,0,0,0,"○",0,0,0,"○","○",null,0,0]
[0,0,0,0,0,0,0,0,0,0,247,null,null,null,null,{"$f":"IF(O259<>\"\",VLOOKUP(O259,整理番号表!$Z$17:$AA$20,2,FALSE),)","v":0},0,null,null,null,null,null,{"$f":"IF(V259<>0,VLOOKUP(V259,整理番号表!$B$6:$L$13,2,FALSE),)","v":0},0,{"$f":"IF(X259<>0,VLOOKUP(X259,整理番号表!$B$16:$C$18,2,FALSE),)","v":0},null,{"$f":"IF(Z259<>0,VLOOKUP(Z259,整理番号表!$B$22:$C$29,2,FALSE),)","v":0},null,null,{"$f":"IF(AC259<>0,VLOOKUP(AC259,整理番号表!$B$32:$G$60,2,FALSE),)","v":0},null,{"$f":"IF(AE259<>0,VLOOKUP(AE259,整理番号表!$P$5:$R$39,2,FALSE),)","v":0},null,0,null,null,{"$f":"IF(AJ259<>\"\",VLOOKUP(AJ259,整理番号表!$Z$6:$AA$14,2,FALSE),\"\")","v":""},0,null,null,null,null,null,{"$f":"IF(AQ259<>0,VLOOKUP(AQ259,整理番号表!$P$43:$Q$49,2,FALSE),)","v":0},null,null,null,null,0,0,null,0,null,null,null,0,0,0,null,null,0,0,null,{"$f":"IF(BK259<>0,VLOOKUP(BK259,整理番号表!$T$5:$U$16,2,FALSE),)","v":0},null,{"$f":"IF(BM259<>0,VLOOKUP(BM259,整理番号表!$T$22:$U$30,2,FALSE),)","v":0},null,0,"",null,null,null,null,null,"",0,null,null,null,null,null,null,null,null,null,0,0,0,0,0,0,0,0,0,0,0,0,0,0,0,0,0,0,0,0,0,0,0,0,0,0,0,0,null,null,null,null,null,0,0,0,0,0,0,null,0,null,null,null,null,null,null,null,0,null,null,null,null,null,null,null,null,null,null,null,null,null,null,null,null,null,null,null,null,null,null,null,null,null,null,0,0,null,null,0,0,0,{"$f":"IF(OR(AND(1<=$FK259,$FK259<=3),$FK259=6),VLOOKUP($FK259,整理番号表!$B$32:$G$60,2,FALSE),)","v":0},{"$f":"IF(OR($FK259=4,$FK259=7),VLOOKUP($FK259,整理番号表!$B$32:$G$60,2,FALSE),)","v":0},{"$f":"IF($FK259=5,VLOOKUP($FK259,整理番号表!$B$32:$G$60,2,FALSE),)","v":0},{"$f":"IF(AND(8<=$FK259,$FK259<=13),VLOOKUP($FK259,整理番号表!$B$32:$G$60,2,FALSE),)","v":0},0,0,{"$f":"IF(AND(FE259<>1,$FP259=1,SUM($FQ259:FQ259)=0,$FF259=1,$FI259>=2),1,)","v":0},{"$f":"IF(AND(FE259<>1,$FP259=1,SUM($FQ259:FR259)=0,OR(AND($FF259=1,$FI259>0),$FI259>=4)),1,)","v":0},{"$f":"IF(AND(FE259<>1,$FP259=1,SUM($FQ259:FS259)=0,OR($FF259=1,$FI259>=2)),1,)","v":0},{"$f":"IF(AND(FE259<>1,$FP259=1,SUM($FQ259:FT259)=0,$FI259>0),1,)","v":0},0,0,{"$f":"IF(AND(FE259<>1,$FP259=2,SUM($FW259:FW259)=0,$FF259=1,$FJ259>=0.1),1,)","v":0},{"$f":"IF(AND(FE259<>1,$FP259=2,SUM($FW259:FX259)=0,OR(AND($FF259=1,$FI259>0),$FJ259>=0.2)),1,)","v":0},{"$f":"IF(AND(FE259<>1,$FP259=2,SUM($FW259:FY259)=0,OR($FF259=1,$FJ259>=0.1)),1,)","v":0},{"$f":"IF(AND(FE259<>1,$FP259=2,SUM($FW259:FZ259)=0,$FI259>0),1,)","v":0},0,{"$f":"IF(AND(FE259<>1,$FP259=3,SUM($GB259:GB259)=0,AND($FF259=1,$FJ259>=0.05)),1,)","v":0},{"$f":"IF(AND(FE259<>1,$FP259=3,SUM($GB259:GC259)=0,OR(AND($FF259=1,$FI259>0),$FJ259>=0.1)),1,)","v":0},{"$f":"IF(AND(FE259<>1,$FP259=3,SUM($GB259:GD259)=0,OR($FF259=1,$FJ259>=0.05)),1,)","v":0},{"$f":"IF(AND(FE259<>1,$FP259=3,SUM($GB259:GE259)=0,$FI259>0),1,)","v":0},0,null,0,0,0,0,0,0,0,0,0,0,0,0,0,0,0,0,0,0,0,0,0,0,0,0,0,0,0,0,0,0,0,0,0,0,0,0,0,0,0,0,0,0,0,0,0,0,0,0,0,0,0,0,0,0,0,0,0,0,0,0,0,0,0,0,0,0,0,0,0,0,0,0,0,0,0,0,0,0,0,"","","","","","","","","","","","","","","","○",0,0,0,0,0,0,0,"○",0,0,0,"○","○",null,0,0]
[0,0,0,0,0,0,0,0,0,0,249,null,null,null,null,{"$f":"IF(O261<>\"\",VLOOKUP(O261,整理番号表!$Z$17:$AA$20,2,FALSE),)","v":0},0,null,null,null,null,null,{"$f":"IF(V261<>0,VLOOKUP(V261,整理番号表!$B$6:$L$13,2,FALSE),)","v":0},0,{"$f":"IF(X261<>0,VLOOKUP(X261,整理番号表!$B$16:$C$18,2,FALSE),)","v":0},null,{"$f":"IF(Z261<>0,VLOOKUP(Z261,整理番号表!$B$22:$C$29,2,FALSE),)","v":0},null,null,{"$f":"IF(AC261<>0,VLOOKUP(AC261,整理番号表!$B$32:$G$60,2,FALSE),)","v":0},null,{"$f":"IF(AE261<>0,VLOOKUP(AE261,整理番号表!$P$5:$R$39,2,FALSE),)","v":0},null,0,null,null,{"$f":"IF(AJ261<>\"\",VLOOKUP(AJ261,整理番号表!$Z$6:$AA$14,2,FALSE),\"\")","v":""},0,null,null,null,null,null,{"$f":"IF(AQ261<>0,VLOOKUP(AQ261,整理番号表!$P$43:$Q$49,2,FALSE),)","v":0},null,null,null,null,0,0,null,0,null,null,null,0,0,0,null,null,0,0,null,{"$f":"IF(BK261<>0,VLOOKUP(BK261,整理番号表!$T$5:$U$16,2,FALSE),)","v":0},null,{"$f":"IF(BM261<>0,VLOOKUP(BM261,整理番号表!$T$22:$U$30,2,FALSE),)","v":0},null,0,"",null,null,null,null,null,"",0,null,null,null,null,null,null,null,null,null,0,0,0,0,0,0,0,0,0,0,0,0,0,0,0,0,0,0,0,0,0,0,0,0,0,0,0,0,null,null,null,null,null,0,0,0,0,0,0,null,0,null,null,null,null,null,null,null,0,null,null,null,null,null,null,null,null,null,null,null,null,null,null,null,null,null,null,null,null,null,null,null,null,null,null,0,0,null,null,0,0,0,{"$f":"IF(OR(AND(1<=$FK261,$FK261<=3),$FK261=6),VLOOKUP($FK261,整理番号表!$B$32:$G$60,2,FALSE),)","v":0},{"$f":"IF(OR($FK261=4,$FK261=7),VLOOKUP($FK261,整理番号表!$B$32:$G$60,2,FALSE),)","v":0},{"$f":"IF($FK261=5,VLOOKUP($FK261,整理番号表!$B$32:$G$60,2,FALSE),)","v":0},{"$f":"IF(AND(8<=$FK261,$FK261<=13),VLOOKUP($FK261,整理番号表!$B$32:$G$60,2,FALSE),)","v":0},0,0,{"$f":"IF(AND(FE261<>1,$FP261=1,SUM($FQ261:FQ261)=0,$FF261=1,$FI261>=2),1,)","v":0},{"$f":"IF(AND(FE261<>1,$FP261=1,SUM($FQ261:FR261)=0,OR(AND($FF261=1,$FI261>0),$FI261>=4)),1,)","v":0},{"$f":"IF(AND(FE261<>1,$FP261=1,SUM($FQ261:FS261)=0,OR($FF261=1,$FI261>=2)),1,)","v":0},{"$f":"IF(AND(FE261<>1,$FP261=1,SUM($FQ261:FT261)=0,$FI261>0),1,)","v":0},0,0,{"$f":"IF(AND(FE261<>1,$FP261=2,SUM($FW261:FW261)=0,$FF261=1,$FJ261>=0.1),1,)","v":0},{"$f":"IF(AND(FE261<>1,$FP261=2,SUM($FW261:FX261)=0,OR(AND($FF261=1,$FI261>0),$FJ261>=0.2)),1,)","v":0},{"$f":"IF(AND(FE261<>1,$FP261=2,SUM($FW261:FY261)=0,OR($FF261=1,$FJ261>=0.1)),1,)","v":0},{"$f":"IF(AND(FE261<>1,$FP261=2,SUM($FW261:FZ261)=0,$FI261>0),1,)","v":0},0,{"$f":"IF(AND(FE261<>1,$FP261=3,SUM($GB261:GB261)=0,AND($FF261=1,$FJ261>=0.05)),1,)","v":0},{"$f":"IF(AND(FE261<>1,$FP261=3,SUM($GB261:GC261)=0,OR(AND($FF261=1,$FI261>0),$FJ261>=0.1)),1,)","v":0},{"$f":"IF(AND(FE261<>1,$FP261=3,SUM($GB261:GD261)=0,OR($FF261=1,$FJ261>=0.05)),1,)","v":0},{"$f":"IF(AND(FE261<>1,$FP261=3,SUM($GB261:GE261)=0,$FI261>0),1,)","v":0},0,null,0,0,0,0,0,0,0,0,0,0,0,0,0,0,0,0,0,0,0,0,0,0,0,0,0,0,0,0,0,0,0,0,0,0,0,0,0,0,0,0,0,0,0,0,0,0,0,0,0,0,0,0,0,0,0,0,0,0,0,0,0,0,0,0,0,0,0,0,0,0,0,0,0,0,0,0,0,0,0,"","","","","","","","","","","","","","","","○",0,0,0,0,0,0,0,"○",0,0,0,"○","○",null,0,0]
[0,0,0,0,0,0,0,0,0,0,250,null,null,null,null,{"$f":"IF(O262<>\"\",VLOOKUP(O262,整理番号表!$Z$17:$AA$20,2,FALSE),)","v":0},0,null,null,null,null,null,{"$f":"IF(V262<>0,VLOOKUP(V262,整理番号表!$B$6:$L$13,2,FALSE),)","v":0},0,{"$f":"IF(X262<>0,VLOOKUP(X262,整理番号表!$B$16:$C$18,2,FALSE),)","v":0},null,{"$f":"IF(Z262<>0,VLOOKUP(Z262,整理番号表!$B$22:$C$29,2,FALSE),)","v":0},null,null,{"$f":"IF(AC262<>0,VLOOKUP(AC262,整理番号表!$B$32:$G$60,2,FALSE),)","v":0},null,{"$f":"IF(AE262<>0,VLOOKUP(AE262,整理番号表!$P$5:$R$39,2,FALSE),)","v":0},null,0,null,null,{"$f":"IF(AJ262<>\"\",VLOOKUP(AJ262,整理番号表!$Z$6:$AA$14,2,FALSE),\"\")","v":""},0,null,null,null,null,null,{"$f":"IF(AQ262<>0,VLOOKUP(AQ262,整理番号表!$P$43:$Q$49,2,FALSE),)","v":0},null,null,null,null,0,0,null,0,null,null,null,0,0,0,null,null,0,0,null,{"$f":"IF(BK262<>0,VLOOKUP(BK262,整理番号表!$T$5:$U$16,2,FALSE),)","v":0},null,{"$f":"IF(BM262<>0,VLOOKUP(BM262,整理番号表!$T$22:$U$30,2,FALSE),)","v":0},null,0,"",null,null,null,null,null,"",0,null,null,null,null,null,null,null,null,null,0,0,0,0,0,0,{"$f":"IF(OR($BR262<=0,$BV262<=0),0,IF(AND($X262=1,$I262=1,$EU262<>1,CN$2<=$BW262),1,))","v":0},0,0,0,0,0,0,{"$f":"IF(OR($BR262<=0,$BV262<=0),0,IF(AND($X262=2,$I262=1,$EU262<>1,CU$2<=$BW262),1,))","v":0},0,0,0,0,0,0,{"$f":"IF($BV262<0,0,IF(AND($X262=1,$I262=1,$EU262<>1,DB$2<=$BX262),1,))","v":0},0,0,0,0,0,0,{"$f":"IF($BV262<0,0,IF(AND($X262=2,$I262=1,$EU262<>1,DI$2<=$BX262),1,))","v":0},null,null,null,null,null,0,0,0,0,0,0,null,0,null,null,null,null,null,null,null,{"$f":"IF(AND(I262=1,AB262=\"法人\"),1,)","v":0},null,null,null,null,null,null,null,null,null,null,null,null,null,null,null,null,null,null,null,null,null,null,null,null,null,null,0,0,null,null,0,0,0,{"$f":"IF(OR(AND(1<=$FK262,$FK262<=3),$FK262=6),VLOOKUP($FK262,整理番号表!$B$32:$G$60,2,FALSE),)","v":0},{"$f":"IF(OR($FK262=4,$FK262=7),VLOOKUP($FK262,整理番号表!$B$32:$G$60,2,FALSE),)","v":0},{"$f":"IF($FK262=5,VLOOKUP($FK262,整理番号表!$B$32:$G$60,2,FALSE),)","v":0},{"$f":"IF(AND(8<=$FK262,$FK262<=13),VLOOKUP($FK262,整理番号表!$B$32:$G$60,2,FALSE),)","v":0},0,0,{"$f":"IF(AND(FE262<>1,$FP262=1,SUM($FQ262:FQ262)=0,$FF262=1,$FI262>=2),1,)","v":0},{"$f":"IF(AND(FE262<>1,$FP262=1,SUM($FQ262:FR262)=0,OR(AND($FF262=1,$FI262>0),$FI262>=4)),1,)","v":0},{"$f":"IF(AND(FE262<>1,$FP262=1,SUM($FQ262:FS262)=0,OR($FF262=1,$FI262>=2)),1,)","v":0},{"$f":"IF(AND(FE262<>1,$FP262=1,SUM($FQ262:FT262)=0,$FI262>0),1,)","v":0},0,0,{"$f":"IF(AND(FE262<>1,$FP262=2,SUM($FW262:FW262)=0,$FF262=1,$FJ262>=0.1),1,)","v":0},{"$f":"IF(AND(FE262<>1,$FP262=2,SUM($FW262:FX262)=0,OR(AND($FF262=1,$FI262>0),$FJ262>=0.2)),1,)","v":0},{"$f":"IF(AND(FE262<>1,$FP262=2,SUM($FW262:FY262)=0,OR($FF262=1,$FJ262>=0.1)),1,)","v":0},{"$f":"IF(AND(FE262<>1,$FP262=2,SUM($FW262:FZ262)=0,$FI262>0),1,)","v":0},0,{"$f":"IF(AND(FE262<>1,$FP262=3,SUM($GB262:GB262)=0,AND($FF262=1,$FJ262>=0.05)),1,)","v":0},{"$f":"IF(AND(FE262<>1,$FP262=3,SUM($GB262:GC262)=0,OR(AND($FF262=1,$FI262>0),$FJ262>=0.1)),1,)","v":0},{"$f":"IF(AND(FE262<>1,$FP262=3,SUM($GB262:GD262)=0,OR($FF262=1,$FJ262>=0.05)),1,)","v":0},{"$f":"IF(AND(FE262<>1,$FP262=3,SUM($GB262:GE262)=0,$FI262>0),1,)","v":0},0,null,0,0,0,0,0,0,0,0,0,0,0,0,0,0,0,0,0,0,0,0,0,0,0,0,0,0,0,0,0,0,0,0,0,0,0,0,0,0,0,0,0,0,0,0,0,0,0,0,0,0,0,0,0,0,0,0,0,0,0,0,0,0,0,0,0,0,0,0,0,0,0,0,0,0,0,0,0,0,0,"","","","","","","","","","","","","","","","○",0,0,0,0,0,0,0,"○",0,0,0,"○","○",null,0,0]
[0,0,0,0,0,0,0,0,0,0,{"$f":"ROW()-ROW($K$12)","v":252},null,null,null,null,{"$f":"IF(O264<>\"\",VLOOKUP(O264,整理番号表!$Z$17:$AA$20,2,FALSE),)","v":0},0,null,null,null,null,null,{"$f":"IF(V264<>0,VLOOKUP(V264,整理番号表!$B$6:$L$13,2,FALSE),)","v":0},0,{"$f":"IF(X264<>0,VLOOKUP(X264,整理番号表!$B$16:$C$18,2,FALSE),)","v":0},null,{"$f":"IF(Z264<>0,VLOOKUP(Z264,整理番号表!$B$22:$C$29,2,FALSE),)","v":0},null,null,{"$f":"IF(AC264<>0,VLOOKUP(AC264,整理番号表!$B$32:$G$60,2,FALSE),)","v":0},null,{"$f":"IF(AE264<>0,VLOOKUP(AE264,整理番号表!$P$5:$R$39,2,FALSE),)","v":0},null,0,null,null,{"$f":"IF(AJ264<>\"\",VLOOKUP(AJ264,整理番号表!$Z$6:$AA$14,2,FALSE),\"\")","v":""},0,null,null,null,null,null,{"$f":"IF(AQ264<>0,VLOOKUP(AQ264,整理番号表!$P$43:$Q$49,2,FALSE),)","v":0},null,null,null,null,0,0,null,0,null,null,null,0,0,0,null,null,0,0,null,{"$f":"IF(BK264<>0,VLOOKUP(BK264,整理番号表!$T$5:$U$16,2,FALSE),)","v":0},null,{"$f":"IF(BM264<>0,VLOOKUP(BM264,整理番号表!$T$22:$U$30,2,FALSE),)","v":0},null,0,"",null,null,null,null,null,"",0,null,null,null,null,null,null,null,null,null,0,0,0,0,0,0,0,0,0,0,0,0,0,0,0,0,0,0,0,0,0,0,0,0,0,0,0,0,null,null,null,null,null,0,0,0,0,0,0,null,0,null,null,null,null,null,null,null,0,null,null,null,null,null,null,null,null,null,null,null,null,null,null,null,null,null,null,null,null,null,null,null,null,null,null,0,0,null,null,0,0,0,{"$f":"IF(OR(AND(1<=$FK264,$FK264<=3),$FK264=6),VLOOKUP($FK264,整理番号表!$B$32:$G$60,2,FALSE),)","v":0},{"$f":"IF(OR($FK264=4,$FK264=7),VLOOKUP($FK264,整理番号表!$B$32:$G$60,2,FALSE),)","v":0},{"$f":"IF($FK264=5,VLOOKUP($FK264,整理番号表!$B$32:$G$60,2,FALSE),)","v":0},{"$f":"IF(AND(8<=$FK264,$FK264<=13),VLOOKUP($FK264,整理番号表!$B$32:$G$60,2,FALSE),)","v":0},0,0,{"$f":"IF(AND(FE264<>1,$FP264=1,SUM($FQ264:FQ264)=0,$FF264=1,$FI264>=2),1,)","v":0},{"$f":"IF(AND(FE264<>1,$FP264=1,SUM($FQ264:FR264)=0,OR(AND($FF264=1,$FI264>0),$FI264>=4)),1,)","v":0},{"$f":"IF(AND(FE264<>1,$FP264=1,SUM($FQ264:FS264)=0,OR($FF264=1,$FI264>=2)),1,)","v":0},{"$f":"IF(AND(FE264<>1,$FP264=1,SUM($FQ264:FT264)=0,$FI264>0),1,)","v":0},0,0,{"$f":"IF(AND(FE264<>1,$FP264=2,SUM($FW264:FW264)=0,$FF264=1,$FJ264>=0.1),1,)","v":0},{"$f":"IF(AND(FE264<>1,$FP264=2,SUM($FW264:FX264)=0,OR(AND($FF264=1,$FI264>0),$FJ264>=0.2)),1,)","v":0},{"$f":"IF(AND(FE264<>1,$FP264=2,SUM($FW264:FY264)=0,OR($FF264=1,$FJ264>=0.1)),1,)","v":0},{"$f":"IF(AND(FE264<>1,$FP264=2,SUM($FW264:FZ264)=0,$FI264>0),1,)","v":0},0,{"$f":"IF(AND(FE264<>1,$FP264=3,SUM($GB264:GB264)=0,AND($FF264=1,$FJ264>=0.05)),1,)","v":0},{"$f":"IF(AND(FE264<>1,$FP264=3,SUM($GB264:GC264)=0,OR(AND($FF264=1,$FI264>0),$FJ264>=0.1)),1,)","v":0},{"$f":"IF(AND(FE264<>1,$FP264=3,SUM($GB264:GD264)=0,OR($FF264=1,$FJ264>=0.05)),1,)","v":0},{"$f":"IF(AND(FE264<>1,$FP264=3,SUM($GB264:GE264)=0,$FI264>0),1,)","v":0},0,null,0,0,0,0,0,0,0,0,0,0,0,0,0,0,0,0,0,0,0,0,0,0,0,0,0,0,0,0,0,0,0,0,0,0,0,0,0,0,0,0,0,0,0,0,0,0,0,0,0,0,0,0,0,0,0,0,0,0,0,0,0,0,0,0,0,0,0,0,0,0,0,0,0,0,0,0,0,0,0,"","","","","","","","","","","","","","","","○",0,0,0,0,0,0,0,"○",0,0,0,"○","○",null,0,0]
[0,0,0,0,0,0,0,0,0,0,253,null,null,null,null,{"$f":"IF(O265<>\"\",VLOOKUP(O265,整理番号表!$Z$17:$AA$20,2,FALSE),)","v":0},0,null,null,null,null,null,{"$f":"IF(V265<>0,VLOOKUP(V265,整理番号表!$B$6:$L$13,2,FALSE),)","v":0},0,{"$f":"IF(X265<>0,VLOOKUP(X265,整理番号表!$B$16:$C$18,2,FALSE),)","v":0},null,{"$f":"IF(Z265<>0,VLOOKUP(Z265,整理番号表!$B$22:$C$29,2,FALSE),)","v":0},null,null,{"$f":"IF(AC265<>0,VLOOKUP(AC265,整理番号表!$B$32:$G$60,2,FALSE),)","v":0},null,{"$f":"IF(AE265<>0,VLOOKUP(AE265,整理番号表!$P$5:$R$39,2,FALSE),)","v":0},null,{"$f":"IF(AI265<>\"\",IF(OR(U265<>U264,R265<>R264),1,AH264+1),0)","v":0},null,null,{"$f":"IF(AJ265<>\"\",VLOOKUP(AJ265,整理番号表!$Z$6:$AA$14,2,FALSE),\"\")","v":""},0,null,null,null,null,null,{"$f":"IF(AQ265<>0,VLOOKUP(AQ265,整理番号表!$P$43:$Q$49,2,FALSE),)","v":0},null,null,null,null,0,0,null,0,null,null,null,0,0,0,null,null,0,0,null,{"$f":"IF(BK265<>0,VLOOKUP(BK265,整理番号表!$T$5:$U$16,2,FALSE),)","v":0},null,{"$f":"IF(BM265<>0,VLOOKUP(BM265,整理番号表!$T$22:$U$30,2,FALSE),)","v":0},null,0,"",null,null,null,null,null,"",0,null,null,null,null,null,null,null,null,null,0,0,0,0,0,0,0,0,0,0,0,0,0,0,0,0,0,0,0,0,0,0,0,0,0,0,0,0,null,null,null,null,null,0,0,0,0,0,0,null,0,null,null,null,null,null,null,null,0,null,null,null,null,null,null,null,null,null,null,null,null,null,null,null,null,null,null,null,null,null,null,null,null,null,null,0,0,null,null,0,0,0,{"$f":"IF(OR(AND(1<=$FK265,$FK265<=3),$FK265=6),VLOOKUP($FK265,整理番号表!$B$32:$G$60,2,FALSE),)","v":0},{"$f":"IF(OR($FK265=4,$FK265=7),VLOOKUP($FK265,整理番号表!$B$32:$G$60,2,FALSE),)","v":0},{"$f":"IF($FK265=5,VLOOKUP($FK265,整理番号表!$B$32:$G$60,2,FALSE),)","v":0},{"$f":"IF(AND(8<=$FK265,$FK265<=13),VLOOKUP($FK265,整理番号表!$B$32:$G$60,2,FALSE),)","v":0},0,0,{"$f":"IF(AND(FE265<>1,$FP265=1,SUM($FQ265:FQ265)=0,$FF265=1,$FI265>=2),1,)","v":0},{"$f":"IF(AND(FE265<>1,$FP265=1,SUM($FQ265:FR265)=0,OR(AND($FF265=1,$FI265>0),$FI265>=4)),1,)","v":0},{"$f":"IF(AND(FE265<>1,$FP265=1,SUM($FQ265:FS265)=0,OR($FF265=1,$FI265>=2)),1,)","v":0},{"$f":"IF(AND(FE265<>1,$FP265=1,SUM($FQ265:FT265)=0,$FI265>0),1,)","v":0},0,0,{"$f":"IF(AND(FE265<>1,$FP265=2,SUM($FW265:FW265)=0,$FF265=1,$FJ265>=0.1),1,)","v":0},{"$f":"IF(AND(FE265<>1,$FP265=2,SUM($FW265:FX265)=0,OR(AND($FF265=1,$FI265>0),$FJ265>=0.2)),1,)","v":0},{"$f":"IF(AND(FE265<>1,$FP265=2,SUM($FW265:FY265)=0,OR($FF265=1,$FJ265>=0.1)),1,)","v":0},{"$f":"IF(AND(FE265<>1,$FP265=2,SUM($FW265:FZ265)=0,$FI265>0),1,)","v":0},0,{"$f":"IF(AND(FE265<>1,$FP265=3,SUM($GB265:GB265)=0,AND($FF265=1,$FJ265>=0.05)),1,)","v":0},{"$f":"IF(AND(FE265<>1,$FP265=3,SUM($GB265:GC265)=0,OR(AND($FF265=1,$FI265>0),$FJ265>=0.1)),1,)","v":0},{"$f":"IF(AND(FE265<>1,$FP265=3,SUM($GB265:GD265)=0,OR($FF265=1,$FJ265>=0.05)),1,)","v":0},{"$f":"IF(AND(FE265<>1,$FP265=3,SUM($GB265:GE265)=0,$FI265>0),1,)","v":0},0,null,0,0,0,0,0,0,0,0,0,0,0,0,0,0,0,0,0,0,0,0,0,0,0,0,0,0,0,0,0,0,0,0,0,0,0,0,0,0,0,0,0,0,0,0,0,0,0,0,0,0,0,0,0,0,0,0,0,0,0,0,0,0,0,0,0,0,0,0,0,0,0,0,0,0,0,0,0,0,0,"","","","","","","","","","","","","","","","○",0,0,0,0,0,0,0,"○",0,0,0,"○","○",null,0,0]
[0,0,0,0,0,0,0,0,0,0,255,null,null,null,null,{"$f":"IF(O267<>\"\",VLOOKUP(O267,整理番号表!$Z$17:$AA$20,2,FALSE),)","v":0},0,null,null,null,null,null,{"$f":"IF(V267<>0,VLOOKUP(V267,整理番号表!$B$6:$L$13,2,FALSE),)","v":0},0,{"$f":"IF(X267<>0,VLOOKUP(X267,整理番号表!$B$16:$C$18,2,FALSE),)","v":0},null,{"$f":"IF(Z267<>0,VLOOKUP(Z267,整理番号表!$B$22:$C$29,2,FALSE),)","v":0},null,null,{"$f":"IF(AC267<>0,VLOOKUP(AC267,整理番号表!$B$32:$G$60,2,FALSE),)","v":0},null,{"$f":"IF(AE267<>0,VLOOKUP(AE267,整理番号表!$P$5:$R$39,2,FALSE),)","v":0},null,0,null,null,{"$f":"IF(AJ267<>\"\",VLOOKUP(AJ267,整理番号表!$Z$6:$AA$14,2,FALSE),\"\")","v":""},0,null,null,null,null,null,{"$f":"IF(AQ267<>0,VLOOKUP(AQ267,整理番号表!$P$43:$Q$49,2,FALSE),)","v":0},null,null,null,null,0,0,null,0,null,null,null,0,0,0,null,null,0,0,null,{"$f":"IF(BK267<>0,VLOOKUP(BK267,整理番号表!$T$5:$U$16,2,FALSE),)","v":0},null,{"$f":"IF(BM267<>0,VLOOKUP(BM267,整理番号表!$T$22:$U$30,2,FALSE),)","v":0},null,0,"",null,null,null,null,null,"",0,null,null,null,null,null,null,null,null,null,0,0,0,0,0,0,0,0,0,0,0,0,0,0,0,0,0,0,0,0,0,0,0,0,0,0,0,0,null,null,null,null,null,0,0,0,0,0,0,null,0,null,null,null,null,null,null,null,0,null,null,null,null,null,null,null,null,null,null,null,null,null,null,null,null,null,null,null,null,null,null,null,null,null,null,0,0,null,null,0,0,0,{"$f":"IF(OR(AND(1<=$FK267,$FK267<=3),$FK267=6),VLOOKUP($FK267,整理番号表!$B$32:$G$60,2,FALSE),)","v":0},{"$f":"IF(OR($FK267=4,$FK267=7),VLOOKUP($FK267,整理番号表!$B$32:$G$60,2,FALSE),)","v":0},{"$f":"IF($FK267=5,VLOOKUP($FK267,整理番号表!$B$32:$G$60,2,FALSE),)","v":0},{"$f":"IF(AND(8<=$FK267,$FK267<=13),VLOOKUP($FK267,整理番号表!$B$32:$G$60,2,FALSE),)","v":0},0,0,{"$f":"IF(AND(FE267<>1,$FP267=1,SUM($FQ267:FQ267)=0,$FF267=1,$FI267>=2),1,)","v":0},{"$f":"IF(AND(FE267<>1,$FP267=1,SUM($FQ267:FR267)=0,OR(AND($FF267=1,$FI267>0),$FI267>=4)),1,)","v":0},{"$f":"IF(AND(FE267<>1,$FP267=1,SUM($FQ267:FS267)=0,OR($FF267=1,$FI267>=2)),1,)","v":0},{"$f":"IF(AND(FE267<>1,$FP267=1,SUM($FQ267:FT267)=0,$FI267>0),1,)","v":0},0,0,{"$f":"IF(AND(FE267<>1,$FP267=2,SUM($FW267:FW267)=0,$FF267=1,$FJ267>=0.1),1,)","v":0},{"$f":"IF(AND(FE267<>1,$FP267=2,SUM($FW267:FX267)=0,OR(AND($FF267=1,$FI267>0),$FJ267>=0.2)),1,)","v":0},{"$f":"IF(AND(FE267<>1,$FP267=2,SUM($FW267:FY267)=0,OR($FF267=1,$FJ267>=0.1)),1,)","v":0},{"$f":"IF(AND(FE267<>1,$FP267=2,SUM($FW267:FZ267)=0,$FI267>0),1,)","v":0},0,{"$f":"IF(AND(FE267<>1,$FP267=3,SUM($GB267:GB267)=0,AND($FF267=1,$FJ267>=0.05)),1,)","v":0},{"$f":"IF(AND(FE267<>1,$FP267=3,SUM($GB267:GC267)=0,OR(AND($FF267=1,$FI267>0),$FJ267>=0.1)),1,)","v":0},{"$f":"IF(AND(FE267<>1,$FP267=3,SUM($GB267:GD267)=0,OR($FF267=1,$FJ267>=0.05)),1,)","v":0},{"$f":"IF(AND(FE267<>1,$FP267=3,SUM($GB267:GE267)=0,$FI267>0),1,)","v":0},0,null,0,0,0,0,0,0,0,0,0,0,0,0,0,0,0,0,0,0,0,0,0,0,0,0,0,0,0,0,0,0,0,0,0,0,0,0,0,0,0,0,0,0,0,0,0,0,0,0,0,0,0,0,0,0,0,0,0,0,0,0,0,0,0,0,0,0,0,0,0,0,0,0,0,0,0,0,0,0,0,"","","","","","","","","","","","","","","","○",0,0,0,0,0,0,0,"○",0,0,0,"○","○",null,0,0]
[0,0,0,0,0,0,0,0,0,0,256,null,null,null,null,{"$f":"IF(O268<>\"\",VLOOKUP(O268,整理番号表!$Z$17:$AA$20,2,FALSE),)","v":0},0,null,null,null,null,null,{"$f":"IF(V268<>0,VLOOKUP(V268,整理番号表!$B$6:$L$13,2,FALSE),)","v":0},0,{"$f":"IF(X268<>0,VLOOKUP(X268,整理番号表!$B$16:$C$18,2,FALSE),)","v":0},null,{"$f":"IF(Z268<>0,VLOOKUP(Z268,整理番号表!$B$22:$C$29,2,FALSE),)","v":0},null,null,{"$f":"IF(AC268<>0,VLOOKUP(AC268,整理番号表!$B$32:$G$60,2,FALSE),)","v":0},null,{"$f":"IF(AE268<>0,VLOOKUP(AE268,整理番号表!$P$5:$R$39,2,FALSE),)","v":0},null,0,null,null,{"$f":"IF(AJ268<>\"\",VLOOKUP(AJ268,整理番号表!$Z$6:$AA$14,2,FALSE),\"\")","v":""},0,null,null,null,null,null,{"$f":"IF(AQ268<>0,VLOOKUP(AQ268,整理番号表!$P$43:$Q$49,2,FALSE),)","v":0},null,null,null,null,0,0,null,0,null,null,null,0,0,0,null,null,0,0,null,{"$f":"IF(BK268<>0,VLOOKUP(BK268,整理番号表!$T$5:$U$16,2,FALSE),)","v":0},null,{"$f":"IF(BM268<>0,VLOOKUP(BM268,整理番号表!$T$22:$U$30,2,FALSE),)","v":0},null,0,"",null,null,null,null,null,"",0,null,null,null,null,null,null,null,null,null,0,0,0,0,0,0,0,0,0,0,0,0,0,0,0,0,0,0,0,0,0,0,0,0,0,0,0,0,null,null,null,null,null,0,0,0,0,0,0,null,0,null,null,null,null,null,null,null,0,null,null,null,null,null,null,null,null,null,null,null,null,null,null,null,null,null,null,null,null,null,null,null,null,null,null,0,0,null,null,0,0,0,{"$f":"IF(OR(AND(1<=$FK268,$FK268<=3),$FK268=6),VLOOKUP($FK268,整理番号表!$B$32:$G$60,2,FALSE),)","v":0},{"$f":"IF(OR($FK268=4,$FK268=7),VLOOKUP($FK268,整理番号表!$B$32:$G$60,2,FALSE),)","v":0},{"$f":"IF($FK268=5,VLOOKUP($FK268,整理番号表!$B$32:$G$60,2,FALSE),)","v":0},{"$f":"IF(AND(8<=$FK268,$FK268<=13),VLOOKUP($FK268,整理番号表!$B$32:$G$60,2,FALSE),)","v":0},0,0,{"$f":"IF(AND(FE268<>1,$FP268=1,SUM($FQ268:FQ268)=0,$FF268=1,$FI268>=2),1,)","v":0},{"$f":"IF(AND(FE268<>1,$FP268=1,SUM($FQ268:FR268)=0,OR(AND($FF268=1,$FI268>0),$FI268>=4)),1,)","v":0},{"$f":"IF(AND(FE268<>1,$FP268=1,SUM($FQ268:FS268)=0,OR($FF268=1,$FI268>=2)),1,)","v":0},{"$f":"IF(AND(FE268<>1,$FP268=1,SUM($FQ268:FT268)=0,$FI268>0),1,)","v":0},0,0,{"$f":"IF(AND(FE268<>1,$FP268=2,SUM($FW268:FW268)=0,$FF268=1,$FJ268>=0.1),1,)","v":0},{"$f":"IF(AND(FE268<>1,$FP268=2,SUM($FW268:FX268)=0,OR(AND($FF268=1,$FI268>0),$FJ268>=0.2)),1,)","v":0},{"$f":"IF(AND(FE268<>1,$FP268=2,SUM($FW268:FY268)=0,OR($FF268=1,$FJ268>=0.1)),1,)","v":0},{"$f":"IF(AND(FE268<>1,$FP268=2,SUM($FW268:FZ268)=0,$FI268>0),1,)","v":0},0,{"$f":"IF(AND(FE268<>1,$FP268=3,SUM($GB268:GB268)=0,AND($FF268=1,$FJ268>=0.05)),1,)","v":0},{"$f":"IF(AND(FE268<>1,$FP268=3,SUM($GB268:GC268)=0,OR(AND($FF268=1,$FI268>0),$FJ268>=0.1)),1,)","v":0},{"$f":"IF(AND(FE268<>1,$FP268=3,SUM($GB268:GD268)=0,OR($FF268=1,$FJ268>=0.05)),1,)","v":0},{"$f":"IF(AND(FE268<>1,$FP268=3,SUM($GB268:GE268)=0,$FI268>0),1,)","v":0},0,null,0,0,0,0,0,0,0,0,0,0,0,0,0,0,0,0,0,0,0,0,0,0,0,0,0,0,0,0,0,0,0,0,0,0,0,0,0,0,0,0,0,0,0,0,0,0,0,0,0,0,0,0,0,0,0,0,0,0,0,0,0,0,0,0,0,0,0,0,0,0,0,0,0,0,0,0,0,0,0,"","","","","","","","","","","","","","","","○",0,0,0,0,0,0,0,"○",0,0,0,"○","○",null,0,0]
[0,0,0,0,0,0,0,0,0,0,258,null,null,null,null,{"$f":"IF(O270<>\"\",VLOOKUP(O270,整理番号表!$Z$17:$AA$20,2,FALSE),)","v":0},0,null,null,null,null,null,{"$f":"IF(V270<>0,VLOOKUP(V270,整理番号表!$B$6:$L$13,2,FALSE),)","v":0},0,{"$f":"IF(X270<>0,VLOOKUP(X270,整理番号表!$B$16:$C$18,2,FALSE),)","v":0},null,{"$f":"IF(Z270<>0,VLOOKUP(Z270,整理番号表!$B$22:$C$29,2,FALSE),)","v":0},null,null,{"$f":"IF(AC270<>0,VLOOKUP(AC270,整理番号表!$B$32:$G$60,2,FALSE),)","v":0},null,{"$f":"IF(AE270<>0,VLOOKUP(AE270,整理番号表!$P$5:$R$39,2,FALSE),)","v":0},null,0,null,null,{"$f":"IF(AJ270<>\"\",VLOOKUP(AJ270,整理番号表!$Z$6:$AA$14,2,FALSE),\"\")","v":""},0,null,null,null,null,null,{"$f":"IF(AQ270<>0,VLOOKUP(AQ270,整理番号表!$P$43:$Q$49,2,FALSE),)","v":0},null,null,null,null,0,0,null,0,null,null,null,0,0,0,null,null,0,0,null,{"$f":"IF(BK270<>0,VLOOKUP(BK270,整理番号表!$T$5:$U$16,2,FALSE),)","v":0},null,{"$f":"IF(BM270<>0,VLOOKUP(BM270,整理番号表!$T$22:$U$30,2,FALSE),)","v":0},null,0,"",null,null,null,null,null,"",{"$f":"IF(BR270>0,IF(BS270=2,ROUNDDOWN((BV270-BR270),0),IF(BS270=1,ROUNDDOWN((BV270-BR270)*3/4,0),\"\")),IF(BV270>0,BV270,0))","v":0},null,null,null,null,null,null,null,null,null,0,0,0,0,0,0,0,0,0,0,0,0,0,0,0,0,0,0,0,0,0,0,0,0,0,0,0,0,null,null,null,null,null,0,0,0,0,0,0,null,0,null,null,null,null,null,null,null,0,null,null,null,null,null,null,null,null,null,null,null,null,null,null,null,null,null,null,null,null,null,null,null,null,null,null,{"$f":"IF(X270=2,1,)","v":0},{"$f":"IF(AND(I270=1,OR(V270=1,V270=3)),1,)","v":0},null,null,{"$f":"IF(AND(I270=1,FG270<>FH270),FH270-FG270,0)","v":0},{"$f":"IF(AND(I270=1,FG270>0),ROUNDDOWN(FI270/FG270,2),0)","v":0},{"$f":"IF(I270=1,AC270,)","v":0},{"$f":"IF(OR(AND(1<=$FK270,$FK270<=3),$FK270=6),VLOOKUP($FK270,整理番号表!$B$32:$G$60,2,FALSE),)","v":0},{"$f":"IF(OR($FK270=4,$FK270=7),VLOOKUP($FK270,整理番号表!$B$32:$G$60,2,FALSE),)","v":0},{"$f":"IF($FK270=5,VLOOKUP($FK270,整理番号表!$B$32:$G$60,2,FALSE),)","v":0},{"$f":"IF(AND(8<=$FK270,$FK270<=13),VLOOKUP($FK270,整理番号表!$B$32:$G$60,2,FALSE),)","v":0},{"$f":"IF(FL270<>0,1,IF(FM270<>0,2,IF(FN270<>0,3,IF(FO270<>0,4,))))","v":0},{"$f":"IF(AND(FE270<>1,$FP270=1,$FF270=1,$FI270>=4),1,)","v":0},{"$f":"IF(AND(FE270<>1,$FP270=1,SUM($FQ270:FQ270)=0,$FF270=1,$FI270>=2),1,)","v":0},{"$f":"IF(AND(FE270<>1,$FP270=1,SUM($FQ270:FR270)=0,OR(AND($FF270=1,$FI270>0),$FI270>=4)),1,)","v":0},{"$f":"IF(AND(FE270<>1,$FP270=1,SUM($FQ270:FS270)=0,OR($FF270=1,$FI270>=2)),1,)","v":0},{"$f":"IF(AND(FE270<>1,$FP270=1,SUM($FQ270:FT270)=0,$FI270>0),1,)","v":0},{"$f":"IF(AND(FE270<>1,$FP270=4,$FI270>0),1,)","v":0},{"$f":"IF(AND(FE270<>1,$FP270=2,$FF270=1,$FJ270>=0.2),1,)","v":0},{"$f":"IF(AND(FE270<>1,$FP270=2,SUM($FW270:FW270)=0,$FF270=1,$FJ270>=0.1),1,)","v":0},{"$f":"IF(AND(FE270<>1,$FP270=2,SUM($FW270:FX270)=0,OR(AND($FF270=1,$FI270>0),$FJ270>=0.2)),1,)","v":0},{"$f":"IF(AND(FE270<>1,$FP270=2,SUM($FW270:FY270)=0,OR($FF270=1,$FJ270>=0.1)),1,)","v":0},{"$f":"IF(AND(FE270<>1,$FP270=2,SUM($FW270:FZ270)=0,$FI270>0),1,)","v":0},{"$f":"IF(AND(FE270<>1,$FP270=3,$FF270=1,$FJ270>=0.1),1,)","v":0},{"$f":"IF(AND(FE270<>1,$FP270=3,SUM($GB270:GB270)=0,AND($FF270=1,$FJ270>=0.05)),1,)","v":0},{"$f":"IF(AND(FE270<>1,$FP270=3,SUM($GB270:GC270)=0,OR(AND($FF270=1,$FI270>0),$FJ270>=0.1)),1,)","v":0},{"$f":"IF(AND(FE270<>1,$FP270=3,SUM($GB270:GD270)=0,OR($FF270=1,$FJ270>=0.05)),1,)","v":0},{"$f":"IF(AND(FE270<>1,$FP270=3,SUM($GB270:GE270)=0,$FI270>0),1,)","v":0},{"$f":"IF(AND($FE270=1,$FI270>0),1,)","v":0},null,0,0,0,0,0,0,0,0,0,0,0,0,0,0,0,0,0,0,0,0,0,0,0,0,0,0,0,0,0,0,0,0,0,0,0,0,0,0,0,0,0,0,0,0,0,0,0,0,0,0,0,0,0,0,0,0,0,0,0,0,0,0,0,0,0,0,0,0,0,0,0,0,0,0,0,0,0,0,0,"","","","","","","","","","","","","","",{"$f":"IF(EQ270=1,IF(CG270=1,\"○\",\"×\"),\"\")","v":""},"○",0,0,0,0,0,0,0,"○",0,0,0,"○","○",null,0,0]
[0,0,0,0,0,0,0,0,0,0,259,null,null,null,null,{"$f":"IF(O271<>\"\",VLOOKUP(O271,整理番号表!$Z$17:$AA$20,2,FALSE),)","v":0},0,null,null,null,null,null,{"$f":"IF(V271<>0,VLOOKUP(V271,整理番号表!$B$6:$L$13,2,FALSE),)","v":0},0,{"$f":"IF(X271<>0,VLOOKUP(X271,整理番号表!$B$16:$C$18,2,FALSE),)","v":0},null,{"$f":"IF(Z271<>0,VLOOKUP(Z271,整理番号表!$B$22:$C$29,2,FALSE),)","v":0},null,null,{"$f":"IF(AC271<>0,VLOOKUP(AC271,整理番号表!$B$32:$G$60,2,FALSE),)","v":0},null,{"$f":"IF(AE271<>0,VLOOKUP(AE271,整理番号表!$P$5:$R$39,2,FALSE),)","v":0},null,0,null,null,{"$f":"IF(AJ271<>\"\",VLOOKUP(AJ271,整理番号表!$Z$6:$AA$14,2,FALSE),\"\")","v":""},0,null,null,null,null,null,{"$f":"IF(AQ271<>0,VLOOKUP(AQ271,整理番号表!$P$43:$Q$49,2,FALSE),)","v":0},null,null,null,null,0,0,null,0,null,null,null,0,0,0,null,null,0,0,null,{"$f":"IF(BK271<>0,VLOOKUP(BK271,整理番号表!$T$5:$U$16,2,FALSE),)","v":0},null,{"$f":"IF(BM271<>0,VLOOKUP(BM271,整理番号表!$T$22:$U$30,2,FALSE),)","v":0},null,0,"",null,null,null,null,null,"",0,null,null,null,null,null,null,null,null,null,0,0,0,0,0,0,0,0,0,0,0,0,0,0,0,0,0,0,0,0,0,0,0,0,0,0,0,0,null,null,null,null,null,0,0,0,0,0,0,null,0,null,null,null,null,null,null,null,0,null,null,null,null,null,null,null,null,null,null,null,null,null,null,null,null,null,null,null,null,null,null,null,null,null,null,0,0,null,null,0,0,0,{"$f":"IF(OR(AND(1<=$FK271,$FK271<=3),$FK271=6),VLOOKUP($FK271,整理番号表!$B$32:$G$60,2,FALSE),)","v":0},{"$f":"IF(OR($FK271=4,$FK271=7),VLOOKUP($FK271,整理番号表!$B$32:$G$60,2,FALSE),)","v":0},{"$f":"IF($FK271=5,VLOOKUP($FK271,整理番号表!$B$32:$G$60,2,FALSE),)","v":0},{"$f":"IF(AND(8<=$FK271,$FK271<=13),VLOOKUP($FK271,整理番号表!$B$32:$G$60,2,FALSE),)","v":0},0,0,{"$f":"IF(AND(FE271<>1,$FP271=1,SUM($FQ271:FQ271)=0,$FF271=1,$FI271>=2),1,)","v":0},{"$f":"IF(AND(FE271<>1,$FP271=1,SUM($FQ271:FR271)=0,OR(AND($FF271=1,$FI271>0),$FI271>=4)),1,)","v":0},{"$f":"IF(AND(FE271<>1,$FP271=1,SUM($FQ271:FS271)=0,OR($FF271=1,$FI271>=2)),1,)","v":0},{"$f":"IF(AND(FE271<>1,$FP271=1,SUM($FQ271:FT271)=0,$FI271>0),1,)","v":0},0,0,{"$f":"IF(AND(FE271<>1,$FP271=2,SUM($FW271:FW271)=0,$FF271=1,$FJ271>=0.1),1,)","v":0},{"$f":"IF(AND(FE271<>1,$FP271=2,SUM($FW271:FX271)=0,OR(AND($FF271=1,$FI271>0),$FJ271>=0.2)),1,)","v":0},{"$f":"IF(AND(FE271<>1,$FP271=2,SUM($FW271:FY271)=0,OR($FF271=1,$FJ271>=0.1)),1,)","v":0},{"$f":"IF(AND(FE271<>1,$FP271=2,SUM($FW271:FZ271)=0,$FI271>0),1,)","v":0},0,{"$f":"IF(AND(FE271<>1,$FP271=3,SUM($GB271:GB271)=0,AND($FF271=1,$FJ271>=0.05)),1,)","v":0},{"$f":"IF(AND(FE271<>1,$FP271=3,SUM($GB271:GC271)=0,OR(AND($FF271=1,$FI271>0),$FJ271>=0.1)),1,)","v":0},{"$f":"IF(AND(FE271<>1,$FP271=3,SUM($GB271:GD271)=0,OR($FF271=1,$FJ271>=0.05)),1,)","v":0},{"$f":"IF(AND(FE271<>1,$FP271=3,SUM($GB271:GE271)=0,$FI271>0),1,)","v":0},0,null,0,0,0,0,0,0,0,0,0,0,0,0,0,0,0,0,0,0,0,0,0,0,0,0,0,0,0,0,0,0,0,0,0,0,0,0,0,0,0,0,0,0,0,0,0,0,0,0,0,0,0,0,0,0,0,0,0,0,0,0,0,0,0,0,0,0,0,0,0,0,0,0,0,0,0,0,0,0,0,"","","","","","","","","","","","","","","","○",0,0,0,0,0,0,0,"○",0,0,0,"○","○",null,0,0]
[0,0,0,0,0,0,0,0,0,0,261,null,null,null,null,{"$f":"IF(O273<>\"\",VLOOKUP(O273,整理番号表!$Z$17:$AA$20,2,FALSE),)","v":0},0,null,null,null,null,null,{"$f":"IF(V273<>0,VLOOKUP(V273,整理番号表!$B$6:$L$13,2,FALSE),)","v":0},0,{"$f":"IF(X273<>0,VLOOKUP(X273,整理番号表!$B$16:$C$18,2,FALSE),)","v":0},null,{"$f":"IF(Z273<>0,VLOOKUP(Z273,整理番号表!$B$22:$C$29,2,FALSE),)","v":0},null,null,{"$f":"IF(AC273<>0,VLOOKUP(AC273,整理番号表!$B$32:$G$60,2,FALSE),)","v":0},null,{"$f":"IF(AE273<>0,VLOOKUP(AE273,整理番号表!$P$5:$R$39,2,FALSE),)","v":0},null,0,null,null,{"$f":"IF(AJ273<>\"\",VLOOKUP(AJ273,整理番号表!$Z$6:$AA$14,2,FALSE),\"\")","v":""},0,null,null,null,null,null,{"$f":"IF(AQ273<>0,VLOOKUP(AQ273,整理番号表!$P$43:$Q$49,2,FALSE),)","v":0},null,null,null,null,0,0,null,{"$f":"AV273-SUM(AX273,AY273,BA273,BB273,BC273)","v":0},null,null,null,0,0,0,null,null,0,0,null,{"$f":"IF(BK273<>0,VLOOKUP(BK273,整理番号表!$T$5:$U$16,2,FALSE),)","v":0},null,{"$f":"IF(BM273<>0,VLOOKUP(BM273,整理番号表!$T$22:$U$30,2,FALSE),)","v":0},null,0,"",null,null,null,null,null,"",0,null,null,null,null,null,null,null,null,null,0,0,0,0,0,0,0,0,0,0,0,0,0,0,0,0,0,0,0,0,0,0,0,0,0,0,0,0,null,null,null,null,null,0,0,0,0,0,0,null,0,null,null,null,null,null,null,null,0,null,null,null,null,null,null,null,null,null,null,null,null,null,null,null,null,null,null,null,null,null,null,null,null,null,null,0,0,null,null,0,0,0,{"$f":"IF(OR(AND(1<=$FK273,$FK273<=3),$FK273=6),VLOOKUP($FK273,整理番号表!$B$32:$G$60,2,FALSE),)","v":0},{"$f":"IF(OR($FK273=4,$FK273=7),VLOOKUP($FK273,整理番号表!$B$32:$G$60,2,FALSE),)","v":0},{"$f":"IF($FK273=5,VLOOKUP($FK273,整理番号表!$B$32:$G$60,2,FALSE),)","v":0},{"$f":"IF(AND(8<=$FK273,$FK273<=13),VLOOKUP($FK273,整理番号表!$B$32:$G$60,2,FALSE),)","v":0},0,0,{"$f":"IF(AND(FE273<>1,$FP273=1,SUM($FQ273:FQ273)=0,$FF273=1,$FI273>=2),1,)","v":0},{"$f":"IF(AND(FE273<>1,$FP273=1,SUM($FQ273:FR273)=0,OR(AND($FF273=1,$FI273>0),$FI273>=4)),1,)","v":0},{"$f":"IF(AND(FE273<>1,$FP273=1,SUM($FQ273:FS273)=0,OR($FF273=1,$FI273>=2)),1,)","v":0},{"$f":"IF(AND(FE273<>1,$FP273=1,SUM($FQ273:FT273)=0,$FI273>0),1,)","v":0},0,0,{"$f":"IF(AND(FE273<>1,$FP273=2,SUM($FW273:FW273)=0,$FF273=1,$FJ273>=0.1),1,)","v":0},{"$f":"IF(AND(FE273<>1,$FP273=2,SUM($FW273:FX273)=0,OR(AND($FF273=1,$FI273>0),$FJ273>=0.2)),1,)","v":0},{"$f":"IF(AND(FE273<>1,$FP273=2,SUM($FW273:FY273)=0,OR($FF273=1,$FJ273>=0.1)),1,)","v":0},{"$f":"IF(AND(FE273<>1,$FP273=2,SUM($FW273:FZ273)=0,$FI273>0),1,)","v":0},0,{"$f":"IF(AND(FE273<>1,$FP273=3,SUM($GB273:GB273)=0,AND($FF273=1,$FJ273>=0.05)),1,)","v":0},{"$f":"IF(AND(FE273<>1,$FP273=3,SUM($GB273:GC273)=0,OR(AND($FF273=1,$FI273>0),$FJ273>=0.1)),1,)","v":0},{"$f":"IF(AND(FE273<>1,$FP273=3,SUM($GB273:GD273)=0,OR($FF273=1,$FJ273>=0.05)),1,)","v":0},{"$f":"IF(AND(FE273<>1,$FP273=3,SUM($GB273:GE273)=0,$FI273>0),1,)","v":0},0,null,0,0,0,0,0,0,0,0,0,0,0,0,0,0,0,0,0,0,0,0,0,0,0,0,0,0,0,0,0,0,0,0,0,0,0,0,0,0,0,0,0,0,0,0,0,0,0,0,0,0,0,0,0,0,0,0,0,0,0,0,0,0,0,0,0,0,0,0,0,0,0,0,0,0,0,0,0,0,0,"","","","","","","","","","","","","","","","○",0,0,0,0,0,0,0,"○",0,0,0,"○","○",null,0,0]
[0,0,0,0,0,0,0,0,0,0,262,null,null,null,null,{"$f":"IF(O274<>\"\",VLOOKUP(O274,整理番号表!$Z$17:$AA$20,2,FALSE),)","v":0},0,null,null,null,null,null,{"$f":"IF(V274<>0,VLOOKUP(V274,整理番号表!$B$6:$L$13,2,FALSE),)","v":0},0,{"$f":"IF(X274<>0,VLOOKUP(X274,整理番号表!$B$16:$C$18,2,FALSE),)","v":0},null,{"$f":"IF(Z274<>0,VLOOKUP(Z274,整理番号表!$B$22:$C$29,2,FALSE),)","v":0},null,null,{"$f":"IF(AC274<>0,VLOOKUP(AC274,整理番号表!$B$32:$G$60,2,FALSE),)","v":0},null,{"$f":"IF(AE274<>0,VLOOKUP(AE274,整理番号表!$P$5:$R$39,2,FALSE),)","v":0},null,0,null,null,{"$f":"IF(AJ274<>\"\",VLOOKUP(AJ274,整理番号表!$Z$6:$AA$14,2,FALSE),\"\")","v":""},0,null,null,null,null,null,{"$f":"IF(AQ274<>0,VLOOKUP(AQ274,整理番号表!$P$43:$Q$49,2,FALSE),)","v":0},null,null,null,null,0,0,null,0,null,null,null,0,0,0,null,null,0,0,null,{"$f":"IF(BK274<>0,VLOOKUP(BK274,整理番号表!$T$5:$U$16,2,FALSE),)","v":0},null,{"$f":"IF(BM274<>0,VLOOKUP(BM274,整理番号表!$T$22:$U$30,2,FALSE),)","v":0},null,0,"",null,null,null,null,null,"",0,null,null,null,null,null,null,null,null,null,0,0,0,0,0,0,0,0,0,0,0,0,0,0,0,0,0,0,0,0,0,0,0,0,0,0,0,0,null,null,null,null,null,0,0,0,0,0,0,null,0,null,null,null,null,null,null,null,0,null,null,null,null,null,null,null,null,null,null,null,null,null,null,null,null,null,null,null,null,null,null,null,null,null,null,0,0,null,null,0,0,0,{"$f":"IF(OR(AND(1<=$FK274,$FK274<=3),$FK274=6),VLOOKUP($FK274,整理番号表!$B$32:$G$60,2,FALSE),)","v":0},{"$f":"IF(OR($FK274=4,$FK274=7),VLOOKUP($FK274,整理番号表!$B$32:$G$60,2,FALSE),)","v":0},{"$f":"IF($FK274=5,VLOOKUP($FK274,整理番号表!$B$32:$G$60,2,FALSE),)","v":0},{"$f":"IF(AND(8<=$FK274,$FK274<=13),VLOOKUP($FK274,整理番号表!$B$32:$G$60,2,FALSE),)","v":0},0,0,{"$f":"IF(AND(FE274<>1,$FP274=1,SUM($FQ274:FQ274)=0,$FF274=1,$FI274>=2),1,)","v":0},{"$f":"IF(AND(FE274<>1,$FP274=1,SUM($FQ274:FR274)=0,OR(AND($FF274=1,$FI274>0),$FI274>=4)),1,)","v":0},{"$f":"IF(AND(FE274<>1,$FP274=1,SUM($FQ274:FS274)=0,OR($FF274=1,$FI274>=2)),1,)","v":0},{"$f":"IF(AND(FE274<>1,$FP274=1,SUM($FQ274:FT274)=0,$FI274>0),1,)","v":0},0,0,{"$f":"IF(AND(FE274<>1,$FP274=2,SUM($FW274:FW274)=0,$FF274=1,$FJ274>=0.1),1,)","v":0},{"$f":"IF(AND(FE274<>1,$FP274=2,SUM($FW274:FX274)=0,OR(AND($FF274=1,$FI274>0),$FJ274>=0.2)),1,)","v":0},{"$f":"IF(AND(FE274<>1,$FP274=2,SUM($FW274:FY274)=0,OR($FF274=1,$FJ274>=0.1)),1,)","v":0},{"$f":"IF(AND(FE274<>1,$FP274=2,SUM($FW274:FZ274)=0,$FI274>0),1,)","v":0},0,{"$f":"IF(AND(FE274<>1,$FP274=3,SUM($GB274:GB274)=0,AND($FF274=1,$FJ274>=0.05)),1,)","v":0},{"$f":"IF(AND(FE274<>1,$FP274=3,SUM($GB274:GC274)=0,OR(AND($FF274=1,$FI274>0),$FJ274>=0.1)),1,)","v":0},{"$f":"IF(AND(FE274<>1,$FP274=3,SUM($GB274:GD274)=0,OR($FF274=1,$FJ274>=0.05)),1,)","v":0},{"$f":"IF(AND(FE274<>1,$FP274=3,SUM($GB274:GE274)=0,$FI274>0),1,)","v":0},0,null,0,0,0,0,0,0,0,0,0,0,0,0,0,0,0,0,0,0,0,0,0,0,0,0,0,0,0,0,0,0,0,0,0,0,0,0,0,0,0,0,0,0,0,0,0,0,0,0,0,0,0,0,0,0,0,0,0,0,0,0,0,0,0,0,0,0,0,0,0,0,0,0,0,0,0,0,0,0,0,"","","","","","","","","","","","","","","","○",0,0,0,0,0,0,0,"○",0,0,0,"○","○",null,0,0]
[{"$f":"D277*1000000+C277*10000+Q277*100+AH277","v":0},{"$f":"IF(L277<>\"\",IF(L277<>L276,B276+1,B276),0)","v":0},{"$f":"IF(N277<>\"\",IF(N277<>N276,C276+1,C276),0)","v":0},{"$f":"IF(M277<>\"\",IF(M277<>M276,D276+1,D276),0)","v":0},{"$f":"IF(R277<>\"\",IF(OR(R277<>R276,N277<>N276),E276+1,E276),0)","v":0},{"$f":"IF(BP277>0,E277,0)","v":0},{"$f":"IF(N277<>\"\",IF(N277<>N276,1,0),0)","v":0},{"$f":"IF(M277<>\"\",IF(M277<>M276,1,0),0)","v":0},{"$f":"IF(R277<>\"\",IF(R277<>R276,1,0),0)","v":0},{"$f":"IF(AND(I277=1,SUMIF($E$13:$E$350,E277,$F$13:$F$350)>0),1,0)","v":0},265,null,null,null,null,{"$f":"IF(O277<>\"\",VLOOKUP(O277,整理番号表!$Z$17:$AA$20,2,FALSE),)","v":0},{"$f":"IF(R277<>\"\",IF(N277<>N276,1,IF(R277<>R276,Q276+1,Q276)),)","v":0},null,null,null,null,null,{"$f":"IF(V277<>0,VLOOKUP(V277,整理番号表!$B$6:$L$13,2,FALSE),)","v":0},{"$f":"IF(V277<>0,IF(V277=4,2,1),)","v":0},{"$f":"IF(X277<>0,VLOOKUP(X277,整理番号表!$B$16:$C$18,2,FALSE),)","v":0},null,{"$f":"IF(Z277<>0,VLOOKUP(Z277,整理番号表!$B$22:$C$29,2,FALSE),)","v":0},null,null,{"$f":"IF(AC277<>0,VLOOKUP(AC277,整理番号表!$B$32:$G$60,2,FALSE),)","v":0},null,{"$f":"IF(AE277<>0,VLOOKUP(AE277,整理番号表!$P$5:$R$39,2,FALSE),)","v":0},null,0,null,null,{"$f":"IF(AJ277<>\"\",VLOOKUP(AJ277,整理番号表!$Z$6:$AA$14,2,FALSE),\"\")","v":""},0,null,null,null,null,null,{"$f":"IF(AQ277<>0,VLOOKUP(AQ277,整理番号表!$P$43:$Q$49,2,FALSE),)","v":0},null,null,null,null,{"$f":"IF(AL277=1,IF(KC277>0,MIN(ROUNDDOWN(KC277,-3),IF(AND(X277=1,AB277=\"法人\"),30000000,IF(AND(X277=1,AB277=\"法人以外\"),15000000,IF(X277=2,1000000,0)))),0),0)","v":0},{"$f":"IF(KF277>0,ROUNDDOWN(KF277,-3),0)","v":0},null,0,null,null,null,{"$f":"IF(I277=1,MIN(KH277,KJ277),0)","v":0},{"$f":"IF(AV277<>0,AX277/AV277,)","v":0},{"$f":"IF(AV277<>0,AY277/AV277,)","v":0},null,null,{"$f":"IF(AX277>0,IF(AU277=1,ROUNDDOWN(AV277*10/110,0),IF(AU277=2,\"該当なし\",\"含税額\")),0)","v":0},{"$f":"IF(AX277>0,IF(AU277<>1,\" \",IF(AU277=1,ROUNDDOWN(ROUNDDOWN((AX277/(AV277-BI277)),5)*BI277,0))),0)","v":0},null,{"$f":"IF(BK277<>0,VLOOKUP(BK277,整理番号表!$T$5:$U$16,2,FALSE),)","v":0},null,{"$f":"IF(BM277<>0,VLOOKUP(BM277,整理番号表!$T$22:$U$30,2,FALSE),)","v":0},null,0,"",null,null,null,null,null,"",0,null,null,null,null,null,null,null,null,null,0,0,0,0,0,0,0,0,0,0,0,0,0,0,0,0,0,0,0,0,0,0,0,0,0,0,0,0,null,null,null,null,null,0,0,0,0,0,0,null,0,null,null,null,null,null,null,null,0,null,null,null,null,null,null,null,null,null,null,null,null,null,null,null,null,null,null,null,null,null,null,null,null,null,null,0,0,null,null,0,0,0,{"$f":"IF(OR(AND(1<=$FK277,$FK277<=3),$FK277=6),VLOOKUP($FK277,整理番号表!$B$32:$G$60,2,FALSE),)","v":0},{"$f":"IF(OR($FK277=4,$FK277=7),VLOOKUP($FK277,整理番号表!$B$32:$G$60,2,FALSE),)","v":0},{"$f":"IF($FK277=5,VLOOKUP($FK277,整理番号表!$B$32:$G$60,2,FALSE),)","v":0},{"$f":"IF(AND(8<=$FK277,$FK277<=13),VLOOKUP($FK277,整理番号表!$B$32:$G$60,2,FALSE),)","v":0},0,0,{"$f":"IF(AND(FE277<>1,$FP277=1,SUM($FQ277:FQ277)=0,$FF277=1,$FI277>=2),1,)","v":0},{"$f":"IF(AND(FE277<>1,$FP277=1,SUM($FQ277:FR277)=0,OR(AND($FF277=1,$FI277>0),$FI277>=4)),1,)","v":0},{"$f":"IF(AND(FE277<>1,$FP277=1,SUM($FQ277:FS277)=0,OR($FF277=1,$FI277>=2)),1,)","v":0},{"$f":"IF(AND(FE277<>1,$FP277=1,SUM($FQ277:FT277)=0,$FI277>0),1,)","v":0},0,0,{"$f":"IF(AND(FE277<>1,$FP277=2,SUM($FW277:FW277)=0,$FF277=1,$FJ277>=0.1),1,)","v":0},{"$f":"IF(AND(FE277<>1,$FP277=2,SUM($FW277:FX277)=0,OR(AND($FF277=1,$FI277>0),$FJ277>=0.2)),1,)","v":0},{"$f":"IF(AND(FE277<>1,$FP277=2,SUM($FW277:FY277)=0,OR($FF277=1,$FJ277>=0.1)),1,)","v":0},{"$f":"IF(AND(FE277<>1,$FP277=2,SUM($FW277:FZ277)=0,$FI277>0),1,)","v":0},0,{"$f":"IF(AND(FE277<>1,$FP277=3,SUM($GB277:GB277)=0,AND($FF277=1,$FJ277>=0.05)),1,)","v":0},{"$f":"IF(AND(FE277<>1,$FP277=3,SUM($GB277:GC277)=0,OR(AND($FF277=1,$FI277>0),$FJ277>=0.1)),1,)","v":0},{"$f":"IF(AND(FE277<>1,$FP277=3,SUM($GB277:GD277)=0,OR($FF277=1,$FJ277>=0.05)),1,)","v":0},{"$f":"IF(AND(FE277<>1,$FP277=3,SUM($GB277:GE277)=0,$FI277>0),1,)","v":0},0,null,0,0,0,0,0,0,0,0,0,0,0,0,0,0,0,0,0,0,0,0,0,0,0,0,0,0,0,0,0,0,0,0,0,0,0,0,0,0,0,0,0,0,0,0,0,0,0,0,0,0,0,0,0,0,0,0,0,0,0,0,0,0,0,0,0,0,0,0,0,0,0,0,0,0,0,0,0,0,{"$f":"IF(X277=2,1,0)","v":0},{"$f":"IF(AI277<>\"\",IF(X277=2,\"認\",IF(AND(X277=1,AY277>0),\"○\",\"×\")),\"\")","v":""},{"$f":"IF(AI277<>\"\",IF(AV277>=500000,\"○\",\"×\"),\"\")","v":""},{"$f":"IF(AI277<>\"\",IF(AND(5<=BH277,BH277<=20),\"○\",IF(OR(AND(4<=BH277,BH277<=24),OR(AE277=30,AE277=31),AG277=1),\"△\",\"×\")),\"\")","v":""},{"$f":"IF(AI277<>\"\",IF(AT277>0,\"○\",\"×\"),\"\")","v":""},{"$f":"IF(I277=1,IF(BR277=0,\"△\",IF(OR(AND(X277=1,BW277>=0.1),AND(X277=2,BW277>0)),\"○\",\"×\")),\"\")","v":""},{"$f":"IF(SUM(DO277:DT277)>0,IF(BY277=1,\"○\",\"×\"),\"\")","v":""},{"$f":"IF(BY277=1,IF(AND(FI277>0,FJ277>0),\"○\",\"×\"),\"\")","v":""},{"$f":"IF(SUM(DX277)>0,IF(BZ277=1,\"○\",\"×\"),\"\")","v":""},{"$f":"IF(SUM(EA277,EC277)>0,IF(CA277=1,\"○\",\"×\"),\"\")","v":""},{"$f":"IF(SUM(EE277)>0,IF(CB277=1,\"○\",\"×\"),\"\")","v":""},{"$f":"IF(SUM(EH277)>0,IF(CC277=1,\"○\",\"×\"),\"\")","v":""},{"$f":"IF(SUM(EK277)>0,IF(CD277=1,\"○\",\"×\"),\"\")","v":""},{"$f":"IF(SUM(EM277)>0,IF(CE277=1,\"○\",\"×\"),\"\")","v":""},{"$f":"IF(SUM(EN277:EP277)>0,IF(CF277=1,\"○\",\"×\"),\"\")","v":""},"",{"$f":"IF(COUNTIF(JJ277:JX277,\"×\")>=1,\"×\",\"○\")","v":"○"},{"$f":"AU277","v":0},{"$f":"AV277","v":0},{"$f":"IF(JZ277=1,ROUNDUP(KA277*100/110,0),KA277)","v":0},{"$f":"ROUNDDOWN(KB277*1/2,0)","v":0},{"$f":"IF(X277=2,\"認める者\",AY277)","v":0},{"$f":"AV277-SUM(AY277,BA277:BC277)","v":0},{"$f":"IF(X277=1,MIN(KC277:KE277),IF(X277=2,MIN(KC277,KE277),0))","v":0},{"$f":"IF(AX277<=KF277,\"○\",\"×\")","v":"○"},{"$f":"IF(I277=1,IF(X277=2,1000000,IF(AND(X277=1,AB277=\"法人\"),30000000,IF(AND(X277=1,AB277=\"法人以外\"),15000000,0))),0)","v":0},{"$f":"IF(I277=1,SUMIF($E$13:$E$350,E277,$AW$13:$AW$350),0)","v":0},{"$f":"IF(I277=1,SUMIF($E$13:$E$350,E277,$AX$13:$AX$350),0)","v":0},{"$f":"IF(OR(AND(KJ277>0,KH277<KJ277),AND(KI277>0,KH277<KI277)),\"×\",\"○\")","v":"○"},{"$f":"IF(OR(JY277=\"×\",KG277=\"×\",KK277=\"×\"),\"×\",\"○\")","v":"○"},null,{"$f":"C277","v":0},{"$f":"D277","v":0}]
[0,0,0,0,0,0,0,0,0,0,266,null,null,null,null,{"$f":"IF(O278<>\"\",VLOOKUP(O278,整理番号表!$Z$17:$AA$20,2,FALSE),)","v":0},0,null,null,null,null,null,{"$f":"IF(V278<>0,VLOOKUP(V278,整理番号表!$B$6:$L$13,2,FALSE),)","v":0},0,{"$f":"IF(X278<>0,VLOOKUP(X278,整理番号表!$B$16:$C$18,2,FALSE),)","v":0},null,{"$f":"IF(Z278<>0,VLOOKUP(Z278,整理番号表!$B$22:$C$29,2,FALSE),)","v":0},null,null,{"$f":"IF(AC278<>0,VLOOKUP(AC278,整理番号表!$B$32:$G$60,2,FALSE),)","v":0},null,{"$f":"IF(AE278<>0,VLOOKUP(AE278,整理番号表!$P$5:$R$39,2,FALSE),)","v":0},null,0,null,null,{"$f":"IF(AJ278<>\"\",VLOOKUP(AJ278,整理番号表!$Z$6:$AA$14,2,FALSE),\"\")","v":""},0,null,null,null,null,null,{"$f":"IF(AQ278<>0,VLOOKUP(AQ278,整理番号表!$P$43:$Q$49,2,FALSE),)","v":0},null,null,null,null,0,0,null,0,null,null,null,0,0,0,null,null,0,0,null,{"$f":"IF(BK278<>0,VLOOKUP(BK278,整理番号表!$T$5:$U$16,2,FALSE),)","v":0},null,{"$f":"IF(BM278<>0,VLOOKUP(BM278,整理番号表!$T$22:$U$30,2,FALSE),)","v":0},null,0,"",null,null,null,null,null,"",0,null,null,null,null,null,null,null,null,null,0,0,0,0,0,0,0,0,0,0,0,0,0,0,0,0,0,0,0,0,0,0,0,0,0,0,0,0,null,null,null,null,null,0,0,0,0,0,0,null,0,null,null,null,null,null,null,null,0,null,null,null,null,null,null,null,null,null,null,null,null,null,null,null,null,null,null,null,null,null,null,null,null,null,null,0,0,null,null,0,0,0,{"$f":"IF(OR(AND(1<=$FK278,$FK278<=3),$FK278=6),VLOOKUP($FK278,整理番号表!$B$32:$G$60,2,FALSE),)","v":0},{"$f":"IF(OR($FK278=4,$FK278=7),VLOOKUP($FK278,整理番号表!$B$32:$G$60,2,FALSE),)","v":0},{"$f":"IF($FK278=5,VLOOKUP($FK278,整理番号表!$B$32:$G$60,2,FALSE),)","v":0},{"$f":"IF(AND(8<=$FK278,$FK278<=13),VLOOKUP($FK278,整理番号表!$B$32:$G$60,2,FALSE),)","v":0},0,0,{"$f":"IF(AND(FE278<>1,$FP278=1,SUM($FQ278:FQ278)=0,$FF278=1,$FI278>=2),1,)","v":0},{"$f":"IF(AND(FE278<>1,$FP278=1,SUM($FQ278:FR278)=0,OR(AND($FF278=1,$FI278>0),$FI278>=4)),1,)","v":0},{"$f":"IF(AND(FE278<>1,$FP278=1,SUM($FQ278:FS278)=0,OR($FF278=1,$FI278>=2)),1,)","v":0},{"$f":"IF(AND(FE278<>1,$FP278=1,SUM($FQ278:FT278)=0,$FI278>0),1,)","v":0},0,0,{"$f":"IF(AND(FE278<>1,$FP278=2,SUM($FW278:FW278)=0,$FF278=1,$FJ278>=0.1),1,)","v":0},{"$f":"IF(AND(FE278<>1,$FP278=2,SUM($FW278:FX278)=0,OR(AND($FF278=1,$FI278>0),$FJ278>=0.2)),1,)","v":0},{"$f":"IF(AND(FE278<>1,$FP278=2,SUM($FW278:FY278)=0,OR($FF278=1,$FJ278>=0.1)),1,)","v":0},{"$f":"IF(AND(FE278<>1,$FP278=2,SUM($FW278:FZ278)=0,$FI278>0),1,)","v":0},0,{"$f":"IF(AND(FE278<>1,$FP278=3,SUM($GB278:GB278)=0,AND($FF278=1,$FJ278>=0.05)),1,)","v":0},{"$f":"IF(AND(FE278<>1,$FP278=3,SUM($GB278:GC278)=0,OR(AND($FF278=1,$FI278>0),$FJ278>=0.1)),1,)","v":0},{"$f":"IF(AND(FE278<>1,$FP278=3,SUM($GB278:GD278)=0,OR($FF278=1,$FJ278>=0.05)),1,)","v":0},{"$f":"IF(AND(FE278<>1,$FP278=3,SUM($GB278:GE278)=0,$FI278>0),1,)","v":0},0,null,0,0,0,0,0,0,0,0,0,0,0,0,0,0,0,0,0,0,0,0,0,0,0,0,0,0,0,0,0,0,0,0,0,0,0,0,0,0,0,0,0,0,0,0,0,0,0,0,0,0,0,0,0,0,0,0,0,0,0,0,0,0,0,0,0,0,0,0,0,0,0,0,0,0,0,0,0,0,0,"","","","","","","","","","","","","","","","○",0,0,0,0,0,0,0,"○",0,0,0,"○","○",null,0,0]
[0,0,0,0,0,0,0,0,0,0,268,null,null,null,null,{"$f":"IF(O280<>\"\",VLOOKUP(O280,整理番号表!$Z$17:$AA$20,2,FALSE),)","v":0},0,null,null,null,null,null,{"$f":"IF(V280<>0,VLOOKUP(V280,整理番号表!$B$6:$L$13,2,FALSE),)","v":0},0,{"$f":"IF(X280<>0,VLOOKUP(X280,整理番号表!$B$16:$C$18,2,FALSE),)","v":0},null,{"$f":"IF(Z280<>0,VLOOKUP(Z280,整理番号表!$B$22:$C$29,2,FALSE),)","v":0},null,null,{"$f":"IF(AC280<>0,VLOOKUP(AC280,整理番号表!$B$32:$G$60,2,FALSE),)","v":0},null,{"$f":"IF(AE280<>0,VLOOKUP(AE280,整理番号表!$P$5:$R$39,2,FALSE),)","v":0},null,0,null,null,{"$f":"IF(AJ280<>\"\",VLOOKUP(AJ280,整理番号表!$Z$6:$AA$14,2,FALSE),\"\")","v":""},0,null,null,null,null,null,{"$f":"IF(AQ280<>0,VLOOKUP(AQ280,整理番号表!$P$43:$Q$49,2,FALSE),)","v":0},null,null,null,null,0,0,null,0,null,null,null,0,0,0,null,null,0,0,null,{"$f":"IF(BK280<>0,VLOOKUP(BK280,整理番号表!$T$5:$U$16,2,FALSE),)","v":0},null,{"$f":"IF(BM280<>0,VLOOKUP(BM280,整理番号表!$T$22:$U$30,2,FALSE),)","v":0},null,0,"",null,null,null,null,null,"",0,null,null,null,null,null,null,null,null,null,0,0,0,0,0,0,0,0,0,0,0,0,0,0,0,0,0,0,0,0,0,0,0,0,0,0,0,0,null,null,null,null,null,0,0,0,0,0,0,null,0,null,null,null,null,null,null,null,0,null,null,null,null,null,null,null,null,null,null,null,null,null,null,null,null,null,null,null,null,null,null,null,null,null,null,0,0,null,null,0,0,0,{"$f":"IF(OR(AND(1<=$FK280,$FK280<=3),$FK280=6),VLOOKUP($FK280,整理番号表!$B$32:$G$60,2,FALSE),)","v":0},{"$f":"IF(OR($FK280=4,$FK280=7),VLOOKUP($FK280,整理番号表!$B$32:$G$60,2,FALSE),)","v":0},{"$f":"IF($FK280=5,VLOOKUP($FK280,整理番号表!$B$32:$G$60,2,FALSE),)","v":0},{"$f":"IF(AND(8<=$FK280,$FK280<=13),VLOOKUP($FK280,整理番号表!$B$32:$G$60,2,FALSE),)","v":0},0,0,{"$f":"IF(AND(FE280<>1,$FP280=1,SUM($FQ280:FQ280)=0,$FF280=1,$FI280>=2),1,)","v":0},{"$f":"IF(AND(FE280<>1,$FP280=1,SUM($FQ280:FR280)=0,OR(AND($FF280=1,$FI280>0),$FI280>=4)),1,)","v":0},{"$f":"IF(AND(FE280<>1,$FP280=1,SUM($FQ280:FS280)=0,OR($FF280=1,$FI280>=2)),1,)","v":0},{"$f":"IF(AND(FE280<>1,$FP280=1,SUM($FQ280:FT280)=0,$FI280>0),1,)","v":0},0,0,{"$f":"IF(AND(FE280<>1,$FP280=2,SUM($FW280:FW280)=0,$FF280=1,$FJ280>=0.1),1,)","v":0},{"$f":"IF(AND(FE280<>1,$FP280=2,SUM($FW280:FX280)=0,OR(AND($FF280=1,$FI280>0),$FJ280>=0.2)),1,)","v":0},{"$f":"IF(AND(FE280<>1,$FP280=2,SUM($FW280:FY280)=0,OR($FF280=1,$FJ280>=0.1)),1,)","v":0},{"$f":"IF(AND(FE280<>1,$FP280=2,SUM($FW280:FZ280)=0,$FI280>0),1,)","v":0},0,{"$f":"IF(AND(FE280<>1,$FP280=3,SUM($GB280:GB280)=0,AND($FF280=1,$FJ280>=0.05)),1,)","v":0},{"$f":"IF(AND(FE280<>1,$FP280=3,SUM($GB280:GC280)=0,OR(AND($FF280=1,$FI280>0),$FJ280>=0.1)),1,)","v":0},{"$f":"IF(AND(FE280<>1,$FP280=3,SUM($GB280:GD280)=0,OR($FF280=1,$FJ280>=0.05)),1,)","v":0},{"$f":"IF(AND(FE280<>1,$FP280=3,SUM($GB280:GE280)=0,$FI280>0),1,)","v":0},0,null,0,0,0,0,0,0,0,0,0,0,0,0,0,0,0,0,0,0,0,0,0,0,0,0,0,0,0,0,0,0,0,0,0,0,0,0,0,0,0,0,0,0,0,0,0,0,0,0,0,0,0,0,0,0,0,0,0,0,0,0,0,0,0,0,0,0,0,0,0,0,0,0,0,0,0,0,0,0,0,"","","","","","","","","","","","","","","","○",0,0,0,0,0,0,0,"○",0,0,0,"○","○",null,0,0]
[0,0,0,0,0,0,0,0,0,0,269,null,null,null,null,{"$f":"IF(O281<>\"\",VLOOKUP(O281,整理番号表!$Z$17:$AA$20,2,FALSE),)","v":0},0,null,null,null,null,null,{"$f":"IF(V281<>0,VLOOKUP(V281,整理番号表!$B$6:$L$13,2,FALSE),)","v":0},0,{"$f":"IF(X281<>0,VLOOKUP(X281,整理番号表!$B$16:$C$18,2,FALSE),)","v":0},null,{"$f":"IF(Z281<>0,VLOOKUP(Z281,整理番号表!$B$22:$C$29,2,FALSE),)","v":0},null,null,{"$f":"IF(AC281<>0,VLOOKUP(AC281,整理番号表!$B$32:$G$60,2,FALSE),)","v":0},null,{"$f":"IF(AE281<>0,VLOOKUP(AE281,整理番号表!$P$5:$R$39,2,FALSE),)","v":0},null,0,null,null,{"$f":"IF(AJ281<>\"\",VLOOKUP(AJ281,整理番号表!$Z$6:$AA$14,2,FALSE),\"\")","v":""},0,null,null,null,null,null,{"$f":"IF(AQ281<>0,VLOOKUP(AQ281,整理番号表!$P$43:$Q$49,2,FALSE),)","v":0},null,null,null,null,0,0,null,0,null,null,null,0,0,0,null,null,0,0,null,{"$f":"IF(BK281<>0,VLOOKUP(BK281,整理番号表!$T$5:$U$16,2,FALSE),)","v":0},null,{"$f":"IF(BM281<>0,VLOOKUP(BM281,整理番号表!$T$22:$U$30,2,FALSE),)","v":0},null,0,"",null,null,null,null,null,"",0,null,null,null,null,null,null,null,null,null,0,0,0,0,0,0,0,0,0,0,0,0,0,0,0,0,0,0,0,0,0,0,0,0,0,0,0,0,null,null,null,null,null,0,0,0,0,0,0,null,0,null,null,null,null,null,null,null,0,null,null,null,null,null,null,null,null,null,null,null,null,null,null,null,null,null,null,null,null,null,null,null,null,null,null,0,0,null,null,0,0,0,{"$f":"IF(OR(AND(1<=$FK281,$FK281<=3),$FK281=6),VLOOKUP($FK281,整理番号表!$B$32:$G$60,2,FALSE),)","v":0},{"$f":"IF(OR($FK281=4,$FK281=7),VLOOKUP($FK281,整理番号表!$B$32:$G$60,2,FALSE),)","v":0},{"$f":"IF($FK281=5,VLOOKUP($FK281,整理番号表!$B$32:$G$60,2,FALSE),)","v":0},{"$f":"IF(AND(8<=$FK281,$FK281<=13),VLOOKUP($FK281,整理番号表!$B$32:$G$60,2,FALSE),)","v":0},0,0,{"$f":"IF(AND(FE281<>1,$FP281=1,SUM($FQ281:FQ281)=0,$FF281=1,$FI281>=2),1,)","v":0},{"$f":"IF(AND(FE281<>1,$FP281=1,SUM($FQ281:FR281)=0,OR(AND($FF281=1,$FI281>0),$FI281>=4)),1,)","v":0},{"$f":"IF(AND(FE281<>1,$FP281=1,SUM($FQ281:FS281)=0,OR($FF281=1,$FI281>=2)),1,)","v":0},{"$f":"IF(AND(FE281<>1,$FP281=1,SUM($FQ281:FT281)=0,$FI281>0),1,)","v":0},0,0,{"$f":"IF(AND(FE281<>1,$FP281=2,SUM($FW281:FW281)=0,$FF281=1,$FJ281>=0.1),1,)","v":0},{"$f":"IF(AND(FE281<>1,$FP281=2,SUM($FW281:FX281)=0,OR(AND($FF281=1,$FI281>0),$FJ281>=0.2)),1,)","v":0},{"$f":"IF(AND(FE281<>1,$FP281=2,SUM($FW281:FY281)=0,OR($FF281=1,$FJ281>=0.1)),1,)","v":0},{"$f":"IF(AND(FE281<>1,$FP281=2,SUM($FW281:FZ281)=0,$FI281>0),1,)","v":0},0,{"$f":"IF(AND(FE281<>1,$FP281=3,SUM($GB281:GB281)=0,AND($FF281=1,$FJ281>=0.05)),1,)","v":0},{"$f":"IF(AND(FE281<>1,$FP281=3,SUM($GB281:GC281)=0,OR(AND($FF281=1,$FI281>0),$FJ281>=0.1)),1,)","v":0},{"$f":"IF(AND(FE281<>1,$FP281=3,SUM($GB281:GD281)=0,OR($FF281=1,$FJ281>=0.05)),1,)","v":0},{"$f":"IF(AND(FE281<>1,$FP281=3,SUM($GB281:GE281)=0,$FI281>0),1,)","v":0},0,null,0,0,0,0,0,0,0,0,0,0,0,0,0,0,0,0,0,0,0,0,0,0,0,0,0,0,0,0,0,0,0,0,0,0,0,0,0,0,0,0,0,0,0,0,0,0,0,0,0,0,0,0,0,0,0,0,0,0,0,0,0,0,0,0,0,0,0,0,0,0,0,0,0,0,0,0,0,0,0,"","","","","","","","","","","","","","","","○",0,0,0,0,0,0,0,"○",0,0,0,"○","○",null,0,0]
[0,0,0,0,0,0,0,0,0,0,271,null,null,null,null,{"$f":"IF(O283<>\"\",VLOOKUP(O283,整理番号表!$Z$17:$AA$20,2,FALSE),)","v":0},0,null,null,null,null,null,{"$f":"IF(V283<>0,VLOOKUP(V283,整理番号表!$B$6:$L$13,2,FALSE),)","v":0},0,{"$f":"IF(X283<>0,VLOOKUP(X283,整理番号表!$B$16:$C$18,2,FALSE),)","v":0},null,{"$f":"IF(Z283<>0,VLOOKUP(Z283,整理番号表!$B$22:$C$29,2,FALSE),)","v":0},null,null,{"$f":"IF(AC283<>0,VLOOKUP(AC283,整理番号表!$B$32:$G$60,2,FALSE),)","v":0},null,{"$f":"IF(AE283<>0,VLOOKUP(AE283,整理番号表!$P$5:$R$39,2,FALSE),)","v":0},null,0,null,null,{"$f":"IF(AJ283<>\"\",VLOOKUP(AJ283,整理番号表!$Z$6:$AA$14,2,FALSE),\"\")","v":""},0,null,null,null,null,null,{"$f":"IF(AQ283<>0,VLOOKUP(AQ283,整理番号表!$P$43:$Q$49,2,FALSE),)","v":0},null,null,null,null,0,0,null,0,null,null,null,0,0,0,null,null,0,0,null,{"$f":"IF(BK283<>0,VLOOKUP(BK283,整理番号表!$T$5:$U$16,2,FALSE),)","v":0},null,{"$f":"IF(BM283<>0,VLOOKUP(BM283,整理番号表!$T$22:$U$30,2,FALSE),)","v":0},null,0,"",null,null,null,null,null,"",0,null,null,null,null,null,null,null,null,null,0,0,0,0,0,0,0,0,0,0,0,0,0,0,0,0,0,0,0,0,0,0,0,0,0,0,0,0,null,null,null,null,null,0,0,0,0,0,0,null,0,null,null,null,null,null,null,null,0,null,null,null,null,null,null,null,null,null,null,null,null,null,null,null,null,null,null,null,null,null,null,null,null,null,null,0,0,null,null,0,0,0,{"$f":"IF(OR(AND(1<=$FK283,$FK283<=3),$FK283=6),VLOOKUP($FK283,整理番号表!$B$32:$G$60,2,FALSE),)","v":0},{"$f":"IF(OR($FK283=4,$FK283=7),VLOOKUP($FK283,整理番号表!$B$32:$G$60,2,FALSE),)","v":0},{"$f":"IF($FK283=5,VLOOKUP($FK283,整理番号表!$B$32:$G$60,2,FALSE),)","v":0},{"$f":"IF(AND(8<=$FK283,$FK283<=13),VLOOKUP($FK283,整理番号表!$B$32:$G$60,2,FALSE),)","v":0},0,0,{"$f":"IF(AND(FE283<>1,$FP283=1,SUM($FQ283:FQ283)=0,$FF283=1,$FI283>=2),1,)","v":0},{"$f":"IF(AND(FE283<>1,$FP283=1,SUM($FQ283:FR283)=0,OR(AND($FF283=1,$FI283>0),$FI283>=4)),1,)","v":0},{"$f":"IF(AND(FE283<>1,$FP283=1,SUM($FQ283:FS283)=0,OR($FF283=1,$FI283>=2)),1,)","v":0},{"$f":"IF(AND(FE283<>1,$FP283=1,SUM($FQ283:FT283)=0,$FI283>0),1,)","v":0},0,0,{"$f":"IF(AND(FE283<>1,$FP283=2,SUM($FW283:FW283)=0,$FF283=1,$FJ283>=0.1),1,)","v":0},{"$f":"IF(AND(FE283<>1,$FP283=2,SUM($FW283:FX283)=0,OR(AND($FF283=1,$FI283>0),$FJ283>=0.2)),1,)","v":0},{"$f":"IF(AND(FE283<>1,$FP283=2,SUM($FW283:FY283)=0,OR($FF283=1,$FJ283>=0.1)),1,)","v":0},{"$f":"IF(AND(FE283<>1,$FP283=2,SUM($FW283:FZ283)=0,$FI283>0),1,)","v":0},0,{"$f":"IF(AND(FE283<>1,$FP283=3,SUM($GB283:GB283)=0,AND($FF283=1,$FJ283>=0.05)),1,)","v":0},{"$f":"IF(AND(FE283<>1,$FP283=3,SUM($GB283:GC283)=0,OR(AND($FF283=1,$FI283>0),$FJ283>=0.1)),1,)","v":0},{"$f":"IF(AND(FE283<>1,$FP283=3,SUM($GB283:GD283)=0,OR($FF283=1,$FJ283>=0.05)),1,)","v":0},{"$f":"IF(AND(FE283<>1,$FP283=3,SUM($GB283:GE283)=0,$FI283>0),1,)","v":0},0,null,0,0,0,0,0,0,0,0,0,0,0,0,0,0,0,0,0,0,0,0,0,0,0,0,0,0,0,0,0,0,0,0,0,0,0,0,0,0,0,0,0,0,0,0,0,0,0,0,0,0,0,0,0,0,0,0,0,0,0,0,0,0,0,0,0,0,0,0,0,0,0,0,0,0,0,0,0,0,0,"","","","","","","","","","","","","","","","○",0,0,0,0,0,0,0,"○",0,0,0,"○","○",null,0,0]
[0,0,0,0,0,0,0,0,0,0,272,null,null,null,null,{"$f":"IF(O284<>\"\",VLOOKUP(O284,整理番号表!$Z$17:$AA$20,2,FALSE),)","v":0},0,null,null,null,null,null,{"$f":"IF(V284<>0,VLOOKUP(V284,整理番号表!$B$6:$L$13,2,FALSE),)","v":0},0,{"$f":"IF(X284<>0,VLOOKUP(X284,整理番号表!$B$16:$C$18,2,FALSE),)","v":0},null,{"$f":"IF(Z284<>0,VLOOKUP(Z284,整理番号表!$B$22:$C$29,2,FALSE),)","v":0},null,null,{"$f":"IF(AC284<>0,VLOOKUP(AC284,整理番号表!$B$32:$G$60,2,FALSE),)","v":0},null,{"$f":"IF(AE284<>0,VLOOKUP(AE284,整理番号表!$P$5:$R$39,2,FALSE),)","v":0},null,0,null,null,{"$f":"IF(AJ284<>\"\",VLOOKUP(AJ284,整理番号表!$Z$6:$AA$14,2,FALSE),\"\")","v":""},0,null,null,null,null,null,{"$f":"IF(AQ284<>0,VLOOKUP(AQ284,整理番号表!$P$43:$Q$49,2,FALSE),)","v":0},null,null,null,null,0,0,null,0,null,null,null,0,0,0,null,null,0,0,null,{"$f":"IF(BK284<>0,VLOOKUP(BK284,整理番号表!$T$5:$U$16,2,FALSE),)","v":0},null,{"$f":"IF(BM284<>0,VLOOKUP(BM284,整理番号表!$T$22:$U$30,2,FALSE),)","v":0},null,0,"",null,null,null,null,null,"",0,null,null,null,null,null,null,null,null,null,0,0,0,0,0,0,0,0,0,0,0,0,0,0,0,0,0,0,0,0,0,0,0,0,0,0,0,0,null,null,null,null,null,0,0,0,0,0,0,null,0,null,null,null,null,null,null,null,0,null,null,null,null,null,null,null,null,null,null,null,null,null,null,null,null,null,null,null,null,null,null,null,null,null,null,0,0,null,null,0,0,0,{"$f":"IF(OR(AND(1<=$FK284,$FK284<=3),$FK284=6),VLOOKUP($FK284,整理番号表!$B$32:$G$60,2,FALSE),)","v":0},{"$f":"IF(OR($FK284=4,$FK284=7),VLOOKUP($FK284,整理番号表!$B$32:$G$60,2,FALSE),)","v":0},{"$f":"IF($FK284=5,VLOOKUP($FK284,整理番号表!$B$32:$G$60,2,FALSE),)","v":0},{"$f":"IF(AND(8<=$FK284,$FK284<=13),VLOOKUP($FK284,整理番号表!$B$32:$G$60,2,FALSE),)","v":0},0,0,{"$f":"IF(AND(FE284<>1,$FP284=1,SUM($FQ284:FQ284)=0,$FF284=1,$FI284>=2),1,)","v":0},{"$f":"IF(AND(FE284<>1,$FP284=1,SUM($FQ284:FR284)=0,OR(AND($FF284=1,$FI284>0),$FI284>=4)),1,)","v":0},{"$f":"IF(AND(FE284<>1,$FP284=1,SUM($FQ284:FS284)=0,OR($FF284=1,$FI284>=2)),1,)","v":0},{"$f":"IF(AND(FE284<>1,$FP284=1,SUM($FQ284:FT284)=0,$FI284>0),1,)","v":0},0,0,{"$f":"IF(AND(FE284<>1,$FP284=2,SUM($FW284:FW284)=0,$FF284=1,$FJ284>=0.1),1,)","v":0},{"$f":"IF(AND(FE284<>1,$FP284=2,SUM($FW284:FX284)=0,OR(AND($FF284=1,$FI284>0),$FJ284>=0.2)),1,)","v":0},{"$f":"IF(AND(FE284<>1,$FP284=2,SUM($FW284:FY284)=0,OR($FF284=1,$FJ284>=0.1)),1,)","v":0},{"$f":"IF(AND(FE284<>1,$FP284=2,SUM($FW284:FZ284)=0,$FI284>0),1,)","v":0},0,{"$f":"IF(AND(FE284<>1,$FP284=3,SUM($GB284:GB284)=0,AND($FF284=1,$FJ284>=0.05)),1,)","v":0},{"$f":"IF(AND(FE284<>1,$FP284=3,SUM($GB284:GC284)=0,OR(AND($FF284=1,$FI284>0),$FJ284>=0.1)),1,)","v":0},{"$f":"IF(AND(FE284<>1,$FP284=3,SUM($GB284:GD284)=0,OR($FF284=1,$FJ284>=0.05)),1,)","v":0},{"$f":"IF(AND(FE284<>1,$FP284=3,SUM($GB284:GE284)=0,$FI284>0),1,)","v":0},0,null,0,0,0,0,0,0,0,0,0,0,0,0,0,0,0,0,0,0,0,0,0,0,0,0,0,0,0,0,0,0,0,0,0,0,0,0,0,0,0,0,0,0,0,0,0,0,0,0,0,0,0,0,0,0,0,0,0,0,0,0,0,0,0,0,0,0,0,0,0,0,0,0,0,0,0,0,0,0,0,"","","","","","","","","","","","","","","","○",0,0,0,0,0,0,0,"○",0,0,0,"○","○",null,0,0]
[0,0,0,0,0,0,0,0,0,0,274,null,null,null,null,{"$f":"IF(O286<>\"\",VLOOKUP(O286,整理番号表!$Z$17:$AA$20,2,FALSE),)","v":0},0,null,null,null,null,null,{"$f":"IF(V286<>0,VLOOKUP(V286,整理番号表!$B$6:$L$13,2,FALSE),)","v":0},0,{"$f":"IF(X286<>0,VLOOKUP(X286,整理番号表!$B$16:$C$18,2,FALSE),)","v":0},null,{"$f":"IF(Z286<>0,VLOOKUP(Z286,整理番号表!$B$22:$C$29,2,FALSE),)","v":0},null,null,{"$f":"IF(AC286<>0,VLOOKUP(AC286,整理番号表!$B$32:$G$60,2,FALSE),)","v":0},null,{"$f":"IF(AE286<>0,VLOOKUP(AE286,整理番号表!$P$5:$R$39,2,FALSE),)","v":0},null,0,null,null,{"$f":"IF(AJ286<>\"\",VLOOKUP(AJ286,整理番号表!$Z$6:$AA$14,2,FALSE),\"\")","v":""},0,null,null,null,null,null,{"$f":"IF(AQ286<>0,VLOOKUP(AQ286,整理番号表!$P$43:$Q$49,2,FALSE),)","v":0},null,null,null,null,0,0,null,0,null,null,null,0,0,0,null,null,0,0,null,{"$f":"IF(BK286<>0,VLOOKUP(BK286,整理番号表!$T$5:$U$16,2,FALSE),)","v":0},null,{"$f":"IF(BM286<>0,VLOOKUP(BM286,整理番号表!$T$22:$U$30,2,FALSE),)","v":0},null,0,"",null,null,null,null,null,"",0,null,null,null,null,null,null,null,null,null,0,0,0,0,0,0,0,0,0,0,0,0,0,0,0,0,0,0,0,0,0,0,0,0,0,0,0,0,null,null,null,null,null,0,0,0,0,0,0,null,0,null,null,null,null,null,null,null,0,null,null,null,null,null,null,null,null,null,null,null,null,null,null,null,null,null,null,null,null,null,null,null,null,null,null,0,0,null,null,0,0,0,{"$f":"IF(OR(AND(1<=$FK286,$FK286<=3),$FK286=6),VLOOKUP($FK286,整理番号表!$B$32:$G$60,2,FALSE),)","v":0},{"$f":"IF(OR($FK286=4,$FK286=7),VLOOKUP($FK286,整理番号表!$B$32:$G$60,2,FALSE),)","v":0},{"$f":"IF($FK286=5,VLOOKUP($FK286,整理番号表!$B$32:$G$60,2,FALSE),)","v":0},{"$f":"IF(AND(8<=$FK286,$FK286<=13),VLOOKUP($FK286,整理番号表!$B$32:$G$60,2,FALSE),)","v":0},0,0,{"$f":"IF(AND(FE286<>1,$FP286=1,SUM($FQ286:FQ286)=0,$FF286=1,$FI286>=2),1,)","v":0},{"$f":"IF(AND(FE286<>1,$FP286=1,SUM($FQ286:FR286)=0,OR(AND($FF286=1,$FI286>0),$FI286>=4)),1,)","v":0},{"$f":"IF(AND(FE286<>1,$FP286=1,SUM($FQ286:FS286)=0,OR($FF286=1,$FI286>=2)),1,)","v":0},{"$f":"IF(AND(FE286<>1,$FP286=1,SUM($FQ286:FT286)=0,$FI286>0),1,)","v":0},0,0,{"$f":"IF(AND(FE286<>1,$FP286=2,SUM($FW286:FW286)=0,$FF286=1,$FJ286>=0.1),1,)","v":0},{"$f":"IF(AND(FE286<>1,$FP286=2,SUM($FW286:FX286)=0,OR(AND($FF286=1,$FI286>0),$FJ286>=0.2)),1,)","v":0},{"$f":"IF(AND(FE286<>1,$FP286=2,SUM($FW286:FY286)=0,OR($FF286=1,$FJ286>=0.1)),1,)","v":0},{"$f":"IF(AND(FE286<>1,$FP286=2,SUM($FW286:FZ286)=0,$FI286>0),1,)","v":0},0,{"$f":"IF(AND(FE286<>1,$FP286=3,SUM($GB286:GB286)=0,AND($FF286=1,$FJ286>=0.05)),1,)","v":0},{"$f":"IF(AND(FE286<>1,$FP286=3,SUM($GB286:GC286)=0,OR(AND($FF286=1,$FI286>0),$FJ286>=0.1)),1,)","v":0},{"$f":"IF(AND(FE286<>1,$FP286=3,SUM($GB286:GD286)=0,OR($FF286=1,$FJ286>=0.05)),1,)","v":0},{"$f":"IF(AND(FE286<>1,$FP286=3,SUM($GB286:GE286)=0,$FI286>0),1,)","v":0},0,null,0,0,0,0,0,0,0,0,0,0,0,0,0,0,0,0,0,0,0,0,0,0,0,0,0,0,0,0,0,0,0,0,0,0,0,0,0,0,0,0,0,0,0,0,0,0,0,0,0,0,0,0,0,0,0,0,0,0,0,0,0,0,0,0,0,0,0,0,0,0,0,0,0,0,0,0,0,0,0,"","","","","","","","","","","","","","","","○",0,0,0,0,0,0,0,"○",0,0,0,"○","○",null,0,0]
[0,0,0,0,0,0,0,0,0,0,275,null,null,null,null,{"$f":"IF(O287<>\"\",VLOOKUP(O287,整理番号表!$Z$17:$AA$20,2,FALSE),)","v":0},0,null,null,null,null,null,{"$f":"IF(V287<>0,VLOOKUP(V287,整理番号表!$B$6:$L$13,2,FALSE),)","v":0},0,{"$f":"IF(X287<>0,VLOOKUP(X287,整理番号表!$B$16:$C$18,2,FALSE),)","v":0},null,{"$f":"IF(Z287<>0,VLOOKUP(Z287,整理番号表!$B$22:$C$29,2,FALSE),)","v":0},null,null,{"$f":"IF(AC287<>0,VLOOKUP(AC287,整理番号表!$B$32:$G$60,2,FALSE),)","v":0},null,{"$f":"IF(AE287<>0,VLOOKUP(AE287,整理番号表!$P$5:$R$39,2,FALSE),)","v":0},null,0,null,null,{"$f":"IF(AJ287<>\"\",VLOOKUP(AJ287,整理番号表!$Z$6:$AA$14,2,FALSE),\"\")","v":""},0,null,null,null,null,null,{"$f":"IF(AQ287<>0,VLOOKUP(AQ287,整理番号表!$P$43:$Q$49,2,FALSE),)","v":0},null,null,null,null,0,0,null,0,null,null,null,0,0,0,null,null,0,0,null,{"$f":"IF(BK287<>0,VLOOKUP(BK287,整理番号表!$T$5:$U$16,2,FALSE),)","v":0},null,{"$f":"IF(BM287<>0,VLOOKUP(BM287,整理番号表!$T$22:$U$30,2,FALSE),)","v":0},null,0,"",null,null,null,null,null,"",0,null,null,null,null,null,null,null,null,null,0,0,0,0,0,0,0,0,0,0,0,0,0,0,0,0,0,0,0,0,0,0,0,0,0,0,0,0,null,null,null,null,null,0,0,0,0,0,0,null,0,null,null,null,null,null,null,null,0,null,null,null,null,null,null,null,null,null,null,null,null,null,null,null,null,null,null,null,null,null,null,null,null,null,null,0,0,null,null,0,0,0,{"$f":"IF(OR(AND(1<=$FK287,$FK287<=3),$FK287=6),VLOOKUP($FK287,整理番号表!$B$32:$G$60,2,FALSE),)","v":0},{"$f":"IF(OR($FK287=4,$FK287=7),VLOOKUP($FK287,整理番号表!$B$32:$G$60,2,FALSE),)","v":0},{"$f":"IF($FK287=5,VLOOKUP($FK287,整理番号表!$B$32:$G$60,2,FALSE),)","v":0},{"$f":"IF(AND(8<=$FK287,$FK287<=13),VLOOKUP($FK287,整理番号表!$B$32:$G$60,2,FALSE),)","v":0},0,0,{"$f":"IF(AND(FE287<>1,$FP287=1,SUM($FQ287:FQ287)=0,$FF287=1,$FI287>=2),1,)","v":0},{"$f":"IF(AND(FE287<>1,$FP287=1,SUM($FQ287:FR287)=0,OR(AND($FF287=1,$FI287>0),$FI287>=4)),1,)","v":0},{"$f":"IF(AND(FE287<>1,$FP287=1,SUM($FQ287:FS287)=0,OR($FF287=1,$FI287>=2)),1,)","v":0},{"$f":"IF(AND(FE287<>1,$FP287=1,SUM($FQ287:FT287)=0,$FI287>0),1,)","v":0},0,0,{"$f":"IF(AND(FE287<>1,$FP287=2,SUM($FW287:FW287)=0,$FF287=1,$FJ287>=0.1),1,)","v":0},{"$f":"IF(AND(FE287<>1,$FP287=2,SUM($FW287:FX287)=0,OR(AND($FF287=1,$FI287>0),$FJ287>=0.2)),1,)","v":0},{"$f":"IF(AND(FE287<>1,$FP287=2,SUM($FW287:FY287)=0,OR($FF287=1,$FJ287>=0.1)),1,)","v":0},{"$f":"IF(AND(FE287<>1,$FP287=2,SUM($FW287:FZ287)=0,$FI287>0),1,)","v":0},0,{"$f":"IF(AND(FE287<>1,$FP287=3,SUM($GB287:GB287)=0,AND($FF287=1,$FJ287>=0.05)),1,)","v":0},{"$f":"IF(AND(FE287<>1,$FP287=3,SUM($GB287:GC287)=0,OR(AND($FF287=1,$FI287>0),$FJ287>=0.1)),1,)","v":0},{"$f":"IF(AND(FE287<>1,$FP287=3,SUM($GB287:GD287)=0,OR($FF287=1,$FJ287>=0.05)),1,)","v":0},{"$f":"IF(AND(FE287<>1,$FP287=3,SUM($GB287:GE287)=0,$FI287>0),1,)","v":0},0,null,0,0,0,0,0,0,0,0,0,0,0,0,0,0,0,0,0,0,0,0,0,0,0,0,0,0,0,0,0,0,0,0,0,0,0,0,0,0,0,0,0,0,0,0,0,0,0,0,0,0,0,0,0,0,0,0,0,0,0,0,0,0,0,0,0,0,0,0,0,0,0,0,0,0,0,0,0,0,0,"","","","","","","","","","","","","","","","○",0,0,0,0,0,0,0,"○",0,0,0,"○","○",null,0,0]
[0,0,0,0,0,0,0,0,0,0,277,null,null,null,null,{"$f":"IF(O289<>\"\",VLOOKUP(O289,整理番号表!$Z$17:$AA$20,2,FALSE),)","v":0},0,null,null,null,null,null,{"$f":"IF(V289<>0,VLOOKUP(V289,整理番号表!$B$6:$L$13,2,FALSE),)","v":0},0,{"$f":"IF(X289<>0,VLOOKUP(X289,整理番号表!$B$16:$C$18,2,FALSE),)","v":0},null,{"$f":"IF(Z289<>0,VLOOKUP(Z289,整理番号表!$B$22:$C$29,2,FALSE),)","v":0},null,null,{"$f":"IF(AC289<>0,VLOOKUP(AC289,整理番号表!$B$32:$G$60,2,FALSE),)","v":0},null,{"$f":"IF(AE289<>0,VLOOKUP(AE289,整理番号表!$P$5:$R$39,2,FALSE),)","v":0},null,0,null,null,{"$f":"IF(AJ289<>\"\",VLOOKUP(AJ289,整理番号表!$Z$6:$AA$14,2,FALSE),\"\")","v":""},0,null,null,null,null,null,{"$f":"IF(AQ289<>0,VLOOKUP(AQ289,整理番号表!$P$43:$Q$49,2,FALSE),)","v":0},null,null,null,null,0,0,null,0,null,null,null,0,0,0,null,null,0,0,null,{"$f":"IF(BK289<>0,VLOOKUP(BK289,整理番号表!$T$5:$U$16,2,FALSE),)","v":0},null,{"$f":"IF(BM289<>0,VLOOKUP(BM289,整理番号表!$T$22:$U$30,2,FALSE),)","v":0},null,0,"",null,null,null,null,null,"",0,null,null,null,null,null,null,null,null,null,0,0,0,0,0,0,0,0,0,0,0,0,0,0,0,0,0,0,0,0,0,0,0,0,0,0,0,0,null,null,null,null,null,0,0,0,0,0,0,null,0,null,null,null,null,null,null,null,0,null,null,null,null,null,null,null,null,null,null,null,null,null,null,null,null,null,null,null,null,null,null,null,null,null,null,0,0,null,null,0,0,0,{"$f":"IF(OR(AND(1<=$FK289,$FK289<=3),$FK289=6),VLOOKUP($FK289,整理番号表!$B$32:$G$60,2,FALSE),)","v":0},{"$f":"IF(OR($FK289=4,$FK289=7),VLOOKUP($FK289,整理番号表!$B$32:$G$60,2,FALSE),)","v":0},{"$f":"IF($FK289=5,VLOOKUP($FK289,整理番号表!$B$32:$G$60,2,FALSE),)","v":0},{"$f":"IF(AND(8<=$FK289,$FK289<=13),VLOOKUP($FK289,整理番号表!$B$32:$G$60,2,FALSE),)","v":0},0,0,{"$f":"IF(AND(FE289<>1,$FP289=1,SUM($FQ289:FQ289)=0,$FF289=1,$FI289>=2),1,)","v":0},{"$f":"IF(AND(FE289<>1,$FP289=1,SUM($FQ289:FR289)=0,OR(AND($FF289=1,$FI289>0),$FI289>=4)),1,)","v":0},{"$f":"IF(AND(FE289<>1,$FP289=1,SUM($FQ289:FS289)=0,OR($FF289=1,$FI289>=2)),1,)","v":0},{"$f":"IF(AND(FE289<>1,$FP289=1,SUM($FQ289:FT289)=0,$FI289>0),1,)","v":0},0,0,{"$f":"IF(AND(FE289<>1,$FP289=2,SUM($FW289:FW289)=0,$FF289=1,$FJ289>=0.1),1,)","v":0},{"$f":"IF(AND(FE289<>1,$FP289=2,SUM($FW289:FX289)=0,OR(AND($FF289=1,$FI289>0),$FJ289>=0.2)),1,)","v":0},{"$f":"IF(AND(FE289<>1,$FP289=2,SUM($FW289:FY289)=0,OR($FF289=1,$FJ289>=0.1)),1,)","v":0},{"$f":"IF(AND(FE289<>1,$FP289=2,SUM($FW289:FZ289)=0,$FI289>0),1,)","v":0},0,{"$f":"IF(AND(FE289<>1,$FP289=3,SUM($GB289:GB289)=0,AND($FF289=1,$FJ289>=0.05)),1,)","v":0},{"$f":"IF(AND(FE289<>1,$FP289=3,SUM($GB289:GC289)=0,OR(AND($FF289=1,$FI289>0),$FJ289>=0.1)),1,)","v":0},{"$f":"IF(AND(FE289<>1,$FP289=3,SUM($GB289:GD289)=0,OR($FF289=1,$FJ289>=0.05)),1,)","v":0},{"$f":"IF(AND(FE289<>1,$FP289=3,SUM($GB289:GE289)=0,$FI289>0),1,)","v":0},0,null,0,0,0,0,0,0,0,0,0,0,0,0,0,0,0,0,0,0,0,0,0,0,0,0,0,0,0,0,0,0,0,0,0,0,0,0,0,0,0,0,0,0,0,0,0,0,0,0,0,0,0,0,0,0,0,0,0,0,0,0,0,0,0,0,0,0,0,0,0,0,0,0,0,0,0,0,0,0,0,"","","","","","","","","","","","","","","","○",0,0,0,0,0,0,0,"○",0,0,0,"○","○",null,0,0]
[0,0,0,0,0,0,0,0,0,0,278,null,null,null,null,{"$f":"IF(O290<>\"\",VLOOKUP(O290,整理番号表!$Z$17:$AA$20,2,FALSE),)","v":0},0,null,null,null,null,null,{"$f":"IF(V290<>0,VLOOKUP(V290,整理番号表!$B$6:$L$13,2,FALSE),)","v":0},0,{"$f":"IF(X290<>0,VLOOKUP(X290,整理番号表!$B$16:$C$18,2,FALSE),)","v":0},null,{"$f":"IF(Z290<>0,VLOOKUP(Z290,整理番号表!$B$22:$C$29,2,FALSE),)","v":0},null,null,{"$f":"IF(AC290<>0,VLOOKUP(AC290,整理番号表!$B$32:$G$60,2,FALSE),)","v":0},null,{"$f":"IF(AE290<>0,VLOOKUP(AE290,整理番号表!$P$5:$R$39,2,FALSE),)","v":0},null,0,null,null,{"$f":"IF(AJ290<>\"\",VLOOKUP(AJ290,整理番号表!$Z$6:$AA$14,2,FALSE),\"\")","v":""},0,null,null,null,null,null,{"$f":"IF(AQ290<>0,VLOOKUP(AQ290,整理番号表!$P$43:$Q$49,2,FALSE),)","v":0},null,null,null,null,0,0,null,0,null,null,null,0,0,0,null,null,0,0,null,{"$f":"IF(BK290<>0,VLOOKUP(BK290,整理番号表!$T$5:$U$16,2,FALSE),)","v":0},null,{"$f":"IF(BM290<>0,VLOOKUP(BM290,整理番号表!$T$22:$U$30,2,FALSE),)","v":0},null,0,"",null,null,null,null,null,"",0,null,null,null,null,null,null,null,null,null,0,0,0,0,0,0,0,0,0,0,0,0,0,0,0,0,0,0,0,0,0,0,0,0,0,0,0,0,null,null,null,null,null,0,0,0,0,0,0,null,0,null,null,null,null,null,null,null,0,null,null,null,null,null,null,null,null,null,null,null,null,null,null,null,null,null,null,null,null,null,null,null,null,null,null,0,0,null,null,0,0,0,{"$f":"IF(OR(AND(1<=$FK290,$FK290<=3),$FK290=6),VLOOKUP($FK290,整理番号表!$B$32:$G$60,2,FALSE),)","v":0},{"$f":"IF(OR($FK290=4,$FK290=7),VLOOKUP($FK290,整理番号表!$B$32:$G$60,2,FALSE),)","v":0},{"$f":"IF($FK290=5,VLOOKUP($FK290,整理番号表!$B$32:$G$60,2,FALSE),)","v":0},{"$f":"IF(AND(8<=$FK290,$FK290<=13),VLOOKUP($FK290,整理番号表!$B$32:$G$60,2,FALSE),)","v":0},0,0,{"$f":"IF(AND(FE290<>1,$FP290=1,SUM($FQ290:FQ290)=0,$FF290=1,$FI290>=2),1,)","v":0},{"$f":"IF(AND(FE290<>1,$FP290=1,SUM($FQ290:FR290)=0,OR(AND($FF290=1,$FI290>0),$FI290>=4)),1,)","v":0},{"$f":"IF(AND(FE290<>1,$FP290=1,SUM($FQ290:FS290)=0,OR($FF290=1,$FI290>=2)),1,)","v":0},{"$f":"IF(AND(FE290<>1,$FP290=1,SUM($FQ290:FT290)=0,$FI290>0),1,)","v":0},0,0,{"$f":"IF(AND(FE290<>1,$FP290=2,SUM($FW290:FW290)=0,$FF290=1,$FJ290>=0.1),1,)","v":0},{"$f":"IF(AND(FE290<>1,$FP290=2,SUM($FW290:FX290)=0,OR(AND($FF290=1,$FI290>0),$FJ290>=0.2)),1,)","v":0},{"$f":"IF(AND(FE290<>1,$FP290=2,SUM($FW290:FY290)=0,OR($FF290=1,$FJ290>=0.1)),1,)","v":0},{"$f":"IF(AND(FE290<>1,$FP290=2,SUM($FW290:FZ290)=0,$FI290>0),1,)","v":0},0,{"$f":"IF(AND(FE290<>1,$FP290=3,SUM($GB290:GB290)=0,AND($FF290=1,$FJ290>=0.05)),1,)","v":0},{"$f":"IF(AND(FE290<>1,$FP290=3,SUM($GB290:GC290)=0,OR(AND($FF290=1,$FI290>0),$FJ290>=0.1)),1,)","v":0},{"$f":"IF(AND(FE290<>1,$FP290=3,SUM($GB290:GD290)=0,OR($FF290=1,$FJ290>=0.05)),1,)","v":0},{"$f":"IF(AND(FE290<>1,$FP290=3,SUM($GB290:GE290)=0,$FI290>0),1,)","v":0},0,null,0,0,0,0,0,0,0,0,0,0,0,0,0,0,0,0,0,0,0,0,0,0,0,0,0,0,0,0,0,0,0,0,0,0,0,0,0,0,0,0,0,0,0,0,0,0,0,0,0,0,0,0,0,0,0,0,0,0,0,0,0,0,0,0,0,0,0,0,0,0,0,0,0,0,0,0,0,0,0,"","","","","","","","","","","","","","","","○",0,0,0,0,0,0,0,"○",0,0,0,"○","○",null,0,0]
[0,0,0,0,0,0,0,0,0,0,280,null,null,null,null,{"$f":"IF(O292<>\"\",VLOOKUP(O292,整理番号表!$Z$17:$AA$20,2,FALSE),)","v":0},0,null,null,null,null,null,{"$f":"IF(V292<>0,VLOOKUP(V292,整理番号表!$B$6:$L$13,2,FALSE),)","v":0},0,{"$f":"IF(X292<>0,VLOOKUP(X292,整理番号表!$B$16:$C$18,2,FALSE),)","v":0},null,{"$f":"IF(Z292<>0,VLOOKUP(Z292,整理番号表!$B$22:$C$29,2,FALSE),)","v":0},null,null,{"$f":"IF(AC292<>0,VLOOKUP(AC292,整理番号表!$B$32:$G$60,2,FALSE),)","v":0},null,{"$f":"IF(AE292<>0,VLOOKUP(AE292,整理番号表!$P$5:$R$39,2,FALSE),)","v":0},null,0,null,null,{"$f":"IF(AJ292<>\"\",VLOOKUP(AJ292,整理番号表!$Z$6:$AA$14,2,FALSE),\"\")","v":""},0,null,null,null,null,null,{"$f":"IF(AQ292<>0,VLOOKUP(AQ292,整理番号表!$P$43:$Q$49,2,FALSE),)","v":0},null,null,null,null,0,0,null,0,null,null,null,0,0,0,null,null,0,0,null,{"$f":"IF(BK292<>0,VLOOKUP(BK292,整理番号表!$T$5:$U$16,2,FALSE),)","v":0},null,{"$f":"IF(BM292<>0,VLOOKUP(BM292,整理番号表!$T$22:$U$30,2,FALSE),)","v":0},null,0,"",null,null,null,null,null,"",0,null,null,null,null,null,null,null,null,null,0,0,0,0,0,0,0,0,0,0,0,0,0,0,0,0,0,0,0,0,0,0,0,0,0,0,0,0,null,null,null,null,null,0,0,0,0,0,0,null,0,null,null,null,null,null,null,null,0,null,null,null,null,null,null,null,null,null,null,null,null,null,null,null,null,null,null,null,null,null,null,null,null,null,null,0,0,null,null,0,0,0,{"$f":"IF(OR(AND(1<=$FK292,$FK292<=3),$FK292=6),VLOOKUP($FK292,整理番号表!$B$32:$G$60,2,FALSE),)","v":0},{"$f":"IF(OR($FK292=4,$FK292=7),VLOOKUP($FK292,整理番号表!$B$32:$G$60,2,FALSE),)","v":0},{"$f":"IF($FK292=5,VLOOKUP($FK292,整理番号表!$B$32:$G$60,2,FALSE),)","v":0},{"$f":"IF(AND(8<=$FK292,$FK292<=13),VLOOKUP($FK292,整理番号表!$B$32:$G$60,2,FALSE),)","v":0},0,0,{"$f":"IF(AND(FE292<>1,$FP292=1,SUM($FQ292:FQ292)=0,$FF292=1,$FI292>=2),1,)","v":0},{"$f":"IF(AND(FE292<>1,$FP292=1,SUM($FQ292:FR292)=0,OR(AND($FF292=1,$FI292>0),$FI292>=4)),1,)","v":0},{"$f":"IF(AND(FE292<>1,$FP292=1,SUM($FQ292:FS292)=0,OR($FF292=1,$FI292>=2)),1,)","v":0},{"$f":"IF(AND(FE292<>1,$FP292=1,SUM($FQ292:FT292)=0,$FI292>0),1,)","v":0},0,0,{"$f":"IF(AND(FE292<>1,$FP292=2,SUM($FW292:FW292)=0,$FF292=1,$FJ292>=0.1),1,)","v":0},{"$f":"IF(AND(FE292<>1,$FP292=2,SUM($FW292:FX292)=0,OR(AND($FF292=1,$FI292>0),$FJ292>=0.2)),1,)","v":0},{"$f":"IF(AND(FE292<>1,$FP292=2,SUM($FW292:FY292)=0,OR($FF292=1,$FJ292>=0.1)),1,)","v":0},{"$f":"IF(AND(FE292<>1,$FP292=2,SUM($FW292:FZ292)=0,$FI292>0),1,)","v":0},0,{"$f":"IF(AND(FE292<>1,$FP292=3,SUM($GB292:GB292)=0,AND($FF292=1,$FJ292>=0.05)),1,)","v":0},{"$f":"IF(AND(FE292<>1,$FP292=3,SUM($GB292:GC292)=0,OR(AND($FF292=1,$FI292>0),$FJ292>=0.1)),1,)","v":0},{"$f":"IF(AND(FE292<>1,$FP292=3,SUM($GB292:GD292)=0,OR($FF292=1,$FJ292>=0.05)),1,)","v":0},{"$f":"IF(AND(FE292<>1,$FP292=3,SUM($GB292:GE292)=0,$FI292>0),1,)","v":0},0,null,0,0,0,0,0,0,0,0,0,0,0,0,0,0,0,0,0,0,0,0,0,0,0,0,0,0,0,0,0,0,0,0,0,0,0,0,0,0,0,0,0,0,0,0,0,0,0,0,0,0,0,0,0,0,0,0,0,0,0,0,0,0,0,0,0,0,0,0,0,0,0,0,0,0,0,0,0,0,0,"","","","","","","","","","","","","","","","○",0,0,0,0,0,0,0,"○",0,0,0,"○","○",null,0,0]
[0,0,0,0,0,0,0,0,0,0,281,null,null,null,null,{"$f":"IF(O293<>\"\",VLOOKUP(O293,整理番号表!$Z$17:$AA$20,2,FALSE),)","v":0},0,null,null,null,null,null,{"$f":"IF(V293<>0,VLOOKUP(V293,整理番号表!$B$6:$L$13,2,FALSE),)","v":0},0,{"$f":"IF(X293<>0,VLOOKUP(X293,整理番号表!$B$16:$C$18,2,FALSE),)","v":0},null,{"$f":"IF(Z293<>0,VLOOKUP(Z293,整理番号表!$B$22:$C$29,2,FALSE),)","v":0},null,null,{"$f":"IF(AC293<>0,VLOOKUP(AC293,整理番号表!$B$32:$G$60,2,FALSE),)","v":0},null,{"$f":"IF(AE293<>0,VLOOKUP(AE293,整理番号表!$P$5:$R$39,2,FALSE),)","v":0},null,0,null,null,{"$f":"IF(AJ293<>\"\",VLOOKUP(AJ293,整理番号表!$Z$6:$AA$14,2,FALSE),\"\")","v":""},0,null,null,null,null,null,{"$f":"IF(AQ293<>0,VLOOKUP(AQ293,整理番号表!$P$43:$Q$49,2,FALSE),)","v":0},null,null,null,null,0,0,null,0,null,null,null,0,0,0,null,null,0,0,null,{"$f":"IF(BK293<>0,VLOOKUP(BK293,整理番号表!$T$5:$U$16,2,FALSE),)","v":0},null,{"$f":"IF(BM293<>0,VLOOKUP(BM293,整理番号表!$T$22:$U$30,2,FALSE),)","v":0},null,0,"",null,null,null,null,null,"",0,null,null,null,null,null,null,null,null,null,0,0,0,0,0,0,0,0,0,0,0,0,0,0,0,0,0,0,0,0,0,0,0,0,0,0,0,0,null,null,null,null,null,0,0,0,0,0,0,null,0,null,null,null,null,null,null,null,0,null,null,null,null,null,null,null,null,null,null,null,null,null,null,null,null,null,null,null,null,null,null,null,null,null,null,0,0,null,null,0,0,0,{"$f":"IF(OR(AND(1<=$FK293,$FK293<=3),$FK293=6),VLOOKUP($FK293,整理番号表!$B$32:$G$60,2,FALSE),)","v":0},{"$f":"IF(OR($FK293=4,$FK293=7),VLOOKUP($FK293,整理番号表!$B$32:$G$60,2,FALSE),)","v":0},{"$f":"IF($FK293=5,VLOOKUP($FK293,整理番号表!$B$32:$G$60,2,FALSE),)","v":0},{"$f":"IF(AND(8<=$FK293,$FK293<=13),VLOOKUP($FK293,整理番号表!$B$32:$G$60,2,FALSE),)","v":0},0,0,{"$f":"IF(AND(FE293<>1,$FP293=1,SUM($FQ293:FQ293)=0,$FF293=1,$FI293>=2),1,)","v":0},{"$f":"IF(AND(FE293<>1,$FP293=1,SUM($FQ293:FR293)=0,OR(AND($FF293=1,$FI293>0),$FI293>=4)),1,)","v":0},{"$f":"IF(AND(FE293<>1,$FP293=1,SUM($FQ293:FS293)=0,OR($FF293=1,$FI293>=2)),1,)","v":0},{"$f":"IF(AND(FE293<>1,$FP293=1,SUM($FQ293:FT293)=0,$FI293>0),1,)","v":0},0,0,{"$f":"IF(AND(FE293<>1,$FP293=2,SUM($FW293:FW293)=0,$FF293=1,$FJ293>=0.1),1,)","v":0},{"$f":"IF(AND(FE293<>1,$FP293=2,SUM($FW293:FX293)=0,OR(AND($FF293=1,$FI293>0),$FJ293>=0.2)),1,)","v":0},{"$f":"IF(AND(FE293<>1,$FP293=2,SUM($FW293:FY293)=0,OR($FF293=1,$FJ293>=0.1)),1,)","v":0},{"$f":"IF(AND(FE293<>1,$FP293=2,SUM($FW293:FZ293)=0,$FI293>0),1,)","v":0},0,{"$f":"IF(AND(FE293<>1,$FP293=3,SUM($GB293:GB293)=0,AND($FF293=1,$FJ293>=0.05)),1,)","v":0},{"$f":"IF(AND(FE293<>1,$FP293=3,SUM($GB293:GC293)=0,OR(AND($FF293=1,$FI293>0),$FJ293>=0.1)),1,)","v":0},{"$f":"IF(AND(FE293<>1,$FP293=3,SUM($GB293:GD293)=0,OR($FF293=1,$FJ293>=0.05)),1,)","v":0},{"$f":"IF(AND(FE293<>1,$FP293=3,SUM($GB293:GE293)=0,$FI293>0),1,)","v":0},0,null,0,0,0,0,0,0,0,0,0,0,0,0,0,0,0,0,0,0,0,0,0,0,0,0,0,0,0,0,0,0,0,0,0,0,0,0,0,0,0,0,0,0,0,0,0,0,0,0,0,0,0,0,0,0,0,0,0,0,0,0,0,0,0,0,0,0,0,0,0,0,0,0,0,0,0,0,0,0,0,"","","","","","","","","","","","","","","","○",0,0,0,0,0,0,0,"○",0,0,0,"○","○",null,0,0]
[0,0,0,0,0,0,0,0,0,0,283,null,null,null,null,{"$f":"IF(O295<>\"\",VLOOKUP(O295,整理番号表!$Z$17:$AA$20,2,FALSE),)","v":0},0,null,null,null,null,null,{"$f":"IF(V295<>0,VLOOKUP(V295,整理番号表!$B$6:$L$13,2,FALSE),)","v":0},0,{"$f":"IF(X295<>0,VLOOKUP(X295,整理番号表!$B$16:$C$18,2,FALSE),)","v":0},null,{"$f":"IF(Z295<>0,VLOOKUP(Z295,整理番号表!$B$22:$C$29,2,FALSE),)","v":0},null,null,{"$f":"IF(AC295<>0,VLOOKUP(AC295,整理番号表!$B$32:$G$60,2,FALSE),)","v":0},null,{"$f":"IF(AE295<>0,VLOOKUP(AE295,整理番号表!$P$5:$R$39,2,FALSE),)","v":0},null,0,null,null,{"$f":"IF(AJ295<>\"\",VLOOKUP(AJ295,整理番号表!$Z$6:$AA$14,2,FALSE),\"\")","v":""},0,null,null,null,null,null,{"$f":"IF(AQ295<>0,VLOOKUP(AQ295,整理番号表!$P$43:$Q$49,2,FALSE),)","v":0},null,null,null,null,0,0,null,0,null,null,null,0,0,0,null,null,0,0,null,{"$f":"IF(BK295<>0,VLOOKUP(BK295,整理番号表!$T$5:$U$16,2,FALSE),)","v":0},null,{"$f":"IF(BM295<>0,VLOOKUP(BM295,整理番号表!$T$22:$U$30,2,FALSE),)","v":0},null,0,"",null,null,null,null,null,"",0,null,null,null,null,null,null,null,null,null,0,0,0,0,0,0,0,0,0,0,0,0,0,0,0,0,0,0,0,0,0,0,0,0,0,0,0,0,null,null,null,null,null,0,0,0,0,0,0,null,0,null,null,null,null,null,null,null,0,null,null,null,null,null,null,null,null,null,null,null,null,null,null,null,null,null,null,null,null,null,null,null,null,null,null,0,0,null,null,0,0,0,{"$f":"IF(OR(AND(1<=$FK295,$FK295<=3),$FK295=6),VLOOKUP($FK295,整理番号表!$B$32:$G$60,2,FALSE),)","v":0},{"$f":"IF(OR($FK295=4,$FK295=7),VLOOKUP($FK295,整理番号表!$B$32:$G$60,2,FALSE),)","v":0},{"$f":"IF($FK295=5,VLOOKUP($FK295,整理番号表!$B$32:$G$60,2,FALSE),)","v":0},{"$f":"IF(AND(8<=$FK295,$FK295<=13),VLOOKUP($FK295,整理番号表!$B$32:$G$60,2,FALSE),)","v":0},0,0,{"$f":"IF(AND(FE295<>1,$FP295=1,SUM($FQ295:FQ295)=0,$FF295=1,$FI295>=2),1,)","v":0},{"$f":"IF(AND(FE295<>1,$FP295=1,SUM($FQ295:FR295)=0,OR(AND($FF295=1,$FI295>0),$FI295>=4)),1,)","v":0},{"$f":"IF(AND(FE295<>1,$FP295=1,SUM($FQ295:FS295)=0,OR($FF295=1,$FI295>=2)),1,)","v":0},{"$f":"IF(AND(FE295<>1,$FP295=1,SUM($FQ295:FT295)=0,$FI295>0),1,)","v":0},0,0,{"$f":"IF(AND(FE295<>1,$FP295=2,SUM($FW295:FW295)=0,$FF295=1,$FJ295>=0.1),1,)","v":0},{"$f":"IF(AND(FE295<>1,$FP295=2,SUM($FW295:FX295)=0,OR(AND($FF295=1,$FI295>0),$FJ295>=0.2)),1,)","v":0},{"$f":"IF(AND(FE295<>1,$FP295=2,SUM($FW295:FY295)=0,OR($FF295=1,$FJ295>=0.1)),1,)","v":0},{"$f":"IF(AND(FE295<>1,$FP295=2,SUM($FW295:FZ295)=0,$FI295>0),1,)","v":0},0,{"$f":"IF(AND(FE295<>1,$FP295=3,SUM($GB295:GB295)=0,AND($FF295=1,$FJ295>=0.05)),1,)","v":0},{"$f":"IF(AND(FE295<>1,$FP295=3,SUM($GB295:GC295)=0,OR(AND($FF295=1,$FI295>0),$FJ295>=0.1)),1,)","v":0},{"$f":"IF(AND(FE295<>1,$FP295=3,SUM($GB295:GD295)=0,OR($FF295=1,$FJ295>=0.05)),1,)","v":0},{"$f":"IF(AND(FE295<>1,$FP295=3,SUM($GB295:GE295)=0,$FI295>0),1,)","v":0},0,null,0,0,0,0,0,0,0,0,0,0,0,0,0,0,0,0,0,0,0,0,0,0,0,0,0,0,0,0,0,0,0,0,0,0,0,0,0,0,0,0,0,0,0,0,0,0,0,0,0,0,0,0,0,0,0,0,0,0,0,0,0,0,0,0,0,0,0,0,0,0,0,0,0,0,0,0,0,0,0,"","","","","","","","","","","","","","","","○",0,0,0,0,0,0,0,"○",0,0,0,"○","○",null,0,0]
[0,0,0,0,0,0,0,0,0,0,284,null,null,null,null,{"$f":"IF(O296<>\"\",VLOOKUP(O296,整理番号表!$Z$17:$AA$20,2,FALSE),)","v":0},0,null,null,null,null,null,{"$f":"IF(V296<>0,VLOOKUP(V296,整理番号表!$B$6:$L$13,2,FALSE),)","v":0},0,{"$f":"IF(X296<>0,VLOOKUP(X296,整理番号表!$B$16:$C$18,2,FALSE),)","v":0},null,{"$f":"IF(Z296<>0,VLOOKUP(Z296,整理番号表!$B$22:$C$29,2,FALSE),)","v":0},null,null,{"$f":"IF(AC296<>0,VLOOKUP(AC296,整理番号表!$B$32:$G$60,2,FALSE),)","v":0},null,{"$f":"IF(AE296<>0,VLOOKUP(AE296,整理番号表!$P$5:$R$39,2,FALSE),)","v":0},null,0,null,null,{"$f":"IF(AJ296<>\"\",VLOOKUP(AJ296,整理番号表!$Z$6:$AA$14,2,FALSE),\"\")","v":""},0,null,null,null,null,null,{"$f":"IF(AQ296<>0,VLOOKUP(AQ296,整理番号表!$P$43:$Q$49,2,FALSE),)","v":0},null,null,null,null,0,0,null,0,null,null,null,0,0,0,null,null,0,0,null,{"$f":"IF(BK296<>0,VLOOKUP(BK296,整理番号表!$T$5:$U$16,2,FALSE),)","v":0},null,{"$f":"IF(BM296<>0,VLOOKUP(BM296,整理番号表!$T$22:$U$30,2,FALSE),)","v":0},null,0,"",null,null,null,null,null,"",0,null,null,null,null,null,null,null,null,null,0,0,0,0,0,0,0,0,0,0,0,0,0,0,0,0,0,0,0,0,0,0,0,0,0,0,0,0,null,null,null,null,null,0,0,0,0,0,0,null,0,null,null,null,null,null,null,null,0,null,null,null,null,null,null,null,null,null,null,null,null,null,null,null,null,null,null,null,null,null,null,null,null,null,null,0,0,null,null,0,0,0,{"$f":"IF(OR(AND(1<=$FK296,$FK296<=3),$FK296=6),VLOOKUP($FK296,整理番号表!$B$32:$G$60,2,FALSE),)","v":0},{"$f":"IF(OR($FK296=4,$FK296=7),VLOOKUP($FK296,整理番号表!$B$32:$G$60,2,FALSE),)","v":0},{"$f":"IF($FK296=5,VLOOKUP($FK296,整理番号表!$B$32:$G$60,2,FALSE),)","v":0},{"$f":"IF(AND(8<=$FK296,$FK296<=13),VLOOKUP($FK296,整理番号表!$B$32:$G$60,2,FALSE),)","v":0},0,0,{"$f":"IF(AND(FE296<>1,$FP296=1,SUM($FQ296:FQ296)=0,$FF296=1,$FI296>=2),1,)","v":0},{"$f":"IF(AND(FE296<>1,$FP296=1,SUM($FQ296:FR296)=0,OR(AND($FF296=1,$FI296>0),$FI296>=4)),1,)","v":0},{"$f":"IF(AND(FE296<>1,$FP296=1,SUM($FQ296:FS296)=0,OR($FF296=1,$FI296>=2)),1,)","v":0},{"$f":"IF(AND(FE296<>1,$FP296=1,SUM($FQ296:FT296)=0,$FI296>0),1,)","v":0},0,0,{"$f":"IF(AND(FE296<>1,$FP296=2,SUM($FW296:FW296)=0,$FF296=1,$FJ296>=0.1),1,)","v":0},{"$f":"IF(AND(FE296<>1,$FP296=2,SUM($FW296:FX296)=0,OR(AND($FF296=1,$FI296>0),$FJ296>=0.2)),1,)","v":0},{"$f":"IF(AND(FE296<>1,$FP296=2,SUM($FW296:FY296)=0,OR($FF296=1,$FJ296>=0.1)),1,)","v":0},{"$f":"IF(AND(FE296<>1,$FP296=2,SUM($FW296:FZ296)=0,$FI296>0),1,)","v":0},0,{"$f":"IF(AND(FE296<>1,$FP296=3,SUM($GB296:GB296)=0,AND($FF296=1,$FJ296>=0.05)),1,)","v":0},{"$f":"IF(AND(FE296<>1,$FP296=3,SUM($GB296:GC296)=0,OR(AND($FF296=1,$FI296>0),$FJ296>=0.1)),1,)","v":0},{"$f":"IF(AND(FE296<>1,$FP296=3,SUM($GB296:GD296)=0,OR($FF296=1,$FJ296>=0.05)),1,)","v":0},{"$f":"IF(AND(FE296<>1,$FP296=3,SUM($GB296:GE296)=0,$FI296>0),1,)","v":0},0,null,0,0,0,0,0,0,0,0,0,0,0,0,0,0,0,0,0,0,0,0,0,0,0,0,0,0,0,0,0,0,0,0,0,0,0,0,0,0,0,0,0,0,0,0,0,0,0,0,0,0,0,0,0,0,0,0,0,0,0,0,0,0,0,0,0,0,0,0,0,0,0,0,0,0,0,0,0,0,0,"","","","","","","","","","","","","","","","○",0,0,0,0,0,0,0,"○",0,0,0,"○","○",null,0,0]
[0,0,0,0,0,0,0,0,0,0,287,null,null,null,null,{"$f":"IF(O299<>\"\",VLOOKUP(O299,整理番号表!$Z$17:$AA$20,2,FALSE),)","v":0},0,null,null,null,null,null,{"$f":"IF(V299<>0,VLOOKUP(V299,整理番号表!$B$6:$L$13,2,FALSE),)","v":0},0,{"$f":"IF(X299<>0,VLOOKUP(X299,整理番号表!$B$16:$C$18,2,FALSE),)","v":0},null,{"$f":"IF(Z299<>0,VLOOKUP(Z299,整理番号表!$B$22:$C$29,2,FALSE),)","v":0},null,null,{"$f":"IF(AC299<>0,VLOOKUP(AC299,整理番号表!$B$32:$G$60,2,FALSE),)","v":0},null,{"$f":"IF(AE299<>0,VLOOKUP(AE299,整理番号表!$P$5:$R$39,2,FALSE),)","v":0},null,0,null,null,{"$f":"IF(AJ299<>\"\",VLOOKUP(AJ299,整理番号表!$Z$6:$AA$14,2,FALSE),\"\")","v":""},0,null,null,null,null,null,{"$f":"IF(AQ299<>0,VLOOKUP(AQ299,整理番号表!$P$43:$Q$49,2,FALSE),)","v":0},null,null,null,null,0,0,null,0,null,null,null,0,0,0,null,null,0,0,null,{"$f":"IF(BK299<>0,VLOOKUP(BK299,整理番号表!$T$5:$U$16,2,FALSE),)","v":0},null,{"$f":"IF(BM299<>0,VLOOKUP(BM299,整理番号表!$T$22:$U$30,2,FALSE),)","v":0},null,0,"",null,null,null,null,null,"",0,null,null,null,null,null,null,null,null,null,0,0,0,0,0,0,0,0,0,0,0,0,0,0,0,0,0,0,0,0,0,0,0,0,0,0,0,0,null,null,null,null,null,0,0,0,0,0,0,null,0,null,null,null,null,null,null,null,0,null,null,null,null,null,null,null,null,null,null,null,null,null,null,null,null,null,null,null,null,null,null,null,null,null,null,0,0,null,null,0,0,0,{"$f":"IF(OR(AND(1<=$FK299,$FK299<=3),$FK299=6),VLOOKUP($FK299,整理番号表!$B$32:$G$60,2,FALSE),)","v":0},{"$f":"IF(OR($FK299=4,$FK299=7),VLOOKUP($FK299,整理番号表!$B$32:$G$60,2,FALSE),)","v":0},{"$f":"IF($FK299=5,VLOOKUP($FK299,整理番号表!$B$32:$G$60,2,FALSE),)","v":0},{"$f":"IF(AND(8<=$FK299,$FK299<=13),VLOOKUP($FK299,整理番号表!$B$32:$G$60,2,FALSE),)","v":0},0,0,{"$f":"IF(AND(FE299<>1,$FP299=1,SUM($FQ299:FQ299)=0,$FF299=1,$FI299>=2),1,)","v":0},{"$f":"IF(AND(FE299<>1,$FP299=1,SUM($FQ299:FR299)=0,OR(AND($FF299=1,$FI299>0),$FI299>=4)),1,)","v":0},{"$f":"IF(AND(FE299<>1,$FP299=1,SUM($FQ299:FS299)=0,OR($FF299=1,$FI299>=2)),1,)","v":0},{"$f":"IF(AND(FE299<>1,$FP299=1,SUM($FQ299:FT299)=0,$FI299>0),1,)","v":0},0,0,{"$f":"IF(AND(FE299<>1,$FP299=2,SUM($FW299:FW299)=0,$FF299=1,$FJ299>=0.1),1,)","v":0},{"$f":"IF(AND(FE299<>1,$FP299=2,SUM($FW299:FX299)=0,OR(AND($FF299=1,$FI299>0),$FJ299>=0.2)),1,)","v":0},{"$f":"IF(AND(FE299<>1,$FP299=2,SUM($FW299:FY299)=0,OR($FF299=1,$FJ299>=0.1)),1,)","v":0},{"$f":"IF(AND(FE299<>1,$FP299=2,SUM($FW299:FZ299)=0,$FI299>0),1,)","v":0},0,{"$f":"IF(AND(FE299<>1,$FP299=3,SUM($GB299:GB299)=0,AND($FF299=1,$FJ299>=0.05)),1,)","v":0},{"$f":"IF(AND(FE299<>1,$FP299=3,SUM($GB299:GC299)=0,OR(AND($FF299=1,$FI299>0),$FJ299>=0.1)),1,)","v":0},{"$f":"IF(AND(FE299<>1,$FP299=3,SUM($GB299:GD299)=0,OR($FF299=1,$FJ299>=0.05)),1,)","v":0},{"$f":"IF(AND(FE299<>1,$FP299=3,SUM($GB299:GE299)=0,$FI299>0),1,)","v":0},0,null,0,0,0,0,0,0,0,0,0,0,0,0,0,0,0,0,0,0,0,0,0,0,0,0,0,0,0,0,0,0,0,0,0,0,0,0,0,0,0,0,0,0,0,0,0,0,0,0,0,0,0,0,0,0,0,0,0,0,0,0,0,0,0,0,0,0,0,0,0,0,0,0,0,0,0,0,0,0,0,"","","","","","","","","","","","","","","","○",0,0,0,0,0,0,0,"○",0,0,0,"○","○",null,0,0]
[0,0,0,0,0,0,0,0,0,0,288,null,null,null,null,{"$f":"IF(O300<>\"\",VLOOKUP(O300,整理番号表!$Z$17:$AA$20,2,FALSE),)","v":0},0,null,null,null,null,null,{"$f":"IF(V300<>0,VLOOKUP(V300,整理番号表!$B$6:$L$13,2,FALSE),)","v":0},0,{"$f":"IF(X300<>0,VLOOKUP(X300,整理番号表!$B$16:$C$18,2,FALSE),)","v":0},null,{"$f":"IF(Z300<>0,VLOOKUP(Z300,整理番号表!$B$22:$C$29,2,FALSE),)","v":0},null,null,{"$f":"IF(AC300<>0,VLOOKUP(AC300,整理番号表!$B$32:$G$60,2,FALSE),)","v":0},null,{"$f":"IF(AE300<>0,VLOOKUP(AE300,整理番号表!$P$5:$R$39,2,FALSE),)","v":0},null,0,null,null,{"$f":"IF(AJ300<>\"\",VLOOKUP(AJ300,整理番号表!$Z$6:$AA$14,2,FALSE),\"\")","v":""},0,null,null,null,null,null,{"$f":"IF(AQ300<>0,VLOOKUP(AQ300,整理番号表!$P$43:$Q$49,2,FALSE),)","v":0},null,null,null,null,0,0,null,0,null,null,null,0,0,0,null,null,0,0,null,{"$f":"IF(BK300<>0,VLOOKUP(BK300,整理番号表!$T$5:$U$16,2,FALSE),)","v":0},null,{"$f":"IF(BM300<>0,VLOOKUP(BM300,整理番号表!$T$22:$U$30,2,FALSE),)","v":0},null,0,"",null,null,null,null,null,"",0,null,null,null,null,null,null,null,null,null,0,0,0,0,0,0,0,0,0,0,0,0,0,0,0,0,0,0,0,0,0,0,0,0,0,0,0,0,null,null,null,null,null,0,0,0,0,0,0,null,0,null,null,null,null,null,null,null,0,null,null,null,null,null,null,null,null,null,null,null,null,null,null,null,null,null,null,null,null,null,null,null,null,null,null,0,0,null,null,0,0,0,{"$f":"IF(OR(AND(1<=$FK300,$FK300<=3),$FK300=6),VLOOKUP($FK300,整理番号表!$B$32:$G$60,2,FALSE),)","v":0},{"$f":"IF(OR($FK300=4,$FK300=7),VLOOKUP($FK300,整理番号表!$B$32:$G$60,2,FALSE),)","v":0},{"$f":"IF($FK300=5,VLOOKUP($FK300,整理番号表!$B$32:$G$60,2,FALSE),)","v":0},{"$f":"IF(AND(8<=$FK300,$FK300<=13),VLOOKUP($FK300,整理番号表!$B$32:$G$60,2,FALSE),)","v":0},0,0,{"$f":"IF(AND(FE300<>1,$FP300=1,SUM($FQ300:FQ300)=0,$FF300=1,$FI300>=2),1,)","v":0},{"$f":"IF(AND(FE300<>1,$FP300=1,SUM($FQ300:FR300)=0,OR(AND($FF300=1,$FI300>0),$FI300>=4)),1,)","v":0},{"$f":"IF(AND(FE300<>1,$FP300=1,SUM($FQ300:FS300)=0,OR($FF300=1,$FI300>=2)),1,)","v":0},{"$f":"IF(AND(FE300<>1,$FP300=1,SUM($FQ300:FT300)=0,$FI300>0),1,)","v":0},0,0,{"$f":"IF(AND(FE300<>1,$FP300=2,SUM($FW300:FW300)=0,$FF300=1,$FJ300>=0.1),1,)","v":0},{"$f":"IF(AND(FE300<>1,$FP300=2,SUM($FW300:FX300)=0,OR(AND($FF300=1,$FI300>0),$FJ300>=0.2)),1,)","v":0},{"$f":"IF(AND(FE300<>1,$FP300=2,SUM($FW300:FY300)=0,OR($FF300=1,$FJ300>=0.1)),1,)","v":0},{"$f":"IF(AND(FE300<>1,$FP300=2,SUM($FW300:FZ300)=0,$FI300>0),1,)","v":0},0,{"$f":"IF(AND(FE300<>1,$FP300=3,SUM($GB300:GB300)=0,AND($FF300=1,$FJ300>=0.05)),1,)","v":0},{"$f":"IF(AND(FE300<>1,$FP300=3,SUM($GB300:GC300)=0,OR(AND($FF300=1,$FI300>0),$FJ300>=0.1)),1,)","v":0},{"$f":"IF(AND(FE300<>1,$FP300=3,SUM($GB300:GD300)=0,OR($FF300=1,$FJ300>=0.05)),1,)","v":0},{"$f":"IF(AND(FE300<>1,$FP300=3,SUM($GB300:GE300)=0,$FI300>0),1,)","v":0},0,null,0,0,0,0,0,0,0,0,0,0,0,0,0,0,0,0,0,0,0,0,0,0,0,0,0,0,0,0,0,0,0,0,0,0,0,0,0,0,0,0,0,0,0,0,0,0,0,0,0,0,0,0,0,0,0,0,0,0,0,0,0,0,0,0,0,0,0,0,0,0,0,0,0,0,0,0,0,0,0,"","","","","","","","","","","","","","","","○",0,0,0,0,0,0,0,"○",0,0,0,"○","○",null,0,0]
[0,0,0,0,0,0,0,0,0,0,290,null,null,null,null,{"$f":"IF(O302<>\"\",VLOOKUP(O302,整理番号表!$Z$17:$AA$20,2,FALSE),)","v":0},0,null,null,null,null,null,{"$f":"IF(V302<>0,VLOOKUP(V302,整理番号表!$B$6:$L$13,2,FALSE),)","v":0},0,{"$f":"IF(X302<>0,VLOOKUP(X302,整理番号表!$B$16:$C$18,2,FALSE),)","v":0},null,{"$f":"IF(Z302<>0,VLOOKUP(Z302,整理番号表!$B$22:$C$29,2,FALSE),)","v":0},null,null,{"$f":"IF(AC302<>0,VLOOKUP(AC302,整理番号表!$B$32:$G$60,2,FALSE),)","v":0},null,{"$f":"IF(AE302<>0,VLOOKUP(AE302,整理番号表!$P$5:$R$39,2,FALSE),)","v":0},null,0,null,null,{"$f":"IF(AJ302<>\"\",VLOOKUP(AJ302,整理番号表!$Z$6:$AA$14,2,FALSE),\"\")","v":""},0,null,null,null,null,null,{"$f":"IF(AQ302<>0,VLOOKUP(AQ302,整理番号表!$P$43:$Q$49,2,FALSE),)","v":0},null,null,null,null,0,0,null,0,null,null,null,0,0,0,null,null,0,0,null,{"$f":"IF(BK302<>0,VLOOKUP(BK302,整理番号表!$T$5:$U$16,2,FALSE),)","v":0},null,{"$f":"IF(BM302<>0,VLOOKUP(BM302,整理番号表!$T$22:$U$30,2,FALSE),)","v":0},null,0,"",null,null,null,null,null,"",0,null,null,null,null,null,null,null,null,null,0,0,0,0,0,0,0,0,0,0,0,0,0,0,0,0,0,0,0,0,0,0,0,0,0,0,0,0,null,null,null,null,null,0,0,0,0,0,0,null,0,null,null,null,null,null,null,null,0,null,null,null,null,null,null,null,null,null,null,null,null,null,null,null,null,null,null,null,null,null,null,null,null,null,null,0,0,null,null,0,0,0,{"$f":"IF(OR(AND(1<=$FK302,$FK302<=3),$FK302=6),VLOOKUP($FK302,整理番号表!$B$32:$G$60,2,FALSE),)","v":0},{"$f":"IF(OR($FK302=4,$FK302=7),VLOOKUP($FK302,整理番号表!$B$32:$G$60,2,FALSE),)","v":0},{"$f":"IF($FK302=5,VLOOKUP($FK302,整理番号表!$B$32:$G$60,2,FALSE),)","v":0},{"$f":"IF(AND(8<=$FK302,$FK302<=13),VLOOKUP($FK302,整理番号表!$B$32:$G$60,2,FALSE),)","v":0},0,0,{"$f":"IF(AND(FE302<>1,$FP302=1,SUM($FQ302:FQ302)=0,$FF302=1,$FI302>=2),1,)","v":0},{"$f":"IF(AND(FE302<>1,$FP302=1,SUM($FQ302:FR302)=0,OR(AND($FF302=1,$FI302>0),$FI302>=4)),1,)","v":0},{"$f":"IF(AND(FE302<>1,$FP302=1,SUM($FQ302:FS302)=0,OR($FF302=1,$FI302>=2)),1,)","v":0},{"$f":"IF(AND(FE302<>1,$FP302=1,SUM($FQ302:FT302)=0,$FI302>0),1,)","v":0},0,0,{"$f":"IF(AND(FE302<>1,$FP302=2,SUM($FW302:FW302)=0,$FF302=1,$FJ302>=0.1),1,)","v":0},{"$f":"IF(AND(FE302<>1,$FP302=2,SUM($FW302:FX302)=0,OR(AND($FF302=1,$FI302>0),$FJ302>=0.2)),1,)","v":0},{"$f":"IF(AND(FE302<>1,$FP302=2,SUM($FW302:FY302)=0,OR($FF302=1,$FJ302>=0.1)),1,)","v":0},{"$f":"IF(AND(FE302<>1,$FP302=2,SUM($FW302:FZ302)=0,$FI302>0),1,)","v":0},0,{"$f":"IF(AND(FE302<>1,$FP302=3,SUM($GB302:GB302)=0,AND($FF302=1,$FJ302>=0.05)),1,)","v":0},{"$f":"IF(AND(FE302<>1,$FP302=3,SUM($GB302:GC302)=0,OR(AND($FF302=1,$FI302>0),$FJ302>=0.1)),1,)","v":0},{"$f":"IF(AND(FE302<>1,$FP302=3,SUM($GB302:GD302)=0,OR($FF302=1,$FJ302>=0.05)),1,)","v":0},{"$f":"IF(AND(FE302<>1,$FP302=3,SUM($GB302:GE302)=0,$FI302>0),1,)","v":0},0,null,0,0,0,0,0,0,0,0,0,0,0,0,0,0,0,0,0,0,0,0,0,0,0,0,0,0,0,0,0,0,0,0,0,0,0,0,0,0,0,0,0,0,0,0,0,0,0,0,0,0,0,0,0,0,0,0,0,0,0,0,0,0,0,0,0,0,0,0,0,0,0,0,0,0,0,0,0,0,0,"","","","","","","","","","","","","","","","○",0,0,0,0,0,0,0,"○",0,0,0,"○","○",null,0,0]
[0,0,0,0,0,0,0,0,0,0,291,null,null,null,null,{"$f":"IF(O303<>\"\",VLOOKUP(O303,整理番号表!$Z$17:$AA$20,2,FALSE),)","v":0},0,null,null,null,null,null,{"$f":"IF(V303<>0,VLOOKUP(V303,整理番号表!$B$6:$L$13,2,FALSE),)","v":0},0,{"$f":"IF(X303<>0,VLOOKUP(X303,整理番号表!$B$16:$C$18,2,FALSE),)","v":0},null,{"$f":"IF(Z303<>0,VLOOKUP(Z303,整理番号表!$B$22:$C$29,2,FALSE),)","v":0},null,null,{"$f":"IF(AC303<>0,VLOOKUP(AC303,整理番号表!$B$32:$G$60,2,FALSE),)","v":0},null,{"$f":"IF(AE303<>0,VLOOKUP(AE303,整理番号表!$P$5:$R$39,2,FALSE),)","v":0},null,0,null,null,{"$f":"IF(AJ303<>\"\",VLOOKUP(AJ303,整理番号表!$Z$6:$AA$14,2,FALSE),\"\")","v":""},0,null,null,null,null,null,{"$f":"IF(AQ303<>0,VLOOKUP(AQ303,整理番号表!$P$43:$Q$49,2,FALSE),)","v":0},null,null,null,null,0,0,null,0,null,null,null,0,0,0,null,null,0,0,null,{"$f":"IF(BK303<>0,VLOOKUP(BK303,整理番号表!$T$5:$U$16,2,FALSE),)","v":0},null,{"$f":"IF(BM303<>0,VLOOKUP(BM303,整理番号表!$T$22:$U$30,2,FALSE),)","v":0},null,0,"",null,null,null,null,null,"",0,null,null,null,null,null,null,null,null,null,0,0,0,0,0,0,0,0,0,0,0,0,0,0,0,0,0,0,0,0,0,0,0,0,0,0,0,0,null,null,null,null,null,0,0,0,0,0,0,null,0,null,null,null,null,null,null,null,0,null,null,null,null,null,null,null,null,null,null,null,null,null,null,null,null,null,null,null,null,null,null,null,null,null,null,0,0,null,null,0,0,0,{"$f":"IF(OR(AND(1<=$FK303,$FK303<=3),$FK303=6),VLOOKUP($FK303,整理番号表!$B$32:$G$60,2,FALSE),)","v":0},{"$f":"IF(OR($FK303=4,$FK303=7),VLOOKUP($FK303,整理番号表!$B$32:$G$60,2,FALSE),)","v":0},{"$f":"IF($FK303=5,VLOOKUP($FK303,整理番号表!$B$32:$G$60,2,FALSE),)","v":0},{"$f":"IF(AND(8<=$FK303,$FK303<=13),VLOOKUP($FK303,整理番号表!$B$32:$G$60,2,FALSE),)","v":0},0,0,{"$f":"IF(AND(FE303<>1,$FP303=1,SUM($FQ303:FQ303)=0,$FF303=1,$FI303>=2),1,)","v":0},{"$f":"IF(AND(FE303<>1,$FP303=1,SUM($FQ303:FR303)=0,OR(AND($FF303=1,$FI303>0),$FI303>=4)),1,)","v":0},{"$f":"IF(AND(FE303<>1,$FP303=1,SUM($FQ303:FS303)=0,OR($FF303=1,$FI303>=2)),1,)","v":0},{"$f":"IF(AND(FE303<>1,$FP303=1,SUM($FQ303:FT303)=0,$FI303>0),1,)","v":0},0,0,{"$f":"IF(AND(FE303<>1,$FP303=2,SUM($FW303:FW303)=0,$FF303=1,$FJ303>=0.1),1,)","v":0},{"$f":"IF(AND(FE303<>1,$FP303=2,SUM($FW303:FX303)=0,OR(AND($FF303=1,$FI303>0),$FJ303>=0.2)),1,)","v":0},{"$f":"IF(AND(FE303<>1,$FP303=2,SUM($FW303:FY303)=0,OR($FF303=1,$FJ303>=0.1)),1,)","v":0},{"$f":"IF(AND(FE303<>1,$FP303=2,SUM($FW303:FZ303)=0,$FI303>0),1,)","v":0},0,{"$f":"IF(AND(FE303<>1,$FP303=3,SUM($GB303:GB303)=0,AND($FF303=1,$FJ303>=0.05)),1,)","v":0},{"$f":"IF(AND(FE303<>1,$FP303=3,SUM($GB303:GC303)=0,OR(AND($FF303=1,$FI303>0),$FJ303>=0.1)),1,)","v":0},{"$f":"IF(AND(FE303<>1,$FP303=3,SUM($GB303:GD303)=0,OR($FF303=1,$FJ303>=0.05)),1,)","v":0},{"$f":"IF(AND(FE303<>1,$FP303=3,SUM($GB303:GE303)=0,$FI303>0),1,)","v":0},0,null,0,0,0,0,0,0,0,0,0,0,0,0,0,0,0,0,0,0,0,0,0,0,0,0,0,0,0,0,0,0,0,0,0,0,0,0,0,0,0,0,0,0,0,0,0,0,0,0,0,0,0,0,0,0,0,0,0,0,0,0,0,0,0,0,0,0,0,0,0,0,0,0,0,0,0,0,0,0,0,"","","","","","","","","","","","","","","","○",0,0,0,0,0,0,0,"○",0,0,0,"○","○",null,0,0]
[0,0,0,0,0,0,0,0,0,0,293,null,null,null,null,{"$f":"IF(O305<>\"\",VLOOKUP(O305,整理番号表!$Z$17:$AA$20,2,FALSE),)","v":0},0,null,null,null,null,null,{"$f":"IF(V305<>0,VLOOKUP(V305,整理番号表!$B$6:$L$13,2,FALSE),)","v":0},0,{"$f":"IF(X305<>0,VLOOKUP(X305,整理番号表!$B$16:$C$18,2,FALSE),)","v":0},null,{"$f":"IF(Z305<>0,VLOOKUP(Z305,整理番号表!$B$22:$C$29,2,FALSE),)","v":0},null,null,{"$f":"IF(AC305<>0,VLOOKUP(AC305,整理番号表!$B$32:$G$60,2,FALSE),)","v":0},null,{"$f":"IF(AE305<>0,VLOOKUP(AE305,整理番号表!$P$5:$R$39,2,FALSE),)","v":0},null,0,null,null,{"$f":"IF(AJ305<>\"\",VLOOKUP(AJ305,整理番号表!$Z$6:$AA$14,2,FALSE),\"\")","v":""},0,null,null,null,null,null,{"$f":"IF(AQ305<>0,VLOOKUP(AQ305,整理番号表!$P$43:$Q$49,2,FALSE),)","v":0},null,null,null,null,0,0,null,0,null,null,null,0,0,0,null,null,0,0,null,{"$f":"IF(BK305<>0,VLOOKUP(BK305,整理番号表!$T$5:$U$16,2,FALSE),)","v":0},null,{"$f":"IF(BM305<>0,VLOOKUP(BM305,整理番号表!$T$22:$U$30,2,FALSE),)","v":0},null,0,"",null,null,null,null,null,"",0,null,null,null,null,null,null,null,null,null,0,0,0,0,0,0,0,0,0,0,0,0,0,0,0,0,0,0,0,0,0,0,0,0,0,0,0,0,null,null,null,null,null,0,0,0,0,0,0,null,0,null,null,null,null,null,null,null,0,null,null,null,null,null,null,null,null,null,null,null,null,null,null,null,null,null,null,null,null,null,null,null,null,null,null,0,0,null,null,0,0,0,{"$f":"IF(OR(AND(1<=$FK305,$FK305<=3),$FK305=6),VLOOKUP($FK305,整理番号表!$B$32:$G$60,2,FALSE),)","v":0},{"$f":"IF(OR($FK305=4,$FK305=7),VLOOKUP($FK305,整理番号表!$B$32:$G$60,2,FALSE),)","v":0},{"$f":"IF($FK305=5,VLOOKUP($FK305,整理番号表!$B$32:$G$60,2,FALSE),)","v":0},{"$f":"IF(AND(8<=$FK305,$FK305<=13),VLOOKUP($FK305,整理番号表!$B$32:$G$60,2,FALSE),)","v":0},0,0,{"$f":"IF(AND(FE305<>1,$FP305=1,SUM($FQ305:FQ305)=0,$FF305=1,$FI305>=2),1,)","v":0},{"$f":"IF(AND(FE305<>1,$FP305=1,SUM($FQ305:FR305)=0,OR(AND($FF305=1,$FI305>0),$FI305>=4)),1,)","v":0},{"$f":"IF(AND(FE305<>1,$FP305=1,SUM($FQ305:FS305)=0,OR($FF305=1,$FI305>=2)),1,)","v":0},{"$f":"IF(AND(FE305<>1,$FP305=1,SUM($FQ305:FT305)=0,$FI305>0),1,)","v":0},0,0,{"$f":"IF(AND(FE305<>1,$FP305=2,SUM($FW305:FW305)=0,$FF305=1,$FJ305>=0.1),1,)","v":0},{"$f":"IF(AND(FE305<>1,$FP305=2,SUM($FW305:FX305)=0,OR(AND($FF305=1,$FI305>0),$FJ305>=0.2)),1,)","v":0},{"$f":"IF(AND(FE305<>1,$FP305=2,SUM($FW305:FY305)=0,OR($FF305=1,$FJ305>=0.1)),1,)","v":0},{"$f":"IF(AND(FE305<>1,$FP305=2,SUM($FW305:FZ305)=0,$FI305>0),1,)","v":0},0,{"$f":"IF(AND(FE305<>1,$FP305=3,SUM($GB305:GB305)=0,AND($FF305=1,$FJ305>=0.05)),1,)","v":0},{"$f":"IF(AND(FE305<>1,$FP305=3,SUM($GB305:GC305)=0,OR(AND($FF305=1,$FI305>0),$FJ305>=0.1)),1,)","v":0},{"$f":"IF(AND(FE305<>1,$FP305=3,SUM($GB305:GD305)=0,OR($FF305=1,$FJ305>=0.05)),1,)","v":0},{"$f":"IF(AND(FE305<>1,$FP305=3,SUM($GB305:GE305)=0,$FI305>0),1,)","v":0},0,null,0,0,0,0,0,0,0,0,0,0,0,0,0,0,0,0,0,0,0,0,0,0,0,0,0,0,0,0,0,0,0,0,0,0,0,0,0,0,0,0,0,0,0,0,0,0,0,0,0,0,0,0,0,0,0,0,0,0,0,0,0,0,0,0,0,0,0,0,0,0,0,0,0,0,0,0,0,0,0,"","","","","","","","","","","","","","","","○",0,0,0,0,0,0,0,"○",0,0,0,"○","○",null,0,0]
[0,0,0,0,0,0,0,0,0,0,294,null,null,null,null,{"$f":"IF(O306<>\"\",VLOOKUP(O306,整理番号表!$Z$17:$AA$20,2,FALSE),)","v":0},0,null,null,null,null,null,{"$f":"IF(V306<>0,VLOOKUP(V306,整理番号表!$B$6:$L$13,2,FALSE),)","v":0},0,{"$f":"IF(X306<>0,VLOOKUP(X306,整理番号表!$B$16:$C$18,2,FALSE),)","v":0},null,{"$f":"IF(Z306<>0,VLOOKUP(Z306,整理番号表!$B$22:$C$29,2,FALSE),)","v":0},null,null,{"$f":"IF(AC306<>0,VLOOKUP(AC306,整理番号表!$B$32:$G$60,2,FALSE),)","v":0},null,{"$f":"IF(AE306<>0,VLOOKUP(AE306,整理番号表!$P$5:$R$39,2,FALSE),)","v":0},null,0,null,null,{"$f":"IF(AJ306<>\"\",VLOOKUP(AJ306,整理番号表!$Z$6:$AA$14,2,FALSE),\"\")","v":""},0,null,null,null,null,null,{"$f":"IF(AQ306<>0,VLOOKUP(AQ306,整理番号表!$P$43:$Q$49,2,FALSE),)","v":0},null,null,null,null,0,0,null,0,null,null,null,0,0,0,null,null,0,0,null,{"$f":"IF(BK306<>0,VLOOKUP(BK306,整理番号表!$T$5:$U$16,2,FALSE),)","v":0},null,{"$f":"IF(BM306<>0,VLOOKUP(BM306,整理番号表!$T$22:$U$30,2,FALSE),)","v":0},null,0,"",null,null,null,null,null,"",0,null,null,null,null,null,null,null,null,null,0,0,0,0,0,0,0,0,0,0,0,0,0,0,0,0,0,0,0,0,0,0,0,0,0,0,0,0,null,null,null,null,null,0,0,0,0,0,0,null,0,null,null,null,null,null,null,null,0,null,null,null,null,null,null,null,null,null,null,null,null,null,null,null,null,null,null,null,null,null,null,null,null,null,null,0,0,null,null,0,0,0,{"$f":"IF(OR(AND(1<=$FK306,$FK306<=3),$FK306=6),VLOOKUP($FK306,整理番号表!$B$32:$G$60,2,FALSE),)","v":0},{"$f":"IF(OR($FK306=4,$FK306=7),VLOOKUP($FK306,整理番号表!$B$32:$G$60,2,FALSE),)","v":0},{"$f":"IF($FK306=5,VLOOKUP($FK306,整理番号表!$B$32:$G$60,2,FALSE),)","v":0},{"$f":"IF(AND(8<=$FK306,$FK306<=13),VLOOKUP($FK306,整理番号表!$B$32:$G$60,2,FALSE),)","v":0},0,0,{"$f":"IF(AND(FE306<>1,$FP306=1,SUM($FQ306:FQ306)=0,$FF306=1,$FI306>=2),1,)","v":0},{"$f":"IF(AND(FE306<>1,$FP306=1,SUM($FQ306:FR306)=0,OR(AND($FF306=1,$FI306>0),$FI306>=4)),1,)","v":0},{"$f":"IF(AND(FE306<>1,$FP306=1,SUM($FQ306:FS306)=0,OR($FF306=1,$FI306>=2)),1,)","v":0},{"$f":"IF(AND(FE306<>1,$FP306=1,SUM($FQ306:FT306)=0,$FI306>0),1,)","v":0},0,0,{"$f":"IF(AND(FE306<>1,$FP306=2,SUM($FW306:FW306)=0,$FF306=1,$FJ306>=0.1),1,)","v":0},{"$f":"IF(AND(FE306<>1,$FP306=2,SUM($FW306:FX306)=0,OR(AND($FF306=1,$FI306>0),$FJ306>=0.2)),1,)","v":0},{"$f":"IF(AND(FE306<>1,$FP306=2,SUM($FW306:FY306)=0,OR($FF306=1,$FJ306>=0.1)),1,)","v":0},{"$f":"IF(AND(FE306<>1,$FP306=2,SUM($FW306:FZ306)=0,$FI306>0),1,)","v":0},0,{"$f":"IF(AND(FE306<>1,$FP306=3,SUM($GB306:GB306)=0,AND($FF306=1,$FJ306>=0.05)),1,)","v":0},{"$f":"IF(AND(FE306<>1,$FP306=3,SUM($GB306:GC306)=0,OR(AND($FF306=1,$FI306>0),$FJ306>=0.1)),1,)","v":0},{"$f":"IF(AND(FE306<>1,$FP306=3,SUM($GB306:GD306)=0,OR($FF306=1,$FJ306>=0.05)),1,)","v":0},{"$f":"IF(AND(FE306<>1,$FP306=3,SUM($GB306:GE306)=0,$FI306>0),1,)","v":0},0,null,0,0,0,0,0,0,0,0,0,0,0,0,0,0,0,0,0,0,0,0,0,0,0,0,0,0,0,0,0,0,0,0,0,0,0,0,0,0,0,0,0,0,0,0,0,0,0,0,0,0,0,0,0,0,0,0,0,0,0,0,0,0,0,0,0,0,0,0,0,0,0,0,0,0,0,0,0,0,0,"","","","","","","","","","","","","","","","○",0,0,0,0,0,0,0,"○",0,0,0,"○","○",null,0,0]
[0,0,0,0,0,0,0,0,0,0,296,null,null,null,null,{"$f":"IF(O308<>\"\",VLOOKUP(O308,整理番号表!$Z$17:$AA$20,2,FALSE),)","v":0},0,null,null,null,null,null,{"$f":"IF(V308<>0,VLOOKUP(V308,整理番号表!$B$6:$L$13,2,FALSE),)","v":0},0,{"$f":"IF(X308<>0,VLOOKUP(X308,整理番号表!$B$16:$C$18,2,FALSE),)","v":0},null,{"$f":"IF(Z308<>0,VLOOKUP(Z308,整理番号表!$B$22:$C$29,2,FALSE),)","v":0},null,null,{"$f":"IF(AC308<>0,VLOOKUP(AC308,整理番号表!$B$32:$G$60,2,FALSE),)","v":0},null,{"$f":"IF(AE308<>0,VLOOKUP(AE308,整理番号表!$P$5:$R$39,2,FALSE),)","v":0},null,0,null,null,{"$f":"IF(AJ308<>\"\",VLOOKUP(AJ308,整理番号表!$Z$6:$AA$14,2,FALSE),\"\")","v":""},0,null,null,null,null,null,{"$f":"IF(AQ308<>0,VLOOKUP(AQ308,整理番号表!$P$43:$Q$49,2,FALSE),)","v":0},null,null,null,null,0,0,null,0,null,null,null,0,0,0,null,null,0,0,null,{"$f":"IF(BK308<>0,VLOOKUP(BK308,整理番号表!$T$5:$U$16,2,FALSE),)","v":0},null,{"$f":"IF(BM308<>0,VLOOKUP(BM308,整理番号表!$T$22:$U$30,2,FALSE),)","v":0},null,0,"",null,null,null,null,null,"",0,null,null,null,null,null,null,null,null,null,0,0,0,0,0,0,0,0,0,0,0,0,0,0,0,0,0,0,0,0,0,0,0,0,0,0,0,0,null,null,null,null,null,0,0,0,0,0,0,null,0,null,null,null,null,null,null,null,0,null,null,null,null,null,null,null,null,null,null,null,null,null,null,null,null,null,null,null,null,null,null,null,null,null,null,0,0,null,null,0,0,0,{"$f":"IF(OR(AND(1<=$FK308,$FK308<=3),$FK308=6),VLOOKUP($FK308,整理番号表!$B$32:$G$60,2,FALSE),)","v":0},{"$f":"IF(OR($FK308=4,$FK308=7),VLOOKUP($FK308,整理番号表!$B$32:$G$60,2,FALSE),)","v":0},{"$f":"IF($FK308=5,VLOOKUP($FK308,整理番号表!$B$32:$G$60,2,FALSE),)","v":0},{"$f":"IF(AND(8<=$FK308,$FK308<=13),VLOOKUP($FK308,整理番号表!$B$32:$G$60,2,FALSE),)","v":0},0,0,{"$f":"IF(AND(FE308<>1,$FP308=1,SUM($FQ308:FQ308)=0,$FF308=1,$FI308>=2),1,)","v":0},{"$f":"IF(AND(FE308<>1,$FP308=1,SUM($FQ308:FR308)=0,OR(AND($FF308=1,$FI308>0),$FI308>=4)),1,)","v":0},{"$f":"IF(AND(FE308<>1,$FP308=1,SUM($FQ308:FS308)=0,OR($FF308=1,$FI308>=2)),1,)","v":0},{"$f":"IF(AND(FE308<>1,$FP308=1,SUM($FQ308:FT308)=0,$FI308>0),1,)","v":0},0,0,{"$f":"IF(AND(FE308<>1,$FP308=2,SUM($FW308:FW308)=0,$FF308=1,$FJ308>=0.1),1,)","v":0},{"$f":"IF(AND(FE308<>1,$FP308=2,SUM($FW308:FX308)=0,OR(AND($FF308=1,$FI308>0),$FJ308>=0.2)),1,)","v":0},{"$f":"IF(AND(FE308<>1,$FP308=2,SUM($FW308:FY308)=0,OR($FF308=1,$FJ308>=0.1)),1,)","v":0},{"$f":"IF(AND(FE308<>1,$FP308=2,SUM($FW308:FZ308)=0,$FI308>0),1,)","v":0},0,{"$f":"IF(AND(FE308<>1,$FP308=3,SUM($GB308:GB308)=0,AND($FF308=1,$FJ308>=0.05)),1,)","v":0},{"$f":"IF(AND(FE308<>1,$FP308=3,SUM($GB308:GC308)=0,OR(AND($FF308=1,$FI308>0),$FJ308>=0.1)),1,)","v":0},{"$f":"IF(AND(FE308<>1,$FP308=3,SUM($GB308:GD308)=0,OR($FF308=1,$FJ308>=0.05)),1,)","v":0},{"$f":"IF(AND(FE308<>1,$FP308=3,SUM($GB308:GE308)=0,$FI308>0),1,)","v":0},0,null,0,0,0,0,0,0,0,0,0,0,0,0,0,0,0,0,0,0,0,0,0,0,0,0,0,0,0,0,0,0,0,0,0,0,0,0,0,0,0,0,0,0,0,0,0,0,0,0,0,0,0,0,0,0,0,0,0,0,0,0,0,0,0,0,0,0,0,0,0,0,0,0,0,0,0,0,0,0,0,"","","","","","","","","","","","","","","","○",0,0,0,0,0,0,0,"○",0,0,0,"○","○",null,0,0]
[0,0,0,0,0,0,0,0,0,0,297,null,null,null,null,{"$f":"IF(O309<>\"\",VLOOKUP(O309,整理番号表!$Z$17:$AA$20,2,FALSE),)","v":0},0,null,null,null,null,null,{"$f":"IF(V309<>0,VLOOKUP(V309,整理番号表!$B$6:$L$13,2,FALSE),)","v":0},0,{"$f":"IF(X309<>0,VLOOKUP(X309,整理番号表!$B$16:$C$18,2,FALSE),)","v":0},null,{"$f":"IF(Z309<>0,VLOOKUP(Z309,整理番号表!$B$22:$C$29,2,FALSE),)","v":0},null,null,{"$f":"IF(AC309<>0,VLOOKUP(AC309,整理番号表!$B$32:$G$60,2,FALSE),)","v":0},null,{"$f":"IF(AE309<>0,VLOOKUP(AE309,整理番号表!$P$5:$R$39,2,FALSE),)","v":0},null,0,null,null,{"$f":"IF(AJ309<>\"\",VLOOKUP(AJ309,整理番号表!$Z$6:$AA$14,2,FALSE),\"\")","v":""},0,null,null,null,null,null,{"$f":"IF(AQ309<>0,VLOOKUP(AQ309,整理番号表!$P$43:$Q$49,2,FALSE),)","v":0},null,null,null,null,0,0,null,0,null,null,null,0,0,0,null,null,0,0,null,{"$f":"IF(BK309<>0,VLOOKUP(BK309,整理番号表!$T$5:$U$16,2,FALSE),)","v":0},null,{"$f":"IF(BM309<>0,VLOOKUP(BM309,整理番号表!$T$22:$U$30,2,FALSE),)","v":0},null,0,"",null,null,null,null,null,"",0,null,null,null,null,null,null,null,null,null,0,0,0,0,0,0,0,0,0,0,0,0,0,0,0,0,0,0,0,0,0,0,0,0,0,0,0,0,null,null,null,null,null,0,0,0,0,0,0,null,0,null,null,null,null,null,null,null,0,null,null,null,null,null,null,null,null,null,null,null,null,null,null,null,null,null,null,null,null,null,null,null,null,null,null,0,0,null,null,0,0,0,{"$f":"IF(OR(AND(1<=$FK309,$FK309<=3),$FK309=6),VLOOKUP($FK309,整理番号表!$B$32:$G$60,2,FALSE),)","v":0},{"$f":"IF(OR($FK309=4,$FK309=7),VLOOKUP($FK309,整理番号表!$B$32:$G$60,2,FALSE),)","v":0},{"$f":"IF($FK309=5,VLOOKUP($FK309,整理番号表!$B$32:$G$60,2,FALSE),)","v":0},{"$f":"IF(AND(8<=$FK309,$FK309<=13),VLOOKUP($FK309,整理番号表!$B$32:$G$60,2,FALSE),)","v":0},0,0,{"$f":"IF(AND(FE309<>1,$FP309=1,SUM($FQ309:FQ309)=0,$FF309=1,$FI309>=2),1,)","v":0},{"$f":"IF(AND(FE309<>1,$FP309=1,SUM($FQ309:FR309)=0,OR(AND($FF309=1,$FI309>0),$FI309>=4)),1,)","v":0},{"$f":"IF(AND(FE309<>1,$FP309=1,SUM($FQ309:FS309)=0,OR($FF309=1,$FI309>=2)),1,)","v":0},{"$f":"IF(AND(FE309<>1,$FP309=1,SUM($FQ309:FT309)=0,$FI309>0),1,)","v":0},0,0,{"$f":"IF(AND(FE309<>1,$FP309=2,SUM($FW309:FW309)=0,$FF309=1,$FJ309>=0.1),1,)","v":0},{"$f":"IF(AND(FE309<>1,$FP309=2,SUM($FW309:FX309)=0,OR(AND($FF309=1,$FI309>0),$FJ309>=0.2)),1,)","v":0},{"$f":"IF(AND(FE309<>1,$FP309=2,SUM($FW309:FY309)=0,OR($FF309=1,$FJ309>=0.1)),1,)","v":0},{"$f":"IF(AND(FE309<>1,$FP309=2,SUM($FW309:FZ309)=0,$FI309>0),1,)","v":0},0,{"$f":"IF(AND(FE309<>1,$FP309=3,SUM($GB309:GB309)=0,AND($FF309=1,$FJ309>=0.05)),1,)","v":0},{"$f":"IF(AND(FE309<>1,$FP309=3,SUM($GB309:GC309)=0,OR(AND($FF309=1,$FI309>0),$FJ309>=0.1)),1,)","v":0},{"$f":"IF(AND(FE309<>1,$FP309=3,SUM($GB309:GD309)=0,OR($FF309=1,$FJ309>=0.05)),1,)","v":0},{"$f":"IF(AND(FE309<>1,$FP309=3,SUM($GB309:GE309)=0,$FI309>0),1,)","v":0},0,null,0,0,0,0,0,0,0,0,0,0,0,0,0,0,0,0,0,0,0,0,0,0,0,0,0,0,0,0,0,0,0,0,0,0,0,0,0,0,0,0,0,0,0,0,0,0,0,0,0,0,0,0,0,0,0,0,0,0,0,0,0,0,0,0,0,0,0,0,0,0,0,0,0,0,0,0,0,0,0,"","","","","","","","","","","","","","","","○",0,0,0,0,0,0,0,"○",0,0,0,"○","○",null,0,0]
[0,0,0,0,0,0,0,0,0,0,299,null,null,null,null,{"$f":"IF(O311<>\"\",VLOOKUP(O311,整理番号表!$Z$17:$AA$20,2,FALSE),)","v":0},0,null,null,null,null,null,{"$f":"IF(V311<>0,VLOOKUP(V311,整理番号表!$B$6:$L$13,2,FALSE),)","v":0},0,{"$f":"IF(X311<>0,VLOOKUP(X311,整理番号表!$B$16:$C$18,2,FALSE),)","v":0},null,{"$f":"IF(Z311<>0,VLOOKUP(Z311,整理番号表!$B$22:$C$29,2,FALSE),)","v":0},null,null,{"$f":"IF(AC311<>0,VLOOKUP(AC311,整理番号表!$B$32:$G$60,2,FALSE),)","v":0},null,{"$f":"IF(AE311<>0,VLOOKUP(AE311,整理番号表!$P$5:$R$39,2,FALSE),)","v":0},null,0,null,null,{"$f":"IF(AJ311<>\"\",VLOOKUP(AJ311,整理番号表!$Z$6:$AA$14,2,FALSE),\"\")","v":""},0,null,null,null,null,null,{"$f":"IF(AQ311<>0,VLOOKUP(AQ311,整理番号表!$P$43:$Q$49,2,FALSE),)","v":0},null,null,null,null,0,0,null,0,null,null,null,0,0,0,null,null,0,0,null,{"$f":"IF(BK311<>0,VLOOKUP(BK311,整理番号表!$T$5:$U$16,2,FALSE),)","v":0},null,{"$f":"IF(BM311<>0,VLOOKUP(BM311,整理番号表!$T$22:$U$30,2,FALSE),)","v":0},null,0,"",null,null,null,null,null,"",0,null,null,null,null,null,null,null,null,null,0,0,0,0,0,0,0,0,0,0,0,0,0,0,0,0,0,0,0,0,0,0,0,0,0,0,0,0,null,null,null,null,null,0,0,0,0,0,0,null,0,null,null,null,null,null,null,null,0,null,null,null,null,null,null,null,null,null,null,null,null,null,null,null,null,null,null,null,null,null,null,null,null,null,null,0,0,null,null,0,0,0,{"$f":"IF(OR(AND(1<=$FK311,$FK311<=3),$FK311=6),VLOOKUP($FK311,整理番号表!$B$32:$G$60,2,FALSE),)","v":0},{"$f":"IF(OR($FK311=4,$FK311=7),VLOOKUP($FK311,整理番号表!$B$32:$G$60,2,FALSE),)","v":0},{"$f":"IF($FK311=5,VLOOKUP($FK311,整理番号表!$B$32:$G$60,2,FALSE),)","v":0},{"$f":"IF(AND(8<=$FK311,$FK311<=13),VLOOKUP($FK311,整理番号表!$B$32:$G$60,2,FALSE),)","v":0},0,0,{"$f":"IF(AND(FE311<>1,$FP311=1,SUM($FQ311:FQ311)=0,$FF311=1,$FI311>=2),1,)","v":0},{"$f":"IF(AND(FE311<>1,$FP311=1,SUM($FQ311:FR311)=0,OR(AND($FF311=1,$FI311>0),$FI311>=4)),1,)","v":0},{"$f":"IF(AND(FE311<>1,$FP311=1,SUM($FQ311:FS311)=0,OR($FF311=1,$FI311>=2)),1,)","v":0},{"$f":"IF(AND(FE311<>1,$FP311=1,SUM($FQ311:FT311)=0,$FI311>0),1,)","v":0},0,0,{"$f":"IF(AND(FE311<>1,$FP311=2,SUM($FW311:FW311)=0,$FF311=1,$FJ311>=0.1),1,)","v":0},{"$f":"IF(AND(FE311<>1,$FP311=2,SUM($FW311:FX311)=0,OR(AND($FF311=1,$FI311>0),$FJ311>=0.2)),1,)","v":0},{"$f":"IF(AND(FE311<>1,$FP311=2,SUM($FW311:FY311)=0,OR($FF311=1,$FJ311>=0.1)),1,)","v":0},{"$f":"IF(AND(FE311<>1,$FP311=2,SUM($FW311:FZ311)=0,$FI311>0),1,)","v":0},0,{"$f":"IF(AND(FE311<>1,$FP311=3,SUM($GB311:GB311)=0,AND($FF311=1,$FJ311>=0.05)),1,)","v":0},{"$f":"IF(AND(FE311<>1,$FP311=3,SUM($GB311:GC311)=0,OR(AND($FF311=1,$FI311>0),$FJ311>=0.1)),1,)","v":0},{"$f":"IF(AND(FE311<>1,$FP311=3,SUM($GB311:GD311)=0,OR($FF311=1,$FJ311>=0.05)),1,)","v":0},{"$f":"IF(AND(FE311<>1,$FP311=3,SUM($GB311:GE311)=0,$FI311>0),1,)","v":0},0,null,0,0,0,0,0,0,0,0,0,0,0,0,0,0,0,0,0,0,0,0,0,0,0,0,0,0,0,0,0,0,0,0,0,0,0,0,0,0,0,0,0,0,0,0,0,0,0,0,0,0,0,0,0,0,0,0,0,0,0,0,0,0,0,0,0,0,0,0,0,0,0,0,0,0,0,0,0,0,0,"","","","","","","","","","","","","","","","○",0,0,0,0,0,0,0,"○",0,0,0,"○","○",null,0,0]
[0,0,0,0,0,0,0,0,0,0,300,null,null,null,null,{"$f":"IF(O312<>\"\",VLOOKUP(O312,整理番号表!$Z$17:$AA$20,2,FALSE),)","v":0},0,null,null,null,null,null,{"$f":"IF(V312<>0,VLOOKUP(V312,整理番号表!$B$6:$L$13,2,FALSE),)","v":0},0,{"$f":"IF(X312<>0,VLOOKUP(X312,整理番号表!$B$16:$C$18,2,FALSE),)","v":0},null,{"$f":"IF(Z312<>0,VLOOKUP(Z312,整理番号表!$B$22:$C$29,2,FALSE),)","v":0},null,null,{"$f":"IF(AC312<>0,VLOOKUP(AC312,整理番号表!$B$32:$G$60,2,FALSE),)","v":0},null,{"$f":"IF(AE312<>0,VLOOKUP(AE312,整理番号表!$P$5:$R$39,2,FALSE),)","v":0},null,0,null,null,{"$f":"IF(AJ312<>\"\",VLOOKUP(AJ312,整理番号表!$Z$6:$AA$14,2,FALSE),\"\")","v":""},0,null,null,null,null,null,{"$f":"IF(AQ312<>0,VLOOKUP(AQ312,整理番号表!$P$43:$Q$49,2,FALSE),)","v":0},null,null,null,null,0,0,null,0,null,null,null,0,0,0,null,null,0,0,null,{"$f":"IF(BK312<>0,VLOOKUP(BK312,整理番号表!$T$5:$U$16,2,FALSE),)","v":0},null,{"$f":"IF(BM312<>0,VLOOKUP(BM312,整理番号表!$T$22:$U$30,2,FALSE),)","v":0},null,0,"",null,null,null,null,null,"",0,null,null,null,null,null,null,null,null,null,0,0,0,0,0,0,0,0,0,0,0,0,0,0,0,0,0,0,0,0,0,0,0,0,0,0,0,0,null,null,null,null,null,0,0,0,0,0,0,null,0,null,null,null,null,null,null,null,0,null,null,null,null,null,null,null,null,null,null,null,null,null,null,null,null,null,null,null,null,null,null,null,null,null,null,0,0,null,null,0,0,0,{"$f":"IF(OR(AND(1<=$FK312,$FK312<=3),$FK312=6),VLOOKUP($FK312,整理番号表!$B$32:$G$60,2,FALSE),)","v":0},{"$f":"IF(OR($FK312=4,$FK312=7),VLOOKUP($FK312,整理番号表!$B$32:$G$60,2,FALSE),)","v":0},{"$f":"IF($FK312=5,VLOOKUP($FK312,整理番号表!$B$32:$G$60,2,FALSE),)","v":0},{"$f":"IF(AND(8<=$FK312,$FK312<=13),VLOOKUP($FK312,整理番号表!$B$32:$G$60,2,FALSE),)","v":0},0,0,{"$f":"IF(AND(FE312<>1,$FP312=1,SUM($FQ312:FQ312)=0,$FF312=1,$FI312>=2),1,)","v":0},{"$f":"IF(AND(FE312<>1,$FP312=1,SUM($FQ312:FR312)=0,OR(AND($FF312=1,$FI312>0),$FI312>=4)),1,)","v":0},{"$f":"IF(AND(FE312<>1,$FP312=1,SUM($FQ312:FS312)=0,OR($FF312=1,$FI312>=2)),1,)","v":0},{"$f":"IF(AND(FE312<>1,$FP312=1,SUM($FQ312:FT312)=0,$FI312>0),1,)","v":0},0,0,{"$f":"IF(AND(FE312<>1,$FP312=2,SUM($FW312:FW312)=0,$FF312=1,$FJ312>=0.1),1,)","v":0},{"$f":"IF(AND(FE312<>1,$FP312=2,SUM($FW312:FX312)=0,OR(AND($FF312=1,$FI312>0),$FJ312>=0.2)),1,)","v":0},{"$f":"IF(AND(FE312<>1,$FP312=2,SUM($FW312:FY312)=0,OR($FF312=1,$FJ312>=0.1)),1,)","v":0},{"$f":"IF(AND(FE312<>1,$FP312=2,SUM($FW312:FZ312)=0,$FI312>0),1,)","v":0},0,{"$f":"IF(AND(FE312<>1,$FP312=3,SUM($GB312:GB312)=0,AND($FF312=1,$FJ312>=0.05)),1,)","v":0},{"$f":"IF(AND(FE312<>1,$FP312=3,SUM($GB312:GC312)=0,OR(AND($FF312=1,$FI312>0),$FJ312>=0.1)),1,)","v":0},{"$f":"IF(AND(FE312<>1,$FP312=3,SUM($GB312:GD312)=0,OR($FF312=1,$FJ312>=0.05)),1,)","v":0},{"$f":"IF(AND(FE312<>1,$FP312=3,SUM($GB312:GE312)=0,$FI312>0),1,)","v":0},0,null,0,0,0,0,0,0,0,0,0,0,0,0,0,0,0,0,0,0,0,0,0,0,0,0,0,0,0,0,0,0,0,0,0,0,0,0,0,0,0,0,0,0,0,0,0,0,0,0,0,0,0,0,0,0,0,0,0,0,0,0,0,0,0,0,0,0,0,0,0,0,0,0,0,0,0,0,0,0,0,"","","","","","","","","","","","","","","","○",0,0,0,0,0,0,0,"○",0,0,0,"○","○",null,0,0]
[0,0,0,0,0,0,0,0,0,0,302,null,null,null,null,{"$f":"IF(O314<>\"\",VLOOKUP(O314,整理番号表!$Z$17:$AA$20,2,FALSE),)","v":0},0,null,null,null,null,null,{"$f":"IF(V314<>0,VLOOKUP(V314,整理番号表!$B$6:$L$13,2,FALSE),)","v":0},0,{"$f":"IF(X314<>0,VLOOKUP(X314,整理番号表!$B$16:$C$18,2,FALSE),)","v":0},null,{"$f":"IF(Z314<>0,VLOOKUP(Z314,整理番号表!$B$22:$C$29,2,FALSE),)","v":0},null,null,{"$f":"IF(AC314<>0,VLOOKUP(AC314,整理番号表!$B$32:$G$60,2,FALSE),)","v":0},null,{"$f":"IF(AE314<>0,VLOOKUP(AE314,整理番号表!$P$5:$R$39,2,FALSE),)","v":0},null,0,null,null,{"$f":"IF(AJ314<>\"\",VLOOKUP(AJ314,整理番号表!$Z$6:$AA$14,2,FALSE),\"\")","v":""},0,null,null,null,null,null,{"$f":"IF(AQ314<>0,VLOOKUP(AQ314,整理番号表!$P$43:$Q$49,2,FALSE),)","v":0},null,null,null,null,0,0,null,0,null,null,null,0,0,0,null,null,0,0,null,{"$f":"IF(BK314<>0,VLOOKUP(BK314,整理番号表!$T$5:$U$16,2,FALSE),)","v":0},null,{"$f":"IF(BM314<>0,VLOOKUP(BM314,整理番号表!$T$22:$U$30,2,FALSE),)","v":0},null,0,"",null,null,null,null,null,"",0,null,null,null,null,null,null,null,null,null,0,0,0,0,0,0,0,0,0,0,0,0,0,0,0,0,0,0,0,0,0,0,0,0,0,0,0,0,null,null,null,null,null,0,0,0,0,0,0,null,0,null,null,null,null,null,null,null,0,null,null,null,null,null,null,null,null,null,null,null,null,null,null,null,null,null,null,null,null,null,null,null,null,null,null,0,0,null,null,0,0,0,{"$f":"IF(OR(AND(1<=$FK314,$FK314<=3),$FK314=6),VLOOKUP($FK314,整理番号表!$B$32:$G$60,2,FALSE),)","v":0},{"$f":"IF(OR($FK314=4,$FK314=7),VLOOKUP($FK314,整理番号表!$B$32:$G$60,2,FALSE),)","v":0},{"$f":"IF($FK314=5,VLOOKUP($FK314,整理番号表!$B$32:$G$60,2,FALSE),)","v":0},{"$f":"IF(AND(8<=$FK314,$FK314<=13),VLOOKUP($FK314,整理番号表!$B$32:$G$60,2,FALSE),)","v":0},0,0,{"$f":"IF(AND(FE314<>1,$FP314=1,SUM($FQ314:FQ314)=0,$FF314=1,$FI314>=2),1,)","v":0},{"$f":"IF(AND(FE314<>1,$FP314=1,SUM($FQ314:FR314)=0,OR(AND($FF314=1,$FI314>0),$FI314>=4)),1,)","v":0},{"$f":"IF(AND(FE314<>1,$FP314=1,SUM($FQ314:FS314)=0,OR($FF314=1,$FI314>=2)),1,)","v":0},{"$f":"IF(AND(FE314<>1,$FP314=1,SUM($FQ314:FT314)=0,$FI314>0),1,)","v":0},0,0,{"$f":"IF(AND(FE314<>1,$FP314=2,SUM($FW314:FW314)=0,$FF314=1,$FJ314>=0.1),1,)","v":0},{"$f":"IF(AND(FE314<>1,$FP314=2,SUM($FW314:FX314)=0,OR(AND($FF314=1,$FI314>0),$FJ314>=0.2)),1,)","v":0},{"$f":"IF(AND(FE314<>1,$FP314=2,SUM($FW314:FY314)=0,OR($FF314=1,$FJ314>=0.1)),1,)","v":0},{"$f":"IF(AND(FE314<>1,$FP314=2,SUM($FW314:FZ314)=0,$FI314>0),1,)","v":0},0,{"$f":"IF(AND(FE314<>1,$FP314=3,SUM($GB314:GB314)=0,AND($FF314=1,$FJ314>=0.05)),1,)","v":0},{"$f":"IF(AND(FE314<>1,$FP314=3,SUM($GB314:GC314)=0,OR(AND($FF314=1,$FI314>0),$FJ314>=0.1)),1,)","v":0},{"$f":"IF(AND(FE314<>1,$FP314=3,SUM($GB314:GD314)=0,OR($FF314=1,$FJ314>=0.05)),1,)","v":0},{"$f":"IF(AND(FE314<>1,$FP314=3,SUM($GB314:GE314)=0,$FI314>0),1,)","v":0},0,null,0,0,0,0,0,0,0,0,0,0,0,0,0,0,0,0,0,0,0,0,0,0,0,0,0,0,0,0,0,0,0,0,0,0,0,0,0,0,0,0,0,0,0,0,0,0,0,0,0,0,0,0,0,0,0,0,0,0,0,0,0,0,0,0,0,0,0,0,0,0,0,0,0,0,0,0,0,0,0,"","","","","","","","","","","","","","","","○",0,0,0,0,0,0,0,"○",0,0,0,"○","○",null,0,0]
[0,0,0,0,0,0,0,0,0,0,303,null,null,null,null,{"$f":"IF(O315<>\"\",VLOOKUP(O315,整理番号表!$Z$17:$AA$20,2,FALSE),)","v":0},0,null,null,null,null,null,{"$f":"IF(V315<>0,VLOOKUP(V315,整理番号表!$B$6:$L$13,2,FALSE),)","v":0},0,{"$f":"IF(X315<>0,VLOOKUP(X315,整理番号表!$B$16:$C$18,2,FALSE),)","v":0},null,{"$f":"IF(Z315<>0,VLOOKUP(Z315,整理番号表!$B$22:$C$29,2,FALSE),)","v":0},null,null,{"$f":"IF(AC315<>0,VLOOKUP(AC315,整理番号表!$B$32:$G$60,2,FALSE),)","v":0},null,{"$f":"IF(AE315<>0,VLOOKUP(AE315,整理番号表!$P$5:$R$39,2,FALSE),)","v":0},null,0,null,null,{"$f":"IF(AJ315<>\"\",VLOOKUP(AJ315,整理番号表!$Z$6:$AA$14,2,FALSE),\"\")","v":""},0,null,null,null,null,null,{"$f":"IF(AQ315<>0,VLOOKUP(AQ315,整理番号表!$P$43:$Q$49,2,FALSE),)","v":0},null,null,null,null,0,0,null,0,null,null,null,0,0,0,null,null,0,0,null,{"$f":"IF(BK315<>0,VLOOKUP(BK315,整理番号表!$T$5:$U$16,2,FALSE),)","v":0},null,{"$f":"IF(BM315<>0,VLOOKUP(BM315,整理番号表!$T$22:$U$30,2,FALSE),)","v":0},null,0,"",null,null,null,null,null,"",0,null,null,null,null,null,null,null,null,null,0,0,0,0,0,0,0,0,0,0,0,0,0,0,0,0,0,0,0,0,0,0,0,0,0,0,0,0,null,null,null,null,null,0,0,0,0,0,0,null,0,null,null,null,null,null,null,null,0,null,null,null,null,null,null,null,null,null,null,null,null,null,null,null,null,null,null,null,null,null,null,null,null,null,null,0,0,null,null,0,0,0,{"$f":"IF(OR(AND(1<=$FK315,$FK315<=3),$FK315=6),VLOOKUP($FK315,整理番号表!$B$32:$G$60,2,FALSE),)","v":0},{"$f":"IF(OR($FK315=4,$FK315=7),VLOOKUP($FK315,整理番号表!$B$32:$G$60,2,FALSE),)","v":0},{"$f":"IF($FK315=5,VLOOKUP($FK315,整理番号表!$B$32:$G$60,2,FALSE),)","v":0},{"$f":"IF(AND(8<=$FK315,$FK315<=13),VLOOKUP($FK315,整理番号表!$B$32:$G$60,2,FALSE),)","v":0},0,0,{"$f":"IF(AND(FE315<>1,$FP315=1,SUM($FQ315:FQ315)=0,$FF315=1,$FI315>=2),1,)","v":0},{"$f":"IF(AND(FE315<>1,$FP315=1,SUM($FQ315:FR315)=0,OR(AND($FF315=1,$FI315>0),$FI315>=4)),1,)","v":0},{"$f":"IF(AND(FE315<>1,$FP315=1,SUM($FQ315:FS315)=0,OR($FF315=1,$FI315>=2)),1,)","v":0},{"$f":"IF(AND(FE315<>1,$FP315=1,SUM($FQ315:FT315)=0,$FI315>0),1,)","v":0},0,0,{"$f":"IF(AND(FE315<>1,$FP315=2,SUM($FW315:FW315)=0,$FF315=1,$FJ315>=0.1),1,)","v":0},{"$f":"IF(AND(FE315<>1,$FP315=2,SUM($FW315:FX315)=0,OR(AND($FF315=1,$FI315>0),$FJ315>=0.2)),1,)","v":0},{"$f":"IF(AND(FE315<>1,$FP315=2,SUM($FW315:FY315)=0,OR($FF315=1,$FJ315>=0.1)),1,)","v":0},{"$f":"IF(AND(FE315<>1,$FP315=2,SUM($FW315:FZ315)=0,$FI315>0),1,)","v":0},0,{"$f":"IF(AND(FE315<>1,$FP315=3,SUM($GB315:GB315)=0,AND($FF315=1,$FJ315>=0.05)),1,)","v":0},{"$f":"IF(AND(FE315<>1,$FP315=3,SUM($GB315:GC315)=0,OR(AND($FF315=1,$FI315>0),$FJ315>=0.1)),1,)","v":0},{"$f":"IF(AND(FE315<>1,$FP315=3,SUM($GB315:GD315)=0,OR($FF315=1,$FJ315>=0.05)),1,)","v":0},{"$f":"IF(AND(FE315<>1,$FP315=3,SUM($GB315:GE315)=0,$FI315>0),1,)","v":0},0,null,0,0,0,0,0,0,0,0,0,0,0,0,0,0,0,0,0,0,0,0,0,0,0,0,0,0,0,0,0,0,0,0,0,0,0,0,0,0,0,0,0,0,0,0,0,0,0,0,0,0,0,0,0,0,0,0,0,0,0,0,0,0,0,0,0,0,0,0,0,0,0,0,0,0,0,0,0,0,0,"","","","","","","","","","","","","","","","○",0,0,0,0,0,0,0,"○",0,0,0,"○","○",null,0,0]
[0,0,0,0,0,0,0,0,0,0,305,null,null,null,null,{"$f":"IF(O317<>\"\",VLOOKUP(O317,整理番号表!$Z$17:$AA$20,2,FALSE),)","v":0},0,null,null,null,null,null,{"$f":"IF(V317<>0,VLOOKUP(V317,整理番号表!$B$6:$L$13,2,FALSE),)","v":0},0,{"$f":"IF(X317<>0,VLOOKUP(X317,整理番号表!$B$16:$C$18,2,FALSE),)","v":0},null,{"$f":"IF(Z317<>0,VLOOKUP(Z317,整理番号表!$B$22:$C$29,2,FALSE),)","v":0},null,null,{"$f":"IF(AC317<>0,VLOOKUP(AC317,整理番号表!$B$32:$G$60,2,FALSE),)","v":0},null,{"$f":"IF(AE317<>0,VLOOKUP(AE317,整理番号表!$P$5:$R$39,2,FALSE),)","v":0},null,0,null,null,{"$f":"IF(AJ317<>\"\",VLOOKUP(AJ317,整理番号表!$Z$6:$AA$14,2,FALSE),\"\")","v":""},0,null,null,null,null,null,{"$f":"IF(AQ317<>0,VLOOKUP(AQ317,整理番号表!$P$43:$Q$49,2,FALSE),)","v":0},null,null,null,null,0,0,null,0,null,null,null,0,0,0,null,null,0,0,null,{"$f":"IF(BK317<>0,VLOOKUP(BK317,整理番号表!$T$5:$U$16,2,FALSE),)","v":0},null,{"$f":"IF(BM317<>0,VLOOKUP(BM317,整理番号表!$T$22:$U$30,2,FALSE),)","v":0},null,0,"",null,null,null,null,null,"",0,null,null,null,null,null,null,null,null,null,0,0,0,0,0,0,0,0,0,0,0,0,0,0,0,0,0,0,0,0,0,0,0,0,0,0,0,0,null,null,null,null,null,0,0,0,0,0,0,null,0,null,null,null,null,null,null,null,0,null,null,null,null,null,null,null,null,null,null,null,null,null,null,null,null,null,null,null,null,null,null,null,null,null,null,0,0,null,null,0,0,0,{"$f":"IF(OR(AND(1<=$FK317,$FK317<=3),$FK317=6),VLOOKUP($FK317,整理番号表!$B$32:$G$60,2,FALSE),)","v":0},{"$f":"IF(OR($FK317=4,$FK317=7),VLOOKUP($FK317,整理番号表!$B$32:$G$60,2,FALSE),)","v":0},{"$f":"IF($FK317=5,VLOOKUP($FK317,整理番号表!$B$32:$G$60,2,FALSE),)","v":0},{"$f":"IF(AND(8<=$FK317,$FK317<=13),VLOOKUP($FK317,整理番号表!$B$32:$G$60,2,FALSE),)","v":0},0,0,{"$f":"IF(AND(FE317<>1,$FP317=1,SUM($FQ317:FQ317)=0,$FF317=1,$FI317>=2),1,)","v":0},{"$f":"IF(AND(FE317<>1,$FP317=1,SUM($FQ317:FR317)=0,OR(AND($FF317=1,$FI317>0),$FI317>=4)),1,)","v":0},{"$f":"IF(AND(FE317<>1,$FP317=1,SUM($FQ317:FS317)=0,OR($FF317=1,$FI317>=2)),1,)","v":0},{"$f":"IF(AND(FE317<>1,$FP317=1,SUM($FQ317:FT317)=0,$FI317>0),1,)","v":0},0,0,{"$f":"IF(AND(FE317<>1,$FP317=2,SUM($FW317:FW317)=0,$FF317=1,$FJ317>=0.1),1,)","v":0},{"$f":"IF(AND(FE317<>1,$FP317=2,SUM($FW317:FX317)=0,OR(AND($FF317=1,$FI317>0),$FJ317>=0.2)),1,)","v":0},{"$f":"IF(AND(FE317<>1,$FP317=2,SUM($FW317:FY317)=0,OR($FF317=1,$FJ317>=0.1)),1,)","v":0},{"$f":"IF(AND(FE317<>1,$FP317=2,SUM($FW317:FZ317)=0,$FI317>0),1,)","v":0},0,{"$f":"IF(AND(FE317<>1,$FP317=3,SUM($GB317:GB317)=0,AND($FF317=1,$FJ317>=0.05)),1,)","v":0},{"$f":"IF(AND(FE317<>1,$FP317=3,SUM($GB317:GC317)=0,OR(AND($FF317=1,$FI317>0),$FJ317>=0.1)),1,)","v":0},{"$f":"IF(AND(FE317<>1,$FP317=3,SUM($GB317:GD317)=0,OR($FF317=1,$FJ317>=0.05)),1,)","v":0},{"$f":"IF(AND(FE317<>1,$FP317=3,SUM($GB317:GE317)=0,$FI317>0),1,)","v":0},0,null,0,0,0,0,0,0,0,0,0,0,0,0,0,0,0,0,0,0,0,0,0,0,0,0,0,0,0,0,0,0,0,0,0,0,0,0,0,0,0,0,0,0,0,0,0,0,0,0,0,0,0,0,0,0,0,0,0,0,0,0,0,0,0,0,0,0,0,0,0,0,0,0,0,0,0,0,0,0,0,"","","","","","","","","","","","","","","","○",0,0,0,0,0,0,0,"○",0,0,0,"○","○",null,0,0]
[0,0,0,0,0,0,0,0,0,0,306,null,null,null,null,{"$f":"IF(O318<>\"\",VLOOKUP(O318,整理番号表!$Z$17:$AA$20,2,FALSE),)","v":0},0,null,null,null,null,null,{"$f":"IF(V318<>0,VLOOKUP(V318,整理番号表!$B$6:$L$13,2,FALSE),)","v":0},0,{"$f":"IF(X318<>0,VLOOKUP(X318,整理番号表!$B$16:$C$18,2,FALSE),)","v":0},null,{"$f":"IF(Z318<>0,VLOOKUP(Z318,整理番号表!$B$22:$C$29,2,FALSE),)","v":0},null,null,{"$f":"IF(AC318<>0,VLOOKUP(AC318,整理番号表!$B$32:$G$60,2,FALSE),)","v":0},null,{"$f":"IF(AE318<>0,VLOOKUP(AE318,整理番号表!$P$5:$R$39,2,FALSE),)","v":0},null,0,null,null,{"$f":"IF(AJ318<>\"\",VLOOKUP(AJ318,整理番号表!$Z$6:$AA$14,2,FALSE),\"\")","v":""},0,null,null,null,null,null,{"$f":"IF(AQ318<>0,VLOOKUP(AQ318,整理番号表!$P$43:$Q$49,2,FALSE),)","v":0},null,null,null,null,0,0,null,0,null,null,null,0,0,0,null,null,0,0,null,{"$f":"IF(BK318<>0,VLOOKUP(BK318,整理番号表!$T$5:$U$16,2,FALSE),)","v":0},null,{"$f":"IF(BM318<>0,VLOOKUP(BM318,整理番号表!$T$22:$U$30,2,FALSE),)","v":0},null,0,"",null,null,null,null,null,"",0,null,null,null,null,null,null,null,null,null,0,0,0,0,0,0,0,0,0,0,0,0,0,0,0,0,0,0,0,0,0,0,0,0,0,0,0,0,null,null,null,null,null,0,0,0,0,0,0,null,0,null,null,null,null,null,null,null,0,null,null,null,null,null,null,null,null,null,null,null,null,null,null,null,null,null,null,null,null,null,null,null,null,null,null,0,0,null,null,0,0,0,{"$f":"IF(OR(AND(1<=$FK318,$FK318<=3),$FK318=6),VLOOKUP($FK318,整理番号表!$B$32:$G$60,2,FALSE),)","v":0},{"$f":"IF(OR($FK318=4,$FK318=7),VLOOKUP($FK318,整理番号表!$B$32:$G$60,2,FALSE),)","v":0},{"$f":"IF($FK318=5,VLOOKUP($FK318,整理番号表!$B$32:$G$60,2,FALSE),)","v":0},{"$f":"IF(AND(8<=$FK318,$FK318<=13),VLOOKUP($FK318,整理番号表!$B$32:$G$60,2,FALSE),)","v":0},0,0,{"$f":"IF(AND(FE318<>1,$FP318=1,SUM($FQ318:FQ318)=0,$FF318=1,$FI318>=2),1,)","v":0},{"$f":"IF(AND(FE318<>1,$FP318=1,SUM($FQ318:FR318)=0,OR(AND($FF318=1,$FI318>0),$FI318>=4)),1,)","v":0},{"$f":"IF(AND(FE318<>1,$FP318=1,SUM($FQ318:FS318)=0,OR($FF318=1,$FI318>=2)),1,)","v":0},{"$f":"IF(AND(FE318<>1,$FP318=1,SUM($FQ318:FT318)=0,$FI318>0),1,)","v":0},0,0,{"$f":"IF(AND(FE318<>1,$FP318=2,SUM($FW318:FW318)=0,$FF318=1,$FJ318>=0.1),1,)","v":0},{"$f":"IF(AND(FE318<>1,$FP318=2,SUM($FW318:FX318)=0,OR(AND($FF318=1,$FI318>0),$FJ318>=0.2)),1,)","v":0},{"$f":"IF(AND(FE318<>1,$FP318=2,SUM($FW318:FY318)=0,OR($FF318=1,$FJ318>=0.1)),1,)","v":0},{"$f":"IF(AND(FE318<>1,$FP318=2,SUM($FW318:FZ318)=0,$FI318>0),1,)","v":0},0,{"$f":"IF(AND(FE318<>1,$FP318=3,SUM($GB318:GB318)=0,AND($FF318=1,$FJ318>=0.05)),1,)","v":0},{"$f":"IF(AND(FE318<>1,$FP318=3,SUM($GB318:GC318)=0,OR(AND($FF318=1,$FI318>0),$FJ318>=0.1)),1,)","v":0},{"$f":"IF(AND(FE318<>1,$FP318=3,SUM($GB318:GD318)=0,OR($FF318=1,$FJ318>=0.05)),1,)","v":0},{"$f":"IF(AND(FE318<>1,$FP318=3,SUM($GB318:GE318)=0,$FI318>0),1,)","v":0},0,null,0,0,0,0,0,0,0,0,0,0,0,0,0,0,0,0,0,0,0,0,0,0,0,0,0,0,0,0,0,0,0,0,0,0,0,0,0,0,0,0,0,0,0,0,0,0,0,0,0,0,0,0,0,0,0,0,0,0,0,0,0,0,0,0,0,0,0,0,0,0,0,0,0,0,0,0,0,0,0,"","","","","","","","","","","","","","","","○",0,0,0,0,0,0,0,"○",0,0,0,"○","○",null,0,0]
[0,0,0,0,0,0,0,0,0,0,309,null,null,null,null,{"$f":"IF(O321<>\"\",VLOOKUP(O321,整理番号表!$Z$17:$AA$20,2,FALSE),)","v":0},0,null,null,null,null,null,{"$f":"IF(V321<>0,VLOOKUP(V321,整理番号表!$B$6:$L$13,2,FALSE),)","v":0},0,{"$f":"IF(X321<>0,VLOOKUP(X321,整理番号表!$B$16:$C$18,2,FALSE),)","v":0},null,{"$f":"IF(Z321<>0,VLOOKUP(Z321,整理番号表!$B$22:$C$29,2,FALSE),)","v":0},null,null,{"$f":"IF(AC321<>0,VLOOKUP(AC321,整理番号表!$B$32:$G$60,2,FALSE),)","v":0},null,{"$f":"IF(AE321<>0,VLOOKUP(AE321,整理番号表!$P$5:$R$39,2,FALSE),)","v":0},null,0,null,null,{"$f":"IF(AJ321<>\"\",VLOOKUP(AJ321,整理番号表!$Z$6:$AA$14,2,FALSE),\"\")","v":""},0,null,null,null,null,null,{"$f":"IF(AQ321<>0,VLOOKUP(AQ321,整理番号表!$P$43:$Q$49,2,FALSE),)","v":0},null,null,null,null,0,0,null,0,null,null,null,0,0,0,null,null,0,0,null,{"$f":"IF(BK321<>0,VLOOKUP(BK321,整理番号表!$T$5:$U$16,2,FALSE),)","v":0},null,{"$f":"IF(BM321<>0,VLOOKUP(BM321,整理番号表!$T$22:$U$30,2,FALSE),)","v":0},null,0,"",null,null,null,null,null,"",0,null,null,null,null,null,null,null,null,null,0,0,0,0,0,0,0,0,0,0,0,0,0,0,0,0,0,0,0,0,0,0,0,0,0,0,0,0,null,null,null,null,null,0,0,0,0,0,0,null,0,null,null,null,null,null,null,null,0,null,null,null,null,null,null,null,null,null,null,null,null,null,null,null,null,null,null,null,null,null,null,null,null,null,null,0,0,null,null,0,0,0,{"$f":"IF(OR(AND(1<=$FK321,$FK321<=3),$FK321=6),VLOOKUP($FK321,整理番号表!$B$32:$G$60,2,FALSE),)","v":0},{"$f":"IF(OR($FK321=4,$FK321=7),VLOOKUP($FK321,整理番号表!$B$32:$G$60,2,FALSE),)","v":0},{"$f":"IF($FK321=5,VLOOKUP($FK321,整理番号表!$B$32:$G$60,2,FALSE),)","v":0},{"$f":"IF(AND(8<=$FK321,$FK321<=13),VLOOKUP($FK321,整理番号表!$B$32:$G$60,2,FALSE),)","v":0},0,0,{"$f":"IF(AND(FE321<>1,$FP321=1,SUM($FQ321:FQ321)=0,$FF321=1,$FI321>=2),1,)","v":0},{"$f":"IF(AND(FE321<>1,$FP321=1,SUM($FQ321:FR321)=0,OR(AND($FF321=1,$FI321>0),$FI321>=4)),1,)","v":0},{"$f":"IF(AND(FE321<>1,$FP321=1,SUM($FQ321:FS321)=0,OR($FF321=1,$FI321>=2)),1,)","v":0},{"$f":"IF(AND(FE321<>1,$FP321=1,SUM($FQ321:FT321)=0,$FI321>0),1,)","v":0},0,0,{"$f":"IF(AND(FE321<>1,$FP321=2,SUM($FW321:FW321)=0,$FF321=1,$FJ321>=0.1),1,)","v":0},{"$f":"IF(AND(FE321<>1,$FP321=2,SUM($FW321:FX321)=0,OR(AND($FF321=1,$FI321>0),$FJ321>=0.2)),1,)","v":0},{"$f":"IF(AND(FE321<>1,$FP321=2,SUM($FW321:FY321)=0,OR($FF321=1,$FJ321>=0.1)),1,)","v":0},{"$f":"IF(AND(FE321<>1,$FP321=2,SUM($FW321:FZ321)=0,$FI321>0),1,)","v":0},0,{"$f":"IF(AND(FE321<>1,$FP321=3,SUM($GB321:GB321)=0,AND($FF321=1,$FJ321>=0.05)),1,)","v":0},{"$f":"IF(AND(FE321<>1,$FP321=3,SUM($GB321:GC321)=0,OR(AND($FF321=1,$FI321>0),$FJ321>=0.1)),1,)","v":0},{"$f":"IF(AND(FE321<>1,$FP321=3,SUM($GB321:GD321)=0,OR($FF321=1,$FJ321>=0.05)),1,)","v":0},{"$f":"IF(AND(FE321<>1,$FP321=3,SUM($GB321:GE321)=0,$FI321>0),1,)","v":0},0,null,0,0,0,0,0,0,0,0,0,0,0,0,0,0,0,0,0,0,0,0,0,0,0,0,0,0,0,0,0,0,0,0,0,0,0,0,0,0,0,0,0,0,0,0,0,0,0,0,0,0,0,0,0,0,0,0,0,0,0,0,0,0,0,0,0,0,0,0,0,0,0,0,0,0,0,0,0,0,0,"","","","","","","","","","","","","","","","○",0,0,0,0,0,0,0,"○",0,0,0,"○","○",null,0,0]
[0,0,0,0,0,0,0,0,0,0,310,null,null,null,null,{"$f":"IF(O322<>\"\",VLOOKUP(O322,整理番号表!$Z$17:$AA$20,2,FALSE),)","v":0},0,null,null,null,null,null,{"$f":"IF(V322<>0,VLOOKUP(V322,整理番号表!$B$6:$L$13,2,FALSE),)","v":0},0,{"$f":"IF(X322<>0,VLOOKUP(X322,整理番号表!$B$16:$C$18,2,FALSE),)","v":0},null,{"$f":"IF(Z322<>0,VLOOKUP(Z322,整理番号表!$B$22:$C$29,2,FALSE),)","v":0},null,null,{"$f":"IF(AC322<>0,VLOOKUP(AC322,整理番号表!$B$32:$G$60,2,FALSE),)","v":0},null,{"$f":"IF(AE322<>0,VLOOKUP(AE322,整理番号表!$P$5:$R$39,2,FALSE),)","v":0},null,0,null,null,{"$f":"IF(AJ322<>\"\",VLOOKUP(AJ322,整理番号表!$Z$6:$AA$14,2,FALSE),\"\")","v":""},0,null,null,null,null,null,{"$f":"IF(AQ322<>0,VLOOKUP(AQ322,整理番号表!$P$43:$Q$49,2,FALSE),)","v":0},null,null,null,null,0,0,null,0,null,null,null,0,0,0,null,null,0,0,null,{"$f":"IF(BK322<>0,VLOOKUP(BK322,整理番号表!$T$5:$U$16,2,FALSE),)","v":0},null,{"$f":"IF(BM322<>0,VLOOKUP(BM322,整理番号表!$T$22:$U$30,2,FALSE),)","v":0},null,0,"",null,null,null,null,null,"",0,null,null,null,null,null,null,null,null,null,0,0,0,0,0,0,0,0,0,0,0,0,0,0,0,0,0,0,0,0,0,0,0,0,0,0,0,0,null,null,null,null,null,0,0,0,0,0,0,null,0,null,null,null,null,null,null,null,0,null,null,null,null,null,null,null,null,null,null,null,null,null,null,null,null,null,null,null,null,null,null,null,null,null,null,0,0,null,null,0,0,0,{"$f":"IF(OR(AND(1<=$FK322,$FK322<=3),$FK322=6),VLOOKUP($FK322,整理番号表!$B$32:$G$60,2,FALSE),)","v":0},{"$f":"IF(OR($FK322=4,$FK322=7),VLOOKUP($FK322,整理番号表!$B$32:$G$60,2,FALSE),)","v":0},{"$f":"IF($FK322=5,VLOOKUP($FK322,整理番号表!$B$32:$G$60,2,FALSE),)","v":0},{"$f":"IF(AND(8<=$FK322,$FK322<=13),VLOOKUP($FK322,整理番号表!$B$32:$G$60,2,FALSE),)","v":0},0,0,{"$f":"IF(AND(FE322<>1,$FP322=1,SUM($FQ322:FQ322)=0,$FF322=1,$FI322>=2),1,)","v":0},{"$f":"IF(AND(FE322<>1,$FP322=1,SUM($FQ322:FR322)=0,OR(AND($FF322=1,$FI322>0),$FI322>=4)),1,)","v":0},{"$f":"IF(AND(FE322<>1,$FP322=1,SUM($FQ322:FS322)=0,OR($FF322=1,$FI322>=2)),1,)","v":0},{"$f":"IF(AND(FE322<>1,$FP322=1,SUM($FQ322:FT322)=0,$FI322>0),1,)","v":0},0,0,{"$f":"IF(AND(FE322<>1,$FP322=2,SUM($FW322:FW322)=0,$FF322=1,$FJ322>=0.1),1,)","v":0},{"$f":"IF(AND(FE322<>1,$FP322=2,SUM($FW322:FX322)=0,OR(AND($FF322=1,$FI322>0),$FJ322>=0.2)),1,)","v":0},{"$f":"IF(AND(FE322<>1,$FP322=2,SUM($FW322:FY322)=0,OR($FF322=1,$FJ322>=0.1)),1,)","v":0},{"$f":"IF(AND(FE322<>1,$FP322=2,SUM($FW322:FZ322)=0,$FI322>0),1,)","v":0},0,{"$f":"IF(AND(FE322<>1,$FP322=3,SUM($GB322:GB322)=0,AND($FF322=1,$FJ322>=0.05)),1,)","v":0},{"$f":"IF(AND(FE322<>1,$FP322=3,SUM($GB322:GC322)=0,OR(AND($FF322=1,$FI322>0),$FJ322>=0.1)),1,)","v":0},{"$f":"IF(AND(FE322<>1,$FP322=3,SUM($GB322:GD322)=0,OR($FF322=1,$FJ322>=0.05)),1,)","v":0},{"$f":"IF(AND(FE322<>1,$FP322=3,SUM($GB322:GE322)=0,$FI322>0),1,)","v":0},0,null,0,0,0,0,0,0,0,0,0,0,0,0,0,0,0,0,0,0,0,0,0,0,0,0,0,0,0,0,0,0,0,0,0,0,0,0,0,0,0,0,0,0,0,0,0,0,0,0,0,0,0,0,0,0,0,0,0,0,0,0,0,0,0,0,0,0,0,0,0,0,0,0,0,0,0,0,0,0,0,"","","","","","","","","","","","","","","","○",0,0,0,0,0,0,0,"○",0,0,0,"○","○",null,0,0]
[0,0,0,0,0,0,0,0,0,0,311,null,null,null,null,{"$f":"IF(O323<>\"\",VLOOKUP(O323,整理番号表!$Z$17:$AA$20,2,FALSE),)","v":0},0,null,null,null,null,null,{"$f":"IF(V323<>0,VLOOKUP(V323,整理番号表!$B$6:$L$13,2,FALSE),)","v":0},0,{"$f":"IF(X323<>0,VLOOKUP(X323,整理番号表!$B$16:$C$18,2,FALSE),)","v":0},null,{"$f":"IF(Z323<>0,VLOOKUP(Z323,整理番号表!$B$22:$C$29,2,FALSE),)","v":0},null,null,{"$f":"IF(AC323<>0,VLOOKUP(AC323,整理番号表!$B$32:$G$60,2,FALSE),)","v":0},null,{"$f":"IF(AE323<>0,VLOOKUP(AE323,整理番号表!$P$5:$R$39,2,FALSE),)","v":0},null,0,null,null,{"$f":"IF(AJ323<>\"\",VLOOKUP(AJ323,整理番号表!$Z$6:$AA$14,2,FALSE),\"\")","v":""},0,null,null,null,null,null,{"$f":"IF(AQ323<>0,VLOOKUP(AQ323,整理番号表!$P$43:$Q$49,2,FALSE),)","v":0},null,null,null,null,0,0,null,0,null,null,null,0,0,0,null,null,0,0,null,{"$f":"IF(BK323<>0,VLOOKUP(BK323,整理番号表!$T$5:$U$16,2,FALSE),)","v":0},null,{"$f":"IF(BM323<>0,VLOOKUP(BM323,整理番号表!$T$22:$U$30,2,FALSE),)","v":0},null,0,"",null,null,null,null,null,"",0,null,null,null,null,null,null,null,null,null,0,0,0,0,0,0,0,0,0,0,0,0,0,0,0,0,0,0,0,0,0,0,0,0,0,0,0,0,null,null,null,null,null,0,0,0,0,0,0,null,0,null,null,null,null,null,null,null,0,null,null,null,null,null,null,null,null,null,null,null,null,null,null,null,null,null,null,null,null,null,null,null,null,null,null,0,0,null,null,0,0,0,{"$f":"IF(OR(AND(1<=$FK323,$FK323<=3),$FK323=6),VLOOKUP($FK323,整理番号表!$B$32:$G$60,2,FALSE),)","v":0},{"$f":"IF(OR($FK323=4,$FK323=7),VLOOKUP($FK323,整理番号表!$B$32:$G$60,2,FALSE),)","v":0},{"$f":"IF($FK323=5,VLOOKUP($FK323,整理番号表!$B$32:$G$60,2,FALSE),)","v":0},{"$f":"IF(AND(8<=$FK323,$FK323<=13),VLOOKUP($FK323,整理番号表!$B$32:$G$60,2,FALSE),)","v":0},0,0,{"$f":"IF(AND(FE323<>1,$FP323=1,SUM($FQ323:FQ323)=0,$FF323=1,$FI323>=2),1,)","v":0},{"$f":"IF(AND(FE323<>1,$FP323=1,SUM($FQ323:FR323)=0,OR(AND($FF323=1,$FI323>0),$FI323>=4)),1,)","v":0},{"$f":"IF(AND(FE323<>1,$FP323=1,SUM($FQ323:FS323)=0,OR($FF323=1,$FI323>=2)),1,)","v":0},{"$f":"IF(AND(FE323<>1,$FP323=1,SUM($FQ323:FT323)=0,$FI323>0),1,)","v":0},0,0,{"$f":"IF(AND(FE323<>1,$FP323=2,SUM($FW323:FW323)=0,$FF323=1,$FJ323>=0.1),1,)","v":0},{"$f":"IF(AND(FE323<>1,$FP323=2,SUM($FW323:FX323)=0,OR(AND($FF323=1,$FI323>0),$FJ323>=0.2)),1,)","v":0},{"$f":"IF(AND(FE323<>1,$FP323=2,SUM($FW323:FY323)=0,OR($FF323=1,$FJ323>=0.1)),1,)","v":0},{"$f":"IF(AND(FE323<>1,$FP323=2,SUM($FW323:FZ323)=0,$FI323>0),1,)","v":0},0,{"$f":"IF(AND(FE323<>1,$FP323=3,SUM($GB323:GB323)=0,AND($FF323=1,$FJ323>=0.05)),1,)","v":0},{"$f":"IF(AND(FE323<>1,$FP323=3,SUM($GB323:GC323)=0,OR(AND($FF323=1,$FI323>0),$FJ323>=0.1)),1,)","v":0},{"$f":"IF(AND(FE323<>1,$FP323=3,SUM($GB323:GD323)=0,OR($FF323=1,$FJ323>=0.05)),1,)","v":0},{"$f":"IF(AND(FE323<>1,$FP323=3,SUM($GB323:GE323)=0,$FI323>0),1,)","v":0},0,null,0,0,0,0,0,0,0,0,0,0,0,0,0,0,0,0,0,0,0,0,0,0,0,0,0,0,0,0,0,0,0,0,0,0,0,0,0,0,0,0,0,0,0,0,0,0,0,0,0,0,0,0,0,0,0,0,0,0,0,0,0,0,0,0,0,0,0,0,0,0,0,0,0,0,0,0,0,0,0,"","","","","","","","","","","","","","","","○",0,0,0,0,0,0,0,"○",0,0,0,"○","○",null,0,0]
[0,0,0,0,0,0,0,0,0,0,312,null,null,null,null,{"$f":"IF(O324<>\"\",VLOOKUP(O324,整理番号表!$Z$17:$AA$20,2,FALSE),)","v":0},0,null,null,null,null,null,{"$f":"IF(V324<>0,VLOOKUP(V324,整理番号表!$B$6:$L$13,2,FALSE),)","v":0},0,{"$f":"IF(X324<>0,VLOOKUP(X324,整理番号表!$B$16:$C$18,2,FALSE),)","v":0},null,{"$f":"IF(Z324<>0,VLOOKUP(Z324,整理番号表!$B$22:$C$29,2,FALSE),)","v":0},null,null,{"$f":"IF(AC324<>0,VLOOKUP(AC324,整理番号表!$B$32:$G$60,2,FALSE),)","v":0},null,{"$f":"IF(AE324<>0,VLOOKUP(AE324,整理番号表!$P$5:$R$39,2,FALSE),)","v":0},null,0,null,null,{"$f":"IF(AJ324<>\"\",VLOOKUP(AJ324,整理番号表!$Z$6:$AA$14,2,FALSE),\"\")","v":""},0,null,null,null,null,null,{"$f":"IF(AQ324<>0,VLOOKUP(AQ324,整理番号表!$P$43:$Q$49,2,FALSE),)","v":0},null,null,null,null,0,0,null,0,null,null,null,0,0,0,null,null,0,0,null,{"$f":"IF(BK324<>0,VLOOKUP(BK324,整理番号表!$T$5:$U$16,2,FALSE),)","v":0},null,{"$f":"IF(BM324<>0,VLOOKUP(BM324,整理番号表!$T$22:$U$30,2,FALSE),)","v":0},null,0,"",null,null,null,null,null,"",0,null,null,null,null,null,null,null,null,null,0,0,0,0,0,0,0,0,0,0,0,0,0,0,0,0,0,0,0,0,0,0,0,0,0,0,0,0,null,null,null,null,null,0,0,0,0,0,0,null,0,null,null,null,null,null,null,null,0,null,null,null,null,null,null,null,null,null,null,null,null,null,null,null,null,null,null,null,null,null,null,null,null,null,null,0,0,null,null,0,0,0,{"$f":"IF(OR(AND(1<=$FK324,$FK324<=3),$FK324=6),VLOOKUP($FK324,整理番号表!$B$32:$G$60,2,FALSE),)","v":0},{"$f":"IF(OR($FK324=4,$FK324=7),VLOOKUP($FK324,整理番号表!$B$32:$G$60,2,FALSE),)","v":0},{"$f":"IF($FK324=5,VLOOKUP($FK324,整理番号表!$B$32:$G$60,2,FALSE),)","v":0},{"$f":"IF(AND(8<=$FK324,$FK324<=13),VLOOKUP($FK324,整理番号表!$B$32:$G$60,2,FALSE),)","v":0},0,0,{"$f":"IF(AND(FE324<>1,$FP324=1,SUM($FQ324:FQ324)=0,$FF324=1,$FI324>=2),1,)","v":0},{"$f":"IF(AND(FE324<>1,$FP324=1,SUM($FQ324:FR324)=0,OR(AND($FF324=1,$FI324>0),$FI324>=4)),1,)","v":0},{"$f":"IF(AND(FE324<>1,$FP324=1,SUM($FQ324:FS324)=0,OR($FF324=1,$FI324>=2)),1,)","v":0},{"$f":"IF(AND(FE324<>1,$FP324=1,SUM($FQ324:FT324)=0,$FI324>0),1,)","v":0},0,0,{"$f":"IF(AND(FE324<>1,$FP324=2,SUM($FW324:FW324)=0,$FF324=1,$FJ324>=0.1),1,)","v":0},{"$f":"IF(AND(FE324<>1,$FP324=2,SUM($FW324:FX324)=0,OR(AND($FF324=1,$FI324>0),$FJ324>=0.2)),1,)","v":0},{"$f":"IF(AND(FE324<>1,$FP324=2,SUM($FW324:FY324)=0,OR($FF324=1,$FJ324>=0.1)),1,)","v":0},{"$f":"IF(AND(FE324<>1,$FP324=2,SUM($FW324:FZ324)=0,$FI324>0),1,)","v":0},0,{"$f":"IF(AND(FE324<>1,$FP324=3,SUM($GB324:GB324)=0,AND($FF324=1,$FJ324>=0.05)),1,)","v":0},{"$f":"IF(AND(FE324<>1,$FP324=3,SUM($GB324:GC324)=0,OR(AND($FF324=1,$FI324>0),$FJ324>=0.1)),1,)","v":0},{"$f":"IF(AND(FE324<>1,$FP324=3,SUM($GB324:GD324)=0,OR($FF324=1,$FJ324>=0.05)),1,)","v":0},{"$f":"IF(AND(FE324<>1,$FP324=3,SUM($GB324:GE324)=0,$FI324>0),1,)","v":0},0,null,0,0,0,0,0,0,0,0,0,0,0,0,0,0,0,0,0,0,0,0,0,0,0,0,0,0,0,0,0,0,0,0,0,0,0,0,0,0,0,0,0,0,0,0,0,0,0,0,0,0,0,0,0,0,0,0,0,0,0,0,0,0,0,0,0,0,0,0,0,0,0,0,0,0,0,0,0,0,0,"","","","","","","","","","","","","","","","○",0,0,0,0,0,0,0,"○",0,0,0,"○","○",null,0,0]
[0,0,0,0,0,0,0,0,0,0,313,null,null,null,null,{"$f":"IF(O325<>\"\",VLOOKUP(O325,整理番号表!$Z$17:$AA$20,2,FALSE),)","v":0},0,null,null,null,null,null,{"$f":"IF(V325<>0,VLOOKUP(V325,整理番号表!$B$6:$L$13,2,FALSE),)","v":0},0,{"$f":"IF(X325<>0,VLOOKUP(X325,整理番号表!$B$16:$C$18,2,FALSE),)","v":0},null,{"$f":"IF(Z325<>0,VLOOKUP(Z325,整理番号表!$B$22:$C$29,2,FALSE),)","v":0},null,null,{"$f":"IF(AC325<>0,VLOOKUP(AC325,整理番号表!$B$32:$G$60,2,FALSE),)","v":0},null,{"$f":"IF(AE325<>0,VLOOKUP(AE325,整理番号表!$P$5:$R$39,2,FALSE),)","v":0},null,0,null,null,{"$f":"IF(AJ325<>\"\",VLOOKUP(AJ325,整理番号表!$Z$6:$AA$14,2,FALSE),\"\")","v":""},0,null,null,null,null,null,{"$f":"IF(AQ325<>0,VLOOKUP(AQ325,整理番号表!$P$43:$Q$49,2,FALSE),)","v":0},null,null,null,null,0,0,null,0,null,null,null,0,0,0,null,null,0,0,null,{"$f":"IF(BK325<>0,VLOOKUP(BK325,整理番号表!$T$5:$U$16,2,FALSE),)","v":0},null,{"$f":"IF(BM325<>0,VLOOKUP(BM325,整理番号表!$T$22:$U$30,2,FALSE),)","v":0},null,0,"",null,null,null,null,null,"",0,null,null,null,null,null,null,null,null,null,0,0,0,0,0,0,0,0,0,0,0,0,0,0,0,0,0,0,0,0,0,0,0,0,0,0,0,0,null,null,null,null,null,0,0,0,0,0,0,null,0,null,null,null,null,null,null,null,0,null,null,null,null,null,null,null,null,null,null,null,null,null,null,null,null,null,null,null,null,null,null,null,null,null,null,0,0,null,null,0,0,0,{"$f":"IF(OR(AND(1<=$FK325,$FK325<=3),$FK325=6),VLOOKUP($FK325,整理番号表!$B$32:$G$60,2,FALSE),)","v":0},{"$f":"IF(OR($FK325=4,$FK325=7),VLOOKUP($FK325,整理番号表!$B$32:$G$60,2,FALSE),)","v":0},{"$f":"IF($FK325=5,VLOOKUP($FK325,整理番号表!$B$32:$G$60,2,FALSE),)","v":0},{"$f":"IF(AND(8<=$FK325,$FK325<=13),VLOOKUP($FK325,整理番号表!$B$32:$G$60,2,FALSE),)","v":0},0,0,{"$f":"IF(AND(FE325<>1,$FP325=1,SUM($FQ325:FQ325)=0,$FF325=1,$FI325>=2),1,)","v":0},{"$f":"IF(AND(FE325<>1,$FP325=1,SUM($FQ325:FR325)=0,OR(AND($FF325=1,$FI325>0),$FI325>=4)),1,)","v":0},{"$f":"IF(AND(FE325<>1,$FP325=1,SUM($FQ325:FS325)=0,OR($FF325=1,$FI325>=2)),1,)","v":0},{"$f":"IF(AND(FE325<>1,$FP325=1,SUM($FQ325:FT325)=0,$FI325>0),1,)","v":0},0,0,{"$f":"IF(AND(FE325<>1,$FP325=2,SUM($FW325:FW325)=0,$FF325=1,$FJ325>=0.1),1,)","v":0},{"$f":"IF(AND(FE325<>1,$FP325=2,SUM($FW325:FX325)=0,OR(AND($FF325=1,$FI325>0),$FJ325>=0.2)),1,)","v":0},{"$f":"IF(AND(FE325<>1,$FP325=2,SUM($FW325:FY325)=0,OR($FF325=1,$FJ325>=0.1)),1,)","v":0},{"$f":"IF(AND(FE325<>1,$FP325=2,SUM($FW325:FZ325)=0,$FI325>0),1,)","v":0},0,{"$f":"IF(AND(FE325<>1,$FP325=3,SUM($GB325:GB325)=0,AND($FF325=1,$FJ325>=0.05)),1,)","v":0},{"$f":"IF(AND(FE325<>1,$FP325=3,SUM($GB325:GC325)=0,OR(AND($FF325=1,$FI325>0),$FJ325>=0.1)),1,)","v":0},{"$f":"IF(AND(FE325<>1,$FP325=3,SUM($GB325:GD325)=0,OR($FF325=1,$FJ325>=0.05)),1,)","v":0},{"$f":"IF(AND(FE325<>1,$FP325=3,SUM($GB325:GE325)=0,$FI325>0),1,)","v":0},0,null,0,0,0,0,0,0,0,0,0,0,0,0,0,0,0,0,0,0,0,0,0,0,0,0,0,0,0,0,0,0,0,0,0,0,0,0,0,0,0,0,0,0,0,0,0,0,0,0,0,0,0,0,0,0,0,0,0,0,0,0,0,0,0,0,0,0,0,0,0,0,0,0,0,0,0,0,0,0,0,"","","","","","","","","","","","","","","","○",0,0,0,0,0,0,0,"○",0,0,0,"○","○",null,0,0]
[0,0,0,0,0,0,0,0,0,0,314,null,null,null,null,{"$f":"IF(O326<>\"\",VLOOKUP(O326,整理番号表!$Z$17:$AA$20,2,FALSE),)","v":0},0,null,null,null,null,null,{"$f":"IF(V326<>0,VLOOKUP(V326,整理番号表!$B$6:$L$13,2,FALSE),)","v":0},0,{"$f":"IF(X326<>0,VLOOKUP(X326,整理番号表!$B$16:$C$18,2,FALSE),)","v":0},null,{"$f":"IF(Z326<>0,VLOOKUP(Z326,整理番号表!$B$22:$C$29,2,FALSE),)","v":0},null,null,{"$f":"IF(AC326<>0,VLOOKUP(AC326,整理番号表!$B$32:$G$60,2,FALSE),)","v":0},null,{"$f":"IF(AE326<>0,VLOOKUP(AE326,整理番号表!$P$5:$R$39,2,FALSE),)","v":0},null,0,null,null,{"$f":"IF(AJ326<>\"\",VLOOKUP(AJ326,整理番号表!$Z$6:$AA$14,2,FALSE),\"\")","v":""},0,null,null,null,null,null,{"$f":"IF(AQ326<>0,VLOOKUP(AQ326,整理番号表!$P$43:$Q$49,2,FALSE),)","v":0},null,null,null,null,0,0,null,0,null,null,null,0,0,0,null,null,0,0,null,{"$f":"IF(BK326<>0,VLOOKUP(BK326,整理番号表!$T$5:$U$16,2,FALSE),)","v":0},null,{"$f":"IF(BM326<>0,VLOOKUP(BM326,整理番号表!$T$22:$U$30,2,FALSE),)","v":0},null,0,"",null,null,null,null,null,"",0,null,null,null,null,null,null,null,null,null,0,0,0,0,0,0,{"$f":"IF(OR($BR326<=0,$BV326<=0),0,IF(AND($X326=1,$I326=1,$EU326<>1,CN$2<=$BW326),1,))","v":0},0,0,0,0,0,0,{"$f":"IF(OR($BR326<=0,$BV326<=0),0,IF(AND($X326=2,$I326=1,$EU326<>1,CU$2<=$BW326),1,))","v":0},0,0,0,0,0,0,{"$f":"IF($BV326<0,0,IF(AND($X326=1,$I326=1,$EU326<>1,DB$2<=$BX326),1,))","v":0},0,0,0,0,0,0,{"$f":"IF($BV326<0,0,IF(AND($X326=2,$I326=1,$EU326<>1,DI$2<=$BX326),1,))","v":0},null,null,null,null,null,0,0,0,0,0,0,null,0,null,null,null,null,null,null,null,{"$f":"IF(AND(I326=1,AB326=\"法人\"),1,)","v":0},null,null,null,null,null,null,null,null,null,null,null,null,null,null,null,null,null,null,null,null,null,null,null,null,null,null,0,0,null,null,0,0,0,{"$f":"IF(OR(AND(1<=$FK326,$FK326<=3),$FK326=6),VLOOKUP($FK326,整理番号表!$B$32:$G$60,2,FALSE),)","v":0},{"$f":"IF(OR($FK326=4,$FK326=7),VLOOKUP($FK326,整理番号表!$B$32:$G$60,2,FALSE),)","v":0},{"$f":"IF($FK326=5,VLOOKUP($FK326,整理番号表!$B$32:$G$60,2,FALSE),)","v":0},{"$f":"IF(AND(8<=$FK326,$FK326<=13),VLOOKUP($FK326,整理番号表!$B$32:$G$60,2,FALSE),)","v":0},0,0,{"$f":"IF(AND(FE326<>1,$FP326=1,SUM($FQ326:FQ326)=0,$FF326=1,$FI326>=2),1,)","v":0},{"$f":"IF(AND(FE326<>1,$FP326=1,SUM($FQ326:FR326)=0,OR(AND($FF326=1,$FI326>0),$FI326>=4)),1,)","v":0},{"$f":"IF(AND(FE326<>1,$FP326=1,SUM($FQ326:FS326)=0,OR($FF326=1,$FI326>=2)),1,)","v":0},{"$f":"IF(AND(FE326<>1,$FP326=1,SUM($FQ326:FT326)=0,$FI326>0),1,)","v":0},0,0,{"$f":"IF(AND(FE326<>1,$FP326=2,SUM($FW326:FW326)=0,$FF326=1,$FJ326>=0.1),1,)","v":0},{"$f":"IF(AND(FE326<>1,$FP326=2,SUM($FW326:FX326)=0,OR(AND($FF326=1,$FI326>0),$FJ326>=0.2)),1,)","v":0},{"$f":"IF(AND(FE326<>1,$FP326=2,SUM($FW326:FY326)=0,OR($FF326=1,$FJ326>=0.1)),1,)","v":0},{"$f":"IF(AND(FE326<>1,$FP326=2,SUM($FW326:FZ326)=0,$FI326>0),1,)","v":0},0,{"$f":"IF(AND(FE326<>1,$FP326=3,SUM($GB326:GB326)=0,AND($FF326=1,$FJ326>=0.05)),1,)","v":0},{"$f":"IF(AND(FE326<>1,$FP326=3,SUM($GB326:GC326)=0,OR(AND($FF326=1,$FI326>0),$FJ326>=0.1)),1,)","v":0},{"$f":"IF(AND(FE326<>1,$FP326=3,SUM($GB326:GD326)=0,OR($FF326=1,$FJ326>=0.05)),1,)","v":0},{"$f":"IF(AND(FE326<>1,$FP326=3,SUM($GB326:GE326)=0,$FI326>0),1,)","v":0},0,null,0,0,0,0,0,0,0,0,0,0,0,0,0,0,0,0,0,0,0,0,0,0,0,0,0,0,0,0,0,0,0,0,0,0,0,0,0,0,0,0,0,0,0,0,0,0,0,0,0,0,0,0,0,0,0,0,0,0,0,0,0,0,0,0,0,0,0,0,0,0,0,0,0,0,0,0,0,0,0,"","","","","","","","","","","","","","","","○",0,0,0,0,0,0,0,"○",0,0,0,"○","○",null,0,0]
[0,0,0,0,0,0,0,0,0,0,315,null,null,null,null,{"$f":"IF(O327<>\"\",VLOOKUP(O327,整理番号表!$Z$17:$AA$20,2,FALSE),)","v":0},0,null,null,null,null,null,{"$f":"IF(V327<>0,VLOOKUP(V327,整理番号表!$B$6:$L$13,2,FALSE),)","v":0},0,{"$f":"IF(X327<>0,VLOOKUP(X327,整理番号表!$B$16:$C$18,2,FALSE),)","v":0},null,{"$f":"IF(Z327<>0,VLOOKUP(Z327,整理番号表!$B$22:$C$29,2,FALSE),)","v":0},null,null,{"$f":"IF(AC327<>0,VLOOKUP(AC327,整理番号表!$B$32:$G$60,2,FALSE),)","v":0},null,{"$f":"IF(AE327<>0,VLOOKUP(AE327,整理番号表!$P$5:$R$39,2,FALSE),)","v":0},null,0,null,null,{"$f":"IF(AJ327<>\"\",VLOOKUP(AJ327,整理番号表!$Z$6:$AA$14,2,FALSE),\"\")","v":""},0,null,null,null,null,null,{"$f":"IF(AQ327<>0,VLOOKUP(AQ327,整理番号表!$P$43:$Q$49,2,FALSE),)","v":0},null,null,null,null,0,0,null,0,null,null,null,0,0,0,null,null,0,0,null,{"$f":"IF(BK327<>0,VLOOKUP(BK327,整理番号表!$T$5:$U$16,2,FALSE),)","v":0},null,{"$f":"IF(BM327<>0,VLOOKUP(BM327,整理番号表!$T$22:$U$30,2,FALSE),)","v":0},null,0,"",null,null,null,null,null,"",0,null,null,null,null,null,null,null,null,null,0,0,0,0,0,0,0,0,0,0,0,0,0,0,0,0,0,0,0,0,0,0,0,0,0,0,0,0,null,null,null,null,null,0,0,0,0,0,0,null,{"$f":"IF(AND(DU327=1,X327=2),1,0)","v":0},null,null,null,null,null,null,null,0,null,null,null,null,null,null,null,null,null,null,null,null,null,null,null,null,null,null,null,null,null,null,null,null,null,null,0,0,null,null,0,0,0,{"$f":"IF(OR(AND(1<=$FK327,$FK327<=3),$FK327=6),VLOOKUP($FK327,整理番号表!$B$32:$G$60,2,FALSE),)","v":0},{"$f":"IF(OR($FK327=4,$FK327=7),VLOOKUP($FK327,整理番号表!$B$32:$G$60,2,FALSE),)","v":0},{"$f":"IF($FK327=5,VLOOKUP($FK327,整理番号表!$B$32:$G$60,2,FALSE),)","v":0},{"$f":"IF(AND(8<=$FK327,$FK327<=13),VLOOKUP($FK327,整理番号表!$B$32:$G$60,2,FALSE),)","v":0},0,0,{"$f":"IF(AND(FE327<>1,$FP327=1,SUM($FQ327:FQ327)=0,$FF327=1,$FI327>=2),1,)","v":0},{"$f":"IF(AND(FE327<>1,$FP327=1,SUM($FQ327:FR327)=0,OR(AND($FF327=1,$FI327>0),$FI327>=4)),1,)","v":0},{"$f":"IF(AND(FE327<>1,$FP327=1,SUM($FQ327:FS327)=0,OR($FF327=1,$FI327>=2)),1,)","v":0},{"$f":"IF(AND(FE327<>1,$FP327=1,SUM($FQ327:FT327)=0,$FI327>0),1,)","v":0},0,0,{"$f":"IF(AND(FE327<>1,$FP327=2,SUM($FW327:FW327)=0,$FF327=1,$FJ327>=0.1),1,)","v":0},{"$f":"IF(AND(FE327<>1,$FP327=2,SUM($FW327:FX327)=0,OR(AND($FF327=1,$FI327>0),$FJ327>=0.2)),1,)","v":0},{"$f":"IF(AND(FE327<>1,$FP327=2,SUM($FW327:FY327)=0,OR($FF327=1,$FJ327>=0.1)),1,)","v":0},{"$f":"IF(AND(FE327<>1,$FP327=2,SUM($FW327:FZ327)=0,$FI327>0),1,)","v":0},0,{"$f":"IF(AND(FE327<>1,$FP327=3,SUM($GB327:GB327)=0,AND($FF327=1,$FJ327>=0.05)),1,)","v":0},{"$f":"IF(AND(FE327<>1,$FP327=3,SUM($GB327:GC327)=0,OR(AND($FF327=1,$FI327>0),$FJ327>=0.1)),1,)","v":0},{"$f":"IF(AND(FE327<>1,$FP327=3,SUM($GB327:GD327)=0,OR($FF327=1,$FJ327>=0.05)),1,)","v":0},{"$f":"IF(AND(FE327<>1,$FP327=3,SUM($GB327:GE327)=0,$FI327>0),1,)","v":0},0,null,0,0,0,0,0,0,0,0,0,0,0,0,0,0,0,0,0,0,0,0,0,0,0,0,0,0,0,0,0,0,0,0,0,0,0,0,0,0,0,0,0,0,0,0,0,0,0,0,0,0,0,0,0,0,0,0,0,0,0,0,0,0,0,0,0,0,0,0,0,0,{"$f":"IF($I327=1,IF($EZ327>=3,3,$EZ327*JA$5),0)","v":0},0,0,0,0,0,0,0,0,"","","","","","","","","","","","","","","","○",0,0,0,0,0,0,0,"○",0,0,0,"○","○",null,0,0]
[0,0,0,0,0,0,0,0,0,0,{"$f":"ROW()-ROW($K$12)","v":316},null,null,null,null,{"$f":"IF(O328<>\"\",VLOOKUP(O328,整理番号表!$Z$17:$AA$20,2,FALSE),)","v":0},0,null,null,null,null,null,{"$f":"IF(V328<>0,VLOOKUP(V328,整理番号表!$B$6:$L$13,2,FALSE),)","v":0},0,{"$f":"IF(X328<>0,VLOOKUP(X328,整理番号表!$B$16:$C$18,2,FALSE),)","v":0},null,{"$f":"IF(Z328<>0,VLOOKUP(Z328,整理番号表!$B$22:$C$29,2,FALSE),)","v":0},null,null,{"$f":"IF(AC328<>0,VLOOKUP(AC328,整理番号表!$B$32:$G$60,2,FALSE),)","v":0},null,{"$f":"IF(AE328<>0,VLOOKUP(AE328,整理番号表!$P$5:$R$39,2,FALSE),)","v":0},null,0,null,null,{"$f":"IF(AJ328<>\"\",VLOOKUP(AJ328,整理番号表!$Z$6:$AA$14,2,FALSE),\"\")","v":""},0,null,null,null,null,null,{"$f":"IF(AQ328<>0,VLOOKUP(AQ328,整理番号表!$P$43:$Q$49,2,FALSE),)","v":0},null,null,null,null,0,0,null,0,null,null,null,0,0,0,null,null,0,0,null,{"$f":"IF(BK328<>0,VLOOKUP(BK328,整理番号表!$T$5:$U$16,2,FALSE),)","v":0},null,{"$f":"IF(BM328<>0,VLOOKUP(BM328,整理番号表!$T$22:$U$30,2,FALSE),)","v":0},null,0,"",null,null,null,null,null,"",0,null,null,null,null,null,null,null,null,null,0,0,0,0,0,0,0,0,0,0,0,0,0,0,0,0,0,0,0,0,0,0,0,0,0,0,0,0,null,null,null,null,null,0,0,0,0,0,0,null,0,null,null,null,null,null,null,null,0,null,null,null,null,null,null,null,null,null,null,null,null,null,null,null,null,null,null,null,null,null,null,null,null,null,null,0,0,null,null,0,0,0,{"$f":"IF(OR(AND(1<=$FK328,$FK328<=3),$FK328=6),VLOOKUP($FK328,整理番号表!$B$32:$G$60,2,FALSE),)","v":0},{"$f":"IF(OR($FK328=4,$FK328=7),VLOOKUP($FK328,整理番号表!$B$32:$G$60,2,FALSE),)","v":0},{"$f":"IF($FK328=5,VLOOKUP($FK328,整理番号表!$B$32:$G$60,2,FALSE),)","v":0},{"$f":"IF(AND(8<=$FK328,$FK328<=13),VLOOKUP($FK328,整理番号表!$B$32:$G$60,2,FALSE),)","v":0},0,0,{"$f":"IF(AND(FE328<>1,$FP328=1,SUM($FQ328:FQ328)=0,$FF328=1,$FI328>=2),1,)","v":0},{"$f":"IF(AND(FE328<>1,$FP328=1,SUM($FQ328:FR328)=0,OR(AND($FF328=1,$FI328>0),$FI328>=4)),1,)","v":0},{"$f":"IF(AND(FE328<>1,$FP328=1,SUM($FQ328:FS328)=0,OR($FF328=1,$FI328>=2)),1,)","v":0},{"$f":"IF(AND(FE328<>1,$FP328=1,SUM($FQ328:FT328)=0,$FI328>0),1,)","v":0},0,0,{"$f":"IF(AND(FE328<>1,$FP328=2,SUM($FW328:FW328)=0,$FF328=1,$FJ328>=0.1),1,)","v":0},{"$f":"IF(AND(FE328<>1,$FP328=2,SUM($FW328:FX328)=0,OR(AND($FF328=1,$FI328>0),$FJ328>=0.2)),1,)","v":0},{"$f":"IF(AND(FE328<>1,$FP328=2,SUM($FW328:FY328)=0,OR($FF328=1,$FJ328>=0.1)),1,)","v":0},{"$f":"IF(AND(FE328<>1,$FP328=2,SUM($FW328:FZ328)=0,$FI328>0),1,)","v":0},0,{"$f":"IF(AND(FE328<>1,$FP328=3,SUM($GB328:GB328)=0,AND($FF328=1,$FJ328>=0.05)),1,)","v":0},{"$f":"IF(AND(FE328<>1,$FP328=3,SUM($GB328:GC328)=0,OR(AND($FF328=1,$FI328>0),$FJ328>=0.1)),1,)","v":0},{"$f":"IF(AND(FE328<>1,$FP328=3,SUM($GB328:GD328)=0,OR($FF328=1,$FJ328>=0.05)),1,)","v":0},{"$f":"IF(AND(FE328<>1,$FP328=3,SUM($GB328:GE328)=0,$FI328>0),1,)","v":0},0,null,0,0,0,0,0,0,0,0,0,0,0,0,0,0,0,0,0,0,0,0,0,0,0,0,0,0,0,0,0,0,0,0,0,0,0,0,0,0,0,0,0,0,0,0,0,0,0,0,0,0,0,0,0,0,0,0,0,0,0,0,0,0,0,0,0,0,0,0,0,0,0,0,0,0,0,0,0,0,0,"","","","","","","","","","","","","","","","○",0,0,0,0,0,0,0,"○",0,0,0,"○","○",null,0,0]
[0,0,0,0,0,0,0,0,0,0,317,null,null,null,null,{"$f":"IF(O329<>\"\",VLOOKUP(O329,整理番号表!$Z$17:$AA$20,2,FALSE),)","v":0},0,null,null,null,null,null,{"$f":"IF(V329<>0,VLOOKUP(V329,整理番号表!$B$6:$L$13,2,FALSE),)","v":0},0,{"$f":"IF(X329<>0,VLOOKUP(X329,整理番号表!$B$16:$C$18,2,FALSE),)","v":0},null,{"$f":"IF(Z329<>0,VLOOKUP(Z329,整理番号表!$B$22:$C$29,2,FALSE),)","v":0},null,null,{"$f":"IF(AC329<>0,VLOOKUP(AC329,整理番号表!$B$32:$G$60,2,FALSE),)","v":0},null,{"$f":"IF(AE329<>0,VLOOKUP(AE329,整理番号表!$P$5:$R$39,2,FALSE),)","v":0},null,{"$f":"IF(AI329<>\"\",IF(OR(U329<>U328,R329<>R328),1,AH328+1),0)","v":0},null,null,{"$f":"IF(AJ329<>\"\",VLOOKUP(AJ329,整理番号表!$Z$6:$AA$14,2,FALSE),\"\")","v":""},0,null,null,null,null,null,{"$f":"IF(AQ329<>0,VLOOKUP(AQ329,整理番号表!$P$43:$Q$49,2,FALSE),)","v":0},null,null,null,null,0,0,null,0,null,null,null,0,0,0,null,null,0,0,null,{"$f":"IF(BK329<>0,VLOOKUP(BK329,整理番号表!$T$5:$U$16,2,FALSE),)","v":0},null,{"$f":"IF(BM329<>0,VLOOKUP(BM329,整理番号表!$T$22:$U$30,2,FALSE),)","v":0},null,0,"",null,null,null,null,null,"",0,null,null,null,null,null,null,null,null,null,0,0,0,0,0,0,0,0,0,0,0,0,0,0,0,0,0,0,0,0,0,0,0,0,0,0,0,0,null,null,null,null,null,0,0,0,0,0,0,null,0,null,null,null,null,null,null,null,0,null,null,null,null,null,null,null,null,null,null,null,null,null,null,null,null,null,null,null,null,null,null,null,null,null,null,0,0,null,null,0,0,0,{"$f":"IF(OR(AND(1<=$FK329,$FK329<=3),$FK329=6),VLOOKUP($FK329,整理番号表!$B$32:$G$60,2,FALSE),)","v":0},{"$f":"IF(OR($FK329=4,$FK329=7),VLOOKUP($FK329,整理番号表!$B$32:$G$60,2,FALSE),)","v":0},{"$f":"IF($FK329=5,VLOOKUP($FK329,整理番号表!$B$32:$G$60,2,FALSE),)","v":0},{"$f":"IF(AND(8<=$FK329,$FK329<=13),VLOOKUP($FK329,整理番号表!$B$32:$G$60,2,FALSE),)","v":0},0,0,{"$f":"IF(AND(FE329<>1,$FP329=1,SUM($FQ329:FQ329)=0,$FF329=1,$FI329>=2),1,)","v":0},{"$f":"IF(AND(FE329<>1,$FP329=1,SUM($FQ329:FR329)=0,OR(AND($FF329=1,$FI329>0),$FI329>=4)),1,)","v":0},{"$f":"IF(AND(FE329<>1,$FP329=1,SUM($FQ329:FS329)=0,OR($FF329=1,$FI329>=2)),1,)","v":0},{"$f":"IF(AND(FE329<>1,$FP329=1,SUM($FQ329:FT329)=0,$FI329>0),1,)","v":0},0,0,{"$f":"IF(AND(FE329<>1,$FP329=2,SUM($FW329:FW329)=0,$FF329=1,$FJ329>=0.1),1,)","v":0},{"$f":"IF(AND(FE329<>1,$FP329=2,SUM($FW329:FX329)=0,OR(AND($FF329=1,$FI329>0),$FJ329>=0.2)),1,)","v":0},{"$f":"IF(AND(FE329<>1,$FP329=2,SUM($FW329:FY329)=0,OR($FF329=1,$FJ329>=0.1)),1,)","v":0},{"$f":"IF(AND(FE329<>1,$FP329=2,SUM($FW329:FZ329)=0,$FI329>0),1,)","v":0},0,{"$f":"IF(AND(FE329<>1,$FP329=3,SUM($GB329:GB329)=0,AND($FF329=1,$FJ329>=0.05)),1,)","v":0},{"$f":"IF(AND(FE329<>1,$FP329=3,SUM($GB329:GC329)=0,OR(AND($FF329=1,$FI329>0),$FJ329>=0.1)),1,)","v":0},{"$f":"IF(AND(FE329<>1,$FP329=3,SUM($GB329:GD329)=0,OR($FF329=1,$FJ329>=0.05)),1,)","v":0},{"$f":"IF(AND(FE329<>1,$FP329=3,SUM($GB329:GE329)=0,$FI329>0),1,)","v":0},0,null,0,0,0,0,0,0,0,0,0,0,0,0,0,0,0,0,0,0,0,0,0,0,0,0,0,0,0,0,0,0,0,0,0,0,0,0,0,0,0,0,0,0,0,0,0,0,0,0,0,0,0,0,0,0,0,0,0,0,0,0,0,0,0,0,0,0,0,0,0,0,0,0,0,0,0,0,0,0,0,"","","","","","","","","","","","","","","","○",0,0,0,0,0,0,0,"○",0,0,0,"○","○",null,0,0]
[0,0,0,0,0,0,0,0,0,0,318,null,null,null,null,{"$f":"IF(O330<>\"\",VLOOKUP(O330,整理番号表!$Z$17:$AA$20,2,FALSE),)","v":0},0,null,null,null,null,null,{"$f":"IF(V330<>0,VLOOKUP(V330,整理番号表!$B$6:$L$13,2,FALSE),)","v":0},0,{"$f":"IF(X330<>0,VLOOKUP(X330,整理番号表!$B$16:$C$18,2,FALSE),)","v":0},null,{"$f":"IF(Z330<>0,VLOOKUP(Z330,整理番号表!$B$22:$C$29,2,FALSE),)","v":0},null,null,{"$f":"IF(AC330<>0,VLOOKUP(AC330,整理番号表!$B$32:$G$60,2,FALSE),)","v":0},null,{"$f":"IF(AE330<>0,VLOOKUP(AE330,整理番号表!$P$5:$R$39,2,FALSE),)","v":0},null,0,null,null,{"$f":"IF(AJ330<>\"\",VLOOKUP(AJ330,整理番号表!$Z$6:$AA$14,2,FALSE),\"\")","v":""},0,null,null,null,null,null,{"$f":"IF(AQ330<>0,VLOOKUP(AQ330,整理番号表!$P$43:$Q$49,2,FALSE),)","v":0},null,null,null,null,0,0,null,0,null,null,null,0,0,0,null,null,0,0,null,{"$f":"IF(BK330<>0,VLOOKUP(BK330,整理番号表!$T$5:$U$16,2,FALSE),)","v":0},null,{"$f":"IF(BM330<>0,VLOOKUP(BM330,整理番号表!$T$22:$U$30,2,FALSE),)","v":0},null,0,"",null,null,null,null,null,"",0,null,null,null,null,null,null,null,null,null,0,0,0,0,0,0,0,0,0,0,0,0,0,0,0,0,0,0,0,0,0,0,0,0,0,0,0,0,null,null,null,null,null,0,0,0,0,0,0,null,0,null,null,null,null,null,null,null,0,null,null,null,null,null,null,null,null,null,null,null,null,null,null,null,null,null,null,null,null,null,null,null,null,null,null,0,0,null,null,0,0,0,{"$f":"IF(OR(AND(1<=$FK330,$FK330<=3),$FK330=6),VLOOKUP($FK330,整理番号表!$B$32:$G$60,2,FALSE),)","v":0},{"$f":"IF(OR($FK330=4,$FK330=7),VLOOKUP($FK330,整理番号表!$B$32:$G$60,2,FALSE),)","v":0},{"$f":"IF($FK330=5,VLOOKUP($FK330,整理番号表!$B$32:$G$60,2,FALSE),)","v":0},{"$f":"IF(AND(8<=$FK330,$FK330<=13),VLOOKUP($FK330,整理番号表!$B$32:$G$60,2,FALSE),)","v":0},0,0,{"$f":"IF(AND(FE330<>1,$FP330=1,SUM($FQ330:FQ330)=0,$FF330=1,$FI330>=2),1,)","v":0},{"$f":"IF(AND(FE330<>1,$FP330=1,SUM($FQ330:FR330)=0,OR(AND($FF330=1,$FI330>0),$FI330>=4)),1,)","v":0},{"$f":"IF(AND(FE330<>1,$FP330=1,SUM($FQ330:FS330)=0,OR($FF330=1,$FI330>=2)),1,)","v":0},{"$f":"IF(AND(FE330<>1,$FP330=1,SUM($FQ330:FT330)=0,$FI330>0),1,)","v":0},0,0,{"$f":"IF(AND(FE330<>1,$FP330=2,SUM($FW330:FW330)=0,$FF330=1,$FJ330>=0.1),1,)","v":0},{"$f":"IF(AND(FE330<>1,$FP330=2,SUM($FW330:FX330)=0,OR(AND($FF330=1,$FI330>0),$FJ330>=0.2)),1,)","v":0},{"$f":"IF(AND(FE330<>1,$FP330=2,SUM($FW330:FY330)=0,OR($FF330=1,$FJ330>=0.1)),1,)","v":0},{"$f":"IF(AND(FE330<>1,$FP330=2,SUM($FW330:FZ330)=0,$FI330>0),1,)","v":0},0,{"$f":"IF(AND(FE330<>1,$FP330=3,SUM($GB330:GB330)=0,AND($FF330=1,$FJ330>=0.05)),1,)","v":0},{"$f":"IF(AND(FE330<>1,$FP330=3,SUM($GB330:GC330)=0,OR(AND($FF330=1,$FI330>0),$FJ330>=0.1)),1,)","v":0},{"$f":"IF(AND(FE330<>1,$FP330=3,SUM($GB330:GD330)=0,OR($FF330=1,$FJ330>=0.05)),1,)","v":0},{"$f":"IF(AND(FE330<>1,$FP330=3,SUM($GB330:GE330)=0,$FI330>0),1,)","v":0},0,null,0,0,0,0,0,0,0,0,0,0,0,0,0,0,0,0,0,0,0,0,0,0,0,0,0,0,0,0,0,0,0,0,0,0,0,0,0,0,0,0,0,0,0,0,0,0,0,0,0,0,0,0,0,0,0,0,0,0,0,0,0,0,0,0,0,0,0,0,0,0,0,0,0,0,0,0,0,0,0,"","","","","","","","","","","","","","","","○",0,0,0,0,0,0,0,"○",0,0,0,"○","○",null,0,0]
[0,0,0,0,0,0,0,0,0,0,319,null,null,null,null,{"$f":"IF(O331<>\"\",VLOOKUP(O331,整理番号表!$Z$17:$AA$20,2,FALSE),)","v":0},0,null,null,null,null,null,{"$f":"IF(V331<>0,VLOOKUP(V331,整理番号表!$B$6:$L$13,2,FALSE),)","v":0},0,{"$f":"IF(X331<>0,VLOOKUP(X331,整理番号表!$B$16:$C$18,2,FALSE),)","v":0},null,{"$f":"IF(Z331<>0,VLOOKUP(Z331,整理番号表!$B$22:$C$29,2,FALSE),)","v":0},null,null,{"$f":"IF(AC331<>0,VLOOKUP(AC331,整理番号表!$B$32:$G$60,2,FALSE),)","v":0},null,{"$f":"IF(AE331<>0,VLOOKUP(AE331,整理番号表!$P$5:$R$39,2,FALSE),)","v":0},null,0,null,null,{"$f":"IF(AJ331<>\"\",VLOOKUP(AJ331,整理番号表!$Z$6:$AA$14,2,FALSE),\"\")","v":""},0,null,null,null,null,null,{"$f":"IF(AQ331<>0,VLOOKUP(AQ331,整理番号表!$P$43:$Q$49,2,FALSE),)","v":0},null,null,null,null,0,0,null,0,null,null,null,0,0,0,null,null,0,0,null,{"$f":"IF(BK331<>0,VLOOKUP(BK331,整理番号表!$T$5:$U$16,2,FALSE),)","v":0},null,{"$f":"IF(BM331<>0,VLOOKUP(BM331,整理番号表!$T$22:$U$30,2,FALSE),)","v":0},null,0,"",null,null,null,null,null,"",0,null,null,null,null,null,null,null,null,null,0,0,0,0,0,0,0,0,0,0,0,0,0,0,0,0,0,0,0,0,0,0,0,0,0,0,0,0,null,null,null,null,null,0,0,0,0,0,0,null,0,null,null,null,null,null,null,null,0,null,null,null,null,null,null,null,null,null,null,null,null,null,null,null,null,null,null,null,null,null,null,null,null,null,null,0,0,null,null,0,0,0,{"$f":"IF(OR(AND(1<=$FK331,$FK331<=3),$FK331=6),VLOOKUP($FK331,整理番号表!$B$32:$G$60,2,FALSE),)","v":0},{"$f":"IF(OR($FK331=4,$FK331=7),VLOOKUP($FK331,整理番号表!$B$32:$G$60,2,FALSE),)","v":0},{"$f":"IF($FK331=5,VLOOKUP($FK331,整理番号表!$B$32:$G$60,2,FALSE),)","v":0},{"$f":"IF(AND(8<=$FK331,$FK331<=13),VLOOKUP($FK331,整理番号表!$B$32:$G$60,2,FALSE),)","v":0},0,0,{"$f":"IF(AND(FE331<>1,$FP331=1,SUM($FQ331:FQ331)=0,$FF331=1,$FI331>=2),1,)","v":0},{"$f":"IF(AND(FE331<>1,$FP331=1,SUM($FQ331:FR331)=0,OR(AND($FF331=1,$FI331>0),$FI331>=4)),1,)","v":0},{"$f":"IF(AND(FE331<>1,$FP331=1,SUM($FQ331:FS331)=0,OR($FF331=1,$FI331>=2)),1,)","v":0},{"$f":"IF(AND(FE331<>1,$FP331=1,SUM($FQ331:FT331)=0,$FI331>0),1,)","v":0},0,0,{"$f":"IF(AND(FE331<>1,$FP331=2,SUM($FW331:FW331)=0,$FF331=1,$FJ331>=0.1),1,)","v":0},{"$f":"IF(AND(FE331<>1,$FP331=2,SUM($FW331:FX331)=0,OR(AND($FF331=1,$FI331>0),$FJ331>=0.2)),1,)","v":0},{"$f":"IF(AND(FE331<>1,$FP331=2,SUM($FW331:FY331)=0,OR($FF331=1,$FJ331>=0.1)),1,)","v":0},{"$f":"IF(AND(FE331<>1,$FP331=2,SUM($FW331:FZ331)=0,$FI331>0),1,)","v":0},0,{"$f":"IF(AND(FE331<>1,$FP331=3,SUM($GB331:GB331)=0,AND($FF331=1,$FJ331>=0.05)),1,)","v":0},{"$f":"IF(AND(FE331<>1,$FP331=3,SUM($GB331:GC331)=0,OR(AND($FF331=1,$FI331>0),$FJ331>=0.1)),1,)","v":0},{"$f":"IF(AND(FE331<>1,$FP331=3,SUM($GB331:GD331)=0,OR($FF331=1,$FJ331>=0.05)),1,)","v":0},{"$f":"IF(AND(FE331<>1,$FP331=3,SUM($GB331:GE331)=0,$FI331>0),1,)","v":0},0,null,0,0,0,0,0,0,0,0,0,0,0,0,0,0,0,0,0,0,0,0,0,0,0,0,0,0,0,0,0,0,0,0,0,0,0,0,0,0,0,0,0,0,0,0,0,0,0,0,0,0,0,0,0,0,0,0,0,0,0,0,0,0,0,0,0,0,0,0,0,0,0,0,0,0,0,0,0,0,0,"","","","","","","","","","","","","","","","○",0,0,0,0,0,0,0,"○",0,0,0,"○","○",null,0,0]
[0,0,0,0,0,0,0,0,0,0,320,null,null,null,null,{"$f":"IF(O332<>\"\",VLOOKUP(O332,整理番号表!$Z$17:$AA$20,2,FALSE),)","v":0},0,null,null,null,null,null,{"$f":"IF(V332<>0,VLOOKUP(V332,整理番号表!$B$6:$L$13,2,FALSE),)","v":0},0,{"$f":"IF(X332<>0,VLOOKUP(X332,整理番号表!$B$16:$C$18,2,FALSE),)","v":0},null,{"$f":"IF(Z332<>0,VLOOKUP(Z332,整理番号表!$B$22:$C$29,2,FALSE),)","v":0},null,null,{"$f":"IF(AC332<>0,VLOOKUP(AC332,整理番号表!$B$32:$G$60,2,FALSE),)","v":0},null,{"$f":"IF(AE332<>0,VLOOKUP(AE332,整理番号表!$P$5:$R$39,2,FALSE),)","v":0},null,0,null,null,{"$f":"IF(AJ332<>\"\",VLOOKUP(AJ332,整理番号表!$Z$6:$AA$14,2,FALSE),\"\")","v":""},0,null,null,null,null,null,{"$f":"IF(AQ332<>0,VLOOKUP(AQ332,整理番号表!$P$43:$Q$49,2,FALSE),)","v":0},null,null,null,null,0,0,null,0,null,null,null,0,0,0,null,null,0,0,null,{"$f":"IF(BK332<>0,VLOOKUP(BK332,整理番号表!$T$5:$U$16,2,FALSE),)","v":0},null,{"$f":"IF(BM332<>0,VLOOKUP(BM332,整理番号表!$T$22:$U$30,2,FALSE),)","v":0},null,0,"",null,null,null,null,null,"",0,null,null,null,null,null,null,null,null,null,0,0,0,0,0,0,0,0,0,0,0,0,0,0,0,0,0,0,0,0,0,0,0,0,0,0,0,0,null,null,null,null,null,0,0,0,0,0,0,null,0,null,null,null,null,null,null,null,0,null,null,null,null,null,null,null,null,null,null,null,null,null,null,null,null,null,null,null,null,null,null,null,null,null,null,0,0,null,null,0,0,0,{"$f":"IF(OR(AND(1<=$FK332,$FK332<=3),$FK332=6),VLOOKUP($FK332,整理番号表!$B$32:$G$60,2,FALSE),)","v":0},{"$f":"IF(OR($FK332=4,$FK332=7),VLOOKUP($FK332,整理番号表!$B$32:$G$60,2,FALSE),)","v":0},{"$f":"IF($FK332=5,VLOOKUP($FK332,整理番号表!$B$32:$G$60,2,FALSE),)","v":0},{"$f":"IF(AND(8<=$FK332,$FK332<=13),VLOOKUP($FK332,整理番号表!$B$32:$G$60,2,FALSE),)","v":0},0,0,{"$f":"IF(AND(FE332<>1,$FP332=1,SUM($FQ332:FQ332)=0,$FF332=1,$FI332>=2),1,)","v":0},{"$f":"IF(AND(FE332<>1,$FP332=1,SUM($FQ332:FR332)=0,OR(AND($FF332=1,$FI332>0),$FI332>=4)),1,)","v":0},{"$f":"IF(AND(FE332<>1,$FP332=1,SUM($FQ332:FS332)=0,OR($FF332=1,$FI332>=2)),1,)","v":0},{"$f":"IF(AND(FE332<>1,$FP332=1,SUM($FQ332:FT332)=0,$FI332>0),1,)","v":0},0,0,{"$f":"IF(AND(FE332<>1,$FP332=2,SUM($FW332:FW332)=0,$FF332=1,$FJ332>=0.1),1,)","v":0},{"$f":"IF(AND(FE332<>1,$FP332=2,SUM($FW332:FX332)=0,OR(AND($FF332=1,$FI332>0),$FJ332>=0.2)),1,)","v":0},{"$f":"IF(AND(FE332<>1,$FP332=2,SUM($FW332:FY332)=0,OR($FF332=1,$FJ332>=0.1)),1,)","v":0},{"$f":"IF(AND(FE332<>1,$FP332=2,SUM($FW332:FZ332)=0,$FI332>0),1,)","v":0},0,{"$f":"IF(AND(FE332<>1,$FP332=3,SUM($GB332:GB332)=0,AND($FF332=1,$FJ332>=0.05)),1,)","v":0},{"$f":"IF(AND(FE332<>1,$FP332=3,SUM($GB332:GC332)=0,OR(AND($FF332=1,$FI332>0),$FJ332>=0.1)),1,)","v":0},{"$f":"IF(AND(FE332<>1,$FP332=3,SUM($GB332:GD332)=0,OR($FF332=1,$FJ332>=0.05)),1,)","v":0},{"$f":"IF(AND(FE332<>1,$FP332=3,SUM($GB332:GE332)=0,$FI332>0),1,)","v":0},0,null,0,0,0,0,0,0,0,0,0,0,0,0,0,0,0,0,0,0,0,0,0,0,0,0,0,0,0,0,0,0,0,0,0,0,0,0,0,0,0,0,0,0,0,0,0,0,0,0,0,0,0,0,0,0,0,0,0,0,0,0,0,0,0,0,0,0,0,0,0,0,0,0,0,0,0,0,0,0,0,"","","","","","","","","","","","","","","","○",0,0,0,0,0,0,0,"○",0,0,0,"○","○",null,0,0]
[0,0,0,0,0,0,0,0,0,0,321,null,null,null,null,{"$f":"IF(O333<>\"\",VLOOKUP(O333,整理番号表!$Z$17:$AA$20,2,FALSE),)","v":0},0,null,null,null,null,null,{"$f":"IF(V333<>0,VLOOKUP(V333,整理番号表!$B$6:$L$13,2,FALSE),)","v":0},0,{"$f":"IF(X333<>0,VLOOKUP(X333,整理番号表!$B$16:$C$18,2,FALSE),)","v":0},null,{"$f":"IF(Z333<>0,VLOOKUP(Z333,整理番号表!$B$22:$C$29,2,FALSE),)","v":0},null,null,{"$f":"IF(AC333<>0,VLOOKUP(AC333,整理番号表!$B$32:$G$60,2,FALSE),)","v":0},null,{"$f":"IF(AE333<>0,VLOOKUP(AE333,整理番号表!$P$5:$R$39,2,FALSE),)","v":0},null,0,null,null,{"$f":"IF(AJ333<>\"\",VLOOKUP(AJ333,整理番号表!$Z$6:$AA$14,2,FALSE),\"\")","v":""},0,null,null,null,null,null,{"$f":"IF(AQ333<>0,VLOOKUP(AQ333,整理番号表!$P$43:$Q$49,2,FALSE),)","v":0},null,null,null,null,0,0,null,0,null,null,null,0,0,0,null,null,0,0,null,{"$f":"IF(BK333<>0,VLOOKUP(BK333,整理番号表!$T$5:$U$16,2,FALSE),)","v":0},null,{"$f":"IF(BM333<>0,VLOOKUP(BM333,整理番号表!$T$22:$U$30,2,FALSE),)","v":0},null,0,"",null,null,null,null,null,"",0,null,null,null,null,null,null,null,null,null,0,0,0,0,0,0,0,0,0,0,0,0,0,0,0,0,0,0,0,0,0,0,0,0,0,0,0,0,null,null,null,null,null,0,0,0,0,0,0,null,0,null,null,null,null,null,null,null,0,null,null,null,null,null,null,null,null,null,null,null,null,null,null,null,null,null,null,null,null,null,null,null,null,null,null,0,0,null,null,0,0,0,{"$f":"IF(OR(AND(1<=$FK333,$FK333<=3),$FK333=6),VLOOKUP($FK333,整理番号表!$B$32:$G$60,2,FALSE),)","v":0},{"$f":"IF(OR($FK333=4,$FK333=7),VLOOKUP($FK333,整理番号表!$B$32:$G$60,2,FALSE),)","v":0},{"$f":"IF($FK333=5,VLOOKUP($FK333,整理番号表!$B$32:$G$60,2,FALSE),)","v":0},{"$f":"IF(AND(8<=$FK333,$FK333<=13),VLOOKUP($FK333,整理番号表!$B$32:$G$60,2,FALSE),)","v":0},0,0,{"$f":"IF(AND(FE333<>1,$FP333=1,SUM($FQ333:FQ333)=0,$FF333=1,$FI333>=2),1,)","v":0},{"$f":"IF(AND(FE333<>1,$FP333=1,SUM($FQ333:FR333)=0,OR(AND($FF333=1,$FI333>0),$FI333>=4)),1,)","v":0},{"$f":"IF(AND(FE333<>1,$FP333=1,SUM($FQ333:FS333)=0,OR($FF333=1,$FI333>=2)),1,)","v":0},{"$f":"IF(AND(FE333<>1,$FP333=1,SUM($FQ333:FT333)=0,$FI333>0),1,)","v":0},0,0,{"$f":"IF(AND(FE333<>1,$FP333=2,SUM($FW333:FW333)=0,$FF333=1,$FJ333>=0.1),1,)","v":0},{"$f":"IF(AND(FE333<>1,$FP333=2,SUM($FW333:FX333)=0,OR(AND($FF333=1,$FI333>0),$FJ333>=0.2)),1,)","v":0},{"$f":"IF(AND(FE333<>1,$FP333=2,SUM($FW333:FY333)=0,OR($FF333=1,$FJ333>=0.1)),1,)","v":0},{"$f":"IF(AND(FE333<>1,$FP333=2,SUM($FW333:FZ333)=0,$FI333>0),1,)","v":0},0,{"$f":"IF(AND(FE333<>1,$FP333=3,SUM($GB333:GB333)=0,AND($FF333=1,$FJ333>=0.05)),1,)","v":0},{"$f":"IF(AND(FE333<>1,$FP333=3,SUM($GB333:GC333)=0,OR(AND($FF333=1,$FI333>0),$FJ333>=0.1)),1,)","v":0},{"$f":"IF(AND(FE333<>1,$FP333=3,SUM($GB333:GD333)=0,OR($FF333=1,$FJ333>=0.05)),1,)","v":0},{"$f":"IF(AND(FE333<>1,$FP333=3,SUM($GB333:GE333)=0,$FI333>0),1,)","v":0},0,null,0,0,0,0,0,0,0,0,0,0,0,0,0,0,0,0,0,0,0,0,0,0,0,0,0,0,0,0,0,0,0,0,0,0,0,0,0,0,0,0,0,0,0,0,0,0,0,0,0,0,0,0,0,0,0,0,0,0,0,0,0,0,0,0,0,0,0,0,0,0,0,0,0,0,0,0,0,0,0,"","","","","","","","","","","","","","","","○",0,0,0,0,0,0,0,"○",0,0,0,"○","○",null,0,0]
[0,0,0,0,0,0,0,0,0,0,322,null,null,null,null,{"$f":"IF(O334<>\"\",VLOOKUP(O334,整理番号表!$Z$17:$AA$20,2,FALSE),)","v":0},0,null,null,null,null,null,{"$f":"IF(V334<>0,VLOOKUP(V334,整理番号表!$B$6:$L$13,2,FALSE),)","v":0},0,{"$f":"IF(X334<>0,VLOOKUP(X334,整理番号表!$B$16:$C$18,2,FALSE),)","v":0},null,{"$f":"IF(Z334<>0,VLOOKUP(Z334,整理番号表!$B$22:$C$29,2,FALSE),)","v":0},null,null,{"$f":"IF(AC334<>0,VLOOKUP(AC334,整理番号表!$B$32:$G$60,2,FALSE),)","v":0},null,{"$f":"IF(AE334<>0,VLOOKUP(AE334,整理番号表!$P$5:$R$39,2,FALSE),)","v":0},null,0,null,null,{"$f":"IF(AJ334<>\"\",VLOOKUP(AJ334,整理番号表!$Z$6:$AA$14,2,FALSE),\"\")","v":""},0,null,null,null,null,null,{"$f":"IF(AQ334<>0,VLOOKUP(AQ334,整理番号表!$P$43:$Q$49,2,FALSE),)","v":0},null,null,null,null,0,0,null,0,null,null,null,0,0,0,null,null,0,0,null,{"$f":"IF(BK334<>0,VLOOKUP(BK334,整理番号表!$T$5:$U$16,2,FALSE),)","v":0},null,{"$f":"IF(BM334<>0,VLOOKUP(BM334,整理番号表!$T$22:$U$30,2,FALSE),)","v":0},null,0,"",null,null,null,null,null,"",{"$f":"IF(BR334>0,IF(BS334=2,ROUNDDOWN((BV334-BR334),0),IF(BS334=1,ROUNDDOWN((BV334-BR334)*3/4,0),\"\")),IF(BV334>0,BV334,0))","v":0},null,null,null,null,null,null,null,null,null,0,0,0,0,0,0,0,0,0,0,0,0,0,0,0,0,0,0,0,0,0,0,0,0,0,0,0,0,null,null,null,null,null,0,0,0,0,0,0,null,0,null,null,null,null,null,null,null,0,null,null,null,null,null,null,null,null,null,null,null,null,null,null,null,null,null,null,null,null,null,null,null,null,null,null,{"$f":"IF(X334=2,1,)","v":0},{"$f":"IF(AND(I334=1,OR(V334=1,V334=3)),1,)","v":0},null,null,{"$f":"IF(AND(I334=1,FG334<>FH334),FH334-FG334,0)","v":0},{"$f":"IF(AND(I334=1,FG334>0),ROUNDDOWN(FI334/FG334,2),0)","v":0},{"$f":"IF(I334=1,AC334,)","v":0},{"$f":"IF(OR(AND(1<=$FK334,$FK334<=3),$FK334=6),VLOOKUP($FK334,整理番号表!$B$32:$G$60,2,FALSE),)","v":0},{"$f":"IF(OR($FK334=4,$FK334=7),VLOOKUP($FK334,整理番号表!$B$32:$G$60,2,FALSE),)","v":0},{"$f":"IF($FK334=5,VLOOKUP($FK334,整理番号表!$B$32:$G$60,2,FALSE),)","v":0},{"$f":"IF(AND(8<=$FK334,$FK334<=13),VLOOKUP($FK334,整理番号表!$B$32:$G$60,2,FALSE),)","v":0},{"$f":"IF(FL334<>0,1,IF(FM334<>0,2,IF(FN334<>0,3,IF(FO334<>0,4,))))","v":0},{"$f":"IF(AND(FE334<>1,$FP334=1,$FF334=1,$FI334>=4),1,)","v":0},{"$f":"IF(AND(FE334<>1,$FP334=1,SUM($FQ334:FQ334)=0,$FF334=1,$FI334>=2),1,)","v":0},{"$f":"IF(AND(FE334<>1,$FP334=1,SUM($FQ334:FR334)=0,OR(AND($FF334=1,$FI334>0),$FI334>=4)),1,)","v":0},{"$f":"IF(AND(FE334<>1,$FP334=1,SUM($FQ334:FS334)=0,OR($FF334=1,$FI334>=2)),1,)","v":0},{"$f":"IF(AND(FE334<>1,$FP334=1,SUM($FQ334:FT334)=0,$FI334>0),1,)","v":0},{"$f":"IF(AND(FE334<>1,$FP334=4,$FI334>0),1,)","v":0},{"$f":"IF(AND(FE334<>1,$FP334=2,$FF334=1,$FJ334>=0.2),1,)","v":0},{"$f":"IF(AND(FE334<>1,$FP334=2,SUM($FW334:FW334)=0,$FF334=1,$FJ334>=0.1),1,)","v":0},{"$f":"IF(AND(FE334<>1,$FP334=2,SUM($FW334:FX334)=0,OR(AND($FF334=1,$FI334>0),$FJ334>=0.2)),1,)","v":0},{"$f":"IF(AND(FE334<>1,$FP334=2,SUM($FW334:FY334)=0,OR($FF334=1,$FJ334>=0.1)),1,)","v":0},{"$f":"IF(AND(FE334<>1,$FP334=2,SUM($FW334:FZ334)=0,$FI334>0),1,)","v":0},{"$f":"IF(AND(FE334<>1,$FP334=3,$FF334=1,$FJ334>=0.1),1,)","v":0},{"$f":"IF(AND(FE334<>1,$FP334=3,SUM($GB334:GB334)=0,AND($FF334=1,$FJ334>=0.05)),1,)","v":0},{"$f":"IF(AND(FE334<>1,$FP334=3,SUM($GB334:GC334)=0,OR(AND($FF334=1,$FI334>0),$FJ334>=0.1)),1,)","v":0},{"$f":"IF(AND(FE334<>1,$FP334=3,SUM($GB334:GD334)=0,OR($FF334=1,$FJ334>=0.05)),1,)","v":0},{"$f":"IF(AND(FE334<>1,$FP334=3,SUM($GB334:GE334)=0,$FI334>0),1,)","v":0},{"$f":"IF(AND($FE334=1,$FI334>0),1,)","v":0},null,0,0,0,0,0,0,0,0,0,0,0,0,0,0,0,0,0,0,0,0,0,0,0,0,0,0,0,0,0,0,0,0,0,0,0,0,0,0,0,0,0,0,0,0,0,0,0,0,0,0,0,0,0,0,0,0,0,0,0,0,0,0,0,0,0,0,0,0,0,0,0,0,0,0,0,0,0,0,0,"","","","","","","","","","","","","","",{"$f":"IF(EQ334=1,IF(CG334=1,\"○\",\"×\"),\"\")","v":""},"○",0,0,0,0,0,0,0,"○",0,0,0,"○","○",null,0,0]
[0,0,0,0,0,0,0,0,0,0,323,null,null,null,null,{"$f":"IF(O335<>\"\",VLOOKUP(O335,整理番号表!$Z$17:$AA$20,2,FALSE),)","v":0},0,null,null,null,null,null,{"$f":"IF(V335<>0,VLOOKUP(V335,整理番号表!$B$6:$L$13,2,FALSE),)","v":0},0,{"$f":"IF(X335<>0,VLOOKUP(X335,整理番号表!$B$16:$C$18,2,FALSE),)","v":0},null,{"$f":"IF(Z335<>0,VLOOKUP(Z335,整理番号表!$B$22:$C$29,2,FALSE),)","v":0},null,null,{"$f":"IF(AC335<>0,VLOOKUP(AC335,整理番号表!$B$32:$G$60,2,FALSE),)","v":0},null,{"$f":"IF(AE335<>0,VLOOKUP(AE335,整理番号表!$P$5:$R$39,2,FALSE),)","v":0},null,0,null,null,{"$f":"IF(AJ335<>\"\",VLOOKUP(AJ335,整理番号表!$Z$6:$AA$14,2,FALSE),\"\")","v":""},0,null,null,null,null,null,{"$f":"IF(AQ335<>0,VLOOKUP(AQ335,整理番号表!$P$43:$Q$49,2,FALSE),)","v":0},null,null,null,null,0,0,null,0,null,null,null,0,0,0,null,null,0,0,null,{"$f":"IF(BK335<>0,VLOOKUP(BK335,整理番号表!$T$5:$U$16,2,FALSE),)","v":0},null,{"$f":"IF(BM335<>0,VLOOKUP(BM335,整理番号表!$T$22:$U$30,2,FALSE),)","v":0},null,0,"",null,null,null,null,null,"",0,null,null,null,null,null,null,null,null,null,0,0,0,0,0,0,0,0,0,0,0,0,0,0,0,0,0,0,0,0,0,0,0,0,0,0,0,0,null,null,null,null,null,0,0,0,0,0,0,null,0,null,null,null,null,null,null,null,0,null,null,null,null,null,null,null,null,null,null,null,null,null,null,null,null,null,null,null,null,null,null,null,null,null,null,0,0,null,null,0,0,0,{"$f":"IF(OR(AND(1<=$FK335,$FK335<=3),$FK335=6),VLOOKUP($FK335,整理番号表!$B$32:$G$60,2,FALSE),)","v":0},{"$f":"IF(OR($FK335=4,$FK335=7),VLOOKUP($FK335,整理番号表!$B$32:$G$60,2,FALSE),)","v":0},{"$f":"IF($FK335=5,VLOOKUP($FK335,整理番号表!$B$32:$G$60,2,FALSE),)","v":0},{"$f":"IF(AND(8<=$FK335,$FK335<=13),VLOOKUP($FK335,整理番号表!$B$32:$G$60,2,FALSE),)","v":0},0,0,{"$f":"IF(AND(FE335<>1,$FP335=1,SUM($FQ335:FQ335)=0,$FF335=1,$FI335>=2),1,)","v":0},{"$f":"IF(AND(FE335<>1,$FP335=1,SUM($FQ335:FR335)=0,OR(AND($FF335=1,$FI335>0),$FI335>=4)),1,)","v":0},{"$f":"IF(AND(FE335<>1,$FP335=1,SUM($FQ335:FS335)=0,OR($FF335=1,$FI335>=2)),1,)","v":0},{"$f":"IF(AND(FE335<>1,$FP335=1,SUM($FQ335:FT335)=0,$FI335>0),1,)","v":0},0,0,{"$f":"IF(AND(FE335<>1,$FP335=2,SUM($FW335:FW335)=0,$FF335=1,$FJ335>=0.1),1,)","v":0},{"$f":"IF(AND(FE335<>1,$FP335=2,SUM($FW335:FX335)=0,OR(AND($FF335=1,$FI335>0),$FJ335>=0.2)),1,)","v":0},{"$f":"IF(AND(FE335<>1,$FP335=2,SUM($FW335:FY335)=0,OR($FF335=1,$FJ335>=0.1)),1,)","v":0},{"$f":"IF(AND(FE335<>1,$FP335=2,SUM($FW335:FZ335)=0,$FI335>0),1,)","v":0},0,{"$f":"IF(AND(FE335<>1,$FP335=3,SUM($GB335:GB335)=0,AND($FF335=1,$FJ335>=0.05)),1,)","v":0},{"$f":"IF(AND(FE335<>1,$FP335=3,SUM($GB335:GC335)=0,OR(AND($FF335=1,$FI335>0),$FJ335>=0.1)),1,)","v":0},{"$f":"IF(AND(FE335<>1,$FP335=3,SUM($GB335:GD335)=0,OR($FF335=1,$FJ335>=0.05)),1,)","v":0},{"$f":"IF(AND(FE335<>1,$FP335=3,SUM($GB335:GE335)=0,$FI335>0),1,)","v":0},0,null,0,0,0,0,0,0,0,0,0,0,0,0,0,0,0,0,0,0,0,0,0,0,0,0,0,0,0,0,0,0,0,0,0,0,0,0,0,0,0,0,0,0,0,0,0,0,0,0,0,0,0,0,0,0,0,0,0,0,0,0,0,0,0,0,0,0,0,0,0,0,0,0,0,0,0,0,0,0,0,"","","","","","","","","","","","","","","","○",0,0,0,0,0,0,0,"○",0,0,0,"○","○",null,0,0]
[0,0,0,0,0,0,0,0,0,0,324,null,null,null,null,{"$f":"IF(O336<>\"\",VLOOKUP(O336,整理番号表!$Z$17:$AA$20,2,FALSE),)","v":0},0,null,null,null,null,null,{"$f":"IF(V336<>0,VLOOKUP(V336,整理番号表!$B$6:$L$13,2,FALSE),)","v":0},0,{"$f":"IF(X336<>0,VLOOKUP(X336,整理番号表!$B$16:$C$18,2,FALSE),)","v":0},null,{"$f":"IF(Z336<>0,VLOOKUP(Z336,整理番号表!$B$22:$C$29,2,FALSE),)","v":0},null,null,{"$f":"IF(AC336<>0,VLOOKUP(AC336,整理番号表!$B$32:$G$60,2,FALSE),)","v":0},null,{"$f":"IF(AE336<>0,VLOOKUP(AE336,整理番号表!$P$5:$R$39,2,FALSE),)","v":0},null,0,null,null,{"$f":"IF(AJ336<>\"\",VLOOKUP(AJ336,整理番号表!$Z$6:$AA$14,2,FALSE),\"\")","v":""},0,null,null,null,null,null,{"$f":"IF(AQ336<>0,VLOOKUP(AQ336,整理番号表!$P$43:$Q$49,2,FALSE),)","v":0},null,null,null,null,0,0,null,0,null,null,null,0,0,0,null,null,0,0,null,{"$f":"IF(BK336<>0,VLOOKUP(BK336,整理番号表!$T$5:$U$16,2,FALSE),)","v":0},null,{"$f":"IF(BM336<>0,VLOOKUP(BM336,整理番号表!$T$22:$U$30,2,FALSE),)","v":0},null,0,"",null,null,null,null,null,"",0,null,null,null,null,null,null,null,null,null,0,0,0,0,0,0,0,0,0,0,0,0,0,0,0,0,0,0,0,0,0,0,0,0,0,0,0,0,null,null,null,null,null,0,0,0,0,0,0,null,0,null,null,null,null,null,null,null,0,null,null,null,null,null,null,null,null,null,null,null,null,null,null,null,null,null,null,null,null,null,null,null,null,null,null,0,0,null,null,0,0,0,{"$f":"IF(OR(AND(1<=$FK336,$FK336<=3),$FK336=6),VLOOKUP($FK336,整理番号表!$B$32:$G$60,2,FALSE),)","v":0},{"$f":"IF(OR($FK336=4,$FK336=7),VLOOKUP($FK336,整理番号表!$B$32:$G$60,2,FALSE),)","v":0},{"$f":"IF($FK336=5,VLOOKUP($FK336,整理番号表!$B$32:$G$60,2,FALSE),)","v":0},{"$f":"IF(AND(8<=$FK336,$FK336<=13),VLOOKUP($FK336,整理番号表!$B$32:$G$60,2,FALSE),)","v":0},0,0,{"$f":"IF(AND(FE336<>1,$FP336=1,SUM($FQ336:FQ336)=0,$FF336=1,$FI336>=2),1,)","v":0},{"$f":"IF(AND(FE336<>1,$FP336=1,SUM($FQ336:FR336)=0,OR(AND($FF336=1,$FI336>0),$FI336>=4)),1,)","v":0},{"$f":"IF(AND(FE336<>1,$FP336=1,SUM($FQ336:FS336)=0,OR($FF336=1,$FI336>=2)),1,)","v":0},{"$f":"IF(AND(FE336<>1,$FP336=1,SUM($FQ336:FT336)=0,$FI336>0),1,)","v":0},0,0,{"$f":"IF(AND(FE336<>1,$FP336=2,SUM($FW336:FW336)=0,$FF336=1,$FJ336>=0.1),1,)","v":0},{"$f":"IF(AND(FE336<>1,$FP336=2,SUM($FW336:FX336)=0,OR(AND($FF336=1,$FI336>0),$FJ336>=0.2)),1,)","v":0},{"$f":"IF(AND(FE336<>1,$FP336=2,SUM($FW336:FY336)=0,OR($FF336=1,$FJ336>=0.1)),1,)","v":0},{"$f":"IF(AND(FE336<>1,$FP336=2,SUM($FW336:FZ336)=0,$FI336>0),1,)","v":0},0,{"$f":"IF(AND(FE336<>1,$FP336=3,SUM($GB336:GB336)=0,AND($FF336=1,$FJ336>=0.05)),1,)","v":0},{"$f":"IF(AND(FE336<>1,$FP336=3,SUM($GB336:GC336)=0,OR(AND($FF336=1,$FI336>0),$FJ336>=0.1)),1,)","v":0},{"$f":"IF(AND(FE336<>1,$FP336=3,SUM($GB336:GD336)=0,OR($FF336=1,$FJ336>=0.05)),1,)","v":0},{"$f":"IF(AND(FE336<>1,$FP336=3,SUM($GB336:GE336)=0,$FI336>0),1,)","v":0},0,null,0,0,0,0,0,0,0,0,0,0,0,0,0,0,0,0,0,0,0,0,0,0,0,0,0,0,0,0,0,0,0,0,0,0,0,0,0,0,0,0,0,0,0,0,0,0,0,0,0,0,0,0,0,0,0,0,0,0,0,0,0,0,0,0,0,0,0,0,0,0,0,0,0,0,0,0,0,0,0,"","","","","","","","","","","","","","","","○",0,0,0,0,0,0,0,"○",0,0,0,"○","○",null,0,0]
[0,0,0,0,0,0,0,0,0,0,325,null,null,null,null,{"$f":"IF(O337<>\"\",VLOOKUP(O337,整理番号表!$Z$17:$AA$20,2,FALSE),)","v":0},0,null,null,null,null,null,{"$f":"IF(V337<>0,VLOOKUP(V337,整理番号表!$B$6:$L$13,2,FALSE),)","v":0},0,{"$f":"IF(X337<>0,VLOOKUP(X337,整理番号表!$B$16:$C$18,2,FALSE),)","v":0},null,{"$f":"IF(Z337<>0,VLOOKUP(Z337,整理番号表!$B$22:$C$29,2,FALSE),)","v":0},null,null,{"$f":"IF(AC337<>0,VLOOKUP(AC337,整理番号表!$B$32:$G$60,2,FALSE),)","v":0},null,{"$f":"IF(AE337<>0,VLOOKUP(AE337,整理番号表!$P$5:$R$39,2,FALSE),)","v":0},null,0,null,null,{"$f":"IF(AJ337<>\"\",VLOOKUP(AJ337,整理番号表!$Z$6:$AA$14,2,FALSE),\"\")","v":""},0,null,null,null,null,null,{"$f":"IF(AQ337<>0,VLOOKUP(AQ337,整理番号表!$P$43:$Q$49,2,FALSE),)","v":0},null,null,null,null,0,0,null,{"$f":"AV337-SUM(AX337,AY337,BA337,BB337,BC337)","v":0},null,null,null,0,0,0,null,null,0,0,null,{"$f":"IF(BK337<>0,VLOOKUP(BK337,整理番号表!$T$5:$U$16,2,FALSE),)","v":0},null,{"$f":"IF(BM337<>0,VLOOKUP(BM337,整理番号表!$T$22:$U$30,2,FALSE),)","v":0},null,0,"",null,null,null,null,null,"",0,null,null,null,null,null,null,null,null,null,0,0,0,0,0,0,0,0,0,0,0,0,0,0,0,0,0,0,0,0,0,0,0,0,0,0,0,0,null,null,null,null,null,0,0,0,0,0,0,null,0,null,null,null,null,null,null,null,0,null,null,null,null,null,null,null,null,null,null,null,null,null,null,null,null,null,null,null,null,null,null,null,null,null,null,0,0,null,null,0,0,0,{"$f":"IF(OR(AND(1<=$FK337,$FK337<=3),$FK337=6),VLOOKUP($FK337,整理番号表!$B$32:$G$60,2,FALSE),)","v":0},{"$f":"IF(OR($FK337=4,$FK337=7),VLOOKUP($FK337,整理番号表!$B$32:$G$60,2,FALSE),)","v":0},{"$f":"IF($FK337=5,VLOOKUP($FK337,整理番号表!$B$32:$G$60,2,FALSE),)","v":0},{"$f":"IF(AND(8<=$FK337,$FK337<=13),VLOOKUP($FK337,整理番号表!$B$32:$G$60,2,FALSE),)","v":0},0,0,{"$f":"IF(AND(FE337<>1,$FP337=1,SUM($FQ337:FQ337)=0,$FF337=1,$FI337>=2),1,)","v":0},{"$f":"IF(AND(FE337<>1,$FP337=1,SUM($FQ337:FR337)=0,OR(AND($FF337=1,$FI337>0),$FI337>=4)),1,)","v":0},{"$f":"IF(AND(FE337<>1,$FP337=1,SUM($FQ337:FS337)=0,OR($FF337=1,$FI337>=2)),1,)","v":0},{"$f":"IF(AND(FE337<>1,$FP337=1,SUM($FQ337:FT337)=0,$FI337>0),1,)","v":0},0,0,{"$f":"IF(AND(FE337<>1,$FP337=2,SUM($FW337:FW337)=0,$FF337=1,$FJ337>=0.1),1,)","v":0},{"$f":"IF(AND(FE337<>1,$FP337=2,SUM($FW337:FX337)=0,OR(AND($FF337=1,$FI337>0),$FJ337>=0.2)),1,)","v":0},{"$f":"IF(AND(FE337<>1,$FP337=2,SUM($FW337:FY337)=0,OR($FF337=1,$FJ337>=0.1)),1,)","v":0},{"$f":"IF(AND(FE337<>1,$FP337=2,SUM($FW337:FZ337)=0,$FI337>0),1,)","v":0},0,{"$f":"IF(AND(FE337<>1,$FP337=3,SUM($GB337:GB337)=0,AND($FF337=1,$FJ337>=0.05)),1,)","v":0},{"$f":"IF(AND(FE337<>1,$FP337=3,SUM($GB337:GC337)=0,OR(AND($FF337=1,$FI337>0),$FJ337>=0.1)),1,)","v":0},{"$f":"IF(AND(FE337<>1,$FP337=3,SUM($GB337:GD337)=0,OR($FF337=1,$FJ337>=0.05)),1,)","v":0},{"$f":"IF(AND(FE337<>1,$FP337=3,SUM($GB337:GE337)=0,$FI337>0),1,)","v":0},0,null,0,0,0,0,0,0,0,0,0,0,0,0,0,0,0,0,0,0,0,0,0,0,0,0,0,0,0,0,0,0,0,0,0,0,0,0,0,0,0,0,0,0,0,0,0,0,0,0,0,0,0,0,0,0,0,0,0,0,0,0,0,0,0,0,0,0,0,0,0,0,0,0,0,0,0,0,0,0,0,"","","","","","","","","","","","","","","","○",0,0,0,0,0,0,0,"○",0,0,0,"○","○",null,0,0]
[0,0,0,0,0,0,0,0,0,0,326,null,null,null,null,{"$f":"IF(O338<>\"\",VLOOKUP(O338,整理番号表!$Z$17:$AA$20,2,FALSE),)","v":0},0,null,null,null,null,null,{"$f":"IF(V338<>0,VLOOKUP(V338,整理番号表!$B$6:$L$13,2,FALSE),)","v":0},0,{"$f":"IF(X338<>0,VLOOKUP(X338,整理番号表!$B$16:$C$18,2,FALSE),)","v":0},null,{"$f":"IF(Z338<>0,VLOOKUP(Z338,整理番号表!$B$22:$C$29,2,FALSE),)","v":0},null,null,{"$f":"IF(AC338<>0,VLOOKUP(AC338,整理番号表!$B$32:$G$60,2,FALSE),)","v":0},null,{"$f":"IF(AE338<>0,VLOOKUP(AE338,整理番号表!$P$5:$R$39,2,FALSE),)","v":0},null,0,null,null,{"$f":"IF(AJ338<>\"\",VLOOKUP(AJ338,整理番号表!$Z$6:$AA$14,2,FALSE),\"\")","v":""},0,null,null,null,null,null,{"$f":"IF(AQ338<>0,VLOOKUP(AQ338,整理番号表!$P$43:$Q$49,2,FALSE),)","v":0},null,null,null,null,0,0,null,0,null,null,null,0,0,0,null,null,0,0,null,{"$f":"IF(BK338<>0,VLOOKUP(BK338,整理番号表!$T$5:$U$16,2,FALSE),)","v":0},null,{"$f":"IF(BM338<>0,VLOOKUP(BM338,整理番号表!$T$22:$U$30,2,FALSE),)","v":0},null,0,"",null,null,null,null,null,"",0,null,null,null,null,null,null,null,null,null,0,0,0,0,0,0,0,0,0,0,0,0,0,0,0,0,0,0,0,0,0,0,0,0,0,0,0,0,null,null,null,null,null,0,0,0,0,0,0,null,0,null,null,null,null,null,null,null,0,null,null,null,null,null,null,null,null,null,null,null,null,null,null,null,null,null,null,null,null,null,null,null,null,null,null,0,0,null,null,0,0,0,{"$f":"IF(OR(AND(1<=$FK338,$FK338<=3),$FK338=6),VLOOKUP($FK338,整理番号表!$B$32:$G$60,2,FALSE),)","v":0},{"$f":"IF(OR($FK338=4,$FK338=7),VLOOKUP($FK338,整理番号表!$B$32:$G$60,2,FALSE),)","v":0},{"$f":"IF($FK338=5,VLOOKUP($FK338,整理番号表!$B$32:$G$60,2,FALSE),)","v":0},{"$f":"IF(AND(8<=$FK338,$FK338<=13),VLOOKUP($FK338,整理番号表!$B$32:$G$60,2,FALSE),)","v":0},0,0,{"$f":"IF(AND(FE338<>1,$FP338=1,SUM($FQ338:FQ338)=0,$FF338=1,$FI338>=2),1,)","v":0},{"$f":"IF(AND(FE338<>1,$FP338=1,SUM($FQ338:FR338)=0,OR(AND($FF338=1,$FI338>0),$FI338>=4)),1,)","v":0},{"$f":"IF(AND(FE338<>1,$FP338=1,SUM($FQ338:FS338)=0,OR($FF338=1,$FI338>=2)),1,)","v":0},{"$f":"IF(AND(FE338<>1,$FP338=1,SUM($FQ338:FT338)=0,$FI338>0),1,)","v":0},0,0,{"$f":"IF(AND(FE338<>1,$FP338=2,SUM($FW338:FW338)=0,$FF338=1,$FJ338>=0.1),1,)","v":0},{"$f":"IF(AND(FE338<>1,$FP338=2,SUM($FW338:FX338)=0,OR(AND($FF338=1,$FI338>0),$FJ338>=0.2)),1,)","v":0},{"$f":"IF(AND(FE338<>1,$FP338=2,SUM($FW338:FY338)=0,OR($FF338=1,$FJ338>=0.1)),1,)","v":0},{"$f":"IF(AND(FE338<>1,$FP338=2,SUM($FW338:FZ338)=0,$FI338>0),1,)","v":0},0,{"$f":"IF(AND(FE338<>1,$FP338=3,SUM($GB338:GB338)=0,AND($FF338=1,$FJ338>=0.05)),1,)","v":0},{"$f":"IF(AND(FE338<>1,$FP338=3,SUM($GB338:GC338)=0,OR(AND($FF338=1,$FI338>0),$FJ338>=0.1)),1,)","v":0},{"$f":"IF(AND(FE338<>1,$FP338=3,SUM($GB338:GD338)=0,OR($FF338=1,$FJ338>=0.05)),1,)","v":0},{"$f":"IF(AND(FE338<>1,$FP338=3,SUM($GB338:GE338)=0,$FI338>0),1,)","v":0},0,null,0,0,0,0,0,0,0,0,0,0,0,0,0,0,0,0,0,0,0,0,0,0,0,0,0,0,0,0,0,0,0,0,0,0,0,0,0,0,0,0,0,0,0,0,0,0,0,0,0,0,0,0,0,0,0,0,0,0,0,0,0,0,0,0,0,0,0,0,0,0,0,0,0,0,0,0,0,0,0,"","","","","","","","","","","","","","","","○",0,0,0,0,0,0,0,"○",0,0,0,"○","○",null,0,0]
[0,0,0,0,0,0,0,0,0,0,327,null,null,null,null,{"$f":"IF(O339<>\"\",VLOOKUP(O339,整理番号表!$Z$17:$AA$20,2,FALSE),)","v":0},0,null,null,null,null,null,{"$f":"IF(V339<>0,VLOOKUP(V339,整理番号表!$B$6:$L$13,2,FALSE),)","v":0},0,{"$f":"IF(X339<>0,VLOOKUP(X339,整理番号表!$B$16:$C$18,2,FALSE),)","v":0},null,{"$f":"IF(Z339<>0,VLOOKUP(Z339,整理番号表!$B$22:$C$29,2,FALSE),)","v":0},null,null,{"$f":"IF(AC339<>0,VLOOKUP(AC339,整理番号表!$B$32:$G$60,2,FALSE),)","v":0},null,{"$f":"IF(AE339<>0,VLOOKUP(AE339,整理番号表!$P$5:$R$39,2,FALSE),)","v":0},null,0,null,null,{"$f":"IF(AJ339<>\"\",VLOOKUP(AJ339,整理番号表!$Z$6:$AA$14,2,FALSE),\"\")","v":""},0,null,null,null,null,null,{"$f":"IF(AQ339<>0,VLOOKUP(AQ339,整理番号表!$P$43:$Q$49,2,FALSE),)","v":0},null,null,null,null,0,0,null,0,null,null,null,0,0,0,null,null,0,0,null,{"$f":"IF(BK339<>0,VLOOKUP(BK339,整理番号表!$T$5:$U$16,2,FALSE),)","v":0},null,{"$f":"IF(BM339<>0,VLOOKUP(BM339,整理番号表!$T$22:$U$30,2,FALSE),)","v":0},null,0,"",null,null,null,null,null,"",0,null,null,null,null,null,null,null,null,null,{"$f":"IF(OR($BR339<=0,$BV339<=0),0,IF(AND($X339=1,$I339=1,$EU339<>1,CH$2<=$BW339,$BW339<CI$2),1,))","v":0},{"$f":"IF(OR($BR339<=0,$BV339<=0),0,IF(AND($X339=1,$I339=1,$EU339<>1,CI$2<=$BW339,$BW339<CJ$2),1,))","v":0},{"$f":"IF(OR($BR339<=0,$BV339<=0),0,IF(AND($X339=1,$I339=1,$EU339<>1,CJ$2<=$BW339,$BW339<CK$2),1,))","v":0},{"$f":"IF(OR($BR339<=0,$BV339<=0),0,IF(AND($X339=1,$I339=1,$EU339<>1,CK$2<=$BW339,$BW339<CL$2),1,))","v":0},{"$f":"IF(OR($BR339<=0,$BV339<=0),0,IF(AND($X339=1,$I339=1,$EU339<>1,CL$2<=$BW339,$BW339<CM$2),1,))","v":0},{"$f":"IF(OR($BR339<=0,$BV339<=0),0,IF(AND($X339=1,$I339=1,$EU339<>1,CM$2<=$BW339,$BW339<CN$2),1,))","v":0},0,{"$f":"IF(OR($BR339<=0,$BV339<=0),0,IF(AND($X339=2,$I339=1,$EU339<>1,CO$2<=$BW339,$BW339<CP$2),1,))","v":0},{"$f":"IF(OR($BR339<=0,$BV339<=0),0,IF(AND($X339=2,$I339=1,$EU339<>1,CP$2<=$BW339,$BW339<CQ$2),1,))","v":0},{"$f":"IF(OR($BR339<=0,$BV339<=0),0,IF(AND($X339=2,$I339=1,$EU339<>1,CQ$2<=$BW339,$BW339<CR$2),1,))","v":0},{"$f":"IF(OR($BR339<=0,$BV339<=0),0,IF(AND($X339=2,$I339=1,$EU339<>1,CR$2<=$BW339,$BW339<CS$2),1,))","v":0},{"$f":"IF(OR($BR339<=0,$BV339<=0),0,IF(AND($X339=2,$I339=1,$EU339<>1,CS$2<=$BW339,$BW339<CT$2),1,))","v":0},{"$f":"IF(OR($BR339<=0,$BV339<=0),0,IF(AND($X339=2,$I339=1,$EU339<>1,CT$2<=$BW339,$BW339<CU$2),1,))","v":0},0,{"$f":"IF($BV339<0,0,IF(AND($X339=1,$I339=1,$EU339<>1,CV$2<=$BX339,$BX339<CW$2),1,))","v":0},{"$f":"IF($BV339<0,0,IF(AND($X339=1,$I339=1,$EU339<>1,CW$2<=$BX339,$BX339<CX$2),1,))","v":0},{"$f":"IF($BV339<0,0,IF(AND($X339=1,$I339=1,$EU339<>1,CX$2<=$BX339,$BX339<CY$2),1,))","v":0},{"$f":"IF($BV339<0,0,IF(AND($X339=1,$I339=1,$EU339<>1,CY$2<=$BX339,$BX339<CZ$2),1,))","v":0},{"$f":"IF($BV339<0,0,IF(AND($X339=1,$I339=1,$EU339<>1,CZ$2<=$BX339,$BX339<DA$2),1,))","v":0},{"$f":"IF($BV339<0,0,IF(AND($X339=1,$I339=1,$EU339<>1,DA$2<=$BX339,$BX339<DB$2),1,))","v":0},0,{"$f":"IF($BV339<0,0,IF(AND($X339=2,$I339=1,$EU339<>1,DC$2<=$BX339,$BX339<DD$2),1,))","v":0},{"$f":"IF($BV339<0,0,IF(AND($X339=2,$I339=1,$EU339<>1,DD$2<=$BX339,$BX339<DE$2),1,))","v":0},{"$f":"IF($BV339<0,0,IF(AND($X339=2,$I339=1,$EU339<>1,DE$2<=$BX339,$BX339<DF$2),1,))","v":0},{"$f":"IF($BV339<0,0,IF(AND($X339=2,$I339=1,$EU339<>1,DF$2<=$BX339,$BX339<DG$2),1,))","v":0},{"$f":"IF($BV339<0,0,IF(AND($X339=2,$I339=1,$EU339<>1,DG$2<=$BX339,$BX339<DH$2),1,))","v":0},{"$f":"IF($BV339<0,0,IF(AND($X339=2,$I339=1,$EU339<>1,DH$2<=$BX339,$BX339<DI$2),1,))","v":0},0,null,null,null,null,null,0,0,0,0,0,0,null,0,null,null,null,null,null,null,null,0,null,null,null,null,null,null,null,null,null,null,null,null,null,null,null,null,null,null,null,null,null,null,null,null,null,null,0,0,null,null,0,0,0,{"$f":"IF(OR(AND(1<=$FK339,$FK339<=3),$FK339=6),VLOOKUP($FK339,整理番号表!$B$32:$G$60,2,FALSE),)","v":0},{"$f":"IF(OR($FK339=4,$FK339=7),VLOOKUP($FK339,整理番号表!$B$32:$G$60,2,FALSE),)","v":0},{"$f":"IF($FK339=5,VLOOKUP($FK339,整理番号表!$B$32:$G$60,2,FALSE),)","v":0},{"$f":"IF(AND(8<=$FK339,$FK339<=13),VLOOKUP($FK339,整理番号表!$B$32:$G$60,2,FALSE),)","v":0},0,0,{"$f":"IF(AND(FE339<>1,$FP339=1,SUM($FQ339:FQ339)=0,$FF339=1,$FI339>=2),1,)","v":0},{"$f":"IF(AND(FE339<>1,$FP339=1,SUM($FQ339:FR339)=0,OR(AND($FF339=1,$FI339>0),$FI339>=4)),1,)","v":0},{"$f":"IF(AND(FE339<>1,$FP339=1,SUM($FQ339:FS339)=0,OR($FF339=1,$FI339>=2)),1,)","v":0},{"$f":"IF(AND(FE339<>1,$FP339=1,SUM($FQ339:FT339)=0,$FI339>0),1,)","v":0},0,0,{"$f":"IF(AND(FE339<>1,$FP339=2,SUM($FW339:FW339)=0,$FF339=1,$FJ339>=0.1),1,)","v":0},{"$f":"IF(AND(FE339<>1,$FP339=2,SUM($FW339:FX339)=0,OR(AND($FF339=1,$FI339>0),$FJ339>=0.2)),1,)","v":0},{"$f":"IF(AND(FE339<>1,$FP339=2,SUM($FW339:FY339)=0,OR($FF339=1,$FJ339>=0.1)),1,)","v":0},{"$f":"IF(AND(FE339<>1,$FP339=2,SUM($FW339:FZ339)=0,$FI339>0),1,)","v":0},0,{"$f":"IF(AND(FE339<>1,$FP339=3,SUM($GB339:GB339)=0,AND($FF339=1,$FJ339>=0.05)),1,)","v":0},{"$f":"IF(AND(FE339<>1,$FP339=3,SUM($GB339:GC339)=0,OR(AND($FF339=1,$FI339>0),$FJ339>=0.1)),1,)","v":0},{"$f":"IF(AND(FE339<>1,$FP339=3,SUM($GB339:GD339)=0,OR($FF339=1,$FJ339>=0.05)),1,)","v":0},{"$f":"IF(AND(FE339<>1,$FP339=3,SUM($GB339:GE339)=0,$FI339>0),1,)","v":0},0,null,0,0,0,0,0,0,0,0,0,0,0,0,0,0,0,0,0,0,0,0,0,0,0,0,0,0,0,0,0,0,0,0,0,0,0,0,0,0,0,0,0,0,0,0,0,0,0,0,0,0,0,0,0,0,0,0,0,0,0,0,0,0,0,0,0,0,0,0,0,0,0,0,0,0,0,0,0,0,0,"","","","","","","","","","","","","","","","○",0,0,0,0,0,0,0,"○",0,0,0,"○","○",null,0,0]
[0,0,0,0,0,0,0,0,0,0,328,null,null,null,null,{"$f":"IF(O340<>\"\",VLOOKUP(O340,整理番号表!$Z$17:$AA$20,2,FALSE),)","v":0},0,null,null,null,null,null,{"$f":"IF(V340<>0,VLOOKUP(V340,整理番号表!$B$6:$L$13,2,FALSE),)","v":0},0,{"$f":"IF(X340<>0,VLOOKUP(X340,整理番号表!$B$16:$C$18,2,FALSE),)","v":0},null,{"$f":"IF(Z340<>0,VLOOKUP(Z340,整理番号表!$B$22:$C$29,2,FALSE),)","v":0},null,null,{"$f":"IF(AC340<>0,VLOOKUP(AC340,整理番号表!$B$32:$G$60,2,FALSE),)","v":0},null,{"$f":"IF(AE340<>0,VLOOKUP(AE340,整理番号表!$P$5:$R$39,2,FALSE),)","v":0},null,0,null,null,{"$f":"IF(AJ340<>\"\",VLOOKUP(AJ340,整理番号表!$Z$6:$AA$14,2,FALSE),\"\")","v":""},{"$f":"IF(AJ340<>0,1,)","v":0},null,null,null,null,null,{"$f":"IF(AQ340<>0,VLOOKUP(AQ340,整理番号表!$P$43:$Q$49,2,FALSE),)","v":0},null,null,null,null,0,0,null,0,null,null,null,0,0,0,null,null,0,0,null,{"$f":"IF(BK340<>0,VLOOKUP(BK340,整理番号表!$T$5:$U$16,2,FALSE),)","v":0},null,{"$f":"IF(BM340<>0,VLOOKUP(BM340,整理番号表!$T$22:$U$30,2,FALSE),)","v":0},null,{"$f":"IF(BO340=1,AY340,)","v":0},{"$f":"IF(AND(R340<>\"\",I340=1),1,\"\")","v":""},null,null,null,null,null,{"$f":"IF(BS340=2,ROUNDDOWN((BV340-BR340)/ABS(BR340),2),IF(BS340=1,ROUNDDOWN((BV340-BR340)/ABS(BR340)*3/4,2),\"\"))","v":""},0,null,null,null,null,null,null,null,null,null,0,0,0,0,0,0,0,0,0,0,0,0,0,0,0,0,0,0,0,0,0,0,0,0,0,0,0,0,null,null,null,null,null,{"$f":"SUM(FQ340,FW340,GB340)","v":0},{"$f":"SUM(FR340,FX340,GC340)","v":0},{"$f":"SUM(FS340,FY340,GD340)","v":0},{"$f":"SUM(FT340,FZ340,GE340)","v":0},{"$f":"SUM(FU340,FV340,GA340,GF340)","v":0},{"$f":"GG340","v":0},null,0,null,null,null,null,null,null,null,0,null,null,null,null,null,null,null,null,null,null,null,null,null,null,null,null,null,null,null,null,null,null,null,null,null,null,0,0,null,null,0,0,0,{"$f":"IF(OR(AND(1<=$FK340,$FK340<=3),$FK340=6),VLOOKUP($FK340,整理番号表!$B$32:$G$60,2,FALSE),)","v":0},{"$f":"IF(OR($FK340=4,$FK340=7),VLOOKUP($FK340,整理番号表!$B$32:$G$60,2,FALSE),)","v":0},{"$f":"IF($FK340=5,VLOOKUP($FK340,整理番号表!$B$32:$G$60,2,FALSE),)","v":0},{"$f":"IF(AND(8<=$FK340,$FK340<=13),VLOOKUP($FK340,整理番号表!$B$32:$G$60,2,FALSE),)","v":0},0,0,{"$f":"IF(AND(FE340<>1,$FP340=1,SUM($FQ340:FQ340)=0,$FF340=1,$FI340>=2),1,)","v":0},{"$f":"IF(AND(FE340<>1,$FP340=1,SUM($FQ340:FR340)=0,OR(AND($FF340=1,$FI340>0),$FI340>=4)),1,)","v":0},{"$f":"IF(AND(FE340<>1,$FP340=1,SUM($FQ340:FS340)=0,OR($FF340=1,$FI340>=2)),1,)","v":0},{"$f":"IF(AND(FE340<>1,$FP340=1,SUM($FQ340:FT340)=0,$FI340>0),1,)","v":0},0,0,{"$f":"IF(AND(FE340<>1,$FP340=2,SUM($FW340:FW340)=0,$FF340=1,$FJ340>=0.1),1,)","v":0},{"$f":"IF(AND(FE340<>1,$FP340=2,SUM($FW340:FX340)=0,OR(AND($FF340=1,$FI340>0),$FJ340>=0.2)),1,)","v":0},{"$f":"IF(AND(FE340<>1,$FP340=2,SUM($FW340:FY340)=0,OR($FF340=1,$FJ340>=0.1)),1,)","v":0},{"$f":"IF(AND(FE340<>1,$FP340=2,SUM($FW340:FZ340)=0,$FI340>0),1,)","v":0},0,{"$f":"IF(AND(FE340<>1,$FP340=3,SUM($GB340:GB340)=0,AND($FF340=1,$FJ340>=0.05)),1,)","v":0},{"$f":"IF(AND(FE340<>1,$FP340=3,SUM($GB340:GC340)=0,OR(AND($FF340=1,$FI340>0),$FJ340>=0.1)),1,)","v":0},{"$f":"IF(AND(FE340<>1,$FP340=3,SUM($GB340:GD340)=0,OR($FF340=1,$FJ340>=0.05)),1,)","v":0},{"$f":"IF(AND(FE340<>1,$FP340=3,SUM($GB340:GE340)=0,$FI340>0),1,)","v":0},0,null,{"$f":"IF($I340=1,CH340*GI$5,0)","v":0},{"$f":"IF($I340=1,CI340*GJ$5,0)","v":0},{"$f":"IF($I340=1,CJ340*GK$5,0)","v":0},{"$f":"IF($I340=1,CK340*GL$5,0)","v":0},{"$f":"IF($I340=1,CL340*GM$5,0)","v":0},{"$f":"IF($I340=1,CM340*GN$5,0)","v":0},{"$f":"IF($I340=1,CN340*GO$5,0)","v":0},{"$f":"IF($I340=1,CO340*GP$5,0)","v":0},{"$f":"IF($I340=1,CP340*GQ$5,0)","v":0},{"$f":"IF($I340=1,CQ340*GR$5,0)","v":0},{"$f":"IF($I340=1,CR340*GS$5,0)","v":0},{"$f":"IF($I340=1,CS340*GT$5,0)","v":0},{"$f":"IF($I340=1,CT340*GU$5,0)","v":0},{"$f":"IF($I340=1,CU340*GV$5,0)","v":0},{"$f":"IF($I340=1,CV340*GW$5,0)","v":0},{"$f":"IF($I340=1,CW340*GX$5,0)","v":0},{"$f":"IF($I340=1,CX340*GY$5,0)","v":0},{"$f":"IF($I340=1,CY340*GZ$5,0)","v":0},{"$f":"IF($I340=1,CZ340*HA$5,0)","v":0},{"$f":"IF($I340=1,DA340*HB$5,0)","v":0},{"$f":"IF($I340=1,DB340*HC$5,0)","v":0},{"$f":"IF($I340=1,DC340*HD$5,0)","v":0},{"$f":"IF($I340=1,DD340*HE$5,0)","v":0},{"$f":"IF($I340=1,DE340*HF$5,0)","v":0},{"$f":"IF($I340=1,DF340*HG$5,0)","v":0},{"$f":"IF($I340=1,DG340*HH$5,0)","v":0},{"$f":"IF($I340=1,DH340*HI$5,0)","v":0},{"$f":"IF($I340=1,DI340*HJ$5,0)","v":0},{"$f":"IF($I340=1,DJ340*HK$5,0)","v":0},{"$f":"IF($I340=1,DK340*HL$5,0)","v":0},{"$f":"IF($I340=1,DL340*HM$5,0)","v":0},{"$f":"IF($I340=1,DM340*HN$5,0)","v":0},{"$f":"IF($I340=1,DN340*HO$5,0)","v":0},{"$f":"IF($I340=1,DO340*HP$5,0)","v":0},{"$f":"IF($I340=1,DP340*HQ$5,0)","v":0},{"$f":"IF($I340=1,DQ340*HR$5,0)","v":0},{"$f":"IF($I340=1,DR340*HS$5,0)","v":0},{"$f":"IF($I340=1,DS340*HT$5,0)","v":0},{"$f":"IF($I340=1,DT340*HU$5,0)","v":0},{"$f":"IF($I340=1,DU340*HV$5,0)","v":0},{"$f":"IF($I340=1,DV340*HW$5,0)","v":0},{"$f":"IF($I340=1,DW340*HX$5,0)","v":0},{"$f":"IF($I340=1,DX340*HY$5,0)","v":0},{"$f":"IF($I340=1,DY340*HZ$5,0)","v":0},{"$f":"IF($I340=1,DZ340*IA$5,0)","v":0},{"$f":"IF($I340=1,EA340*IB$5,0)","v":0},{"$f":"IF($I340=1,EB340*IC$5,0)","v":0},{"$f":"IF($I340=1,EC340*ID$5,0)","v":0},{"$f":"IF($I340=1,ED340*IE$5,0)","v":0},{"$f":"IF($I340=1,EE340*IF$5,0)","v":0},{"$f":"IF($I340=1,EF340*IG$5,0)","v":0},{"$f":"IF($I340=1,EG340*IH$5,0)","v":0},{"$f":"IF($I340=1,EH340*II$5,0)","v":0},{"$f":"IF($I340=1,EI340*IJ$5,0)","v":0},{"$f":"IF($I340=1,EJ340*IK$5,0)","v":0},{"$f":"IF($I340=1,EK340*IL$5,0)","v":0},{"$f":"IF($I340=1,EL340*IM$5,0)","v":0},{"$f":"IF($I340=1,EM340*IN$5,0)","v":0},{"$f":"IF($I340=1,EN340*IO$5,0)","v":0},{"$f":"IF($I340=1,EO340*IP$5,0)","v":0},{"$f":"IF($I340=1,EP340*IQ$5,0)","v":0},{"$f":"IF($I340=1,EQ340*IR$5,0)","v":0},{"$f":"IF($I340=1,ER340*IS$5,0)","v":0},{"$f":"IF($I340=1,ES340*IT$5,0)","v":0},{"$f":"IF($I340=1,ET340*IU$5,0)","v":0},{"$f":"IF($I340=1,EU340*IV$5,0)","v":0},{"$f":"IF($I340=1,EV340*IW$5,0)","v":0},{"$f":"IF($I340=1,EW340*IX$5,0)","v":0},{"$f":"IF($I340=1,EX340*IY$5,0)","v":0},{"$f":"IF($I340=1,EY340*IZ$5,0)","v":0},0,{"$f":"IF($I340=1,IF(FA340<>\"\",JB$5,0),0)","v":0},{"$f":"IF($I340=1,FB340*JC$5,0)","v":0},{"$f":"IF($I340=1,FC340*JD$5,0)","v":0},{"$f":"SUM(GI340:JD340)","v":0},{"$f":"IF(G340=1,SUMIF($C$13:$C$350,C340,$JE$13:$JE$350),0)","v":0},{"$f":"IF(G340=1,SUMIF($C$13:$C$350,C340,$I$13:$I$350),0)","v":0},{"$f":"IF(JG340>0,JF340/JG340,0)","v":0},0,"","","","","","","","","","","","","","","","○",0,0,0,0,0,0,0,"○",0,0,0,"○","○",null,0,0]
[{"$f":"D341*1000000+C341*10000+Q341*100+AH341","v":0},{"$f":"IF(L341<>\"\",IF(L341<>L340,B340+1,B340),0)","v":0},{"$f":"IF(N341<>\"\",IF(N341<>N340,C340+1,C340),0)","v":0},{"$f":"IF(M341<>\"\",IF(M341<>M340,D340+1,D340),0)","v":0},{"$f":"IF(R341<>\"\",IF(OR(R341<>R340,N341<>N340),E340+1,E340),0)","v":0},{"$f":"IF(BP341>0,E341,0)","v":0},{"$f":"IF(N341<>\"\",IF(N341<>N340,1,0),0)","v":0},{"$f":"IF(M341<>\"\",IF(M341<>M340,1,0),0)","v":0},{"$f":"IF(R341<>\"\",IF(R341<>R340,1,0),0)","v":0},{"$f":"IF(AND(I341=1,SUMIF($E$13:$E$350,E341,$F$13:$F$350)>0),1,0)","v":0},329,null,null,null,null,{"$f":"IF(O341<>\"\",VLOOKUP(O341,整理番号表!$Z$17:$AA$20,2,FALSE),)","v":0},{"$f":"IF(R341<>\"\",IF(N341<>N340,1,IF(R341<>R340,Q340+1,Q340)),)","v":0},null,null,null,null,null,{"$f":"IF(V341<>0,VLOOKUP(V341,整理番号表!$B$6:$L$13,2,FALSE),)","v":0},{"$f":"IF(V341<>0,IF(V341=4,2,1),)","v":0},{"$f":"IF(X341<>0,VLOOKUP(X341,整理番号表!$B$16:$C$18,2,FALSE),)","v":0},null,{"$f":"IF(Z341<>0,VLOOKUP(Z341,整理番号表!$B$22:$C$29,2,FALSE),)","v":0},null,null,{"$f":"IF(AC341<>0,VLOOKUP(AC341,整理番号表!$B$32:$G$60,2,FALSE),)","v":0},null,{"$f":"IF(AE341<>0,VLOOKUP(AE341,整理番号表!$P$5:$R$39,2,FALSE),)","v":0},null,0,null,null,{"$f":"IF(AJ341<>\"\",VLOOKUP(AJ341,整理番号表!$Z$6:$AA$14,2,FALSE),\"\")","v":""},0,null,null,null,null,null,{"$f":"IF(AQ341<>0,VLOOKUP(AQ341,整理番号表!$P$43:$Q$49,2,FALSE),)","v":0},null,null,null,null,{"$f":"IF(AL341=1,IF(KC341>0,MIN(ROUNDDOWN(KC341,-3),IF(AND(X341=1,AB341=\"法人\"),30000000,IF(AND(X341=1,AB341=\"法人以外\"),15000000,IF(X341=2,1000000,0)))),0),0)","v":0},{"$f":"IF(KF341>0,ROUNDDOWN(KF341,-3),0)","v":0},null,0,null,null,null,{"$f":"IF(I341=1,MIN(KH341,KJ341),0)","v":0},{"$f":"IF(AV341<>0,AX341/AV341,)","v":0},{"$f":"IF(AV341<>0,AY341/AV341,)","v":0},null,null,{"$f":"IF(AX341>0,IF(AU341=1,ROUNDDOWN(AV341*10/110,0),IF(AU341=2,\"該当なし\",\"含税額\")),0)","v":0},{"$f":"IF(AX341>0,IF(AU341<>1,\" \",IF(AU341=1,ROUNDDOWN(ROUNDDOWN((AX341/(AV341-BI341)),5)*BI341,0))),0)","v":0},null,{"$f":"IF(BK341<>0,VLOOKUP(BK341,整理番号表!$T$5:$U$16,2,FALSE),)","v":0},null,{"$f":"IF(BM341<>0,VLOOKUP(BM341,整理番号表!$T$22:$U$30,2,FALSE),)","v":0},null,0,"",null,null,null,null,null,"",0,null,null,null,null,null,null,null,null,null,0,0,0,0,0,0,0,0,0,0,0,0,0,0,0,0,0,0,0,0,0,0,0,0,0,0,0,0,null,null,null,null,null,0,0,0,0,0,0,null,0,null,null,null,null,null,null,null,0,null,null,null,null,null,null,null,null,null,null,null,null,null,null,null,null,null,null,null,null,null,null,null,null,null,null,0,0,null,null,0,0,0,{"$f":"IF(OR(AND(1<=$FK341,$FK341<=3),$FK341=6),VLOOKUP($FK341,整理番号表!$B$32:$G$60,2,FALSE),)","v":0},{"$f":"IF(OR($FK341=4,$FK341=7),VLOOKUP($FK341,整理番号表!$B$32:$G$60,2,FALSE),)","v":0},{"$f":"IF($FK341=5,VLOOKUP($FK341,整理番号表!$B$32:$G$60,2,FALSE),)","v":0},{"$f":"IF(AND(8<=$FK341,$FK341<=13),VLOOKUP($FK341,整理番号表!$B$32:$G$60,2,FALSE),)","v":0},0,0,{"$f":"IF(AND(FE341<>1,$FP341=1,SUM($FQ341:FQ341)=0,$FF341=1,$FI341>=2),1,)","v":0},{"$f":"IF(AND(FE341<>1,$FP341=1,SUM($FQ341:FR341)=0,OR(AND($FF341=1,$FI341>0),$FI341>=4)),1,)","v":0},{"$f":"IF(AND(FE341<>1,$FP341=1,SUM($FQ341:FS341)=0,OR($FF341=1,$FI341>=2)),1,)","v":0},{"$f":"IF(AND(FE341<>1,$FP341=1,SUM($FQ341:FT341)=0,$FI341>0),1,)","v":0},0,0,{"$f":"IF(AND(FE341<>1,$FP341=2,SUM($FW341:FW341)=0,$FF341=1,$FJ341>=0.1),1,)","v":0},{"$f":"IF(AND(FE341<>1,$FP341=2,SUM($FW341:FX341)=0,OR(AND($FF341=1,$FI341>0),$FJ341>=0.2)),1,)","v":0},{"$f":"IF(AND(FE341<>1,$FP341=2,SUM($FW341:FY341)=0,OR($FF341=1,$FJ341>=0.1)),1,)","v":0},{"$f":"IF(AND(FE341<>1,$FP341=2,SUM($FW341:FZ341)=0,$FI341>0),1,)","v":0},0,{"$f":"IF(AND(FE341<>1,$FP341=3,SUM($GB341:GB341)=0,AND($FF341=1,$FJ341>=0.05)),1,)","v":0},{"$f":"IF(AND(FE341<>1,$FP341=3,SUM($GB341:GC341)=0,OR(AND($FF341=1,$FI341>0),$FJ341>=0.1)),1,)","v":0},{"$f":"IF(AND(FE341<>1,$FP341=3,SUM($GB341:GD341)=0,OR($FF341=1,$FJ341>=0.05)),1,)","v":0},{"$f":"IF(AND(FE341<>1,$FP341=3,SUM($GB341:GE341)=0,$FI341>0),1,)","v":0},0,null,0,0,0,0,0,0,0,0,0,0,0,0,0,0,0,0,0,0,0,0,0,0,0,0,0,0,0,0,0,0,0,0,0,0,0,0,0,0,0,0,0,0,0,0,0,0,0,0,0,0,0,0,0,0,0,0,0,0,0,0,0,0,0,0,0,0,0,0,0,0,0,0,0,0,0,0,0,0,{"$f":"IF(X341=2,1,0)","v":0},{"$f":"IF(AI341<>\"\",IF(X341=2,\"認\",IF(AND(X341=1,AY341>0),\"○\",\"×\")),\"\")","v":""},{"$f":"IF(AI341<>\"\",IF(AV341>=500000,\"○\",\"×\"),\"\")","v":""},{"$f":"IF(AI341<>\"\",IF(AND(5<=BH341,BH341<=20),\"○\",IF(OR(AND(4<=BH341,BH341<=24),OR(AE341=30,AE341=31),AG341=1),\"△\",\"×\")),\"\")","v":""},{"$f":"IF(AI341<>\"\",IF(AT341>0,\"○\",\"×\"),\"\")","v":""},{"$f":"IF(I341=1,IF(BR341=0,\"△\",IF(OR(AND(X341=1,BW341>=0.1),AND(X341=2,BW341>0)),\"○\",\"×\")),\"\")","v":""},{"$f":"IF(SUM(DO341:DT341)>0,IF(BY341=1,\"○\",\"×\"),\"\")","v":""},{"$f":"IF(BY341=1,IF(AND(FI341>0,FJ341>0),\"○\",\"×\"),\"\")","v":""},{"$f":"IF(SUM(DX341)>0,IF(BZ341=1,\"○\",\"×\"),\"\")","v":""},{"$f":"IF(SUM(EA341,EC341)>0,IF(CA341=1,\"○\",\"×\"),\"\")","v":""},{"$f":"IF(SUM(EE341)>0,IF(CB341=1,\"○\",\"×\"),\"\")","v":""},{"$f":"IF(SUM(EH341)>0,IF(CC341=1,\"○\",\"×\"),\"\")","v":""},{"$f":"IF(SUM(EK341)>0,IF(CD341=1,\"○\",\"×\"),\"\")","v":""},{"$f":"IF(SUM(EM341)>0,IF(CE341=1,\"○\",\"×\"),\"\")","v":""},{"$f":"IF(SUM(EN341:EP341)>0,IF(CF341=1,\"○\",\"×\"),\"\")","v":""},"",{"$f":"IF(COUNTIF(JJ341:JX341,\"×\")>=1,\"×\",\"○\")","v":"○"},{"$f":"AU341","v":0},{"$f":"AV341","v":0},{"$f":"IF(JZ341=1,ROUNDUP(KA341*100/110,0),KA341)","v":0},{"$f":"ROUNDDOWN(KB341*1/2,0)","v":0},{"$f":"IF(X341=2,\"認める者\",AY341)","v":0},{"$f":"AV341-SUM(AY341,BA341:BC341)","v":0},{"$f":"IF(X341=1,MIN(KC341:KE341),IF(X341=2,MIN(KC341,KE341),0))","v":0},{"$f":"IF(AX341<=KF341,\"○\",\"×\")","v":"○"},{"$f":"IF(I341=1,IF(X341=2,1000000,IF(AND(X341=1,AB341=\"法人\"),30000000,IF(AND(X341=1,AB341=\"法人以外\"),15000000,0))),0)","v":0},{"$f":"IF(I341=1,SUMIF($E$13:$E$350,E341,$AW$13:$AW$350),0)","v":0},{"$f":"IF(I341=1,SUMIF($E$13:$E$350,E341,$AX$13:$AX$350),0)","v":0},{"$f":"IF(OR(AND(KJ341>0,KH341<KJ341),AND(KI341>0,KH341<KI341)),\"×\",\"○\")","v":"○"},{"$f":"IF(OR(JY341=\"×\",KG341=\"×\",KK341=\"×\"),\"×\",\"○\")","v":"○"},null,{"$f":"C341","v":0},{"$f":"D341","v":0}]
[0,0,0,0,0,0,0,0,0,0,330,null,null,null,null,{"$f":"IF(O342<>\"\",VLOOKUP(O342,整理番号表!$Z$17:$AA$20,2,FALSE),)","v":0},0,null,null,null,null,null,{"$f":"IF(V342<>0,VLOOKUP(V342,整理番号表!$B$6:$L$13,2,FALSE),)","v":0},0,{"$f":"IF(X342<>0,VLOOKUP(X342,整理番号表!$B$16:$C$18,2,FALSE),)","v":0},null,{"$f":"IF(Z342<>0,VLOOKUP(Z342,整理番号表!$B$22:$C$29,2,FALSE),)","v":0},null,null,{"$f":"IF(AC342<>0,VLOOKUP(AC342,整理番号表!$B$32:$G$60,2,FALSE),)","v":0},null,{"$f":"IF(AE342<>0,VLOOKUP(AE342,整理番号表!$P$5:$R$39,2,FALSE),)","v":0},null,0,null,null,{"$f":"IF(AJ342<>\"\",VLOOKUP(AJ342,整理番号表!$Z$6:$AA$14,2,FALSE),\"\")","v":""},0,null,null,null,null,null,{"$f":"IF(AQ342<>0,VLOOKUP(AQ342,整理番号表!$P$43:$Q$49,2,FALSE),)","v":0},null,null,null,null,0,0,null,0,null,null,null,0,0,0,null,null,0,0,null,{"$f":"IF(BK342<>0,VLOOKUP(BK342,整理番号表!$T$5:$U$16,2,FALSE),)","v":0},null,{"$f":"IF(BM342<>0,VLOOKUP(BM342,整理番号表!$T$22:$U$30,2,FALSE),)","v":0},null,0,"",null,null,null,null,null,"",0,null,null,null,null,null,null,null,null,null,0,0,0,0,0,0,0,0,0,0,0,0,0,0,0,0,0,0,0,0,0,0,0,0,0,0,0,0,null,null,null,null,null,0,0,0,0,0,0,null,0,null,null,null,null,null,null,null,0,null,null,null,null,null,null,null,null,null,null,null,null,null,null,null,null,null,null,null,null,null,null,null,null,null,null,0,0,null,null,0,0,0,{"$f":"IF(OR(AND(1<=$FK342,$FK342<=3),$FK342=6),VLOOKUP($FK342,整理番号表!$B$32:$G$60,2,FALSE),)","v":0},{"$f":"IF(OR($FK342=4,$FK342=7),VLOOKUP($FK342,整理番号表!$B$32:$G$60,2,FALSE),)","v":0},{"$f":"IF($FK342=5,VLOOKUP($FK342,整理番号表!$B$32:$G$60,2,FALSE),)","v":0},{"$f":"IF(AND(8<=$FK342,$FK342<=13),VLOOKUP($FK342,整理番号表!$B$32:$G$60,2,FALSE),)","v":0},0,0,{"$f":"IF(AND(FE342<>1,$FP342=1,SUM($FQ342:FQ342)=0,$FF342=1,$FI342>=2),1,)","v":0},{"$f":"IF(AND(FE342<>1,$FP342=1,SUM($FQ342:FR342)=0,OR(AND($FF342=1,$FI342>0),$FI342>=4)),1,)","v":0},{"$f":"IF(AND(FE342<>1,$FP342=1,SUM($FQ342:FS342)=0,OR($FF342=1,$FI342>=2)),1,)","v":0},{"$f":"IF(AND(FE342<>1,$FP342=1,SUM($FQ342:FT342)=0,$FI342>0),1,)","v":0},0,0,{"$f":"IF(AND(FE342<>1,$FP342=2,SUM($FW342:FW342)=0,$FF342=1,$FJ342>=0.1),1,)","v":0},{"$f":"IF(AND(FE342<>1,$FP342=2,SUM($FW342:FX342)=0,OR(AND($FF342=1,$FI342>0),$FJ342>=0.2)),1,)","v":0},{"$f":"IF(AND(FE342<>1,$FP342=2,SUM($FW342:FY342)=0,OR($FF342=1,$FJ342>=0.1)),1,)","v":0},{"$f":"IF(AND(FE342<>1,$FP342=2,SUM($FW342:FZ342)=0,$FI342>0),1,)","v":0},0,{"$f":"IF(AND(FE342<>1,$FP342=3,SUM($GB342:GB342)=0,AND($FF342=1,$FJ342>=0.05)),1,)","v":0},{"$f":"IF(AND(FE342<>1,$FP342=3,SUM($GB342:GC342)=0,OR(AND($FF342=1,$FI342>0),$FJ342>=0.1)),1,)","v":0},{"$f":"IF(AND(FE342<>1,$FP342=3,SUM($GB342:GD342)=0,OR($FF342=1,$FJ342>=0.05)),1,)","v":0},{"$f":"IF(AND(FE342<>1,$FP342=3,SUM($GB342:GE342)=0,$FI342>0),1,)","v":0},0,null,0,0,0,0,0,0,0,0,0,0,0,0,0,0,0,0,0,0,0,0,0,0,0,0,0,0,0,0,0,0,0,0,0,0,0,0,0,0,0,0,0,0,0,0,0,0,0,0,0,0,0,0,0,0,0,0,0,0,0,0,0,0,0,0,0,0,0,0,0,0,0,0,0,0,0,0,0,0,0,"","","","","","","","","","","","","","","","○",0,0,0,0,0,0,0,"○",0,0,0,"○","○",null,0,0]
[0,0,0,0,0,0,0,0,0,0,331,null,null,null,null,{"$f":"IF(O343<>\"\",VLOOKUP(O343,整理番号表!$Z$17:$AA$20,2,FALSE),)","v":0},0,null,null,null,null,null,{"$f":"IF(V343<>0,VLOOKUP(V343,整理番号表!$B$6:$L$13,2,FALSE),)","v":0},0,{"$f":"IF(X343<>0,VLOOKUP(X343,整理番号表!$B$16:$C$18,2,FALSE),)","v":0},null,{"$f":"IF(Z343<>0,VLOOKUP(Z343,整理番号表!$B$22:$C$29,2,FALSE),)","v":0},null,null,{"$f":"IF(AC343<>0,VLOOKUP(AC343,整理番号表!$B$32:$G$60,2,FALSE),)","v":0},null,{"$f":"IF(AE343<>0,VLOOKUP(AE343,整理番号表!$P$5:$R$39,2,FALSE),)","v":0},null,0,null,null,{"$f":"IF(AJ343<>\"\",VLOOKUP(AJ343,整理番号表!$Z$6:$AA$14,2,FALSE),\"\")","v":""},0,null,null,null,null,null,{"$f":"IF(AQ343<>0,VLOOKUP(AQ343,整理番号表!$P$43:$Q$49,2,FALSE),)","v":0},null,null,null,null,0,0,null,0,null,null,null,0,0,0,null,null,0,0,null,{"$f":"IF(BK343<>0,VLOOKUP(BK343,整理番号表!$T$5:$U$16,2,FALSE),)","v":0},null,{"$f":"IF(BM343<>0,VLOOKUP(BM343,整理番号表!$T$22:$U$30,2,FALSE),)","v":0},null,0,"",null,null,null,null,null,"",0,null,null,null,null,null,null,null,null,null,0,0,0,0,0,0,0,0,0,0,0,0,0,0,0,0,0,0,0,0,0,0,0,0,0,0,0,0,null,null,null,null,null,0,0,0,0,0,0,null,0,null,null,null,null,null,null,null,0,null,null,null,null,null,null,null,null,null,null,null,null,null,null,null,null,null,null,null,null,null,null,null,null,null,null,0,0,null,null,0,0,0,{"$f":"IF(OR(AND(1<=$FK343,$FK343<=3),$FK343=6),VLOOKUP($FK343,整理番号表!$B$32:$G$60,2,FALSE),)","v":0},{"$f":"IF(OR($FK343=4,$FK343=7),VLOOKUP($FK343,整理番号表!$B$32:$G$60,2,FALSE),)","v":0},{"$f":"IF($FK343=5,VLOOKUP($FK343,整理番号表!$B$32:$G$60,2,FALSE),)","v":0},{"$f":"IF(AND(8<=$FK343,$FK343<=13),VLOOKUP($FK343,整理番号表!$B$32:$G$60,2,FALSE),)","v":0},0,0,{"$f":"IF(AND(FE343<>1,$FP343=1,SUM($FQ343:FQ343)=0,$FF343=1,$FI343>=2),1,)","v":0},{"$f":"IF(AND(FE343<>1,$FP343=1,SUM($FQ343:FR343)=0,OR(AND($FF343=1,$FI343>0),$FI343>=4)),1,)","v":0},{"$f":"IF(AND(FE343<>1,$FP343=1,SUM($FQ343:FS343)=0,OR($FF343=1,$FI343>=2)),1,)","v":0},{"$f":"IF(AND(FE343<>1,$FP343=1,SUM($FQ343:FT343)=0,$FI343>0),1,)","v":0},0,0,{"$f":"IF(AND(FE343<>1,$FP343=2,SUM($FW343:FW343)=0,$FF343=1,$FJ343>=0.1),1,)","v":0},{"$f":"IF(AND(FE343<>1,$FP343=2,SUM($FW343:FX343)=0,OR(AND($FF343=1,$FI343>0),$FJ343>=0.2)),1,)","v":0},{"$f":"IF(AND(FE343<>1,$FP343=2,SUM($FW343:FY343)=0,OR($FF343=1,$FJ343>=0.1)),1,)","v":0},{"$f":"IF(AND(FE343<>1,$FP343=2,SUM($FW343:FZ343)=0,$FI343>0),1,)","v":0},0,{"$f":"IF(AND(FE343<>1,$FP343=3,SUM($GB343:GB343)=0,AND($FF343=1,$FJ343>=0.05)),1,)","v":0},{"$f":"IF(AND(FE343<>1,$FP343=3,SUM($GB343:GC343)=0,OR(AND($FF343=1,$FI343>0),$FJ343>=0.1)),1,)","v":0},{"$f":"IF(AND(FE343<>1,$FP343=3,SUM($GB343:GD343)=0,OR($FF343=1,$FJ343>=0.05)),1,)","v":0},{"$f":"IF(AND(FE343<>1,$FP343=3,SUM($GB343:GE343)=0,$FI343>0),1,)","v":0},0,null,0,0,0,0,0,0,0,0,0,0,0,0,0,0,0,0,0,0,0,0,0,0,0,0,0,0,0,0,0,0,0,0,0,0,0,0,0,0,0,0,0,0,0,0,0,0,0,0,0,0,0,0,0,0,0,0,0,0,0,0,0,0,0,0,0,0,0,0,0,0,0,0,0,0,0,0,0,0,0,"","","","","","","","","","","","","","","","○",0,0,0,0,0,0,0,"○",0,0,0,"○","○",null,0,0]
[0,0,0,0,0,0,0,0,0,0,332,null,null,null,null,{"$f":"IF(O344<>\"\",VLOOKUP(O344,整理番号表!$Z$17:$AA$20,2,FALSE),)","v":0},0,null,null,null,null,null,{"$f":"IF(V344<>0,VLOOKUP(V344,整理番号表!$B$6:$L$13,2,FALSE),)","v":0},0,{"$f":"IF(X344<>0,VLOOKUP(X344,整理番号表!$B$16:$C$18,2,FALSE),)","v":0},null,{"$f":"IF(Z344<>0,VLOOKUP(Z344,整理番号表!$B$22:$C$29,2,FALSE),)","v":0},null,null,{"$f":"IF(AC344<>0,VLOOKUP(AC344,整理番号表!$B$32:$G$60,2,FALSE),)","v":0},null,{"$f":"IF(AE344<>0,VLOOKUP(AE344,整理番号表!$P$5:$R$39,2,FALSE),)","v":0},null,0,null,null,{"$f":"IF(AJ344<>\"\",VLOOKUP(AJ344,整理番号表!$Z$6:$AA$14,2,FALSE),\"\")","v":""},0,null,null,null,null,null,{"$f":"IF(AQ344<>0,VLOOKUP(AQ344,整理番号表!$P$43:$Q$49,2,FALSE),)","v":0},null,null,null,null,0,0,null,0,null,null,null,0,0,0,null,null,0,0,null,{"$f":"IF(BK344<>0,VLOOKUP(BK344,整理番号表!$T$5:$U$16,2,FALSE),)","v":0},null,{"$f":"IF(BM344<>0,VLOOKUP(BM344,整理番号表!$T$22:$U$30,2,FALSE),)","v":0},null,0,"",null,null,null,null,null,"",0,null,null,null,null,null,null,null,null,null,0,0,0,0,0,0,0,0,0,0,0,0,0,0,0,0,0,0,0,0,0,0,0,0,0,0,0,0,null,null,null,null,null,0,0,0,0,0,0,null,0,null,null,null,null,null,null,null,0,null,null,null,null,null,null,null,null,null,null,null,null,null,null,null,null,null,null,null,null,null,null,null,null,null,null,0,0,null,null,0,0,0,{"$f":"IF(OR(AND(1<=$FK344,$FK344<=3),$FK344=6),VLOOKUP($FK344,整理番号表!$B$32:$G$60,2,FALSE),)","v":0},{"$f":"IF(OR($FK344=4,$FK344=7),VLOOKUP($FK344,整理番号表!$B$32:$G$60,2,FALSE),)","v":0},{"$f":"IF($FK344=5,VLOOKUP($FK344,整理番号表!$B$32:$G$60,2,FALSE),)","v":0},{"$f":"IF(AND(8<=$FK344,$FK344<=13),VLOOKUP($FK344,整理番号表!$B$32:$G$60,2,FALSE),)","v":0},0,0,{"$f":"IF(AND(FE344<>1,$FP344=1,SUM($FQ344:FQ344)=0,$FF344=1,$FI344>=2),1,)","v":0},{"$f":"IF(AND(FE344<>1,$FP344=1,SUM($FQ344:FR344)=0,OR(AND($FF344=1,$FI344>0),$FI344>=4)),1,)","v":0},{"$f":"IF(AND(FE344<>1,$FP344=1,SUM($FQ344:FS344)=0,OR($FF344=1,$FI344>=2)),1,)","v":0},{"$f":"IF(AND(FE344<>1,$FP344=1,SUM($FQ344:FT344)=0,$FI344>0),1,)","v":0},0,0,{"$f":"IF(AND(FE344<>1,$FP344=2,SUM($FW344:FW344)=0,$FF344=1,$FJ344>=0.1),1,)","v":0},{"$f":"IF(AND(FE344<>1,$FP344=2,SUM($FW344:FX344)=0,OR(AND($FF344=1,$FI344>0),$FJ344>=0.2)),1,)","v":0},{"$f":"IF(AND(FE344<>1,$FP344=2,SUM($FW344:FY344)=0,OR($FF344=1,$FJ344>=0.1)),1,)","v":0},{"$f":"IF(AND(FE344<>1,$FP344=2,SUM($FW344:FZ344)=0,$FI344>0),1,)","v":0},0,{"$f":"IF(AND(FE344<>1,$FP344=3,SUM($GB344:GB344)=0,AND($FF344=1,$FJ344>=0.05)),1,)","v":0},{"$f":"IF(AND(FE344<>1,$FP344=3,SUM($GB344:GC344)=0,OR(AND($FF344=1,$FI344>0),$FJ344>=0.1)),1,)","v":0},{"$f":"IF(AND(FE344<>1,$FP344=3,SUM($GB344:GD344)=0,OR($FF344=1,$FJ344>=0.05)),1,)","v":0},{"$f":"IF(AND(FE344<>1,$FP344=3,SUM($GB344:GE344)=0,$FI344>0),1,)","v":0},0,null,0,0,0,0,0,0,0,0,0,0,0,0,0,0,0,0,0,0,0,0,0,0,0,0,0,0,0,0,0,0,0,0,0,0,0,0,0,0,0,0,0,0,0,0,0,0,0,0,0,0,0,0,0,0,0,0,0,0,0,0,0,0,0,0,0,0,0,0,0,0,0,0,0,0,0,0,0,0,0,"","","","","","","","","","","","","","","","○",0,0,0,0,0,0,0,"○",0,0,0,"○","○",null,0,0]
[0,0,0,0,0,0,0,0,0,0,333,null,null,null,null,{"$f":"IF(O345<>\"\",VLOOKUP(O345,整理番号表!$Z$17:$AA$20,2,FALSE),)","v":0},0,null,null,null,null,null,{"$f":"IF(V345<>0,VLOOKUP(V345,整理番号表!$B$6:$L$13,2,FALSE),)","v":0},0,{"$f":"IF(X345<>0,VLOOKUP(X345,整理番号表!$B$16:$C$18,2,FALSE),)","v":0},null,{"$f":"IF(Z345<>0,VLOOKUP(Z345,整理番号表!$B$22:$C$29,2,FALSE),)","v":0},null,null,{"$f":"IF(AC345<>0,VLOOKUP(AC345,整理番号表!$B$32:$G$60,2,FALSE),)","v":0},null,{"$f":"IF(AE345<>0,VLOOKUP(AE345,整理番号表!$P$5:$R$39,2,FALSE),)","v":0},null,0,null,null,{"$f":"IF(AJ345<>\"\",VLOOKUP(AJ345,整理番号表!$Z$6:$AA$14,2,FALSE),\"\")","v":""},0,null,null,null,null,null,{"$f":"IF(AQ345<>0,VLOOKUP(AQ345,整理番号表!$P$43:$Q$49,2,FALSE),)","v":0},null,null,null,null,0,0,null,0,null,null,null,0,0,0,null,null,0,0,null,{"$f":"IF(BK345<>0,VLOOKUP(BK345,整理番号表!$T$5:$U$16,2,FALSE),)","v":0},null,{"$f":"IF(BM345<>0,VLOOKUP(BM345,整理番号表!$T$22:$U$30,2,FALSE),)","v":0},null,0,"",null,null,null,null,null,"",0,null,null,null,null,null,null,null,null,null,0,0,0,0,0,0,0,0,0,0,0,0,0,0,0,0,0,0,0,0,0,0,0,0,0,0,0,0,null,null,null,null,null,0,0,0,0,0,0,null,0,null,null,null,null,null,null,null,0,null,null,null,null,null,null,null,null,null,null,null,null,null,null,null,null,null,null,null,null,null,null,null,null,null,null,0,0,null,null,0,0,0,{"$f":"IF(OR(AND(1<=$FK345,$FK345<=3),$FK345=6),VLOOKUP($FK345,整理番号表!$B$32:$G$60,2,FALSE),)","v":0},{"$f":"IF(OR($FK345=4,$FK345=7),VLOOKUP($FK345,整理番号表!$B$32:$G$60,2,FALSE),)","v":0},{"$f":"IF($FK345=5,VLOOKUP($FK345,整理番号表!$B$32:$G$60,2,FALSE),)","v":0},{"$f":"IF(AND(8<=$FK345,$FK345<=13),VLOOKUP($FK345,整理番号表!$B$32:$G$60,2,FALSE),)","v":0},0,0,{"$f":"IF(AND(FE345<>1,$FP345=1,SUM($FQ345:FQ345)=0,$FF345=1,$FI345>=2),1,)","v":0},{"$f":"IF(AND(FE345<>1,$FP345=1,SUM($FQ345:FR345)=0,OR(AND($FF345=1,$FI345>0),$FI345>=4)),1,)","v":0},{"$f":"IF(AND(FE345<>1,$FP345=1,SUM($FQ345:FS345)=0,OR($FF345=1,$FI345>=2)),1,)","v":0},{"$f":"IF(AND(FE345<>1,$FP345=1,SUM($FQ345:FT345)=0,$FI345>0),1,)","v":0},0,0,{"$f":"IF(AND(FE345<>1,$FP345=2,SUM($FW345:FW345)=0,$FF345=1,$FJ345>=0.1),1,)","v":0},{"$f":"IF(AND(FE345<>1,$FP345=2,SUM($FW345:FX345)=0,OR(AND($FF345=1,$FI345>0),$FJ345>=0.2)),1,)","v":0},{"$f":"IF(AND(FE345<>1,$FP345=2,SUM($FW345:FY345)=0,OR($FF345=1,$FJ345>=0.1)),1,)","v":0},{"$f":"IF(AND(FE345<>1,$FP345=2,SUM($FW345:FZ345)=0,$FI345>0),1,)","v":0},0,{"$f":"IF(AND(FE345<>1,$FP345=3,SUM($GB345:GB345)=0,AND($FF345=1,$FJ345>=0.05)),1,)","v":0},{"$f":"IF(AND(FE345<>1,$FP345=3,SUM($GB345:GC345)=0,OR(AND($FF345=1,$FI345>0),$FJ345>=0.1)),1,)","v":0},{"$f":"IF(AND(FE345<>1,$FP345=3,SUM($GB345:GD345)=0,OR($FF345=1,$FJ345>=0.05)),1,)","v":0},{"$f":"IF(AND(FE345<>1,$FP345=3,SUM($GB345:GE345)=0,$FI345>0),1,)","v":0},0,null,0,0,0,0,0,0,0,0,0,0,0,0,0,0,0,0,0,0,0,0,0,0,0,0,0,0,0,0,0,0,0,0,0,0,0,0,0,0,0,0,0,0,0,0,0,0,0,0,0,0,0,0,0,0,0,0,0,0,0,0,0,0,0,0,0,0,0,0,0,0,0,0,0,0,0,0,0,0,0,"","","","","","","","","","","","","","","","○",0,0,0,0,0,0,0,"○",0,0,0,"○","○",null,0,0]
[0,0,0,0,0,0,0,0,0,0,334,null,null,null,null,{"$f":"IF(O346<>\"\",VLOOKUP(O346,整理番号表!$Z$17:$AA$20,2,FALSE),)","v":0},0,null,null,null,null,null,{"$f":"IF(V346<>0,VLOOKUP(V346,整理番号表!$B$6:$L$13,2,FALSE),)","v":0},0,{"$f":"IF(X346<>0,VLOOKUP(X346,整理番号表!$B$16:$C$18,2,FALSE),)","v":0},null,{"$f":"IF(Z346<>0,VLOOKUP(Z346,整理番号表!$B$22:$C$29,2,FALSE),)","v":0},null,null,{"$f":"IF(AC346<>0,VLOOKUP(AC346,整理番号表!$B$32:$G$60,2,FALSE),)","v":0},null,{"$f":"IF(AE346<>0,VLOOKUP(AE346,整理番号表!$P$5:$R$39,2,FALSE),)","v":0},null,0,null,null,{"$f":"IF(AJ346<>\"\",VLOOKUP(AJ346,整理番号表!$Z$6:$AA$14,2,FALSE),\"\")","v":""},0,null,null,null,null,null,{"$f":"IF(AQ346<>0,VLOOKUP(AQ346,整理番号表!$P$43:$Q$49,2,FALSE),)","v":0},null,null,null,null,0,0,null,0,null,null,null,0,0,0,null,null,0,0,null,{"$f":"IF(BK346<>0,VLOOKUP(BK346,整理番号表!$T$5:$U$16,2,FALSE),)","v":0},null,{"$f":"IF(BM346<>0,VLOOKUP(BM346,整理番号表!$T$22:$U$30,2,FALSE),)","v":0},null,0,"",null,null,null,null,null,"",0,null,null,null,null,null,null,null,null,null,0,0,0,0,0,0,0,0,0,0,0,0,0,0,0,0,0,0,0,0,0,0,0,0,0,0,0,0,null,null,null,null,null,0,0,0,0,0,0,null,0,null,null,null,null,null,null,null,0,null,null,null,null,null,null,null,null,null,null,null,null,null,null,null,null,null,null,null,null,null,null,null,null,null,null,0,0,null,null,0,0,0,{"$f":"IF(OR(AND(1<=$FK346,$FK346<=3),$FK346=6),VLOOKUP($FK346,整理番号表!$B$32:$G$60,2,FALSE),)","v":0},{"$f":"IF(OR($FK346=4,$FK346=7),VLOOKUP($FK346,整理番号表!$B$32:$G$60,2,FALSE),)","v":0},{"$f":"IF($FK346=5,VLOOKUP($FK346,整理番号表!$B$32:$G$60,2,FALSE),)","v":0},{"$f":"IF(AND(8<=$FK346,$FK346<=13),VLOOKUP($FK346,整理番号表!$B$32:$G$60,2,FALSE),)","v":0},0,0,{"$f":"IF(AND(FE346<>1,$FP346=1,SUM($FQ346:FQ346)=0,$FF346=1,$FI346>=2),1,)","v":0},{"$f":"IF(AND(FE346<>1,$FP346=1,SUM($FQ346:FR346)=0,OR(AND($FF346=1,$FI346>0),$FI346>=4)),1,)","v":0},{"$f":"IF(AND(FE346<>1,$FP346=1,SUM($FQ346:FS346)=0,OR($FF346=1,$FI346>=2)),1,)","v":0},{"$f":"IF(AND(FE346<>1,$FP346=1,SUM($FQ346:FT346)=0,$FI346>0),1,)","v":0},0,0,{"$f":"IF(AND(FE346<>1,$FP346=2,SUM($FW346:FW346)=0,$FF346=1,$FJ346>=0.1),1,)","v":0},{"$f":"IF(AND(FE346<>1,$FP346=2,SUM($FW346:FX346)=0,OR(AND($FF346=1,$FI346>0),$FJ346>=0.2)),1,)","v":0},{"$f":"IF(AND(FE346<>1,$FP346=2,SUM($FW346:FY346)=0,OR($FF346=1,$FJ346>=0.1)),1,)","v":0},{"$f":"IF(AND(FE346<>1,$FP346=2,SUM($FW346:FZ346)=0,$FI346>0),1,)","v":0},0,{"$f":"IF(AND(FE346<>1,$FP346=3,SUM($GB346:GB346)=0,AND($FF346=1,$FJ346>=0.05)),1,)","v":0},{"$f":"IF(AND(FE346<>1,$FP346=3,SUM($GB346:GC346)=0,OR(AND($FF346=1,$FI346>0),$FJ346>=0.1)),1,)","v":0},{"$f":"IF(AND(FE346<>1,$FP346=3,SUM($GB346:GD346)=0,OR($FF346=1,$FJ346>=0.05)),1,)","v":0},{"$f":"IF(AND(FE346<>1,$FP346=3,SUM($GB346:GE346)=0,$FI346>0),1,)","v":0},0,null,0,0,0,0,0,0,0,0,0,0,0,0,0,0,0,0,0,0,0,0,0,0,0,0,0,0,0,0,0,0,0,0,0,0,0,0,0,0,0,0,0,0,0,0,0,0,0,0,0,0,0,0,0,0,0,0,0,0,0,0,0,0,0,0,0,0,0,0,0,0,0,0,0,0,0,0,0,0,0,"","","","","","","","","","","","","","","","○",0,0,0,0,0,0,0,"○",0,0,0,"○","○",null,0,0]
[0,0,0,0,0,0,0,0,0,0,335,null,null,null,null,{"$f":"IF(O347<>\"\",VLOOKUP(O347,整理番号表!$Z$17:$AA$20,2,FALSE),)","v":0},0,null,null,null,null,null,{"$f":"IF(V347<>0,VLOOKUP(V347,整理番号表!$B$6:$L$13,2,FALSE),)","v":0},0,{"$f":"IF(X347<>0,VLOOKUP(X347,整理番号表!$B$16:$C$18,2,FALSE),)","v":0},null,{"$f":"IF(Z347<>0,VLOOKUP(Z347,整理番号表!$B$22:$C$29,2,FALSE),)","v":0},null,null,{"$f":"IF(AC347<>0,VLOOKUP(AC347,整理番号表!$B$32:$G$60,2,FALSE),)","v":0},null,{"$f":"IF(AE347<>0,VLOOKUP(AE347,整理番号表!$P$5:$R$39,2,FALSE),)","v":0},null,0,null,null,{"$f":"IF(AJ347<>\"\",VLOOKUP(AJ347,整理番号表!$Z$6:$AA$14,2,FALSE),\"\")","v":""},0,null,null,null,null,null,{"$f":"IF(AQ347<>0,VLOOKUP(AQ347,整理番号表!$P$43:$Q$49,2,FALSE),)","v":0},null,null,null,null,0,0,null,0,null,null,null,0,0,0,null,null,0,0,null,{"$f":"IF(BK347<>0,VLOOKUP(BK347,整理番号表!$T$5:$U$16,2,FALSE),)","v":0},null,{"$f":"IF(BM347<>0,VLOOKUP(BM347,整理番号表!$T$22:$U$30,2,FALSE),)","v":0},null,0,"",null,null,null,null,null,"",0,null,null,null,null,null,null,null,null,null,0,0,0,0,0,0,0,0,0,0,0,0,0,0,0,0,0,0,0,0,0,0,0,0,0,0,0,0,null,null,null,null,null,0,0,0,0,0,0,null,0,null,null,null,null,null,null,null,0,null,null,null,null,null,null,null,null,null,null,null,null,null,null,null,null,null,null,null,null,null,null,null,null,null,null,0,0,null,null,0,0,0,{"$f":"IF(OR(AND(1<=$FK347,$FK347<=3),$FK347=6),VLOOKUP($FK347,整理番号表!$B$32:$G$60,2,FALSE),)","v":0},{"$f":"IF(OR($FK347=4,$FK347=7),VLOOKUP($FK347,整理番号表!$B$32:$G$60,2,FALSE),)","v":0},{"$f":"IF($FK347=5,VLOOKUP($FK347,整理番号表!$B$32:$G$60,2,FALSE),)","v":0},{"$f":"IF(AND(8<=$FK347,$FK347<=13),VLOOKUP($FK347,整理番号表!$B$32:$G$60,2,FALSE),)","v":0},0,0,{"$f":"IF(AND(FE347<>1,$FP347=1,SUM($FQ347:FQ347)=0,$FF347=1,$FI347>=2),1,)","v":0},{"$f":"IF(AND(FE347<>1,$FP347=1,SUM($FQ347:FR347)=0,OR(AND($FF347=1,$FI347>0),$FI347>=4)),1,)","v":0},{"$f":"IF(AND(FE347<>1,$FP347=1,SUM($FQ347:FS347)=0,OR($FF347=1,$FI347>=2)),1,)","v":0},{"$f":"IF(AND(FE347<>1,$FP347=1,SUM($FQ347:FT347)=0,$FI347>0),1,)","v":0},0,0,{"$f":"IF(AND(FE347<>1,$FP347=2,SUM($FW347:FW347)=0,$FF347=1,$FJ347>=0.1),1,)","v":0},{"$f":"IF(AND(FE347<>1,$FP347=2,SUM($FW347:FX347)=0,OR(AND($FF347=1,$FI347>0),$FJ347>=0.2)),1,)","v":0},{"$f":"IF(AND(FE347<>1,$FP347=2,SUM($FW347:FY347)=0,OR($FF347=1,$FJ347>=0.1)),1,)","v":0},{"$f":"IF(AND(FE347<>1,$FP347=2,SUM($FW347:FZ347)=0,$FI347>0),1,)","v":0},0,{"$f":"IF(AND(FE347<>1,$FP347=3,SUM($GB347:GB347)=0,AND($FF347=1,$FJ347>=0.05)),1,)","v":0},{"$f":"IF(AND(FE347<>1,$FP347=3,SUM($GB347:GC347)=0,OR(AND($FF347=1,$FI347>0),$FJ347>=0.1)),1,)","v":0},{"$f":"IF(AND(FE347<>1,$FP347=3,SUM($GB347:GD347)=0,OR($FF347=1,$FJ347>=0.05)),1,)","v":0},{"$f":"IF(AND(FE347<>1,$FP347=3,SUM($GB347:GE347)=0,$FI347>0),1,)","v":0},0,null,0,0,0,0,0,0,0,0,0,0,0,0,0,0,0,0,0,0,0,0,0,0,0,0,0,0,0,0,0,0,0,0,0,0,0,0,0,0,0,0,0,0,0,0,0,0,0,0,0,0,0,0,0,0,0,0,0,0,0,0,0,0,0,0,0,0,0,0,0,0,0,0,0,0,0,0,0,0,0,"","","","","","","","","","","","","","","","○",0,0,0,0,0,0,0,"○",0,0,0,"○","○",null,0,0]
[0,0,0,0,0,0,0,0,0,0,336,null,null,null,null,{"$f":"IF(O348<>\"\",VLOOKUP(O348,整理番号表!$Z$17:$AA$20,2,FALSE),)","v":0},0,null,null,null,null,null,{"$f":"IF(V348<>0,VLOOKUP(V348,整理番号表!$B$6:$L$13,2,FALSE),)","v":0},0,{"$f":"IF(X348<>0,VLOOKUP(X348,整理番号表!$B$16:$C$18,2,FALSE),)","v":0},null,{"$f":"IF(Z348<>0,VLOOKUP(Z348,整理番号表!$B$22:$C$29,2,FALSE),)","v":0},null,null,{"$f":"IF(AC348<>0,VLOOKUP(AC348,整理番号表!$B$32:$G$60,2,FALSE),)","v":0},null,{"$f":"IF(AE348<>0,VLOOKUP(AE348,整理番号表!$P$5:$R$39,2,FALSE),)","v":0},null,0,null,null,{"$f":"IF(AJ348<>\"\",VLOOKUP(AJ348,整理番号表!$Z$6:$AA$14,2,FALSE),\"\")","v":""},0,null,null,null,null,null,{"$f":"IF(AQ348<>0,VLOOKUP(AQ348,整理番号表!$P$43:$Q$49,2,FALSE),)","v":0},null,null,null,null,0,0,null,0,null,null,null,0,0,0,null,null,0,0,null,{"$f":"IF(BK348<>0,VLOOKUP(BK348,整理番号表!$T$5:$U$16,2,FALSE),)","v":0},null,{"$f":"IF(BM348<>0,VLOOKUP(BM348,整理番号表!$T$22:$U$30,2,FALSE),)","v":0},null,0,"",null,null,null,null,null,"",0,null,null,null,null,null,null,null,null,null,0,0,0,0,0,0,0,0,0,0,0,0,0,0,0,0,0,0,0,0,0,0,0,0,0,0,0,0,null,null,null,null,null,0,0,0,0,0,0,null,0,null,null,null,null,null,null,null,0,null,null,null,null,null,null,null,null,null,null,null,null,null,null,null,null,null,null,null,null,null,null,null,null,null,null,0,0,null,null,0,0,0,{"$f":"IF(OR(AND(1<=$FK348,$FK348<=3),$FK348=6),VLOOKUP($FK348,整理番号表!$B$32:$G$60,2,FALSE),)","v":0},{"$f":"IF(OR($FK348=4,$FK348=7),VLOOKUP($FK348,整理番号表!$B$32:$G$60,2,FALSE),)","v":0},{"$f":"IF($FK348=5,VLOOKUP($FK348,整理番号表!$B$32:$G$60,2,FALSE),)","v":0},{"$f":"IF(AND(8<=$FK348,$FK348<=13),VLOOKUP($FK348,整理番号表!$B$32:$G$60,2,FALSE),)","v":0},0,0,{"$f":"IF(AND(FE348<>1,$FP348=1,SUM($FQ348:FQ348)=0,$FF348=1,$FI348>=2),1,)","v":0},{"$f":"IF(AND(FE348<>1,$FP348=1,SUM($FQ348:FR348)=0,OR(AND($FF348=1,$FI348>0),$FI348>=4)),1,)","v":0},{"$f":"IF(AND(FE348<>1,$FP348=1,SUM($FQ348:FS348)=0,OR($FF348=1,$FI348>=2)),1,)","v":0},{"$f":"IF(AND(FE348<>1,$FP348=1,SUM($FQ348:FT348)=0,$FI348>0),1,)","v":0},0,0,{"$f":"IF(AND(FE348<>1,$FP348=2,SUM($FW348:FW348)=0,$FF348=1,$FJ348>=0.1),1,)","v":0},{"$f":"IF(AND(FE348<>1,$FP348=2,SUM($FW348:FX348)=0,OR(AND($FF348=1,$FI348>0),$FJ348>=0.2)),1,)","v":0},{"$f":"IF(AND(FE348<>1,$FP348=2,SUM($FW348:FY348)=0,OR($FF348=1,$FJ348>=0.1)),1,)","v":0},{"$f":"IF(AND(FE348<>1,$FP348=2,SUM($FW348:FZ348)=0,$FI348>0),1,)","v":0},0,{"$f":"IF(AND(FE348<>1,$FP348=3,SUM($GB348:GB348)=0,AND($FF348=1,$FJ348>=0.05)),1,)","v":0},{"$f":"IF(AND(FE348<>1,$FP348=3,SUM($GB348:GC348)=0,OR(AND($FF348=1,$FI348>0),$FJ348>=0.1)),1,)","v":0},{"$f":"IF(AND(FE348<>1,$FP348=3,SUM($GB348:GD348)=0,OR($FF348=1,$FJ348>=0.05)),1,)","v":0},{"$f":"IF(AND(FE348<>1,$FP348=3,SUM($GB348:GE348)=0,$FI348>0),1,)","v":0},0,null,0,0,0,0,0,0,0,0,0,0,0,0,0,0,0,0,0,0,0,0,0,0,0,0,0,0,0,0,0,0,0,0,0,0,0,0,0,0,0,0,0,0,0,0,0,0,0,0,0,0,0,0,0,0,0,0,0,0,0,0,0,0,0,0,0,0,0,0,0,0,0,0,0,0,0,0,0,0,0,"","","","","","","","","","","","","","","","○",0,0,0,0,0,0,0,"○",0,0,0,"○","○",null,0,0]
[0,0,0,0,0,0,0,0,0,0,337,null,null,null,null,{"$f":"IF(O349<>\"\",VLOOKUP(O349,整理番号表!$Z$17:$AA$20,2,FALSE),)","v":0},0,null,null,null,null,null,{"$f":"IF(V349<>0,VLOOKUP(V349,整理番号表!$B$6:$L$13,2,FALSE),)","v":0},0,{"$f":"IF(X349<>0,VLOOKUP(X349,整理番号表!$B$16:$C$18,2,FALSE),)","v":0},null,{"$f":"IF(Z349<>0,VLOOKUP(Z349,整理番号表!$B$22:$C$29,2,FALSE),)","v":0},null,null,{"$f":"IF(AC349<>0,VLOOKUP(AC349,整理番号表!$B$32:$G$60,2,FALSE),)","v":0},null,{"$f":"IF(AE349<>0,VLOOKUP(AE349,整理番号表!$P$5:$R$39,2,FALSE),)","v":0},null,0,null,null,{"$f":"IF(AJ349<>\"\",VLOOKUP(AJ349,整理番号表!$Z$6:$AA$14,2,FALSE),\"\")","v":""},0,null,null,null,null,null,{"$f":"IF(AQ349<>0,VLOOKUP(AQ349,整理番号表!$P$43:$Q$49,2,FALSE),)","v":0},null,null,null,null,0,0,null,0,null,null,null,0,0,0,null,null,0,0,null,{"$f":"IF(BK349<>0,VLOOKUP(BK349,整理番号表!$T$5:$U$16,2,FALSE),)","v":0},null,{"$f":"IF(BM349<>0,VLOOKUP(BM349,整理番号表!$T$22:$U$30,2,FALSE),)","v":0},null,0,"",null,null,null,null,null,"",0,null,null,null,null,null,null,null,null,null,0,0,0,0,0,0,0,0,0,0,0,0,0,0,0,0,0,0,0,0,0,0,0,0,0,0,0,0,null,null,null,null,null,0,0,0,0,0,0,null,0,null,null,null,null,null,null,null,0,null,null,null,null,null,null,null,null,null,null,null,null,null,null,null,null,null,null,null,null,null,null,null,null,null,null,0,0,null,null,0,0,0,{"$f":"IF(OR(AND(1<=$FK349,$FK349<=3),$FK349=6),VLOOKUP($FK349,整理番号表!$B$32:$G$60,2,FALSE),)","v":0},{"$f":"IF(OR($FK349=4,$FK349=7),VLOOKUP($FK349,整理番号表!$B$32:$G$60,2,FALSE),)","v":0},{"$f":"IF($FK349=5,VLOOKUP($FK349,整理番号表!$B$32:$G$60,2,FALSE),)","v":0},{"$f":"IF(AND(8<=$FK349,$FK349<=13),VLOOKUP($FK349,整理番号表!$B$32:$G$60,2,FALSE),)","v":0},0,0,{"$f":"IF(AND(FE349<>1,$FP349=1,SUM($FQ349:FQ349)=0,$FF349=1,$FI349>=2),1,)","v":0},{"$f":"IF(AND(FE349<>1,$FP349=1,SUM($FQ349:FR349)=0,OR(AND($FF349=1,$FI349>0),$FI349>=4)),1,)","v":0},{"$f":"IF(AND(FE349<>1,$FP349=1,SUM($FQ349:FS349)=0,OR($FF349=1,$FI349>=2)),1,)","v":0},{"$f":"IF(AND(FE349<>1,$FP349=1,SUM($FQ349:FT349)=0,$FI349>0),1,)","v":0},0,0,{"$f":"IF(AND(FE349<>1,$FP349=2,SUM($FW349:FW349)=0,$FF349=1,$FJ349>=0.1),1,)","v":0},{"$f":"IF(AND(FE349<>1,$FP349=2,SUM($FW349:FX349)=0,OR(AND($FF349=1,$FI349>0),$FJ349>=0.2)),1,)","v":0},{"$f":"IF(AND(FE349<>1,$FP349=2,SUM($FW349:FY349)=0,OR($FF349=1,$FJ349>=0.1)),1,)","v":0},{"$f":"IF(AND(FE349<>1,$FP349=2,SUM($FW349:FZ349)=0,$FI349>0),1,)","v":0},0,{"$f":"IF(AND(FE349<>1,$FP349=3,SUM($GB349:GB349)=0,AND($FF349=1,$FJ349>=0.05)),1,)","v":0},{"$f":"IF(AND(FE349<>1,$FP349=3,SUM($GB349:GC349)=0,OR(AND($FF349=1,$FI349>0),$FJ349>=0.1)),1,)","v":0},{"$f":"IF(AND(FE349<>1,$FP349=3,SUM($GB349:GD349)=0,OR($FF349=1,$FJ349>=0.05)),1,)","v":0},{"$f":"IF(AND(FE349<>1,$FP349=3,SUM($GB349:GE349)=0,$FI349>0),1,)","v":0},0,null,0,0,0,0,0,0,0,0,0,0,0,0,0,0,0,0,0,0,0,0,0,0,0,0,0,0,0,0,0,0,0,0,0,0,0,0,0,0,0,0,0,0,0,0,0,0,0,0,0,0,0,0,0,0,0,0,0,0,0,0,0,0,0,0,0,0,0,0,0,0,0,0,0,0,0,0,0,0,0,"","","","","","","","","","","","","","","","○",0,0,0,0,0,0,0,"○",0,0,0,"○","○",null,0,0]
[]
[null,null,null,null,null,null,null,null,null,null,null,"（注）","１　記入は、１事業内容を単位とする。"]
[null,null,null,null,null,null,null,null,null,null,null,null,"２　「助成対象者毎の実施内容」欄の「備考」欄には、消費税仕入控除税額を減額した場合には「除税額○○○円　うち国費○○○円」を、同税額がない場合には「該当なし」と、同税額が明らかでない場合には「含税額」とそれぞれ記入する。"]

{"sheet":"別紙様式第１号 ","index":2,"n_rows":161,"n_cols":48,"rows_kept":161,"cut":false,"hidden":false,"merged":[[17,18,18,25],[17,26,18,33],[17,34,17,41],[18,34,18,41],[19,18,20,25],[19,26,20,33],[39,18,40,25],[39,26,40,33],[39,34,40,41],[31,18,32,25],[31,26,32,33],[31,34,32,41],[33,18,34,25],[33,26,34,33],[33,34,34,41],[35,34,36,41],[19,34,20,41],[21,34,22,41],[21,26,22,33],[21,18,22,25],[27,34,28,41],[29,18,30,25],[29,26,30,33],[29,34,30,41],[157,3,157,41],[155,3,156,41],[56,14,56,37],[56,38,59,41],[43,5,45,41],[35,26,36,33],[35,18,36,25],[37,26,38,33],[37,34,38,41],[154,3,154,41],[149,2,150,9],[149,10,149,11],[149,12,149,20],[149,21,150,28],[153,3,153,41],[72,37,75,41],[148,29,148,30],[140,3,141,14],[133,2,134,3],[140,15,141,15],[140,16,141,27],[140,29,141,41],[37,18,38,25],[112,7,112,14],[16,22,16,41],[17,2,18,10],[19,4,22,10],[19,2,22,2],[23,3,24,3],[25,3,26,3],[106,2,106,3],[130,2,130,3],[66,2,69,6],[64,38,64,41],[56,2,59,6],[125,2,129,3],[73,29,74,32],[75,29,75,32],[73,21,74,24],[75,21,75,24],[112,15,113,18],[113,7,113,14],[98,2,99,41],[100,2,105,41],[72,2,75,14],[88,12,90,12],[68,7,69,9],[57,18,58,21],[12,2,12,3],[33,3,34,3],[37,3,38,3],[56,7,56,13],[57,7,59,13],[60,7,61,9],[23,2,40,2],[39,3,40,3],[29,3,30,3],[60,2,63,6],[35,3,36,3],[62,7,63,9],[21,11,22,17],[18,11,18,17],[19,11,20,17],[39,4,40,17],[37,4,38,17],[35,4,36,17],[33,4,34,17],[31,4,32,17],[29,4,30,17],[57,14,58,17],[25,4,26,17],[23,4,24,17],[64,7,65,9],[66,7,67,9],[64,2,65,6],[76,29,77,32],[86,2,86,39],[115,7,116,14],[115,15,116,18],[135,2,135,3],[76,2,77,14],[133,4,134,41],[111,10,111,18],[125,4,126,41],[127,4,127,41],[128,4,129,41],[112,3,113,6],[130,4,130,41],[76,25,77,28],[88,3,90,11],[88,13,90,21],[88,23,90,31],[88,33,90,41],[88,32,90,32],[88,22,90,22],[75,25,75,28],[149,29,149,30],[149,31,149,41],[150,10,150,11],[150,12,150,20],[150,29,150,30],[150,31,150,41],[88,2,90,2],[91,2,91,3],[91,4,91,41],[140,28,141,28],[66,34,67,37],[114,3,114,6],[114,7,114,14],[114,15,114,18],[115,3,116,6],[148,31,148,41],[120,3,120,7],[122,3,122,7],[145,2,146,9],[145,10,146,20],[145,21,146,28],[147,2,148,9],[147,10,148,20],[147,21,148,28],[147,29,147,30],[147,31,147,41],[138,2,139,41],[140,2,141,2],[145,29,146,41],[80,2,80,11],[80,12,80,41],[81,2,83,11],[81,12,83,41],[66,30,67,33],[27,3,28,3],[31,3,32,3],[23,18,24,25],[23,26,24,33],[23,34,24,41],[25,18,26,25],[25,26,26,33],[25,34,26,41],[27,18,28,25],[27,26,28,33],[27,4,28,17],[10,31,11,35],[10,36,11,41],[10,2,11,7],[10,8,11,13],[10,14,11,19],[8,2,9,7],[8,8,9,13],[8,14,9,19],[1,2,1,41],[3,2,5,3],[3,4,5,14],[3,15,5,16],[3,17,5,27],[6,2,6,3],[6,4,6,41],[160,2,160,3],[160,4,161,41],[48,14,48,41],[41,44,41,70],[48,2,48,12],[49,2,49,12],[50,2,50,12],[51,2,51,12],[41,2,41,3],[62,40,63,41],[76,21,77,24],[74,15,75,20],[72,15,73,20],[76,15,77,20],[76,37,77,41],[72,21,72,36],[73,33,74,36],[75,33,75,36],[73,25,74,28],[142,2,142,3],[64,18,65,21],[64,22,65,25],[50,13,50,41],[51,13,51,41],[52,13,52,41],[60,40,61,41],[3,0,4,0],[62,10,63,13],[62,22,63,25],[62,14,63,17],[46,2,46,3],[46,4,46,41],[41,5,42,41],[57,22,58,25],[57,26,58,29],[57,30,57,37],[58,30,58,33],[58,34,58,37],[52,2,52,12],[49,13,49,41],[8,20,9,25],[8,26,9,30],[8,31,9,35],[8,36,9,41],[10,20,11,25],[10,26,11,30],[62,26,63,29],[62,30,63,33],[62,34,63,37],[60,38,61,39],[60,10,61,13],[60,14,61,17],[60,22,61,25],[60,26,61,29],[60,30,61,33],[64,26,65,29],[64,30,65,33],[64,34,65,37],[1,45,1,47],[1,49,1,51],[66,38,67,41],[68,38,69,41],[62,18,63,21],[60,18,61,21],[65,38,65,41],[76,33,77,36],[68,10,69,13],[68,14,69,17],[68,18,69,21],[68,22,69,25],[68,26,69,29],[68,30,69,33],[68,34,69,37],[60,34,61,37],[62,38,63,39],[64,10,65,13],[64,14,65,17],[66,10,67,13],[66,14,67,17],[66,18,67,21],[66,22,67,25],[66,26,67,29]]}
["【Ａ，Ｂ表からの転記】",null,"別紙様式第１号"]
["①地区数に応じて\n\"支援計画書\"シートをコピー",null,"令和３年度担い手確保・経営強化支援計画書"]
["②市町村名・地区名を入力↓",null,null,null,null,null,null,null,null,null,null,null,null,null,null,null,null,null,null,null,null,null,null,null,null,null,null,null,null,null,null,null,null,null,null,null,null,null,null,null,null,null,null,null,{"$f":"MAX(AS4:AS41)","v":1},{"$f":"SUM(AT4:AT41)","v":1},{"$f":"SUM(AU4:AU41)","v":1},1]
["③青色セル項目の補完手入力→終了",null,{"$f":"IF($A$10>0,IF(OR($AS$3=1,$AS$3=2),\"■\",\"□\"),0)","v":"■"},null,"適切な人・農地プランの作成等がされている地区",null,null,null,null,null,null,null,null,null,null,{"$f":"IF($A$10>0,IF($AS$3=3,\"■\",\"□\"),0)","v":"□"},null,"人・農地プランの作成等がされていないが農地中間管理機構から賃借権等の設定等を受けた者が営農範囲とする地区",null,null,null,null,null,null,null,null,null,null,null,null,null,null,null,null,null,null,null,null,null,null,null,null,null,{"$f":"IF($A$10>0,$A$10,0)","v":1010101},{"$f":"IFERROR(IF($A$10>0,VLOOKUP($AR4,個別表!$A$13:$KO$349,22,FALSE),0),0)","v":1},{"$f":"IFERROR(IF($A$10>0,IF((VLOOKUP($AR4,個別表!$A$13:$KO$349,72,FALSE)-VLOOKUP($AR4,個別表!$A$13:$KO$349,70,FALSE))>0,1,0),0),0)","v":1},{"$f":"IFERROR(IF($A$10>0,IF((VLOOKUP($AR4,個別表!$A$13:$KO$349,73,FALSE)-VLOOKUP($AR4,個別表!$A$13:$KO$349,70,FALSE))>0,1,0),0),0)","v":1},{"$f":"IFERROR(IF($A$10>0,IF((VLOOKUP($AR4,個別表!$A$13:$KO$349,73,FALSE)-VLOOKUP($AR4,個別表!$A$13:$KO$349,70,FALSE))>0,1,0),0),0)","v":1}]
[null,null,null,null,null,null,null,null,null,null,null,null,null,null,null,null,null,null,null,null,null,null,null,null,null,null,null,null,null,null,null,null,null,null,null,null,null,null,null,null,null,null,null,{"$f":"AR4+100","v":1010201},{"$f":"IFERROR(IF($A$10>0,VLOOKUP($AR5,個別表!$A$13:$KO$349,22,FALSE),0),0)","v":0},{"$f":"IFERROR(IF($A$10>0,IF((VLOOKUP($AR5,個別表!$A$13:$KO$349,72,FALSE)-VLOOKUP($AR5,個別表!$A$13:$KO$349,70,FALSE))>0,1,0),0),0)","v":0},{"$f":"IFERROR(IF($A$10>0,IF((VLOOKUP($AR5,個別表!$A$13:$KO$349,73,FALSE)-VLOOKUP($AR5,個別表!$A$13:$KO$349,70,FALSE))>0,1,0),0),0)","v":0},{"$f":"IFERROR(IF($A$10>0,IF((VLOOKUP($AR5,個別表!$A$13:$KO$349,73,FALSE)-VLOOKUP($AR5,個別表!$A$13:$KO$349,70,FALSE))>0,1,0),0),0)","v":0}]
[null,null,null,null,null,null,null,null,null,null,null,null,null,null,null,null,null,null,null,null,null,null,null,null,null,null,null,null,null,null,null,null,null,null,null,null,null,null,null,null,null,null,null,{"$f":"AR5+100","v":1010301},{"$f":"IFERROR(IF($A$10>0,VLOOKUP($AR6,個別表!$A$13:$KO$349,22,FALSE),0),0)","v":0},{"$f":"IFERROR(IF($A$10>0,IF((VLOOKUP($AR6,個別表!$A$13:$KO$349,72,FALSE)-VLOOKUP($AR6,個別表!$A$13:$KO$349,70,FALSE))>0,1,0),0),0)","v":0},{"$f":"IFERROR(IF($A$10>0,IF((VLOOKUP($AR6,個別表!$A$13:$KO$349,73,FALSE)-VLOOKUP($AR6,個別表!$A$13:$KO$349,70,FALSE))>0,1,0),0),0)","v":0},{"$f":"IFERROR(IF($A$10>0,IF((VLOOKUP($AR6,個別表!$A$13:$KO$349,73,FALSE)-VLOOKUP($AR6,個別表!$A$13:$KO$349,70,FALSE))>0,1,0),0),0)","v":0}]
[null,null,"（注）",null,"該当する項目の□にチェックを入れること。",null,null,null,null,null,null,null,null,null,null,null,null,null,null,null,null,null,null,null,null,null,null,null,null,null,null,null,null,null,null,null,null,null,null,null,null,null,null,1010401,{"$f":"IFERROR(IF($A$10>0,VLOOKUP($AR7,個別表!$A$13:$KO$349,22,FALSE),0),0)","v":0},{"$f":"IFERROR(IF($A$10>0,IF((VLOOKUP($AR7,個別表!$A$13:$KO$349,72,FALSE)-VLOOKUP($AR7,個別表!$A$13:$KO$349,70,FALSE))>0,1,0),0),0)","v":0},{"$f":"IFERROR(IF($A$10>0,IF((VLOOKUP($AR7,個別表!$A$13:$KO$349,73,FALSE)-VLOOKUP($AR7,個別表!$A$13:$KO$349,70,FALSE))>0,1,0),0),0)","v":0},{"$f":"IFERROR(IF($A$10>0,IF((VLOOKUP($AR7,個別表!$A$13:$KO$349,73,FALSE)-VLOOKUP($AR7,個別表!$A$13:$KO$349,70,FALSE))>0,1,0),0),0)","v":0}]
[null,null,null,null,null,null,null,null,null,null,null,null,null,null,null,null,null,null,null,null,null,null,null,null,null,null,null,null,null,null,null,null,null,null,null,null,null,null,null,null,null,null,null,1010501,{"$f":"IFERROR(IF($A$10>0,VLOOKUP($AR8,個別表!$A$13:$KO$349,22,FALSE),0),0)","v":0},{"$f":"IFERROR(IF($A$10>0,IF((VLOOKUP($AR8,個別表!$A$13:$KO$349,72,FALSE)-VLOOKUP($AR8,個別表!$A$13:$KO$349,70,FALSE))>0,1,0),0),0)","v":0},{"$f":"IFERROR(IF($A$10>0,IF((VLOOKUP($AR8,個別表!$A$13:$KO$349,73,FALSE)-VLOOKUP($AR8,個別表!$A$13:$KO$349,70,FALSE))>0,1,0),0),0)","v":0},{"$f":"IFERROR(IF($A$10>0,IF((VLOOKUP($AR8,個別表!$A$13:$KO$349,73,FALSE)-VLOOKUP($AR8,個別表!$A$13:$KO$349,70,FALSE))>0,1,0),0),0)","v":0}]
[null,null,"都道府県名",null,null,null,null,null,"市町村名",null,null,null,null,null,"地区名",null,null,null,null,null,"農業地域類型",null,null,null,null,null,"事業実施年度",null,null,null,null,"目標年度",null,null,null,null,"事業実施主体",null,null,null,null,null,null,1010601,{"$f":"IFERROR(IF($A$10>0,VLOOKUP($AR9,個別表!$A$13:$KO$349,22,FALSE),0),0)","v":0},{"$f":"IFERROR(IF($A$10>0,IF((VLOOKUP($AR9,個別表!$A$13:$KO$349,72,FALSE)-VLOOKUP($AR9,個別表!$A$13:$KO$349,70,FALSE))>0,1,0),0),0)","v":0},{"$f":"IFERROR(IF($A$10>0,IF((VLOOKUP($AR9,個別表!$A$13:$KO$349,73,FALSE)-VLOOKUP($AR9,個別表!$A$13:$KO$349,70,FALSE))>0,1,0),0),0)","v":0},{"$f":"IFERROR(IF($A$10>0,IF((VLOOKUP($AR9,個別表!$A$13:$KO$349,73,FALSE)-VLOOKUP($AR9,個別表!$A$13:$KO$349,70,FALSE))>0,1,0),0),0)","v":0}]
[{"$f":"IF(AND($A$11>0,$A$12>0),A11*1000000+A12*10000+100+1,0)","v":1010101},null,null,null,null,null,null,null,null,null,null,null,null,null,null,null,null,null,null,null,null,null,null,null,null,null,null,null,null,null,null,null,null,null,null,null,null,null,null,null,null,null,null,1010701,{"$f":"IFERROR(IF($A$10>0,VLOOKUP($AR10,個別表!$A$13:$KO$349,22,FALSE),0),0)","v":0},{"$f":"IFERROR(IF($A$10>0,IF((VLOOKUP($AR10,個別表!$A$13:$KO$349,72,FALSE)-VLOOKUP($AR10,個別表!$A$13:$KO$349,70,FALSE))>0,1,0),0),0)","v":0},{"$f":"IFERROR(IF($A$10>0,IF((VLOOKUP($AR10,個別表!$A$13:$KO$349,73,FALSE)-VLOOKUP($AR10,個別表!$A$13:$KO$349,70,FALSE))>0,1,0),0),0)","v":0},{"$f":"IFERROR(IF($A$10>0,IF((VLOOKUP($AR10,個別表!$A$13:$KO$349,73,FALSE)-VLOOKUP($AR10,個別表!$A$13:$KO$349,70,FALSE))>0,1,0),0),0)","v":0}]
[{"$f":"IF(I11<>\"\",VLOOKUP(I11,個別表!$M$13:$KO$349,289,FALSE),0)","v":1},null,{"$f":"IF($A$10>0,VLOOKUP($A$10,個別表!$A$13:$KO$349,12,FALSE),0)","v":"北海道"},null,null,null,null,null,"あ",null,null,null,null,null,"甲",null,null,null,null,null,{"$f":"IF($A$10>0,VLOOKUP($A$10,個別表!$A$13:$KO$349,16,FALSE),0)","v":"平地農業地域"},null,null,null,null,null,3,null,null,null,null,5,null,null,null,null,{"$f":"IF(I11<>\"\",I11,0)","v":"あ"},null,null,null,null,null,null,1010801,{"$f":"IFERROR(IF($A$10>0,VLOOKUP($AR11,個別表!$A$13:$KO$349,22,FALSE),0),0)","v":0},{"$f":"IFERROR(IF($A$10>0,IF((VLOOKUP($AR11,個別表!$A$13:$KO$349,72,FALSE)-VLOOKUP($AR11,個別表!$A$13:$KO$349,70,FALSE))>0,1,0),0),0)","v":0},{"$f":"IFERROR(IF($A$10>0,IF((VLOOKUP($AR11,個別表!$A$13:$KO$349,73,FALSE)-VLOOKUP($AR11,個別表!$A$13:$KO$349,70,FALSE))>0,1,0),0),0)","v":0},{"$f":"IFERROR(IF($A$10>0,IF((VLOOKUP($AR11,個別表!$A$13:$KO$349,73,FALSE)-VLOOKUP($AR11,個別表!$A$13:$KO$349,70,FALSE))>0,1,0),0),0)","v":0}]
[{"$f":"IF(O11<>\"\",VLOOKUP(O11,個別表!$N$13:$KO$349,287,FALSE),0)","v":1},null,null,null,null,null,null,null,null,null,null,null,null,null,null,null,null,null,null,null,null,null,null,null,null,null,null,null,null,null,null,null,null,null,null,null,null,null,null,null,null,null,null,1010901,{"$f":"IFERROR(IF($A$10>0,VLOOKUP($AR12,個別表!$A$13:$KO$349,22,FALSE),0),0)","v":0},{"$f":"IFERROR(IF($A$10>0,IF((VLOOKUP($AR12,個別表!$A$13:$KO$349,72,FALSE)-VLOOKUP($AR12,個別表!$A$13:$KO$349,70,FALSE))>0,1,0),0),0)","v":0},{"$f":"IFERROR(IF($A$10>0,IF((VLOOKUP($AR12,個別表!$A$13:$KO$349,73,FALSE)-VLOOKUP($AR12,個別表!$A$13:$KO$349,70,FALSE))>0,1,0),0),0)","v":0},{"$f":"IFERROR(IF($A$10>0,IF((VLOOKUP($AR12,個別表!$A$13:$KO$349,73,FALSE)-VLOOKUP($AR12,個別表!$A$13:$KO$349,70,FALSE))>0,1,0),0),0)","v":0}]
[null,null,"（注）",null,"１　農業地域類型欄には、地区の農業地域類型（都市的地域、平地農業地域、中間農業地域、山間農業地域）を記載すること。",null,null,null,null,null,null,null,null,null,null,null,null,null,null,null,null,null,null,null,null,null,null,null,null,null,null,null,null,null,null,null,null,null,null,null,null,null,null,1011001,{"$f":"IFERROR(IF($A$10>0,VLOOKUP($AR13,個別表!$A$13:$KO$349,22,FALSE),0),0)","v":0},{"$f":"IFERROR(IF($A$10>0,IF((VLOOKUP($AR13,個別表!$A$13:$KO$349,72,FALSE)-VLOOKUP($AR13,個別表!$A$13:$KO$349,70,FALSE))>0,1,0),0),0)","v":0},{"$f":"IFERROR(IF($A$10>0,IF((VLOOKUP($AR13,個別表!$A$13:$KO$349,73,FALSE)-VLOOKUP($AR13,個別表!$A$13:$KO$349,70,FALSE))>0,1,0),0),0)","v":0},{"$f":"IFERROR(IF($A$10>0,IF((VLOOKUP($AR13,個別表!$A$13:$KO$349,73,FALSE)-VLOOKUP($AR13,個別表!$A$13:$KO$349,70,FALSE))>0,1,0),0),0)","v":0}]
[null,null,null,null,"２　隣接しない複数の地域を事業実施地区とする場合は、助成対象者の農地の集積・集約化に向けた計画を添付すること。",null,null,null,null,null,null,null,null,null,null,null,null,null,null,null,null,null,null,null,null,null,null,null,null,null,null,null,null,null,null,null,null,null,null,null,null,null,null,1011101,{"$f":"IFERROR(IF($A$10>0,VLOOKUP($AR14,個別表!$A$13:$KO$349,22,FALSE),0),0)","v":0},{"$f":"IFERROR(IF($A$10>0,IF((VLOOKUP($AR14,個別表!$A$13:$KO$349,72,FALSE)-VLOOKUP($AR14,個別表!$A$13:$KO$349,70,FALSE))>0,1,0),0),0)","v":0},{"$f":"IFERROR(IF($A$10>0,IF((VLOOKUP($AR14,個別表!$A$13:$KO$349,73,FALSE)-VLOOKUP($AR14,個別表!$A$13:$KO$349,70,FALSE))>0,1,0),0),0)","v":0},{"$f":"IFERROR(IF($A$10>0,IF((VLOOKUP($AR14,個別表!$A$13:$KO$349,73,FALSE)-VLOOKUP($AR14,個別表!$A$13:$KO$349,70,FALSE))>0,1,0),0),0)","v":0}]
[null,null,null,null,null,null,null,null,null,null,null,null,null,null,null,null,null,null,null,null,null,null,null,null,null,null,null,null,null,null,null,null,null,null,null,null,null,null,null,null,null,null,null,1011201,{"$f":"IFERROR(IF($A$10>0,VLOOKUP($AR15,個別表!$A$13:$KO$349,22,FALSE),0),0)","v":0},{"$f":"IFERROR(IF($A$10>0,IF((VLOOKUP($AR15,個別表!$A$13:$KO$349,72,FALSE)-VLOOKUP($AR15,個別表!$A$13:$KO$349,70,FALSE))>0,1,0),0),0)","v":0},{"$f":"IFERROR(IF($A$10>0,IF((VLOOKUP($AR15,個別表!$A$13:$KO$349,73,FALSE)-VLOOKUP($AR15,個別表!$A$13:$KO$349,70,FALSE))>0,1,0),0),0)","v":0},{"$f":"IFERROR(IF($A$10>0,IF((VLOOKUP($AR15,個別表!$A$13:$KO$349,73,FALSE)-VLOOKUP($AR15,個別表!$A$13:$KO$349,70,FALSE))>0,1,0),0),0)","v":0}]
[null,null,"Ⅰ　事業実施地区の成果目標",null,null,null,null,null,null,null,null,null,null,null,null,null,null,null,null,null,null,null,null,null,null,null,null,null,null,null,null,null,null,null,null,null,null,null,null,null,null,null,null,1011301,{"$f":"IFERROR(IF($A$10>0,VLOOKUP($AR16,個別表!$A$13:$KO$349,22,FALSE),0),0)","v":0},{"$f":"IFERROR(IF($A$10>0,IF((VLOOKUP($AR16,個別表!$A$13:$KO$349,72,FALSE)-VLOOKUP($AR16,個別表!$A$13:$KO$349,70,FALSE))>0,1,0),0),0)","v":0},{"$f":"IFERROR(IF($A$10>0,IF((VLOOKUP($AR16,個別表!$A$13:$KO$349,73,FALSE)-VLOOKUP($AR16,個別表!$A$13:$KO$349,70,FALSE))>0,1,0),0),0)","v":0},{"$f":"IFERROR(IF($A$10>0,IF((VLOOKUP($AR16,個別表!$A$13:$KO$349,73,FALSE)-VLOOKUP($AR16,個別表!$A$13:$KO$349,70,FALSE))>0,1,0),0),0)","v":0}]
[null,null,"１　地区の成果目標",null,null,null,null,null,null,null,null,null,null,null,null,null,null,null,null,null,null,null,"（単位：人、経営体）",null,null,null,null,null,null,null,null,null,null,null,null,null,null,null,null,null,null,null,null,1011401,{"$f":"IFERROR(IF($A$10>0,VLOOKUP($AR17,個別表!$A$13:$KO$349,22,FALSE),0),0)","v":0},{"$f":"IFERROR(IF($A$10>0,IF((VLOOKUP($AR17,個別表!$A$13:$KO$349,72,FALSE)-VLOOKUP($AR17,個別表!$A$13:$KO$349,70,FALSE))>0,1,0),0),0)","v":0},{"$f":"IFERROR(IF($A$10>0,IF((VLOOKUP($AR17,個別表!$A$13:$KO$349,73,FALSE)-VLOOKUP($AR17,個別表!$A$13:$KO$349,70,FALSE))>0,1,0),0),0)","v":0},{"$f":"IFERROR(IF($A$10>0,IF((VLOOKUP($AR17,個別表!$A$13:$KO$349,73,FALSE)-VLOOKUP($AR17,個別表!$A$13:$KO$349,70,FALSE))>0,1,0),0),0)","v":0}]
[null,null,"成果目標項目",null,null,null,null,null,null,null,null,null,null,null,null,null,null,null,"1年度目",null,null,null,null,null,null,null,"２年度目",null,null,null,null,null,null,null,"３年度目",null,null,null,null,null,null,null,null,1011501,{"$f":"IFERROR(IF($A$10>0,VLOOKUP($AR18,個別表!$A$13:$KO$349,22,FALSE),0),0)","v":0},{"$f":"IFERROR(IF($A$10>0,IF((VLOOKUP($AR18,個別表!$A$13:$KO$349,72,FALSE)-VLOOKUP($AR18,個別表!$A$13:$KO$349,70,FALSE))>0,1,0),0),0)","v":0},{"$f":"IFERROR(IF($A$10>0,IF((VLOOKUP($AR18,個別表!$A$13:$KO$349,73,FALSE)-VLOOKUP($AR18,個別表!$A$13:$KO$349,70,FALSE))>0,1,0),0),0)","v":0},{"$f":"IFERROR(IF($A$10>0,IF((VLOOKUP($AR18,個別表!$A$13:$KO$349,73,FALSE)-VLOOKUP($AR18,個別表!$A$13:$KO$349,70,FALSE))>0,1,0),0),0)","v":0}]
[null,null,null,null,null,null,null,null,null,null,null,"助成対象者区分",null,null,null,null,null,null,null,null,null,null,null,null,null,null,null,null,null,null,null,null,null,null,"（目標年度）",null,null,null,null,null,null,null,null,1011601,{"$f":"IFERROR(IF($A$10>0,VLOOKUP($AR19,個別表!$A$13:$KO$349,22,FALSE),0),0)","v":0},{"$f":"IFERROR(IF($A$10>0,IF((VLOOKUP($AR19,個別表!$A$13:$KO$349,72,FALSE)-VLOOKUP($AR19,個別表!$A$13:$KO$349,70,FALSE))>0,1,0),0),0)","v":0},{"$f":"IFERROR(IF($A$10>0,IF((VLOOKUP($AR19,個別表!$A$13:$KO$349,73,FALSE)-VLOOKUP($AR19,個別表!$A$13:$KO$349,70,FALSE))>0,1,0),0),0)","v":0},{"$f":"IFERROR(IF($A$10>0,IF((VLOOKUP($AR19,個別表!$A$13:$KO$349,73,FALSE)-VLOOKUP($AR19,個別表!$A$13:$KO$349,70,FALSE))>0,1,0),0),0)","v":0}]
[null,null,"必須目標",null,"付加価値額の拡大",null,null,null,null,null,null,"事業実施主体が認める者以外の者",null,null,null,null,null,null,{"$f":"IF($A$10>0,$AT$3,0)","v":1},null,null,null,null,null,null,null,{"$f":"IF($A$10>0,$AU$3,0)","v":1},null,null,null,null,null,null,null,{"$f":"IF($A$10>0,$AV$3,0)","v":1},null,null,null,null,null,null,null,null,1011701,{"$f":"IFERROR(IF($A$10>0,VLOOKUP($AR20,個別表!$A$13:$KO$349,22,FALSE),0),0)","v":0},{"$f":"IFERROR(IF($A$10>0,IF((VLOOKUP($AR20,個別表!$A$13:$KO$349,72,FALSE)-VLOOKUP($AR20,個別表!$A$13:$KO$349,70,FALSE))>0,1,0),0),0)","v":0},{"$f":"IFERROR(IF($A$10>0,IF((VLOOKUP($AR20,個別表!$A$13:$KO$349,73,FALSE)-VLOOKUP($AR20,個別表!$A$13:$KO$349,70,FALSE))>0,1,0),0),0)","v":0},{"$f":"IFERROR(IF($A$10>0,IF((VLOOKUP($AR20,個別表!$A$13:$KO$349,73,FALSE)-VLOOKUP($AR20,個別表!$A$13:$KO$349,70,FALSE))>0,1,0),0),0)","v":0}]
[null,null,null,null,null,null,null,null,null,null,null,null,null,null,null,null,null,null,null,null,null,null,null,null,null,null,null,null,null,null,null,null,null,null,null,null,null,null,null,null,null,null,null,1011801,{"$f":"IFERROR(IF($A$10>0,VLOOKUP($AR21,個別表!$A$13:$KO$349,22,FALSE),0),0)","v":0},{"$f":"IFERROR(IF($A$10>0,IF((VLOOKUP($AR21,個別表!$A$13:$KO$349,72,FALSE)-VLOOKUP($AR21,個別表!$A$13:$KO$349,70,FALSE))>0,1,0),0),0)","v":0},{"$f":"IFERROR(IF($A$10>0,IF((VLOOKUP($AR21,個別表!$A$13:$KO$349,73,FALSE)-VLOOKUP($AR21,個別表!$A$13:$KO$349,70,FALSE))>0,1,0),0),0)","v":0},{"$f":"IFERROR(IF($A$10>0,IF((VLOOKUP($AR21,個別表!$A$13:$KO$349,73,FALSE)-VLOOKUP($AR21,個別表!$A$13:$KO$349,70,FALSE))>0,1,0),0),0)","v":0}]
[null,null,null,null,null,null,null,null,null,null,null,"事業実施主体が認める者",null,null,null,null,null,null,null,null,null,null,null,null,null,null,null,null,null,null,null,null,null,null,null,null,null,null,null,null,null,null,null,1011901,{"$f":"IFERROR(IF($A$10>0,VLOOKUP($AR22,個別表!$A$13:$KO$349,22,FALSE),0),0)","v":0},{"$f":"IFERROR(IF($A$10>0,IF((VLOOKUP($AR22,個別表!$A$13:$KO$349,72,FALSE)-VLOOKUP($AR22,個別表!$A$13:$KO$349,70,FALSE))>0,1,0),0),0)","v":0},{"$f":"IFERROR(IF($A$10>0,IF((VLOOKUP($AR22,個別表!$A$13:$KO$349,73,FALSE)-VLOOKUP($AR22,個別表!$A$13:$KO$349,70,FALSE))>0,1,0),0),0)","v":0},{"$f":"IFERROR(IF($A$10>0,IF((VLOOKUP($AR22,個別表!$A$13:$KO$349,73,FALSE)-VLOOKUP($AR22,個別表!$A$13:$KO$349,70,FALSE))>0,1,0),0),0)","v":0}]
[null,null,null,null,null,null,null,null,null,null,null,null,null,null,null,null,null,null,null,null,null,null,null,null,null,null,null,null,null,null,null,null,null,null,null,null,null,null,null,null,null,null,null,1012001,{"$f":"IFERROR(IF($A$10>0,VLOOKUP($AR23,個別表!$A$13:$KO$349,22,FALSE),0),0)","v":0},{"$f":"IFERROR(IF($A$10>0,IF((VLOOKUP($AR23,個別表!$A$13:$KO$349,72,FALSE)-VLOOKUP($AR23,個別表!$A$13:$KO$349,70,FALSE))>0,1,0),0),0)","v":0},{"$f":"IFERROR(IF($A$10>0,IF((VLOOKUP($AR23,個別表!$A$13:$KO$349,73,FALSE)-VLOOKUP($AR23,個別表!$A$13:$KO$349,70,FALSE))>0,1,0),0),0)","v":0},{"$f":"IFERROR(IF($A$10>0,IF((VLOOKUP($AR23,個別表!$A$13:$KO$349,73,FALSE)-VLOOKUP($AR23,個別表!$A$13:$KO$349,70,FALSE))>0,1,0),0),0)","v":0}]
[null,null,"選択目標","①","経営面積の拡大",null,null,null,null,null,null,null,null,null,null,null,null,null,null,null,null,null,null,null,null,null,null,null,null,null,null,null,null,null,null,null,null,null,null,null,null,null,null,1012101,{"$f":"IFERROR(IF($A$10>0,VLOOKUP($AR24,個別表!$A$13:$KO$349,22,FALSE),0),0)","v":0},{"$f":"IFERROR(IF($A$10>0,IF((VLOOKUP($AR24,個別表!$A$13:$KO$349,72,FALSE)-VLOOKUP($AR24,個別表!$A$13:$KO$349,70,FALSE))>0,1,0),0),0)","v":0},{"$f":"IFERROR(IF($A$10>0,IF((VLOOKUP($AR24,個別表!$A$13:$KO$349,73,FALSE)-VLOOKUP($AR24,個別表!$A$13:$KO$349,70,FALSE))>0,1,0),0),0)","v":0},{"$f":"IFERROR(IF($A$10>0,IF((VLOOKUP($AR24,個別表!$A$13:$KO$349,73,FALSE)-VLOOKUP($AR24,個別表!$A$13:$KO$349,70,FALSE))>0,1,0),0),0)","v":0}]
[null,null,null,null,null,null,null,null,null,null,null,null,null,null,null,null,null,null,null,null,null,null,null,null,null,null,null,null,null,null,null,null,null,null,null,null,null,null,null,null,null,null,null,1012201,{"$f":"IFERROR(IF($A$10>0,VLOOKUP($AR25,個別表!$A$13:$KO$349,22,FALSE),0),0)","v":0},{"$f":"IFERROR(IF($A$10>0,IF((VLOOKUP($AR25,個別表!$A$13:$KO$349,72,FALSE)-VLOOKUP($AR25,個別表!$A$13:$KO$349,70,FALSE))>0,1,0),0),0)","v":0},{"$f":"IFERROR(IF($A$10>0,IF((VLOOKUP($AR25,個別表!$A$13:$KO$349,73,FALSE)-VLOOKUP($AR25,個別表!$A$13:$KO$349,70,FALSE))>0,1,0),0),0)","v":0},{"$f":"IFERROR(IF($A$10>0,IF((VLOOKUP($AR25,個別表!$A$13:$KO$349,73,FALSE)-VLOOKUP($AR25,個別表!$A$13:$KO$349,70,FALSE))>0,1,0),0),0)","v":0}]
[null,null,null,"②","農産物の価値向上",null,null,null,null,null,null,null,null,null,null,null,null,null,null,null,null,null,null,null,null,null,null,null,null,null,null,null,null,null,null,null,null,null,null,null,null,null,null,1012301,{"$f":"IFERROR(IF($A$10>0,VLOOKUP($AR26,個別表!$A$13:$KO$349,22,FALSE),0),0)","v":0},{"$f":"IFERROR(IF($A$10>0,IF((VLOOKUP($AR26,個別表!$A$13:$KO$349,72,FALSE)-VLOOKUP($AR26,個別表!$A$13:$KO$349,70,FALSE))>0,1,0),0),0)","v":0},{"$f":"IFERROR(IF($A$10>0,IF((VLOOKUP($AR26,個別表!$A$13:$KO$349,73,FALSE)-VLOOKUP($AR26,個別表!$A$13:$KO$349,70,FALSE))>0,1,0),0),0)","v":0},{"$f":"IFERROR(IF($A$10>0,IF((VLOOKUP($AR26,個別表!$A$13:$KO$349,73,FALSE)-VLOOKUP($AR26,個別表!$A$13:$KO$349,70,FALSE))>0,1,0),0),0)","v":0}]
[null,null,null,null,null,null,null,null,null,null,null,null,null,null,null,null,null,null,null,null,null,null,null,null,null,null,null,null,null,null,null,null,null,null,null,null,null,null,null,null,null,null,null,1012401,{"$f":"IFERROR(IF($A$10>0,VLOOKUP($AR27,個別表!$A$13:$KO$349,22,FALSE),0),0)","v":0},{"$f":"IFERROR(IF($A$10>0,IF((VLOOKUP($AR27,個別表!$A$13:$KO$349,72,FALSE)-VLOOKUP($AR27,個別表!$A$13:$KO$349,70,FALSE))>0,1,0),0),0)","v":0},{"$f":"IFERROR(IF($A$10>0,IF((VLOOKUP($AR27,個別表!$A$13:$KO$349,73,FALSE)-VLOOKUP($AR27,個別表!$A$13:$KO$349,70,FALSE))>0,1,0),0),0)","v":0},{"$f":"IFERROR(IF($A$10>0,IF((VLOOKUP($AR27,個別表!$A$13:$KO$349,73,FALSE)-VLOOKUP($AR27,個別表!$A$13:$KO$349,70,FALSE))>0,1,0),0),0)","v":0}]
[null,null,null,"③","農業経営の複合化",null,null,null,null,null,null,null,null,null,null,null,null,null,null,null,null,null,null,null,null,null,null,null,null,null,null,null,null,null,null,null,null,null,null,null,null,null,null,1012501,{"$f":"IFERROR(IF($A$10>0,VLOOKUP($AR28,個別表!$A$13:$KO$349,22,FALSE),0),0)","v":0},{"$f":"IFERROR(IF($A$10>0,IF((VLOOKUP($AR28,個別表!$A$13:$KO$349,72,FALSE)-VLOOKUP($AR28,個別表!$A$13:$KO$349,70,FALSE))>0,1,0),0),0)","v":0},{"$f":"IFERROR(IF($A$10>0,IF((VLOOKUP($AR28,個別表!$A$13:$KO$349,73,FALSE)-VLOOKUP($AR28,個別表!$A$13:$KO$349,70,FALSE))>0,1,0),0),0)","v":0},{"$f":"IFERROR(IF($A$10>0,IF((VLOOKUP($AR28,個別表!$A$13:$KO$349,73,FALSE)-VLOOKUP($AR28,個別表!$A$13:$KO$349,70,FALSE))>0,1,0),0),0)","v":0}]
[null,null,null,null,null,null,null,null,null,null,null,null,null,null,null,null,null,null,null,null,null,null,null,null,null,null,null,null,null,null,null,null,null,null,null,null,null,null,null,null,null,null,null,1012601,{"$f":"IFERROR(IF($A$10>0,VLOOKUP($AR29,個別表!$A$13:$KO$349,22,FALSE),0),0)","v":0},{"$f":"IFERROR(IF($A$10>0,IF((VLOOKUP($AR29,個別表!$A$13:$KO$349,72,FALSE)-VLOOKUP($AR29,個別表!$A$13:$KO$349,70,FALSE))>0,1,0),0),0)","v":0},{"$f":"IFERROR(IF($A$10>0,IF((VLOOKUP($AR29,個別表!$A$13:$KO$349,73,FALSE)-VLOOKUP($AR29,個別表!$A$13:$KO$349,70,FALSE))>0,1,0),0),0)","v":0},{"$f":"IFERROR(IF($A$10>0,IF((VLOOKUP($AR29,個別表!$A$13:$KO$349,73,FALSE)-VLOOKUP($AR29,個別表!$A$13:$KO$349,70,FALSE))>0,1,0),0),0)","v":0}]
[null,null,null,"④","農業経営の法人化",null,null,null,null,null,null,null,null,null,null,null,null,null,null,null,null,null,null,null,null,null,null,null,null,null,null,null,null,null,null,null,null,null,null,null,null,null,null,1012701,{"$f":"IFERROR(IF($A$10>0,VLOOKUP($AR30,個別表!$A$13:$KO$349,22,FALSE),0),0)","v":0},{"$f":"IFERROR(IF($A$10>0,IF((VLOOKUP($AR30,個別表!$A$13:$KO$349,72,FALSE)-VLOOKUP($AR30,個別表!$A$13:$KO$349,70,FALSE))>0,1,0),0),0)","v":0},{"$f":"IFERROR(IF($A$10>0,IF((VLOOKUP($AR30,個別表!$A$13:$KO$349,73,FALSE)-VLOOKUP($AR30,個別表!$A$13:$KO$349,70,FALSE))>0,1,0),0),0)","v":0},{"$f":"IFERROR(IF($A$10>0,IF((VLOOKUP($AR30,個別表!$A$13:$KO$349,73,FALSE)-VLOOKUP($AR30,個別表!$A$13:$KO$349,70,FALSE))>0,1,0),0),0)","v":0}]
[null,null,null,null,null,null,null,null,null,null,null,null,null,null,null,null,null,null,null,null,null,null,null,null,null,null,null,null,null,null,null,null,null,null,null,null,null,null,null,null,null,null,null,1012801,{"$f":"IFERROR(IF($A$10>0,VLOOKUP($AR31,個別表!$A$13:$KO$349,22,FALSE),0),0)","v":0},{"$f":"IFERROR(IF($A$10>0,IF((VLOOKUP($AR31,個別表!$A$13:$KO$349,72,FALSE)-VLOOKUP($AR31,個別表!$A$13:$KO$349,70,FALSE))>0,1,0),0),0)","v":0},{"$f":"IFERROR(IF($A$10>0,IF((VLOOKUP($AR31,個別表!$A$13:$KO$349,73,FALSE)-VLOOKUP($AR31,個別表!$A$13:$KO$349,70,FALSE))>0,1,0),0),0)","v":0},{"$f":"IFERROR(IF($A$10>0,IF((VLOOKUP($AR31,個別表!$A$13:$KO$349,73,FALSE)-VLOOKUP($AR31,個別表!$A$13:$KO$349,70,FALSE))>0,1,0),0),0)","v":0}]
[null,null,null,"⑤","青色申告の取組",null,null,null,null,null,null,null,null,null,null,null,null,null,null,null,null,null,null,null,null,null,null,null,null,null,null,null,null,null,null,null,null,null,null,null,null,null,null,1012901,{"$f":"IFERROR(IF($A$10>0,VLOOKUP($AR32,個別表!$A$13:$KO$349,22,FALSE),0),0)","v":0},{"$f":"IFERROR(IF($A$10>0,IF((VLOOKUP($AR32,個別表!$A$13:$KO$349,72,FALSE)-VLOOKUP($AR32,個別表!$A$13:$KO$349,70,FALSE))>0,1,0),0),0)","v":0},{"$f":"IFERROR(IF($A$10>0,IF((VLOOKUP($AR32,個別表!$A$13:$KO$349,73,FALSE)-VLOOKUP($AR32,個別表!$A$13:$KO$349,70,FALSE))>0,1,0),0),0)","v":0},{"$f":"IFERROR(IF($A$10>0,IF((VLOOKUP($AR32,個別表!$A$13:$KO$349,73,FALSE)-VLOOKUP($AR32,個別表!$A$13:$KO$349,70,FALSE))>0,1,0),0),0)","v":0}]
[null,null,null,null,null,null,null,null,null,null,null,null,null,null,null,null,null,null,null,null,null,null,null,null,null,null,null,null,null,null,null,null,null,null,null,null,null,null,null,null,null,null,null,1013001,{"$f":"IFERROR(IF($A$10>0,VLOOKUP($AR33,個別表!$A$13:$KO$349,22,FALSE),0),0)","v":0},{"$f":"IFERROR(IF($A$10>0,IF((VLOOKUP($AR33,個別表!$A$13:$KO$349,72,FALSE)-VLOOKUP($AR33,個別表!$A$13:$KO$349,70,FALSE))>0,1,0),0),0)","v":0},{"$f":"IFERROR(IF($A$10>0,IF((VLOOKUP($AR33,個別表!$A$13:$KO$349,73,FALSE)-VLOOKUP($AR33,個別表!$A$13:$KO$349,70,FALSE))>0,1,0),0),0)","v":0},{"$f":"IFERROR(IF($A$10>0,IF((VLOOKUP($AR33,個別表!$A$13:$KO$349,73,FALSE)-VLOOKUP($AR33,個別表!$A$13:$KO$349,70,FALSE))>0,1,0),0),0)","v":0}]
[null,null,null,"⑥","環境配慮の取組",null,null,null,null,null,null,null,null,null,null,null,null,null,null,null,null,null,null,null,null,null,null,null,null,null,null,null,null,null,null,null,null,null,null,null,null,null,null,1013101,{"$f":"IFERROR(IF($A$10>0,VLOOKUP($AR34,個別表!$A$13:$KO$349,22,FALSE),0),0)","v":0},{"$f":"IFERROR(IF($A$10>0,IF((VLOOKUP($AR34,個別表!$A$13:$KO$349,72,FALSE)-VLOOKUP($AR34,個別表!$A$13:$KO$349,70,FALSE))>0,1,0),0),0)","v":0},{"$f":"IFERROR(IF($A$10>0,IF((VLOOKUP($AR34,個別表!$A$13:$KO$349,73,FALSE)-VLOOKUP($AR34,個別表!$A$13:$KO$349,70,FALSE))>0,1,0),0),0)","v":0},{"$f":"IFERROR(IF($A$10>0,IF((VLOOKUP($AR34,個別表!$A$13:$KO$349,73,FALSE)-VLOOKUP($AR34,個別表!$A$13:$KO$349,70,FALSE))>0,1,0),0),0)","v":0}]
[null,null,null,null,null,null,null,null,null,null,null,null,null,null,null,null,null,null,null,null,null,null,null,null,null,null,null,null,null,null,null,null,null,null,null,null,null,null,null,null,null,null,null,1013201,{"$f":"IFERROR(IF($A$10>0,VLOOKUP($AR35,個別表!$A$13:$KO$349,22,FALSE),0),0)","v":0},{"$f":"IFERROR(IF($A$10>0,IF((VLOOKUP($AR35,個別表!$A$13:$KO$349,72,FALSE)-VLOOKUP($AR35,個別表!$A$13:$KO$349,70,FALSE))>0,1,0),0),0)","v":0},{"$f":"IFERROR(IF($A$10>0,IF((VLOOKUP($AR35,個別表!$A$13:$KO$349,73,FALSE)-VLOOKUP($AR35,個別表!$A$13:$KO$349,70,FALSE))>0,1,0),0),0)","v":0},{"$f":"IFERROR(IF($A$10>0,IF((VLOOKUP($AR35,個別表!$A$13:$KO$349,73,FALSE)-VLOOKUP($AR35,個別表!$A$13:$KO$349,70,FALSE))>0,1,0),0),0)","v":0}]
[null,null,null,"⑦","農作業の共同化",null,null,null,null,null,null,null,null,null,null,null,null,null,null,null,null,null,null,null,null,null,null,null,null,null,null,null,null,null,null,null,null,null,null,null,null,null,null,1013301,{"$f":"IFERROR(IF($A$10>0,VLOOKUP($AR36,個別表!$A$13:$KO$349,22,FALSE),0),0)","v":0},{"$f":"IFERROR(IF($A$10>0,IF((VLOOKUP($AR36,個別表!$A$13:$KO$349,72,FALSE)-VLOOKUP($AR36,個別表!$A$13:$KO$349,70,FALSE))>0,1,0),0),0)","v":0},{"$f":"IFERROR(IF($A$10>0,IF((VLOOKUP($AR36,個別表!$A$13:$KO$349,73,FALSE)-VLOOKUP($AR36,個別表!$A$13:$KO$349,70,FALSE))>0,1,0),0),0)","v":0},{"$f":"IFERROR(IF($A$10>0,IF((VLOOKUP($AR36,個別表!$A$13:$KO$349,73,FALSE)-VLOOKUP($AR36,個別表!$A$13:$KO$349,70,FALSE))>0,1,0),0),0)","v":0}]
[null,null,null,null,null,null,null,null,null,null,null,null,null,null,null,null,null,null,null,null,null,null,null,null,null,null,null,null,null,null,null,null,null,null,null,null,null,null,null,null,null,null,null,1013401,{"$f":"IFERROR(IF($A$10>0,VLOOKUP($AR37,個別表!$A$13:$KO$349,22,FALSE),0),0)","v":0},{"$f":"IFERROR(IF($A$10>0,IF((VLOOKUP($AR37,個別表!$A$13:$KO$349,72,FALSE)-VLOOKUP($AR37,個別表!$A$13:$KO$349,70,FALSE))>0,1,0),0),0)","v":0},{"$f":"IFERROR(IF($A$10>0,IF((VLOOKUP($AR37,個別表!$A$13:$KO$349,73,FALSE)-VLOOKUP($AR37,個別表!$A$13:$KO$349,70,FALSE))>0,1,0),0),0)","v":0},{"$f":"IFERROR(IF($A$10>0,IF((VLOOKUP($AR37,個別表!$A$13:$KO$349,73,FALSE)-VLOOKUP($AR37,個別表!$A$13:$KO$349,70,FALSE))>0,1,0),0),0)","v":0}]
[null,null,null,"⑧","労働時間の縮減",null,null,null,null,null,null,null,null,null,null,null,null,null,null,null,null,null,null,null,null,null,null,null,null,null,null,null,null,null,null,null,null,null,null,null,null,null,null,1013501,{"$f":"IFERROR(IF($A$10>0,VLOOKUP($AR38,個別表!$A$13:$KO$349,22,FALSE),0),0)","v":0},{"$f":"IFERROR(IF($A$10>0,IF((VLOOKUP($AR38,個別表!$A$13:$KO$349,72,FALSE)-VLOOKUP($AR38,個別表!$A$13:$KO$349,70,FALSE))>0,1,0),0),0)","v":0},{"$f":"IFERROR(IF($A$10>0,IF((VLOOKUP($AR38,個別表!$A$13:$KO$349,73,FALSE)-VLOOKUP($AR38,個別表!$A$13:$KO$349,70,FALSE))>0,1,0),0),0)","v":0},{"$f":"IFERROR(IF($A$10>0,IF((VLOOKUP($AR38,個別表!$A$13:$KO$349,73,FALSE)-VLOOKUP($AR38,個別表!$A$13:$KO$349,70,FALSE))>0,1,0),0),0)","v":0}]
[null,null,null,null,null,null,null,null,null,null,null,null,null,null,null,null,null,null,null,null,null,null,null,null,null,null,null,null,null,null,null,null,null,null,null,null,null,null,null,null,null,null,null,1013601,{"$f":"IFERROR(IF($A$10>0,VLOOKUP($AR39,個別表!$A$13:$KO$349,22,FALSE),0),0)","v":0},{"$f":"IFERROR(IF($A$10>0,IF((VLOOKUP($AR39,個別表!$A$13:$KO$349,72,FALSE)-VLOOKUP($AR39,個別表!$A$13:$KO$349,70,FALSE))>0,1,0),0),0)","v":0},{"$f":"IFERROR(IF($A$10>0,IF((VLOOKUP($AR39,個別表!$A$13:$KO$349,73,FALSE)-VLOOKUP($AR39,個別表!$A$13:$KO$349,70,FALSE))>0,1,0),0),0)","v":0},{"$f":"IFERROR(IF($A$10>0,IF((VLOOKUP($AR39,個別表!$A$13:$KO$349,73,FALSE)-VLOOKUP($AR39,個別表!$A$13:$KO$349,70,FALSE))>0,1,0),0),0)","v":0}]
[null,null,null,"⑨","輸出の取組",null,null,null,null,null,null,null,null,null,null,null,null,null,null,null,null,null,null,null,null,null,null,null,null,null,null,null,null,null,null,null,null,null,null,null,null,null,null,1013701,{"$f":"IFERROR(IF($A$10>0,VLOOKUP($AR40,個別表!$A$13:$KO$349,22,FALSE),0),0)","v":0},{"$f":"IFERROR(IF($A$10>0,IF((VLOOKUP($AR40,個別表!$A$13:$KO$349,72,FALSE)-VLOOKUP($AR40,個別表!$A$13:$KO$349,70,FALSE))>0,1,0),0),0)","v":0},{"$f":"IFERROR(IF($A$10>0,IF((VLOOKUP($AR40,個別表!$A$13:$KO$349,73,FALSE)-VLOOKUP($AR40,個別表!$A$13:$KO$349,70,FALSE))>0,1,0),0),0)","v":0},{"$f":"IFERROR(IF($A$10>0,IF((VLOOKUP($AR40,個別表!$A$13:$KO$349,73,FALSE)-VLOOKUP($AR40,個別表!$A$13:$KO$349,70,FALSE))>0,1,0),0),0)","v":0}]
[null,null,null,null,null,null,null,null,null,null,null,null,null,null,null,null,null,null,null,null,null,null,null,null,null,null,null,null,null,null,null,null,null,null,null,null,null,null,null,null,null,null,null,1013801,{"$f":"IFERROR(IF($A$10>0,VLOOKUP($AR41,個別表!$A$13:$KO$349,22,FALSE),0),0)","v":0},{"$f":"IFERROR(IF($A$10>0,IF((VLOOKUP($AR41,個別表!$A$13:$KO$349,72,FALSE)-VLOOKUP($AR41,個別表!$A$13:$KO$349,70,FALSE))>0,1,0),0),0)","v":0},{"$f":"IFERROR(IF($A$10>0,IF((VLOOKUP($AR41,個別表!$A$13:$KO$349,73,FALSE)-VLOOKUP($AR41,個別表!$A$13:$KO$349,70,FALSE))>0,1,0),0),0)","v":0},{"$f":"IFERROR(IF($A$10>0,IF((VLOOKUP($AR41,個別表!$A$13:$KO$349,73,FALSE)-VLOOKUP($AR41,個別表!$A$13:$KO$349,70,FALSE))>0,1,0),0),0)","v":0}]
[null,null,"（注）",null,1,"　別紙様式第１号別添１の経営体調書において各助成対象者が設定した成果目標に基づき、各成果目標項目を設定した延べ助成対象者数を記載すること。"]
[]
[null,null,null,null,2,"　事業実施地区全体で付加価値額の1割以上の拡大を目標とする場合（助成対象者区分の「事業実施主体が認める者以外の者」に限る）には、付加価値額の拡大の各年度欄の下段に行を追加し、各助成対象者が設定した定量的な目標値の合計（分子）と現状値の合計（分母）を円単位で記載すること。"]
[]
[]
[]
[null,null,null,"〔成果目標の事後評価の具体的な検証方法〕"]
[null,null,"成果目標項目",null,null,null,null,null,null,null,null,null,null,null,"事後評価の検証及びフォローアップの方法"]
[]
[]
[]
[]
[]
[null,null,"Ⅱ　施設整備計画"]
[null,null,"１　融資主体型補助・追加的信用供与補助計画",null,null,null,null,null,null,null,null,null,null,null,null,null,null,null,null,null,null,null,null,null,null,null,null,null,null,null,null,null,null,null,null,null,null,null,null,null,null,"（単位：円）"]
[null,null,"区　　　分",null,null,null,null,"事業費",null,null,null,null,null,null,"負担区分",null,null,null,null,null,null,null,null,null,null,null,null,null,null,null,null,null,null,null,null,null,null,null,"備　　考"]
[null,null,null,null,null,null,null,"G=A+B+C\n+D+E+F",null,null,null,null,null,null,"補助金",null,null,null,"都道\n府県費",null,null,null,"市町村費",null,null,null,"その他",null,null,null,"対象経営体負担経費"]
[null,null,null,null,null,null,null,null,null,null,null,null,null,null,null,null,null,null,null,null,null,null,null,null,null,null,null,null,null,null,"融資",null,null,null,"自己負担"]
[null,null,null,null,null,null,null,null,null,null,null,null,null,null,"A",null,null,null,"B",null,null,null,"C",null,null,null,"D",null,null,null,"E",null,null,null,"F"]
[{"$f":"IF($A$10>0,VLOOKUP($A$10,個別表!$A$13:$KO$349,3,FALSE),0)","v":1},null,"融資主体型\n補助事業",null,null,null,null,"事業実施主体が認める者",null,null,{"$f":"IF($A$10>0,SUMIFS(個別表!AV13:AV349,個別表!$C$13:$C$349,$A61,個別表!$V$13:$V$349,4),0)","v":0},null,null,null,{"$f":"IF($A$10>0,SUMIFS(個別表!AX13:AX349,個別表!$C$13:$C$349,$A61,個別表!$V$13:$V$349,4),0)","v":0},null,null,null,{"$f":"IF($A$10>0,SUMIFS(個別表!BA13:BA349,個別表!$C$13:$C$349,$A61,個別表!$V$13:$V$349,4),0)","v":0},null,null,null,{"$f":"IF($A$10>0,SUMIFS(個別表!BB13:BB349,個別表!$C$13:$C$349,$A61,個別表!$V$13:$V$349,4),0)","v":0},null,null,null,{"$f":"IF($A$10>0,SUMIFS(個別表!BC13:BC349,個別表!$C$13:$C$349,$A61,個別表!$V$13:$V$349,4),0)","v":0},null,null,null,{"$f":"IF($A$10>0,SUMIFS(個別表!AY13:AY349,個別表!$C$13:$C$349,$A61,個別表!$V$13:$V$349,4),0)","v":0},null,null,null,{"$f":"IF($A$10>0,SUMIFS(個別表!AZ13:AZ349,個別表!$C$13:$C$349,$A61,個別表!$V$13:$V$349,4),0)","v":0},null,null,null,{"$f":"IF($A$10>0,SUMIFS(個別表!I13:I349,個別表!$C$13:$C$349,$A61,個別表!$V$13:$V$349,4),0)","v":0},null,"経営体"]
[]
[null,null,null,null,null,null,null,"事業実施主体が認める者以外の者",null,null,{"$f":"IF($A$10>0,SUMIFS(個別表!AV13:AV349,個別表!$C$13:$C$349,$A61,個別表!$V$13:$V$349,\"<>4\"),0)","v":60000000},null,null,null,{"$f":"IF($A$10>0,SUMIFS(個別表!AX13:AX349,個別表!$C$13:$C$349,$A61,個別表!$V$13:$V$349,\"<>4\"),0)","v":27000000},null,null,null,{"$f":"IF($A$10>0,SUMIFS(個別表!BA13:BA349,個別表!$C$13:$C$349,$A61,個別表!$V$13:$V$349,\"<>4\"),0)","v":0},null,null,null,{"$f":"IF($A$10>0,SUMIFS(個別表!BB13:BB349,個別表!$C$13:$C$349,$A61,個別表!$V$13:$V$349,\"<>4\"),0)","v":0},null,null,null,{"$f":"IF($A$10>0,SUMIFS(個別表!BC13:BC349,個別表!$C$13:$C$349,$A61,個別表!$V$13:$V$349,\"<>4\"),0)","v":0},null,null,null,{"$f":"IF($A$10>0,SUMIFS(個別表!AY13:AY349,個別表!$C$13:$C$349,$A61,個別表!$V$13:$V$349,\"<>4\"),0)","v":29000000},null,null,null,{"$f":"IF($A$10>0,SUMIFS(個別表!AZ13:AZ349,個別表!$C$13:$C$349,$A61,個別表!$V$13:$V$349,\"<>4\"),0)","v":4000000},null,null,null,{"$f":"IF($A$10>0,SUMIFS(個別表!I13:I349,個別表!$C$13:$C$349,$A61,個別表!$V$13:$V$349,\"<>4\"),0)","v":1},null,"経営体"]
[]
[null,null,"追加的信用\n供与補助事業",null,null,null,null,"事業実施主体が認める者以外の者",null,null,{"$f":"O65","v":1933000},null,null,null,{"$f":"IF(AM66=\"\",\"\",(ROUNDDOWN(AM66*1/15,-3)))","v":1933000},null,null,null,null,null,null,null,null,null,null,null,null,null,null,null,null,null,null,null,null,null,null,null,"保証希望融資額："]
[null,null,null,null,null,null,null,null,null,null,null,null,null,null,null,null,null,null,null,null,null,null,null,null,null,null,null,null,null,null,null,null,null,null,null,null,null,null,{"$f":"IF($A$10>0,SUMIFS(個別表!BP13:BP349,個別表!$C$13:$C$349,$A61,個別表!$V$13:$V$349,\"<>4\"),0)","v":29000000}]
[null,null,"計",null,null,null,null,"事業実施主体が認める者",null,null,{"$f":"IF(K61=\"\",\"\",SUM(K61))","v":0},null,null,null,{"$f":"IF(O61=\"\",\"\",SUM(O61))","v":0},null,null,null,{"$f":"IF(S61=\"\",\"\",SUM(S61))","v":0},null,null,null,{"$f":"IF(W61=\"\",\"\",SUM(W61))","v":0},null,null,null,{"$f":"IF(AA61=\"\",\"\",SUM(AA61))","v":0},null,null,null,{"$f":"IF(AE61=\"\",\"\",SUM(AE61))","v":0},null,null,null,{"$f":"IF(AI61=\"\",\"\",SUM(AI61))","v":0}]
[]
[null,null,null,null,null,null,null,"事業実施主体が認める者以外の者",null,null,{"$f":"IF(K63=\"\",\"\",SUM(K63))","v":60000000},null,null,null,{"$f":"IF(O63=\"\",\"\",SUM(O63))","v":27000000},null,null,null,{"$f":"IF(S63=\"\",\"\",SUM(S63))","v":0},null,null,null,{"$f":"IF(W63=\"\",\"\",SUM(W63))","v":0},null,null,null,{"$f":"IF(AA63=\"\",\"\",SUM(AA63))","v":0},null,null,null,{"$f":"IF(AE63=\"\",\"\",SUM(AE63))","v":29000000},null,null,null,{"$f":"IF(AI63=\"\",\"\",SUM(AI63))","v":4000000}]
[]
[]
[null,null,"２　附帯事務費"]
[null,null,null,null,null,null,null,null,null,null,null,null,null,null,null,"事業費",null,null,null,null,null,"負担区分",null,null,null,null,null,null,null,null,null,null,null,null,null,null,null,"適否\n（市町村：Ⅱの１の事業費の0.4％以内）"]
[null,null,null,null,null,null,null,null,null,null,null,null,null,null,null,null,null,null,null,null,null,"補助金",null,null,null,"都道府県費",null,null,null,"市町村費",null,null,null,"その他"]
[null,null,null,null,null,null,null,null,null,null,null,null,null,null,null,"Z=a+b\n+c+d"]
[null,null,null,null,null,null,null,null,null,null,null,null,null,null,null,null,null,null,null,null,null,"ａ",null,null,null,"ｂ",null,null,null,"ｃ",null,null,null,"d"]
[null,null,"市町村附帯事務費",null,null,null,null,null,null,null,null,null,null,null,null,{"$f":"IF($A$10>0,SUMIF(総括表!B12:B25,$A61,総括表!L12:L25),0)","v":40000},null,null,null,null,null,{"$f":"IF($A$10>0,SUMIF(総括表!B12:B25,$A61,総括表!M12:M25),0)","v":20000},null,null,null,null,null,null,null,{"$f":"P77-V77","v":20000},null,null,null,null,null,null,null,{"$f":"IF(P77=0,\"\",IF(P77>(K67+K69)*0.4%,\"否\",\"適\"))","v":"適"}]
[]
[]
[null,null,"［推進事務費の具体的内容］"]
[null,null,null,null,null,null,null,null,null,null,null,null,"具体的な使途"]
[null,null,"市町村附帯事務費"]
[]
[]
[]
[]
[null,null,"Ⅲ　人・農地プラン"]
[null,null,"１　人・農地プランの実質化"]
[null,null,"□","実質化された人・農地プラン",null,null,null,null,null,null,null,null,"□","実質化されているとみなすことができる人・農地プラン",null,null,null,null,null,null,null,null,"□","実質化された人・農地プランとして取り扱うことができる同種取決め等",null,null,null,null,null,null,null,null,"□","実質化に向けた工程表が公表されている人・農地プラン"]
[]
[]
[null,null,"（注）",null,"該当する項目の□にチェックを入れること。（原則として、令和３年度末までに実質化された人・農地プランの作成を了するスケジュールとすること。）"]
[]
[null,null,"２　人・農地プランの作成"]
[null,null,"　（人・農地プランの作成等がされていないが、農地中間管理機構から賃借権等の設定等を受けた者が営農する範囲を事業実施地区とする場合に限る。）"]
[null,null,"（１）人・農地プランの作成時期"]
[null,null,null,"　　　　　年　　　月末までに作成予定"]
[null,null,"（２）作成スケジュール"]
[null,null,"スケジュール"]
[]
[]
[]
[]
[]
[]
[]
[null,null,"（注）",null,"作成までのスケジュール等を記載すること。（原則として、令和３年度末までに実質化された人・農地プランの作成を了するスケジュールとすること。）"]
[]
[]
[null,null,"Ⅳ　農地中間管理機構を活用した農地の集積状況"]
[null,null,"１　地区内の担い手への農地集積の状況"]
[null,null,null,null,null,null,null,null,null,null,"（単位：ｈａ、％）"]
[null,null,null,"地区内\n農地面積",null,null,null,null,null,null,null,null,null,null,null,"集積率"]
[null,null,null,null,null,null,null,"うち担い手への農地集積面積"]
[null,null,null,"Ａ",null,null,null,"Ｂ",null,null,null,null,null,null,null,"Ｂ/Ａ"]
[null,null,null,null,null,null,null,null,null,null,null,null,null,null,null,{"$f":"IF(D116=\"\",\"\",H116/D116)","v":""}]
[]
[]
[null,null,"２　農地中間管理機構の活用状況"]
[null,null,"（１）農地中間管理機構による賃借権等の設定等がなされた事業実施地区内の農地面積"]
[null,null,null,null,null,null,null,null,"ｈａ（地区全体）　　設定年月日　　年　　月　　日（直近）"]
[null,null,"（２）農用地利用集積計画又は農用地配分計画（案）が作成等された事業実施地区内の農地面積"]
[null,null,null,null,null,null,null,null,"ｈａ（地区全体）　　作成等年月日　　　年　　　月　　　日（予定の場合は予定日）"]
[]
[null,null,"Ⅴ　市町村域を超える場合の調整"]
[null,null,"□",null,"　事業実施地区が市町村域を超える場合に関係自治体と調整を行っている。"]
[]
[null,null,null,null,"調整内容等について"]
[]
[]
[null,null,"（注）",null,"事業実施地区が複数市町村にまたがる場合は□にチェックを入れ、調整内容等を記載すること。"]
[]
[null,null,"Ⅵ　農作業安全に向けた取組"]
[null,null,"□",null,"　助成対象者の農作業安全対策の取組促進や意識の向上を図るため、農作業安全に向けた取組の強化に努めている。"]
[]
[null,null,"（注）",null,"農作業安全に向けた取組強化に努めている場合は□にチェックを入れること。"]
[]
[null,null,"Ⅶ　助成対象者への働きかけ"]
[null,null,"　助成対象者に対して、以下の取組の実施を働きかけている。"]
[]
[null,null,"□","農業相談所等の支援機関の積極的な活用",null,null,null,null,null,null,null,null,null,null,null,"□","農業版ＢＣＰ（事業継続計画）の策定",null,null,null,null,null,null,null,null,null,null,null,"□","青色申告の実施"]
[]
[null,null,"（注）",null,"助成対象者への働きかけを行っている場合は□にチェックを入れること。"]
[]
[null,null,"Ⅷ　事業実施主体の概要"]
[null,null,"市町村名",null,null,null,null,null,null,null,null,null,null,null,null,null,null,null,null,null,null,"代表者名"]
[]
[null,null,"事務局担当部局",null,null,null,null,null,null,null,null,null,null,null,null,null,null,null,null,null,null,"事務責任者",null,null,null,null,null,null,null,"（役職）"]
[null,null,null,null,null,null,null,null,null,null,null,null,null,null,null,null,null,null,null,null,null,null,null,null,null,null,null,null,null,"（氏名）"]
[null,null,"電話・ファックス",null,null,null,null,null,null,null,"ＴＥＬ",null,null,null,null,null,null,null,null,null,null,"事務担当者",null,null,null,null,null,null,null,"（役職）"]
[null,null,null,null,null,null,null,null,null,null,"ＦＡＸ",null,null,null,null,null,null,null,null,null,null,null,null,null,null,null,null,null,null,"（氏名）"]
[]
[null,null,"〔添付資料〕"]
[null,null,1,"　別紙様式第１号別添１担い手確保・経営強化支援計画個別経営体調書"]
[null,null,2,"　１の経営体調書のⅡ配分基準表該当項目及び事業実施地区の取組に基づき別表４及び５により算出される配分基準ポイントが分かる資料"]
[null,null,3,"　助成対象者が法人、特定農業団体、集落営農組織その他任意団体の場合は、当該団体の定款、規約、構成員の状況及びその他経営状況が分かる資料"]
[]
[null,null,4,"　助成対象者が事業実施主体が認める者である場合は、事業実施主体が定める判断基準及び当該基準に適合していることが分かる客観的資料"]
[null,null,5,"　その他都道府県知事が必要と認める資料"]
[]
[null,null,"（注）",null,"　添付資料について、助成対象者のウェブサイトにおいて閲覧が可能な場合は、当該ウェブサイトのＵＲＬを記載することにより当該資料の添付を省略することができる。"]

{"sheet":"個別調書（対象者名）","index":3,"n_rows":398,"n_cols":47,"rows_kept":398,"cut":false,"hidden":false,"merged":[[396,35,396,38],[381,25,381,27],[381,28,381,31],[381,33,381,34],[381,35,381,38],[382,25,382,38],[372,25,372,27],[372,28,372,31],[372,33,372,34],[372,35,372,38],[373,25,373,38],[389,2,397,7],[389,8,397,11],[389,12,397,17],[389,18,391,24],[389,25,389,27],[389,28,389,31],[389,33,389,34],[389,35,389,38],[390,25,390,27],[390,28,390,31],[390,33,390,34],[390,35,390,38],[391,25,391,38],[392,18,394,24],[392,25,392,27],[392,28,392,31],[392,33,392,34],[392,35,392,38],[393,25,393,27],[393,28,393,31],[393,33,393,34],[393,35,393,38],[397,25,397,38],[394,25,394,38],[395,18,397,24],[395,25,395,27],[395,28,395,31],[395,33,395,34],[395,35,395,38],[396,25,396,27],[396,28,396,31],[396,33,396,34],[374,2,382,7],[374,8,382,11],[374,12,382,17],[374,18,376,24],[374,25,374,27],[374,28,374,31],[374,33,374,34],[374,35,374,38],[375,25,375,27],[375,28,375,31],[375,33,375,34],[375,35,375,38],[376,25,376,38],[377,18,379,24],[377,25,377,27],[377,28,377,31],[377,33,377,34],[377,35,377,38],[378,25,378,27],[383,2,383,3],[383,4,383,38],[384,4,384,38],[378,28,378,31],[378,33,378,34],[378,35,378,38],[379,25,379,38],[380,18,382,24],[380,25,380,27],[380,28,380,31],[380,33,380,34],[380,35,380,38],[203,2,204,3],[203,4,204,12],[203,13,204,15],[203,16,204,20],[203,21,204,24],[203,25,204,28],[203,29,204,34],[203,35,204,38],[205,2,206,3],[205,4,206,12],[205,13,206,15],[205,16,206,20],[205,21,206,24],[205,25,206,28],[205,29,206,34],[205,35,206,38],[254,28,255,30],[254,31,255,33],[254,34,255,35],[254,36,254,38],[255,36,255,38],[256,2,257,3],[199,2,200,3],[199,4,200,12],[199,13,200,15],[199,16,200,20],[199,21,200,24],[199,25,200,28],[199,29,200,34],[199,35,200,38],[201,2,202,3],[201,4,202,12],[201,13,202,15],[201,16,202,20],[201,21,202,24],[201,25,202,28],[201,29,202,34],[201,35,202,38],[195,2,196,3],[195,4,196,12],[195,13,196,15],[195,16,196,20],[195,21,196,24],[195,25,196,28],[195,29,196,34],[195,35,196,38],[197,2,198,3],[197,4,198,12],[197,13,198,15],[197,16,198,20],[197,21,198,24],[197,25,198,28],[197,29,198,34],[197,35,198,38],[191,2,192,3],[191,4,192,12],[191,13,192,15],[191,16,192,20],[191,21,192,24],[191,25,192,28],[191,29,192,34],[191,35,192,38],[193,2,194,3],[193,4,194,12],[193,13,194,15],[193,16,194,20],[193,21,194,24],[193,25,194,28],[193,29,194,34],[193,35,194,38],[187,2,188,3],[187,4,188,12],[187,13,188,15],[187,16,188,20],[187,21,188,24],[187,25,188,28],[187,29,188,34],[187,35,188,38],[189,2,190,3],[189,4,190,12],[189,13,190,15],[189,16,190,20],[189,21,190,24],[189,25,190,28],[189,29,190,34],[189,35,190,38],[177,35,178,38],[173,35,174,38],[183,2,184,3],[183,4,184,12],[183,13,184,15],[183,16,184,20],[183,21,184,24],[183,25,184,28],[183,29,184,34],[183,35,184,38],[185,2,186,3],[185,4,186,12],[185,13,186,15],[185,16,186,20],[185,21,186,24],[185,25,186,28],[185,29,186,34],[185,35,186,38],[181,2,182,3],[181,4,182,12],[181,13,182,15],[181,16,182,20],[181,21,182,24],[181,25,182,28],[181,29,182,34],[181,35,182,38],[167,35,168,38],[169,2,170,3],[169,4,170,12],[169,13,170,15],[169,16,170,20],[169,21,170,24],[169,25,170,28],[169,29,170,34],[169,35,170,38],[179,2,180,3],[179,4,180,12],[179,13,180,15],[179,16,180,20],[179,21,180,24],[179,25,180,28],[179,29,180,34],[179,35,180,38],[175,2,176,3],[175,4,176,12],[175,13,176,15],[175,16,176,20],[175,21,176,24],[175,25,176,28],[175,29,176,34],[175,35,176,38],[177,2,178,3],[177,4,178,12],[177,13,178,15],[177,16,178,20],[177,21,178,24],[177,25,178,28],[177,29,178,34],[256,4,257,6],[256,7,257,9],[256,10,257,12],[256,13,257,15],[256,16,257,18],[256,19,257,21],[256,22,257,24],[256,25,257,27],[256,28,257,30],[256,31,257,33],[256,34,257,35],[256,36,256,38],[257,36,257,38],[254,2,255,3],[254,4,255,6],[254,7,255,9],[254,10,255,12],[254,13,255,15],[254,16,255,18],[254,19,255,21],[254,22,255,24],[254,25,255,27],[250,28,251,30],[250,31,251,33],[250,34,251,35],[250,36,250,38],[251,36,251,38],[252,2,253,3],[252,4,253,6],[252,7,253,9],[252,10,253,12],[252,13,253,15],[252,16,253,18],[252,19,253,21],[252,22,253,24],[252,25,253,27],[252,28,253,30],[252,31,253,33],[252,34,253,35],[252,36,252,38],[253,36,253,38],[250,2,251,3],[250,4,251,6],[250,7,251,9],[250,10,251,12],[250,13,251,15],[250,16,251,18],[250,19,251,21],[250,22,251,24],[250,25,251,27],[246,28,247,30],[246,31,247,33],[246,34,247,35],[246,36,246,38],[247,36,247,38],[248,2,249,3],[248,4,249,6],[248,7,249,9],[248,10,249,12],[248,13,249,15],[248,16,249,18],[248,19,249,21],[248,22,249,24],[248,25,249,27],[248,28,249,30],[248,31,249,33],[248,34,249,35],[248,36,248,38],[249,36,249,38],[246,2,247,3],[246,4,247,6],[246,7,247,9],[246,10,247,12],[246,13,247,15],[246,16,247,18],[246,19,247,21],[246,22,247,24],[246,25,247,27],[242,28,243,30],[242,31,243,33],[242,34,243,35],[242,36,242,38],[243,36,243,38],[244,2,245,3],[244,4,245,6],[244,7,245,9],[244,10,245,12],[244,13,245,15],[244,16,245,18],[244,19,245,21],[244,22,245,24],[244,25,245,27],[244,28,245,30],[244,31,245,33],[244,34,245,35],[244,36,244,38],[245,36,245,38],[242,2,243,3],[242,4,243,6],[242,7,243,9],[242,10,243,12],[242,13,243,15],[242,16,243,18],[242,19,243,21],[242,22,243,24],[242,25,243,27],[236,36,236,38],[237,36,237,38],[238,36,238,38],[239,36,239,38],[240,2,241,3],[240,4,241,6],[240,7,241,9],[240,10,241,12],[240,13,241,15],[240,16,241,18],[240,19,241,21],[240,22,241,24],[240,25,241,27],[240,28,241,30],[240,31,241,33],[240,34,241,35],[240,36,240,38],[241,36,241,38],[238,10,239,12],[238,13,239,15],[238,16,239,18],[238,19,239,21],[238,22,239,24],[238,25,239,27],[238,28,239,30],[238,31,239,33],[238,34,239,35],[230,36,230,38],[231,36,231,38],[232,2,233,3],[232,4,233,6],[232,7,233,9],[232,10,233,12],[232,13,233,15],[232,16,233,18],[232,19,233,21],[232,22,233,24],[232,25,233,27],[232,28,233,30],[232,31,233,33],[232,34,233,35],[232,36,232,38],[233,36,233,38],[234,28,235,30],[234,31,235,33],[234,34,235,35],[234,36,234,38],[235,36,235,38],[225,36,225,38],[226,31,227,33],[226,34,227,35],[226,36,226,38],[227,36,227,38],[228,2,229,3],[228,4,229,6],[228,7,229,9],[228,10,229,12],[228,13,229,15],[228,16,229,18],[228,19,229,21],[228,22,229,24],[228,25,229,27],[228,28,229,30],[228,31,229,33],[228,34,229,35],[228,36,228,38],[229,36,229,38],[222,31,223,33],[222,34,223,35],[224,2,225,3],[224,4,225,6],[224,7,225,9],[224,10,225,12],[224,13,225,15],[224,16,225,18],[224,19,225,21],[224,22,225,24],[224,25,225,27],[224,28,225,30],[224,31,225,33],[224,34,225,35],[230,31,231,33],[230,34,231,35],[236,2,237,3],[236,10,237,12],[236,13,237,15],[236,16,237,18],[236,19,237,21],[236,22,237,24],[236,25,237,27],[236,28,237,30],[236,31,237,33],[236,34,237,35],[264,5,265,38],[266,5,267,38],[294,35,295,38],[282,30,283,34],[284,20,285,23],[284,24,285,27],[290,20,291,23],[288,35,289,38],[284,30,285,34],[286,30,287,34],[288,24,289,27],[288,28,289,29],[288,30,289,34],[220,4,221,6],[220,7,221,9],[220,10,221,12],[220,13,221,15],[220,16,221,18],[220,19,221,21],[220,22,221,24],[220,25,221,27],[220,28,221,30],[288,9,289,12],[288,13,289,15],[282,28,283,29],[284,28,285,29],[282,9,283,12],[282,13,283,15],[286,28,287,29],[222,36,222,38],[223,36,223,38],[224,36,224,38],[64,31,65,31],[215,19,215,21],[215,22,215,24],[215,25,215,27],[171,2,172,3],[171,4,172,12],[171,13,172,15],[300,20,301,23],[300,24,301,27],[300,28,301,29],[276,35,277,38],[276,30,277,34],[274,35,275,38],[276,28,277,29],[81,22,83,38],[282,24,283,27],[284,16,285,19],[66,16,67,16],[66,3,67,8],[66,32,67,38],[70,18,71,21],[70,22,71,22],[70,23,71,26],[70,27,71,27],[278,28,279,29],[274,30,275,34],[276,9,277,12],[220,2,221,3],[220,31,221,33],[220,34,221,35],[220,36,220,38],[221,36,221,38],[212,34,215,35],[213,10,214,12],[70,28,71,31],[66,10,67,15],[66,17,67,22],[66,24,67,30],[70,32,71,32],[66,2,67,2],[167,2,168,3],[167,4,168,12],[167,13,168,15],[167,16,168,20],[167,21,168,24],[167,25,168,28],[167,29,168,34],[81,3,83,3],[81,4,83,19],[81,21,83,21],[84,3,88,3],[209,5,210,38],[171,16,172,20],[171,21,172,24],[171,25,172,28],[171,29,172,34],[171,35,172,38],[173,2,174,3],[173,4,174,12],[173,13,174,15],[173,16,174,20],[173,21,174,24],[173,25,174,28],[173,29,174,34],[10,13,11,21],[15,5,15,21],[10,11,11,11],[10,24,10,38],[11,24,11,38],[14,5,14,21],[59,11,60,11],[59,29,60,29],[59,20,60,20],[61,26,62,26],[61,14,62,14],[64,9,65,9],[64,16,65,16],[64,23,65,23],[40,2,40,3],[38,5,39,14],[26,6,27,9],[26,10,27,13],[26,14,27,17],[26,18,27,21],[26,22,27,25],[26,26,27,29],[24,2,25,13],[24,14,25,21],[61,27,62,38],[56,2,56,37],[61,2,62,2],[64,3,65,8],[64,10,65,15],[64,17,65,22],[64,24,65,30],[64,32,65,38],[10,2,11,2],[343,2,343,3],[307,5,307,38],[308,5,310,38],[311,5,314,38],[339,6,342,7],[298,24,299,27],[296,35,297,38],[305,5,305,38],[298,2,299,2],[84,29,88,29],[84,18,88,28],[81,2,83,2],[12,25,13,38],[12,23,12,24],[38,30,39,30],[38,15,39,15],[14,2,14,3],[30,2,30,3],[35,3,36,3],[94,2,96,2],[282,16,283,19],[282,20,283,23],[286,9,287,12],[286,13,287,15],[286,16,287,19],[286,20,287,23],[296,13,297,15],[296,16,297,19],[45,2,45,3],[59,2,60,2],[10,12,11,12],[317,2,318,3],[326,2,327,11],[290,9,291,12],[290,13,291,15],[294,24,295,27],[282,2,283,2],[328,12,330,38],[306,5,306,38],[302,5,304,38],[296,20,297,23],[300,3,301,8],[300,9,301,12],[300,13,301,15],[290,35,291,38],[300,30,301,34],[300,16,301,19],[288,2,289,2],[292,2,293,2],[290,2,291,2],[286,2,287,2],[284,9,285,12],[284,13,285,15],[290,3,291,8],[294,20,295,23],[290,16,291,19],[288,16,289,19],[288,20,289,23],[284,2,285,2],[294,2,295,2],[294,3,295,8],[294,9,295,12],[294,13,295,15],[340,9,342,38],[332,5,332,38],[319,4,320,38],[321,2,322,3],[349,9,350,23],[349,24,350,38],[346,9,346,23],[326,12,327,38],[328,4,330,11],[296,2,297,2],[296,3,297,8],[296,9,297,12],[317,4,318,38],[300,35,301,38],[339,2,342,5],[331,2,331,3],[335,2,338,5],[335,6,338,7],[335,8,338,38],[298,20,299,23],[296,28,297,29],[296,30,297,34],[321,4,322,38],[331,5,331,38],[298,3,299,8],[298,13,299,15],[296,24,297,27],[300,2,301,2],[323,2,323,3],[302,2,302,3],[319,2,320,3],[328,2,330,3],[365,2,373,7],[365,8,373,11],[365,12,373,17],[365,18,367,24],[365,25,365,27],[365,28,365,31],[365,33,365,34],[365,35,365,38],[366,25,366,27],[366,28,366,31],[366,33,366,34],[366,35,366,38],[367,25,367,38],[359,2,359,3],[363,2,364,7],[363,8,364,11],[363,12,364,17],[368,18,370,24],[368,25,368,27],[368,28,368,31],[368,33,368,34],[368,35,368,38],[369,25,369,27],[369,28,369,31],[369,33,369,34],[369,35,369,38],[370,25,370,38],[371,18,373,24],[371,25,371,27],[371,28,371,31],[371,33,371,34],[371,35,371,38],[363,25,364,38],[357,12,357,23],[357,24,358,25],[363,18,364,24],[346,24,346,38],[347,24,348,38],[351,24,352,38],[358,27,358,38],[358,12,358,23],[359,4,360,38],[357,2,358,8],[357,9,358,10],[357,27,357,38],[355,30,356,35],[345,2,346,8],[345,9,345,38],[355,2,356,8],[355,9,356,10],[355,11,356,14],[355,15,356,20],[355,24,356,25],[349,2,350,8],[353,2,354,8],[347,2,348,8],[347,9,348,23],[351,2,352,8],[351,9,352,23],[355,26,356,29],[353,9,354,23],[353,24,354,38],[280,35,281,38],[280,28,281,29],[280,30,281,34],[286,35,287,38],[282,35,283,38],[284,35,285,38],[292,35,293,38],[290,28,291,29],[298,28,299,29],[292,3,293,8],[298,9,299,12],[292,13,293,15],[298,16,299,19],[292,16,293,19],[292,20,293,23],[290,30,291,34],[290,24,291,27],[292,24,293,27],[292,28,293,29],[292,30,293,34],[294,28,295,29],[294,30,295,34],[280,24,281,27],[282,3,283,8],[284,3,285,8],[286,3,287,8],[288,3,289,8],[292,9,293,12],[286,24,287,27],[294,16,295,19],[274,20,275,23],[280,9,281,12],[280,13,281,15],[278,4,279,8],[278,9,279,12],[278,13,279,15],[278,16,279,19],[280,4,281,8],[280,16,281,19],[280,20,281,23],[274,3,275,8],[274,9,275,12],[274,13,275,15],[278,24,279,27],[274,16,275,19],[276,4,277,8],[274,24,275,27],[276,13,277,15],[276,16,277,19],[276,20,277,23],[276,24,277,27],[278,20,279,23],[271,20,273,23],[271,24,273,27],[271,28,273,29],[218,16,219,18],[218,19,219,21],[260,25,261,27],[260,28,261,30],[258,22,259,24],[207,5,207,38],[271,2,273,8],[271,9,273,12],[271,16,273,19],[260,19,261,21],[272,13,273,15],[262,5,262,38],[258,28,259,30],[258,31,259,33],[258,34,259,35],[218,10,219,12],[218,13,219,15],[222,7,223,9],[222,10,223,12],[222,13,223,15],[222,16,223,18],[215,13,215,15],[215,16,215,18],[213,7,214,9],[260,2,261,3],[260,4,261,6],[260,7,261,9],[260,10,261,12],[260,13,261,15],[260,16,261,18],[260,22,261,24],[222,19,223,21],[222,22,223,24],[222,25,223,27],[222,28,223,30],[226,2,227,3],[226,4,227,6],[226,7,227,9],[226,10,227,12],[226,13,227,15],[226,16,227,18],[258,19,259,21],[238,4,239,6],[238,7,239,9],[226,19,227,21],[226,22,227,24],[226,25,227,27],[226,28,227,30],[230,19,231,21],[230,22,231,24],[230,25,231,27],[230,28,231,30],[234,19,235,21],[234,22,235,24],[234,25,235,27],[234,2,235,3],[238,2,239,3],[222,2,223,3],[222,4,223,6],[236,4,237,6],[236,7,237,9],[1,2,1,38],[3,2,4,3],[3,4,4,12],[3,13,4,28],[3,29,4,38],[5,2,6,3],[5,4,6,12],[5,13,6,28],[51,2,51,3],[43,3,43,13],[51,4,52,38],[19,2,20,2],[19,11,20,11],[10,4,11,10],[19,3,20,10],[19,12,20,21],[38,3,39,3],[38,4,39,4],[28,2,29,5],[28,6,29,9],[28,10,29,13],[44,3,44,13],[48,2,50,2],[48,3,50,38],[5,29,6,38],[10,3,11,3],[12,2,13,2],[12,3,13,3],[12,4,13,10],[21,2,21,3],[24,22,25,29],[24,30,27,38],[216,34,217,35],[216,2,217,3],[216,4,217,6],[216,7,217,9],[216,10,217,12],[73,2,74,2],[73,32,74,32],[38,16,39,16],[28,26,29,29],[28,30,29,38],[28,14,29,17],[122,27,123,27],[122,28,123,37],[111,2,112,2],[111,20,112,20],[216,25,217,27],[216,28,217,30],[216,31,217,33],[126,20,127,20],[132,26,134,26],[81,20,83,20],[90,2,91,2],[90,4,91,19],[90,3,91,3],[115,24,117,38],[126,22,127,38],[120,2,121,38],[128,3,129,3],[215,28,215,30],[212,2,215,3],[216,13,217,15],[216,16,217,18],[165,35,166,38],[271,35,273,38],[258,36,258,38],[163,35,164,38],[160,35,162,38],[160,16,162,20],[208,5,208,38],[160,29,162,34],[163,29,164,34],[165,29,166,34],[160,25,162,28],[163,25,164,28],[165,25,166,28],[213,13,214,15],[213,16,213,24],[213,25,214,27],[213,28,214,30],[214,16,214,18],[214,19,214,21],[214,22,214,24],[230,7,231,9],[230,10,231,12],[230,13,231,15],[230,16,231,18],[234,4,235,6],[234,7,235,9],[234,10,235,12],[234,13,235,15],[234,16,235,18],[212,4,215,6],[212,7,212,24],[212,31,215,33],[262,2,262,3],[215,7,215,9],[216,19,217,21],[216,22,217,24],[218,22,219,24],[260,31,261,35],[260,36,261,38],[271,30,273,34],[263,5,263,38],[216,36,216,38],[217,36,217,38],[259,36,259,38],[219,36,219,38],[218,25,219,27],[218,28,219,30],[218,31,219,33],[218,34,219,35],[218,36,218,38],[258,25,259,27],[212,36,215,38],[215,10,215,12],[258,2,259,3],[258,4,259,6],[258,7,259,9],[258,10,259,12],[258,13,259,15],[258,16,259,18],[218,2,219,3],[218,4,219,6],[218,7,219,9],[230,2,231,3],[230,4,231,6],[70,2,71,2],[70,3,71,6],[70,7,71,7],[70,8,71,11],[70,12,71,12],[70,13,71,16],[76,15,77,19],[76,20,77,20],[76,21,77,25],[128,4,129,19],[128,21,129,21],[128,22,129,38],[165,4,166,12],[102,4,103,38],[104,3,106,4],[163,16,164,20],[165,2,166,3],[165,16,166,20],[160,13,162,15],[163,13,164,15],[165,13,166,15],[160,21,162,24],[163,21,164,24],[165,21,166,24],[155,3,157,38],[151,2,152,2],[151,3,152,38],[155,2,157,2],[126,2,127,2],[126,3,127,19],[163,2,164,3],[145,4,148,13],[104,5,106,22],[104,24,106,25],[104,26,106,38],[76,2,77,2],[76,3,77,13],[76,14,77,14],[160,4,162,12],[163,4,164,12],[122,2,123,2],[115,3,117,21],[122,14,123,14],[126,21,127,21],[122,4,123,13],[122,3,123,3],[122,15,123,15],[122,16,123,25],[128,2,129,2],[128,20,129,20],[122,26,123,26],[84,2,88,2],[145,15,148,15]],"merged_total":1105,"flags":["merged_cut"]}
["【Ｂ表からの転記】",null,"別紙様式第１号別添１"]
["①助成対象者数に応じて\n\"調書様式\"シートをコピー",null,"担い手確保・経営強化支援計画個別経営体調書"]
[]
["②助成対象者の市町村名・地区名↓\n・整理番号(数値)を入力→",null,"No",null,"助成対象者名",null,null,null,null,null,null,null,null,"住　　　　所",null,null,null,null,null,null,null,null,null,null,null,null,null,null,null,"代表者名\n（法人等の場合に記載）"]
[]
["③不必要な行の非表示\nマクロ(Ctrl+K)実行",null,1,null,{"$f":"IF($A$28>0,VLOOKUP($A$28,個別表!$A$13:$KO$349,18,FALSE),0)","v":"法人A"},null,null,null,null,null,null,null,null,{"$f":"IF($A$28>0,VLOOKUP($A$28,個別表!$A$13:$KO$349,20,FALSE),0)","v":"北海道"},null,null,null,null,null,null,null,null,null,null,null,null,null,null,null,{"$f":"IF($A$28>0,VLOOKUP($A$28,個別表!$A$13:$KO$349,21,FALSE),0)","v":"a"}]
[]
["④青色セル項目の\n補完手入力→終了"]
[null,null,"Ⅰ　助成対象者の概要"]
["※マクロの有効化を確認\n(コンテンツの有効化)",null,"　（１）助成対象者要件",null,null,null,null,null,null,null,null,null,null,null,null,null,null,null,null,null,null,null,null,"（２）中心経営体として位置づけられた人・農地プラン"]
[null,null,{"$f":"IF($C$6>0,IF(OR($AO$11=1,$AO$11=2),\"■\",\"□\"),0)","v":"■"},1,"人・農地プランに位置づけられた中心経営体",null,null,null,null,null,null,{"$f":"IF($C$6>0,IF(OR($AO$11=1,$AO$11=3),\"■\",\"□\"),0)","v":"■"},2,"農地中間管理機構から賃借権の設定等を受けた者",null,null,null,null,null,null,null,null,null,"ａ",null,null,null,null,null,null,null,null,null,null,null,null,null,null,null,null,{"$f":"IF($A$28>0,VLOOKUP($A$28,個別表!$A$13:$KO$349,22,FALSE),0)","v":1}]
["③’行の非表示を元に戻す\nマクロ(Ctrl+R)",null,null,null,null,null,null,null,null,null,null,null,null,null,null,null,null,null,null,null,null,null,null,"ｂ"]
[null,null,{"$f":"IF($C$6>0,IF(OR($AO$11=4),\"■\",\"□\"),0)","v":"□"},3,"事業実施主体が認める者",null,null,null,null,null,null,null,null,null,null,null,null,null,null,null,null,null,null,"（注）",null,"　助成対象者が中心経営体の場合に、該当するプラン名を記載。"]
["③’’行非表示フィルターの\n手順だけのマクロです"]
[null,null,"（注）",null,1,"該当する□にチェックを入れること。"]
[null,null,null,null,2,"１及び２の両方に該当する場合は両方にチェックを入れること。"]
[null,null,null,null,3,"３に該当する場合は事業実施主体が定める基準に該当することが分かる資料を添付すること。"]
[]
[null,null,"　（３）補助上限の区分"]
[null,null,{"$f":"IF(OR(C11=\"■\",L11=\"■\"),\"■\",\"□\")","v":"■"},"　1,500万円\n　（法人3,000万円）",null,null,null,null,null,null,null,{"$f":"IF(C13=\"■\",\"■\",\"□\")","v":"□"},"　100万円"]
[]
[null,null,"（注）",null,"該当する□にチェックを入れること。"]
[]
[null,null,"　（４）人・農地プランに位置づけられた取組内容"]
[null,null,"（２）の関連番号",null,null,null,null,null,null,null,null,null,null,null,"現状\n（○年度）",null,null,null,null,null,null,null,"計画\n（○年度）",null,null,null,null,null,null,null,"取組内容\n（新規就農・６次産業化・高付加価値化・複合化等）"]
[]
[null,null,null,null,null,null,"市町村名",null,null,null,"地区名",null,null,null,"経営内容",null,null,null,"経営規模",null,null,null,"経営内容",null,null,null,"経営規模"]
[{"$f":"IF(AND($A$29>0,$A$30>0),A29*1000000+A30*10000+C6*100+1,0)","v":1010101}]
[{"$f":"IF(G29<>\"\",VLOOKUP(G29,個別表!$M$13:$KO$349,289,FALSE),0)","v":1},null,null,null,null,null,"あ",null,null,null,"甲"]
[{"$f":"IF(K29<>\"\",VLOOKUP(K29,個別表!$N$13:$KO$349,287,FALSE),0)","v":1}]
[null,null,"（注）",null,1,"人・農地プランに記載された内容を記載すること。"]
[null,null,null,null,2,"複数のプランが事業実施に関連する場合は、行を追加し全て記載すること。"]
[]
[null,null,"　（５）（１）の助成対象者要件の詳細",null,null,null,null,null,null,null,null,null,null,null,null,null,null,null,null,null,null,null,null,null,null,null,null,null,null,null,null,null,null,null,null,null,null,null,null,null,{"$f":"IF($A$28>0,VLOOKUP($A$28,個別表!$A$13:$KO$349,26,FALSE),0)","v":1}]
[null,null,"１．人・農地プランに位置づけられた中心経営体"]
[null,null,null,{"$f":"IF($C$6>0,IF($AO$34=1,\"■\",\"□\"),0)","v":"■"},"ａ.","認定農業者",null,null,null,null,null,{"$f":"IF($C$6>0,IF($AO$34=2,\"■\",\"□\"),0)","v":"□"},"b.","認定就農者（就農時の年齢　　歳、\n　　　　　　　　就農した年月（就農： 　年　月）",null,null,null,null,null,null,null,null,null,null,null,{"$f":"IF($C$6>0,IF($AO$34=3,\"■\",\"□\"),0)","v":"□"},"c.","集落営農組織\n（任意組織）"]
[]
[null,null,"３．事業実施主体が認める者"]
[null,null,null,"□","a.","当該市町村の認定農業者の所得のおおむね８割以上の所得がある",null,null,null,null,null,null,null,null,null,"□","b.","中心経営体又は認定農業者",null,null,null,null,null,null,null,null,null,null,null,"□","c.","10年後の農業経営の継続意向が明確になっている"]
[]
[null,null,"（注）",null,1,"（１）で１又は３を選択した場合、その要件の詳細について該当する□にチェックを入れること。"]
[null,null,null,null,2,"１-ｂに該当する場合は、就農した年齢、就農年月を記入すること。"]
[null,null,null,"営農類型"]
[null,null,null,"区分"]
[null,null,null,{"$f":"IF($A$28>0,VLOOKUP($A$28,個別表!$A$13:$KO$349,30,FALSE),0)","v":"水田作"}]
[null,null,"（注）",null,"別紙様式第３号別添１に規定する融資主体型補助事業整理番号表の③の営農類型区分に基づき記載すること。"]
[]
[null,null,"　（６）個人情報の取扱い"]
[null,null,"□","　本事業の実施に当たり、本申請に係る個人情報又は人・農地プランに記載されている個人情報（氏名等）について、関係自治体、支援機関、関係機関に提供することに同意します。　（同意いただけない場合は、取組内容等が確認ができないため、本事業の実施ができない場合があります。）"]
[]
[]
[null,null,"（注）",null,"　本申請に係る情報又は人・農地プランに記載されている情報を関係自治体、支援機関、関係機関に提供することに同意する場合は、□にチェックを入れること。"]
[]
[]
[null,null,"Ⅱ　配分基準表該当項目"]
[null,null,"　助成対象者の配分基準（市町村と相談し記載するとともに、記載事項が妥当であることが分かる資料を添付すること。）"]
[null,null,"①　付加価値額の拡大"]
[null,null,"ア　付加価値額の拡大率の目標ポイント"]
[null,null,"　（ア）　付加価値額の拡大率の目標ポイント（対象：事業実施主体が認める者以外の者（⑩新規就農のポイントを受ける者は除く。））"]
[null,null,{"$f":"IF($C$6>0,IF(VLOOKUP($A$28,個別表!$A$13:$KO$349,86,FALSE)>0,\"■\",\"□\"),0)","v":"□"},"現状の付加価値額の\n10％以上の増加",null,null,null,null,null,null,null,{"$f":"IF($C$6>0,IF(VLOOKUP($A$28,個別表!$A$13:$KO$349,87,FALSE)>0,\"■\",\"□\"),0)","v":"□"},"現状の付加価値額の\n15％以上の増加",null,null,null,null,null,null,null,{"$f":"IF($C$6>0,IF(VLOOKUP($A$28,個別表!$A$13:$KO$349,88,FALSE)>0,\"■\",\"□\"),0)","v":"□"},"現状の付加価値額の\n20％以上の増加",null,null,null,null,null,null,null,{"$f":"IF($C$6>0,IF(VLOOKUP($A$28,個別表!$A$13:$KO$349,89,FALSE)>0,\"■\",\"□\"),0)","v":"□"},"現状の付加価値額の\n30％以上の増加"]
[]
[null,null,{"$f":"IF($C$6>0,IF(VLOOKUP($A$28,個別表!$A$13:$KO$349,90,FALSE)>0,\"■\",\"□\"),0)","v":"□"},"現状の付加価値額の\n40％以上の増加",null,null,null,null,null,null,null,null,null,null,{"$f":"IF($C$6>0,IF(VLOOKUP($A$28,個別表!$A$13:$KO$349,91,FALSE)>0,\"■\",\"□\"),0)","v":"□"},"現状の付加価値額の\n50％以上の増加",null,null,null,null,null,null,null,null,null,null,{"$f":"IF($C$6>0,IF(VLOOKUP($A$28,個別表!$A$13:$KO$349,92,FALSE)>0,\"■\",\"□\"),0)","v":"■"},"現状の付加価値額の\n60％以上の増加"]
[]
[null,null,"　(イ)　付加価値額の拡大率の目標ポイント（対象：事業実施主体が認める者（⑩新規就農のポイント加点を受ける者を除く。））"]
[null,null,{"$f":"IF($C$6>0,IF(VLOOKUP($A$28,個別表!$A$13:$KO$349,93,FALSE)>0,\"■\",\"□\"),0)","v":"□"},"現状から３％以上の増加",null,null,null,null,null,{"$f":"IF($C$6>0,IF(VLOOKUP($A$28,個別表!$A$13:$KO$349,94,FALSE)>0,\"■\",\"□\"),0)","v":"□"},"現状から\n10％以上の増加",null,null,null,null,null,{"$f":"IF($C$6>0,IF(VLOOKUP($A$28,個別表!$A$13:$KO$349,95,FALSE)>0,\"■\",\"□\"),0)","v":"□"},"現状から\n 16％以上の増加",null,null,null,null,null,{"$f":"IF($C$6>0,IF(VLOOKUP($A$28,個別表!$A$13:$KO$349,96,FALSE)>0,\"■\",\"□\"),0)","v":"□"},"現状から\n21％以上の増加",null,null,null,null,null,null,{"$f":"IF($C$6>0,IF(VLOOKUP($A$28,個別表!$A$13:$KO$349,97,FALSE)>0,\"■\",\"□\"),0)","v":"□"},"現状から\n25％以上の増加"]
[]
[null,null,{"$f":"IF($C$6>0,IF(VLOOKUP($A$28,個別表!$A$13:$KO$349,98,FALSE)>0,\"■\",\"□\"),0)","v":"□"},"現状から\n28％以上の増加",null,null,null,null,null,{"$f":"IF($C$6>0,IF(VLOOKUP($A$28,個別表!$A$13:$KO$349,99,FALSE)>0,\"■\",\"□\"),0)","v":"□"},"現状から\n30％以上の増加"]
[]
[null,null,"イ　付加価値額の拡大額の目標ポイント"]
[null,null,"　（ア）　付加価値額の拡大額の目標（対象：⑩新規就農のポイント加点を受ける者以外の者であって事業実施主体が認める者以外の者）"]
[null,null,{"$f":"IF($C$6>0,IF(VLOOKUP($A$28,個別表!$A$13:$KO$349,100,FALSE)>0,\"■\",\"□\"),0)","v":"□"},"100万円以上",null,null,null,{"$f":"IF($C$6>0,IF(VLOOKUP($A$28,個別表!$A$13:$KO$349,101,FALSE)>0,\"■\",\"□\"),0)","v":"□"},"150万円以上",null,null,null,{"$f":"IF($C$6>0,IF(VLOOKUP($A$28,個別表!$A$13:$KO$349,102,FALSE)>0,\"■\",\"□\"),0)","v":"□"},"300万円以上",null,null,null,{"$f":"IF($C$6>0,IF(VLOOKUP($A$28,個別表!$A$13:$KO$349,103,FALSE)>0,\"■\",\"□\"),0)","v":"□"},"400万円以上",null,null,null,{"$f":"IF($C$6>0,IF(VLOOKUP($A$28,個別表!$A$13:$KO$349,104,FALSE)>0,\"■\",\"□\"),0)","v":"■"},"650万円\n以上",null,null,null,{"$f":"IF($C$6>0,IF(VLOOKUP($A$28,個別表!$A$13:$KO$349,105,FALSE)>0,\"■\",\"□\"),0)","v":"□"},"1,000万円\n以上",null,null,null,{"$f":"IF($C$6>0,IF(VLOOKUP($A$28,個別表!$A$13:$KO$349,106,FALSE)>0,\"■\",\"□\"),0)","v":"□"},"1,500万円以上"]
[]
[null,null,"　(イ)　付加価値額の拡大額の目標（対象：⑩新規就農のポイント加点を受ける者以外の者であって事業実施主体が認める者）"]
[null,null,{"$f":"IF($C$6>0,IF(VLOOKUP($A$28,個別表!$A$13:$KO$349,107,FALSE)>0,\"■\",\"□\"),0)","v":"□"},"50万円以上",null,null,null,{"$f":"IF($C$6>0,IF(VLOOKUP($A$28,個別表!$A$13:$KO$349,108,FALSE)>0,\"■\",\"□\"),0)","v":"□"},"60万円以上",null,null,null,{"$f":"IF($C$6>0,IF(VLOOKUP($A$28,個別表!$A$13:$KO$349,109,FALSE)>0,\"■\",\"□\"),0)","v":"□"},"70万円以上",null,null,null,{"$f":"IF($C$6>0,IF(VLOOKUP($A$28,個別表!$A$13:$KO$349,110,FALSE)>0,\"■\",\"□\"),0)","v":"□"},"80万円以上",null,null,null,{"$f":"IF($C$6>0,IF(VLOOKUP($A$28,個別表!$A$13:$KO$349,111,FALSE)>0,\"■\",\"□\"),0)","v":"□"},"100万円\n以上",null,null,null,{"$f":"IF($C$6>0,IF(VLOOKUP($A$28,個別表!$A$13:$KO$349,112,FALSE)>0,\"■\",\"□\"),0)","v":"□"},"120万円\n以上",null,null,null,{"$f":"IF($C$6>0,IF(VLOOKUP($A$28,個別表!$A$13:$KO$349,113,FALSE)>0,\"■\",\"□\"),0)","v":"□"},"150万円以上"]
[]
[null,null,"　(ウ)　付加価値額の目標（対象：⑩新規就農のポイント加点を受ける者）"]
[null,null,{"$f":"IF($C$6>0,IF(VLOOKUP($A$28,個別表!$A$13:$KO$349,114,FALSE)>0,\"■\",\"□\"),0)","v":"□"},"基準額(目標年度における\n就農後経過年数×50万円)以上",null,null,null,null,null,null,null,null,null,null,{"$f":"IF($C$6>0,IF(VLOOKUP($A$28,個別表!$A$13:$KO$349,115,FALSE)>0,\"■\",\"□\"),0)","v":"□"},"基準額の\n10％増し以上",null,null,null,null,{"$f":"IF($C$6>0,IF(VLOOKUP($A$28,個別表!$A$13:$KO$349,116,FALSE)>0,\"■\",\"□\"),0)","v":"□"},"基準額の\n20％増し以上",null,null,null,null,{"$f":"IF($C$6>0,IF(VLOOKUP($A$28,個別表!$A$13:$KO$349,117,FALSE)>0,\"■\",\"□\"),0)","v":"□"},"基準額の\n30％増し以上",null,null,null,null,{"$f":"IF($C$6>0,IF(VLOOKUP($A$28,個別表!$A$13:$KO$349,118,FALSE)>0,\"■\",\"□\"),0)","v":"□"},"基準額の\n40％増し以上"]
[]
[]
[null,null,"②　経営面積の拡大"]
[null,null,"　ア　経営面積の拡大（対象：事業実施主体が認める者以外の者）"]
[null,null,{"$f":"IF($C$6>0,IF(VLOOKUP($A$28,個別表!$A$13:$KO$349,119,FALSE)>0,\"■\",\"□\"),0)","v":"□"},"a","　農地中間管理機構から賃借権等の設定等を受け、かつ、目標年度に現状より４ha（施設園芸作の場合は20％、果樹作の場合は10％）以上の経営面積の拡大を行うこととしている",null,null,null,null,null,null,null,null,null,null,null,null,null,null,null,{"$f":"IF($C$6>0,IF(VLOOKUP($A$28,個別表!$A$13:$KO$349,120,FALSE)>0,\"■\",\"□\"),0)","v":"■"},"b","　農地中間管理機構から賃借権等の設定等を受け、かつ、目標年度に現状より２ha（施設園芸作の場合は10％、果樹作の場合は５％）以上の経営面積の拡大を行うこととしている"]
[]
[]
[null,null,{"$f":"IF($C$6>0,IF(VLOOKUP($A$28,個別表!$A$13:$KO$349,121,FALSE)>0,\"■\",\"□\"),0)","v":"□"},"c","　農地中間管理機構から賃借権等の設定等を受けており、かつ、目標年度に現状より経営面積の拡大を行うこととしている、又は目標年度に現状より４ha（施設園芸作の場合は20％、果樹作の場合は10％）以上の経営面積拡大を行うこととしている",null,null,null,null,null,null,null,null,null,null,null,{"$f":"IF($C$6>0,IF(VLOOKUP($A$28,個別表!$A$13:$KO$349,122,FALSE)>0,\"■\",\"□\"),0)","v":"□"},"d","　農地中間管理機構から賃借権等の設定等を受けている、又は目標年度に現状より２ha（施設園芸作の場合は10％、果樹作の場合は５％）以上の経営面積の拡大を行うこととしている",null,null,null,null,null,null,null,null,null,null,{"$f":"IF($C$6>0,IF(VLOOKUP($A$28,個別表!$A$13:$KO$349,123,FALSE)>0,\"■\",\"□\"),0)","v":"□"},"e","　ａからdまでに該当しない経営体で、目標年度に現状より経営面積の拡大を行うこととしている。"]
[]
[]
[]
[]
[null,null,"　イ　経営面積の拡大（対象：事業実施主体が認める者）"]
[null,null,{"$f":"IF($C$6>0,IF(VLOOKUP($A$28,個別表!$A$13:$KO$349,124,FALSE)>0,\"■\",\"□\"),0)","v":"□"},null,"　経営面積の拡大を行うこととしている。"]
[]
[]
[null,null,"③　農産物の価値向上"]
[null,null,{"$f":"IF($C$6>0,IF(VLOOKUP($A$28,個別表!$A$13:$KO$349,125,FALSE)>0,\"■\",\"□\"),0)","v":"□"},"　事業実施前３年度内に新品種の導入、栽培管理技術の改善、新たな加工又は販売の取組等により、農産物の価値の向上等に取り組んでいる（事業実施主体が認める者以外の者の場合）"]
[]
[]
[null,null,{"$f":"IF($C$6>0,IF(VLOOKUP($A$28,個別表!$A$13:$KO$349,126,FALSE)>0,\"■\",\"□\"),0)","v":"□"},"　事業実施前３年度内に新品種の導入、栽培管理技術の改善、新たな加工又は販売の取組等により、農産物の価値の向上等に取り組んでいる（事業実施主体が認める者の場合）",null,null,null,null,null,null,null,null,null,null,null,null,null,null,null,null,{"$f":"IF($C$6>0,IF(VLOOKUP($A$28,個別表!$A$13:$KO$349,127,FALSE)>0,\"■\",IF(VLOOKUP($A$28,個別表!$A$13:$KO$349,128,FALSE)>0,\"■\",\"□\")),0)","v":"□"},"　有機ＪＡＳの認証を受けている場合又は受ける場合"]
[]
[]
[]
[null,null,"④　農業経営の複合化"]
[null,null,{"$f":"IF($C$6>0,IF(VLOOKUP($A$28,個別表!$A$13:$KO$349,129,FALSE)>0,\"■\",\"□\"),0)","v":"□"},"ア","　土地利用型作物の生産、園芸作物の生産などを組み合わせ、複合的に経営を展開している。"]
[]
[null,null,{"$f":"IF($C$6>0,IF(VLOOKUP($A$28,個別表!$A$13:$KO$349,130,FALSE)>0,\"■\",IF(VLOOKUP($A$28,個別表!$A$13:$KO$349,131,FALSE)>0,\"■\",\"□\")),0)","v":"□"},"イ-a",null,"　事業実施前３年度内に経営面積又は農産物売上高（農産物の生産・加工に係る売上高をいう。以下同じ。）の３割以上の品目転換を行っている又は目標年度までに行うこととしている。",null,null,null,null,null,null,null,null,null,null,null,null,null,null,null,null,null,{"$f":"IF($C$6>0,IF(VLOOKUP($A$28,個別表!$A$13:$KO$349,132,FALSE)>0,\"■\",IF(VLOOKUP($A$28,個別表!$A$13:$KO$349,133,FALSE)>0,\"■\",\"□\")),0)","v":"□"},"イ-b",null,"　事業実施前３年度内に経営面積又は農産物売上高の４割以上の品目転換を行っている又は目標年度までに行うこととしている。"]
[]
[]
[]
[null,null,"⑤　経営管理の高度化"]
[null,null,{"$f":"IF($C$6>0,IF(VLOOKUP($A$28,個別表!$A$13:$KO$349,134,FALSE)>0,\"■\",IF(VLOOKUP($A$28,個別表!$A$13:$KO$349,135,FALSE)>0,\"■\",\"□\")),0)","v":"■"},"ア","　現在、法人化している又は目標年度までに法人化することとしている。",null,null,null,null,null,null,null,null,null,null,null,null,null,null,null,{"$f":"IF($C$6>0,IF(VLOOKUP($A$28,個別表!$A$13:$KO$349,136,FALSE)>0,\"■\",\"□\"),0)","v":"□"},"イ","　ＧＬＯＢＡＬＧ．Ａ．Ｐ．又はＡＳＩＡＧＡＰの認証を取得している。"]
[]
[null,null,{"$f":"IF($C$6>0,IF(VLOOKUP($A$28,個別表!$A$13:$KO$349,137,FALSE)>0,\"■\",IF(VLOOKUP($A$28,個別表!$A$13:$KO$349,138,FALSE)>0,\"■\",\"□\")),0)","v":"■"},"ウ","　青色申告を行っている又は目標年度までに行うこととしている。",null,null,null,null,null,null,null,null,null,null,null,null,null,null,null,{"$f":"IF($C$6>0,IF(VLOOKUP($A$28,個別表!$A$13:$KO$349,139,FALSE)>0,\"■\",\"□\"),0)","v":"■"},"エ","　農業版ＢＣＰ（事業継続計画）を策定している。"]
[]
[]
[null,null,"⑥　環境配慮の取組",null,null,null,null,null,null,null,null,null,null,null,null,null,null,null,null,null,null,null,null,"⑦　農作業の共同化（対象：事業実施主体が認める者）"]
[null,null,{"$f":"IF($C$6>0,IF(VLOOKUP($A$28,個別表!$A$13:$KO$349,140,FALSE)>0,\"■\",IF(VLOOKUP($A$28,個別表!$A$13:$KO$349,141,FALSE)>0,\"■\",\"□\")),0)","v":"□"},"　事業実施前３年度内に化石燃料を使用しない園芸施設への移行による温室効果ガスの削減又は化学農薬・化学肥料使用量の削減を行っている又は目標年度までに行うこととしている。",null,null,null,null,null,null,null,null,null,null,null,null,null,null,null,null,null,null,null,{"$f":"IF($C$6>0,IF(VLOOKUP($A$28,個別表!$A$13:$KO$349,142,FALSE)>0,\"■\",IF(VLOOKUP($A$28,個別表!$A$13:$KO$349,143,FALSE)>0,\"■\",\"□\")),0)","v":"□"},"　事業実施主体が認める者であって、自らの経営に係る農作業について他の農業者と共同して農作業を行っている又は目標年度までに行うこととしている。"]
[]
[]
[]
[null,null,"⑧　労働時間の縮減（対象：事業実施主体が認める者）"]
[null,null,"　事業実施主体が認める者であって、栽培技術等の改善、作業の効率化等により農作業の一部又は全部の労働時間について、aからｃの取組に該当している。"]
[]
[null,null,{"$f":"IF($C$6>0,IF(VLOOKUP($A$28,個別表!$A$13:$KO$349,144,FALSE)>0,\"■\",\"□\"),0)","v":"□"},"a","目標年度までに10％以上縮減する。",null,null,null,null,null,null,null,null,null,{"$f":"IF($C$6>0,IF(VLOOKUP($A$28,個別表!$A$13:$KO$349,145,FALSE)>0,\"■\",\"□\"),0)","v":"□"},"b","目標年度までに20％以上縮減する。",null,null,null,null,null,null,null,null,null,{"$f":"IF($C$6>0,IF(VLOOKUP($A$28,個別表!$A$13:$KO$349,146,FALSE)>0,\"■\",\"□\"),0)","v":"□"},"c","目標年度までに50％以上縮減する。"]
[]
[]
[null,null,"⑨　輸出の取組"]
[null,null,{"$f":"IF($C$6>0,IF(VLOOKUP($A$28,個別表!$A$13:$KO$349,147,FALSE)>0,\"■\",\"□\"),0)","v":"■"},"　農産物の輸出を行う（他者との連携による取組を含む。）。",null,null,null,null,null,null,null,null,null,null,null,null,null,null,null,null,{"$f":"IF($C$6>0,IF(VLOOKUP($A$28,個別表!$A$13:$KO$349,148,FALSE)>0,\"■\",\"□\"),0)","v":"■"},"a","　現在、農産物の輸出の取組（他者との連携による取組を含む。）を行っている。"]
[]
[null,null,{"$f":"IF($C$6>0,IF(VLOOKUP($A$28,個別表!$A$13:$KO$349,149,FALSE)>0,\"■\",\"□\"),0)","v":"□"},"b","　輸出事業計画の認定を受けている、又は認定を受けた輸出事業計画に連携者として位置付けられている。",null,null,null,null,null,null,null,null,null,null,null,null,null,null,null,{"$f":"IF($C$6>0,IF(VLOOKUP($A$28,個別表!$A$13:$KO$349,150,FALSE)>0,\"■\",\"□\"),0)","v":"□"},"c","　目標年度までに農産物売上高の15％以上を輸出に振り向ける。"]
[]
[]
[null,null,"⑩　新規就農"]
[null,null,{"$f":"IF($C$6>0,IF(VLOOKUP($A$28,個別表!$A$13:$KO$349,151,FALSE)>0,\"■\",\"□\"),0)","v":"□"},"　事業実施年度に就農する者又は就農後５年以内の者である（認定就農者である場合に限る。）。",null,null,null,null,null,null,null,null,null,null,{"$f":"IF($C$6>0,IF(VLOOKUP($A$28,個別表!$A$13:$KO$349,152,FALSE)>0,\"■\",\"□\"),0)","v":"□"},"a","  50歳までに就農した者である（法人にあっては、役員の過半が50歳以下である場合に限る。）。",null,null,null,null,null,null,null,null,null,{"$f":"IF($C$6>0,IF(VLOOKUP($A$28,個別表!$A$13:$KO$349,153,FALSE)>0,\"■\",\"□\"),0)","v":"□"},"b","　農業次世代人材投資資金（経営開始型）等の交付期間中に経営を発展させて交付を終了した者である。"]
[]
[]
[]
[null,null,"⑪　農業者の育成"]
[null,null,{"$f":"IF($C$6>0,IF(VLOOKUP($A$28,個別表!$A$13:$KO$349,154,FALSE)>0,\"■\",\"□\"),0)","v":"■"},"　農業研修生（国内で農業を生業とする予定の者に限り、外国人技能実習制度に基づく者を除く。）を受け入れている。",null,null,null,null,null,null,null,null,null,null,{"$f":"IF($C$6>0,IF(VLOOKUP($A$28,個別表!$A$13:$KO$349,155,FALSE)>0,\"■\",\"□\"),0)","v":"□"},"ａ","　就農に向けて必要な技術等を習得できる経営体として都道府県が認めた者である。",null,null,null,null,null,null,null,null,null,{"$f":"IF($C$6>0,IF(VLOOKUP($A$28,個別表!$A$13:$KO$349,156,FALSE)>0,\"■\",\"□\"),0)","v":"■"},"ｂ","　ａの加点対象者が受け入れた農業研修生が、過去５年以内に研修を終了して独立し、認定就農者又は認定農業者となった（　　　名）。"]
[]
[]
[]
[null,null,"（注）",null,"　ｂの認定就農者等となった研修生の人数の記載は、就農技術等を習得できる経営体のみ記載することとし、受け入れた農業研修生が過去５年以内に研修を終了して独立し、認定就農者又は認定農業者になった者の人数を記載すること。"]
[]
[]
[null,null,"⑫　女性の取組"]
[null,null,{"$f":"IF($C$6>0,IF(VLOOKUP($A$28,個別表!$A$13:$KO$349,157,FALSE)=\"ア\",\"■\",\"□\"),0)","v":"□"},"ア","　女性農業者（自らが農業経営を行っている又は部門間で区分経理を行っている場合に当該部門の責任者である者に限る。）",null,null,null,null,null,null,null,null,null,{"$f":"IF($C$6>0,IF(VLOOKUP($A$28,個別表!$A$13:$KO$349,157,FALSE)=\"イ\",\"■\",\"□\"),0)","v":"□"},"イ","　代表者が女性である又は役員若しくは構成員のうち女性が過半を占める法人又は任意組織",null,null,null,null,null,null,null,null,null,{"$f":"IF($C$6>0,IF(VLOOKUP($A$28,個別表!$A$13:$KO$349,157,FALSE)=\"ウ\",\"■\",\"□\"),0)","v":"□"},"ウ","　法人又は任意組織であって、部門間で区分経理を行っており、女性が当該部門の責任者であるもの"]
[]
[]
[]
[]
[null,null,"⑬　関係機関等によるサポート体制の構築（対象：事業実施主体が認める者）"]
[null,null,{"$f":"IF($C$6>0,IF(VLOOKUP($A$28,個別表!$A$13:$KO$349,158,FALSE)>0,\"■\",\"□\"),0)","v":"□"},"　事業実施主体が認める者であって、本事業をはじめとする経営発展に向けた取組について、農業協同組合・農業協同組合連合会、農業経営相談所等の関係機関・支援機関のサポート体制が構築されている。"]
[]
[]
[null,null,"⑭　中山間地域での取組（対象：事業実施主体が認める者）"]
[null,null,{"$f":"IF($C$6>0,IF(VLOOKUP($A$28,個別表!$A$13:$KO$349,159,FALSE)>0,\"■\",\"□\"),0)","v":"□"},"　事業実施主体が認める者であって、本事業により導入した機械等を活用する農地等の概ね８割が中山間地域等直接支払交付金実施要領（平成12年４月１日付け12構改B第38号農林水産事務次官依命通知）第４の対象地域であり、かつ同要領第４の対象農用地が存在する地域内の農地である。"]
[]
[]
[]
[null,null,"Ⅲ　事業内容等"]
[null,null,"No",null,"事業内容\n（機械等名、規模、台数等）",null,null,null,null,null,null,null,null,"スマート農機等の該当の有無",null,null,"規模決定の根拠",null,null,null,null,"着工(契約)\n予定年月日",null,null,null,"竣工予定\n年月日",null,null,null,"機械等の保管・\n設置・施工場所",null,null,null,null,null,"ＩＣＴベンダー等へのデータ提供の有無"]
[]
[]
[{"$f":"IF($C$6>0,IF(A165=1,1,0),0)","v":1},null,1,null,{"$f":"IF($C$6>0,VLOOKUP($AO165,個別表!$A$13:$KO$349,35,FALSE),0)","v":"クローラトラクター　135ps　1台　自動操舵機能付き"},null,null,null,null,null,null,null,null,{"$f":"IF($C$6>0,IF(VLOOKUP($AO165,個別表!$A$13:$KO$349,38,FALSE)=1,\"■\",\"□\"),0)","v":"■"},null,null,{"$f":"IF($C$6>0,VLOOKUP($AO165,個別表!$A$13:$KO$349,39,FALSE),0)","v":"規模決定根拠資料"},null,null,null,null,{"$f":"IF($C$6>0,VLOOKUP($AO165,個別表!$A$13:$KO$349,40,FALSE),0)","v":"2022-03-03"},null,null,null,{"$f":"IF($C$6>0,VLOOKUP($AO165,個別表!$A$13:$KO$349,41,FALSE),0)","v":"2022-03-03"},null,null,null,{"$f":"IF($C$6>0,VLOOKUP($AO165,個別表!$A$13:$KO$349,42,FALSE),0)","v":"○○町1-1-1"},null,null,null,null,null,"□"]
[{"$f":"IF($C$6>0,IF(VLOOKUP($AO165,個別表!$A$13:$KO$349,31,FALSE)>0,1,0),0)","v":1},null,null,null,null,null,null,null,null,null,null,null,null,null,null,null,null,null,null,null,null,null,null,null,null,null,null,null,null,null,null,null,null,null,null,null,null,null,null,null,{"$f":"$A$28","v":1010101}]
[{"$f":"IF($C$6>0,IF(A167=1,1,0),0)","v":1},null,2,null,{"$f":"IF($C$6>0,VLOOKUP($AO167,個別表!$A$13:$KO$349,35,FALSE),0)","v":"グレンドリル　4m　1台"},null,null,null,null,null,null,null,null,{"$f":"IF($C$6>0,IF(VLOOKUP($AO167,個別表!$A$13:$KO$349,38,FALSE)=1,\"■\",\"□\"),0)","v":"■"},null,null,{"$f":"IF($C$6>0,VLOOKUP($AO167,個別表!$A$13:$KO$349,39,FALSE),0)","v":"規模決定根拠資料"},null,null,null,null,{"$f":"IF($C$6>0,VLOOKUP($AO167,個別表!$A$13:$KO$349,40,FALSE),0)","v":"2022-03-03"},null,null,null,{"$f":"IF($C$6>0,VLOOKUP($AO167,個別表!$A$13:$KO$349,41,FALSE),0)","v":"2022-03-03"},null,null,null,{"$f":"IF($C$6>0,VLOOKUP($AO167,個別表!$A$13:$KO$349,42,FALSE),0)","v":"○○町1-1-1"},null,null,null,null,null,"□"]
[{"$f":"IF($C$6>0,IF(VLOOKUP($AO167,個別表!$A$13:$KO$349,31,FALSE)>0,1,0),0)","v":1},null,null,null,null,null,null,null,null,null,null,null,null,null,null,null,null,null,null,null,null,null,null,null,null,null,null,null,null,null,null,null,null,null,null,null,null,null,null,null,{"$f":"AO165+1","v":1010102}]
[{"$f":"IF($C$6>0,IF(A169=1,1,0),0)","v":{"$error":"#N/A"}},null,3,null,{"$f":"IF($C$6>0,VLOOKUP($AO169,個別表!$A$13:$KO$349,35,FALSE),0)","v":{"$error":"#N/A"}},null,null,null,null,null,null,null,null,{"$f":"IF($C$6>0,IF(VLOOKUP($AO169,個別表!$A$13:$KO$349,38,FALSE)=1,\"■\",\"□\"),0)","v":{"$error":"#N/A"}},null,null,{"$f":"IF($C$6>0,VLOOKUP($AO169,個別表!$A$13:$KO$349,39,FALSE),0)","v":{"$error":"#N/A"}},null,null,null,null,{"$f":"IF($C$6>0,VLOOKUP($AO169,個別表!$A$13:$KO$349,40,FALSE),0)","v":{"$error":"#N/A"}},null,null,null,{"$f":"IF($C$6>0,VLOOKUP($AO169,個別表!$A$13:$KO$349,41,FALSE),0)","v":{"$error":"#N/A"}},null,null,null,{"$f":"IF($C$6>0,VLOOKUP($AO169,個別表!$A$13:$KO$349,42,FALSE),0)","v":{"$error":"#N/A"}},null,null,null,null,null,"□"]
[{"$f":"IF($C$6>0,IF(VLOOKUP($AO169,個別表!$A$13:$KO$349,31,FALSE)>0,1,0),0)","v":{"$error":"#N/A"}},null,null,null,null,null,null,null,null,null,null,null,null,null,null,null,null,null,null,null,null,null,null,null,null,null,null,null,null,null,null,null,null,null,null,null,null,null,null,null,{"$f":"AO167+1","v":1010103}]
[{"$f":"IF($C$6>0,IF(A171=1,1,0),0)","v":{"$error":"#N/A"}},null,4,null,{"$f":"IF($C$6>0,VLOOKUP($AO171,個別表!$A$13:$KO$349,35,FALSE),0)","v":{"$error":"#N/A"}},null,null,null,null,null,null,null,null,{"$f":"IF($C$6>0,IF(VLOOKUP($AO171,個別表!$A$13:$KO$349,38,FALSE)=1,\"■\",\"□\"),0)","v":{"$error":"#N/A"}},null,null,{"$f":"IF($C$6>0,VLOOKUP($AO171,個別表!$A$13:$KO$349,39,FALSE),0)","v":{"$error":"#N/A"}},null,null,null,null,{"$f":"IF($C$6>0,VLOOKUP($AO171,個別表!$A$13:$KO$349,40,FALSE),0)","v":{"$error":"#N/A"}},null,null,null,{"$f":"IF($C$6>0,VLOOKUP($AO171,個別表!$A$13:$KO$349,41,FALSE),0)","v":{"$error":"#N/A"}},null,null,null,{"$f":"IF($C$6>0,VLOOKUP($AO171,個別表!$A$13:$KO$349,42,FALSE),0)","v":{"$error":"#N/A"}},null,null,null,null,null,"□"]
[{"$f":"IF($C$6>0,IF(VLOOKUP($AO171,個別表!$A$13:$KO$349,31,FALSE)>0,1,0),0)","v":{"$error":"#N/A"}},null,null,null,null,null,null,null,null,null,null,null,null,null,null,null,null,null,null,null,null,null,null,null,null,null,null,null,null,null,null,null,null,null,null,null,null,null,null,null,{"$f":"AO169+1","v":1010104}]
[{"$f":"IF($C$6>0,IF(A173=1,1,0),0)","v":{"$error":"#N/A"}},null,5,null,{"$f":"IF($C$6>0,VLOOKUP($AO173,個別表!$A$13:$KO$349,35,FALSE),0)","v":{"$error":"#N/A"}},null,null,null,null,null,null,null,null,{"$f":"IF($C$6>0,IF(VLOOKUP($AO173,個別表!$A$13:$KO$349,38,FALSE)=1,\"■\",\"□\"),0)","v":{"$error":"#N/A"}},null,null,{"$f":"IF($C$6>0,VLOOKUP($AO173,個別表!$A$13:$KO$349,39,FALSE),0)","v":{"$error":"#N/A"}},null,null,null,null,{"$f":"IF($C$6>0,VLOOKUP($AO173,個別表!$A$13:$KO$349,40,FALSE),0)","v":{"$error":"#N/A"}},null,null,null,{"$f":"IF($C$6>0,VLOOKUP($AO173,個別表!$A$13:$KO$349,41,FALSE),0)","v":{"$error":"#N/A"}},null,null,null,{"$f":"IF($C$6>0,VLOOKUP($AO173,個別表!$A$13:$KO$349,42,FALSE),0)","v":{"$error":"#N/A"}},null,null,null,null,null,"□"]
[{"$f":"IF($C$6>0,IF(VLOOKUP($AO173,個別表!$A$13:$KO$349,31,FALSE)>0,1,0),0)","v":{"$error":"#N/A"}},null,null,null,null,null,null,null,null,null,null,null,null,null,null,null,null,null,null,null,null,null,null,null,null,null,null,null,null,null,null,null,null,null,null,null,null,null,null,null,{"$f":"AO171+1","v":1010105}]
[{"$f":"IF($C$6>0,IF(A175=1,1,0),0)","v":{"$error":"#N/A"}},null,6,null,{"$f":"IF($C$6>0,VLOOKUP($AO175,個別表!$A$13:$KO$349,35,FALSE),0)","v":{"$error":"#N/A"}},null,null,null,null,null,null,null,null,{"$f":"IF($C$6>0,IF(VLOOKUP($AO175,個別表!$A$13:$KO$349,38,FALSE)=1,\"■\",\"□\"),0)","v":{"$error":"#N/A"}},null,null,{"$f":"IF($C$6>0,VLOOKUP($AO175,個別表!$A$13:$KO$349,39,FALSE),0)","v":{"$error":"#N/A"}},null,null,null,null,{"$f":"IF($C$6>0,VLOOKUP($AO175,個別表!$A$13:$KO$349,40,FALSE),0)","v":{"$error":"#N/A"}},null,null,null,{"$f":"IF($C$6>0,VLOOKUP($AO175,個別表!$A$13:$KO$349,41,FALSE),0)","v":{"$error":"#N/A"}},null,null,null,{"$f":"IF($C$6>0,VLOOKUP($AO175,個別表!$A$13:$KO$349,42,FALSE),0)","v":{"$error":"#N/A"}},null,null,null,null,null,"□"]
[{"$f":"IF($C$6>0,IF(VLOOKUP($AO175,個別表!$A$13:$KO$349,31,FALSE)>0,1,0),0)","v":{"$error":"#N/A"}},null,null,null,null,null,null,null,null,null,null,null,null,null,null,null,null,null,null,null,null,null,null,null,null,null,null,null,null,null,null,null,null,null,null,null,null,null,null,null,{"$f":"AO173+1","v":1010106}]
[{"$f":"IF($C$6>0,IF(A177=1,1,0),0)","v":{"$error":"#N/A"}},null,7,null,{"$f":"IF($C$6>0,VLOOKUP($AO177,個別表!$A$13:$KO$349,35,FALSE),0)","v":{"$error":"#N/A"}},null,null,null,null,null,null,null,null,{"$f":"IF($C$6>0,IF(VLOOKUP($AO177,個別表!$A$13:$KO$349,38,FALSE)=1,\"■\",\"□\"),0)","v":{"$error":"#N/A"}},null,null,{"$f":"IF($C$6>0,VLOOKUP($AO177,個別表!$A$13:$KO$349,39,FALSE),0)","v":{"$error":"#N/A"}},null,null,null,null,{"$f":"IF($C$6>0,VLOOKUP($AO177,個別表!$A$13:$KO$349,40,FALSE),0)","v":{"$error":"#N/A"}},null,null,null,{"$f":"IF($C$6>0,VLOOKUP($AO177,個別表!$A$13:$KO$349,41,FALSE),0)","v":{"$error":"#N/A"}},null,null,null,{"$f":"IF($C$6>0,VLOOKUP($AO177,個別表!$A$13:$KO$349,42,FALSE),0)","v":{"$error":"#N/A"}},null,null,null,null,null,"□"]
[{"$f":"IF($C$6>0,IF(VLOOKUP($AO177,個別表!$A$13:$KO$349,31,FALSE)>0,1,0),0)","v":{"$error":"#N/A"}},null,null,null,null,null,null,null,null,null,null,null,null,null,null,null,null,null,null,null,null,null,null,null,null,null,null,null,null,null,null,null,null,null,null,null,null,null,null,null,{"$f":"AO175+1","v":1010107}]
[{"$f":"IF($C$6>0,IF(A179=1,1,0),0)","v":{"$error":"#N/A"}},null,8,null,{"$f":"IF($C$6>0,VLOOKUP($AO179,個別表!$A$13:$KO$349,35,FALSE),0)","v":{"$error":"#N/A"}},null,null,null,null,null,null,null,null,{"$f":"IF($C$6>0,IF(VLOOKUP($AO179,個別表!$A$13:$KO$349,38,FALSE)=1,\"■\",\"□\"),0)","v":{"$error":"#N/A"}},null,null,{"$f":"IF($C$6>0,VLOOKUP($AO179,個別表!$A$13:$KO$349,39,FALSE),0)","v":{"$error":"#N/A"}},null,null,null,null,{"$f":"IF($C$6>0,VLOOKUP($AO179,個別表!$A$13:$KO$349,40,FALSE),0)","v":{"$error":"#N/A"}},null,null,null,{"$f":"IF($C$6>0,VLOOKUP($AO179,個別表!$A$13:$KO$349,41,FALSE),0)","v":{"$error":"#N/A"}},null,null,null,{"$f":"IF($C$6>0,VLOOKUP($AO179,個別表!$A$13:$KO$349,42,FALSE),0)","v":{"$error":"#N/A"}},null,null,null,null,null,"□"]
[{"$f":"IF($C$6>0,IF(VLOOKUP($AO179,個別表!$A$13:$KO$349,31,FALSE)>0,1,0),0)","v":{"$error":"#N/A"}},null,null,null,null,null,null,null,null,null,null,null,null,null,null,null,null,null,null,null,null,null,null,null,null,null,null,null,null,null,null,null,null,null,null,null,null,null,null,null,{"$f":"AO177+1","v":1010108}]
[{"$f":"IF($C$6>0,IF(A181=1,1,0),0)","v":{"$error":"#N/A"}},null,9,null,{"$f":"IF($C$6>0,VLOOKUP($AO181,個別表!$A$13:$KO$349,35,FALSE),0)","v":{"$error":"#N/A"}},null,null,null,null,null,null,null,null,{"$f":"IF($C$6>0,IF(VLOOKUP($AO181,個別表!$A$13:$KO$349,38,FALSE)=1,\"■\",\"□\"),0)","v":{"$error":"#N/A"}},null,null,{"$f":"IF($C$6>0,VLOOKUP($AO181,個別表!$A$13:$KO$349,39,FALSE),0)","v":{"$error":"#N/A"}},null,null,null,null,{"$f":"IF($C$6>0,VLOOKUP($AO181,個別表!$A$13:$KO$349,40,FALSE),0)","v":{"$error":"#N/A"}},null,null,null,{"$f":"IF($C$6>0,VLOOKUP($AO181,個別表!$A$13:$KO$349,41,FALSE),0)","v":{"$error":"#N/A"}},null,null,null,{"$f":"IF($C$6>0,VLOOKUP($AO181,個別表!$A$13:$KO$349,42,FALSE),0)","v":{"$error":"#N/A"}},null,null,null,null,null,"□"]
[{"$f":"IF($C$6>0,IF(VLOOKUP($AO181,個別表!$A$13:$KO$349,31,FALSE)>0,1,0),0)","v":{"$error":"#N/A"}},null,null,null,null,null,null,null,null,null,null,null,null,null,null,null,null,null,null,null,null,null,null,null,null,null,null,null,null,null,null,null,null,null,null,null,null,null,null,null,{"$f":"AO179+1","v":1010109}]
[{"$f":"IF($C$6>0,IF(A183=1,1,0),0)","v":{"$error":"#N/A"}},null,10,null,{"$f":"IF($C$6>0,VLOOKUP($AO183,個別表!$A$13:$KO$349,35,FALSE),0)","v":{"$error":"#N/A"}},null,null,null,null,null,null,null,null,{"$f":"IF($C$6>0,IF(VLOOKUP($AO183,個別表!$A$13:$KO$349,38,FALSE)=1,\"■\",\"□\"),0)","v":{"$error":"#N/A"}},null,null,{"$f":"IF($C$6>0,VLOOKUP($AO183,個別表!$A$13:$KO$349,39,FALSE),0)","v":{"$error":"#N/A"}},null,null,null,null,{"$f":"IF($C$6>0,VLOOKUP($AO183,個別表!$A$13:$KO$349,40,FALSE),0)","v":{"$error":"#N/A"}},null,null,null,{"$f":"IF($C$6>0,VLOOKUP($AO183,個別表!$A$13:$KO$349,41,FALSE),0)","v":{"$error":"#N/A"}},null,null,null,{"$f":"IF($C$6>0,VLOOKUP($AO183,個別表!$A$13:$KO$349,42,FALSE),0)","v":{"$error":"#N/A"}},null,null,null,null,null,"□"]
[{"$f":"IF($C$6>0,IF(VLOOKUP($AO183,個別表!$A$13:$KO$349,31,FALSE)>0,1,0),0)","v":{"$error":"#N/A"}},null,null,null,null,null,null,null,null,null,null,null,null,null,null,null,null,null,null,null,null,null,null,null,null,null,null,null,null,null,null,null,null,null,null,null,null,null,null,null,{"$f":"AO181+1","v":1010110}]
[{"$f":"IF($C$6>0,IF(A185=1,1,0),0)","v":{"$error":"#N/A"}},null,11,null,{"$f":"IF($C$6>0,VLOOKUP($AO185,個別表!$A$13:$KO$349,35,FALSE),0)","v":{"$error":"#N/A"}},null,null,null,null,null,null,null,null,{"$f":"IF($C$6>0,IF(VLOOKUP($AO185,個別表!$A$13:$KO$349,38,FALSE)=1,\"■\",\"□\"),0)","v":{"$error":"#N/A"}},null,null,{"$f":"IF($C$6>0,VLOOKUP($AO185,個別表!$A$13:$KO$349,39,FALSE),0)","v":{"$error":"#N/A"}},null,null,null,null,{"$f":"IF($C$6>0,VLOOKUP($AO185,個別表!$A$13:$KO$349,40,FALSE),0)","v":{"$error":"#N/A"}},null,null,null,{"$f":"IF($C$6>0,VLOOKUP($AO185,個別表!$A$13:$KO$349,41,FALSE),0)","v":{"$error":"#N/A"}},null,null,null,{"$f":"IF($C$6>0,VLOOKUP($AO185,個別表!$A$13:$KO$349,42,FALSE),0)","v":{"$error":"#N/A"}},null,null,null,null,null,"□"]
[{"$f":"IF($C$6>0,IF(VLOOKUP($AO185,個別表!$A$13:$KO$349,31,FALSE)>0,1,0),0)","v":{"$error":"#N/A"}},null,null,null,null,null,null,null,null,null,null,null,null,null,null,null,null,null,null,null,null,null,null,null,null,null,null,null,null,null,null,null,null,null,null,null,null,null,null,null,{"$f":"AO183+1","v":1010111}]
[{"$f":"IF($C$6>0,IF(A187=1,1,0),0)","v":{"$error":"#N/A"}},null,12,null,{"$f":"IF($C$6>0,VLOOKUP($AO187,個別表!$A$13:$KO$349,35,FALSE),0)","v":{"$error":"#N/A"}},null,null,null,null,null,null,null,null,{"$f":"IF($C$6>0,IF(VLOOKUP($AO187,個別表!$A$13:$KO$349,38,FALSE)=1,\"■\",\"□\"),0)","v":{"$error":"#N/A"}},null,null,{"$f":"IF($C$6>0,VLOOKUP($AO187,個別表!$A$13:$KO$349,39,FALSE),0)","v":{"$error":"#N/A"}},null,null,null,null,{"$f":"IF($C$6>0,VLOOKUP($AO187,個別表!$A$13:$KO$349,40,FALSE),0)","v":{"$error":"#N/A"}},null,null,null,{"$f":"IF($C$6>0,VLOOKUP($AO187,個別表!$A$13:$KO$349,41,FALSE),0)","v":{"$error":"#N/A"}},null,null,null,{"$f":"IF($C$6>0,VLOOKUP($AO187,個別表!$A$13:$KO$349,42,FALSE),0)","v":{"$error":"#N/A"}},null,null,null,null,null,"□"]
[{"$f":"IF($C$6>0,IF(VLOOKUP($AO187,個別表!$A$13:$KO$349,31,FALSE)>0,1,0),0)","v":{"$error":"#N/A"}},null,null,null,null,null,null,null,null,null,null,null,null,null,null,null,null,null,null,null,null,null,null,null,null,null,null,null,null,null,null,null,null,null,null,null,null,null,null,null,{"$f":"AO185+1","v":1010112}]
[{"$f":"IF($C$6>0,IF(A189=1,1,0),0)","v":{"$error":"#N/A"}},null,13,null,{"$f":"IF($C$6>0,VLOOKUP($AO189,個別表!$A$13:$KO$349,35,FALSE),0)","v":{"$error":"#N/A"}},null,null,null,null,null,null,null,null,{"$f":"IF($C$6>0,IF(VLOOKUP($AO189,個別表!$A$13:$KO$349,38,FALSE)=1,\"■\",\"□\"),0)","v":{"$error":"#N/A"}},null,null,{"$f":"IF($C$6>0,VLOOKUP($AO189,個別表!$A$13:$KO$349,39,FALSE),0)","v":{"$error":"#N/A"}},null,null,null,null,{"$f":"IF($C$6>0,VLOOKUP($AO189,個別表!$A$13:$KO$349,40,FALSE),0)","v":{"$error":"#N/A"}},null,null,null,{"$f":"IF($C$6>0,VLOOKUP($AO189,個別表!$A$13:$KO$349,41,FALSE),0)","v":{"$error":"#N/A"}},null,null,null,{"$f":"IF($C$6>0,VLOOKUP($AO189,個別表!$A$13:$KO$349,42,FALSE),0)","v":{"$error":"#N/A"}},null,null,null,null,null,"□"]
[{"$f":"IF($C$6>0,IF(VLOOKUP($AO189,個別表!$A$13:$KO$349,31,FALSE)>0,1,0),0)","v":{"$error":"#N/A"}},null,null,null,null,null,null,null,null,null,null,null,null,null,null,null,null,null,null,null,null,null,null,null,null,null,null,null,null,null,null,null,null,null,null,null,null,null,null,null,{"$f":"AO187+1","v":1010113}]
[{"$f":"IF($C$6>0,IF(A191=1,1,0),0)","v":{"$error":"#N/A"}},null,14,null,{"$f":"IF($C$6>0,VLOOKUP($AO191,個別表!$A$13:$KO$349,35,FALSE),0)","v":{"$error":"#N/A"}},null,null,null,null,null,null,null,null,{"$f":"IF($C$6>0,IF(VLOOKUP($AO191,個別表!$A$13:$KO$349,38,FALSE)=1,\"■\",\"□\"),0)","v":{"$error":"#N/A"}},null,null,{"$f":"IF($C$6>0,VLOOKUP($AO191,個別表!$A$13:$KO$349,39,FALSE),0)","v":{"$error":"#N/A"}},null,null,null,null,{"$f":"IF($C$6>0,VLOOKUP($AO191,個別表!$A$13:$KO$349,40,FALSE),0)","v":{"$error":"#N/A"}},null,null,null,{"$f":"IF($C$6>0,VLOOKUP($AO191,個別表!$A$13:$KO$349,41,FALSE),0)","v":{"$error":"#N/A"}},null,null,null,{"$f":"IF($C$6>0,VLOOKUP($AO191,個別表!$A$13:$KO$349,42,FALSE),0)","v":{"$error":"#N/A"}},null,null,null,null,null,"□"]
[{"$f":"IF($C$6>0,IF(VLOOKUP($AO191,個別表!$A$13:$KO$349,31,FALSE)>0,1,0),0)","v":{"$error":"#N/A"}},null,null,null,null,null,null,null,null,null,null,null,null,null,null,null,null,null,null,null,null,null,null,null,null,null,null,null,null,null,null,null,null,null,null,null,null,null,null,null,{"$f":"AO189+1","v":1010114}]
[{"$f":"IF($C$6>0,IF(A193=1,1,0),0)","v":{"$error":"#N/A"}},null,15,null,{"$f":"IF($C$6>0,VLOOKUP($AO193,個別表!$A$13:$KO$349,35,FALSE),0)","v":{"$error":"#N/A"}},null,null,null,null,null,null,null,null,{"$f":"IF($C$6>0,IF(VLOOKUP($AO193,個別表!$A$13:$KO$349,38,FALSE)=1,\"■\",\"□\"),0)","v":{"$error":"#N/A"}},null,null,{"$f":"IF($C$6>0,VLOOKUP($AO193,個別表!$A$13:$KO$349,39,FALSE),0)","v":{"$error":"#N/A"}},null,null,null,null,{"$f":"IF($C$6>0,VLOOKUP($AO193,個別表!$A$13:$KO$349,40,FALSE),0)","v":{"$error":"#N/A"}},null,null,null,{"$f":"IF($C$6>0,VLOOKUP($AO193,個別表!$A$13:$KO$349,41,FALSE),0)","v":{"$error":"#N/A"}},null,null,null,{"$f":"IF($C$6>0,VLOOKUP($AO193,個別表!$A$13:$KO$349,42,FALSE),0)","v":{"$error":"#N/A"}},null,null,null,null,null,"□"]
[{"$f":"IF($C$6>0,IF(VLOOKUP($AO193,個別表!$A$13:$KO$349,31,FALSE)>0,1,0),0)","v":{"$error":"#N/A"}},null,null,null,null,null,null,null,null,null,null,null,null,null,null,null,null,null,null,null,null,null,null,null,null,null,null,null,null,null,null,null,null,null,null,null,null,null,null,null,{"$f":"AO191+1","v":1010115}]
[{"$f":"IF($C$6>0,IF(A195=1,1,0),0)","v":{"$error":"#N/A"}},null,16,null,{"$f":"IF($C$6>0,VLOOKUP($AO195,個別表!$A$13:$KO$349,35,FALSE),0)","v":{"$error":"#N/A"}},null,null,null,null,null,null,null,null,{"$f":"IF($C$6>0,IF(VLOOKUP($AO195,個別表!$A$13:$KO$349,38,FALSE)=1,\"■\",\"□\"),0)","v":{"$error":"#N/A"}},null,null,{"$f":"IF($C$6>0,VLOOKUP($AO195,個別表!$A$13:$KO$349,39,FALSE),0)","v":{"$error":"#N/A"}},null,null,null,null,{"$f":"IF($C$6>0,VLOOKUP($AO195,個別表!$A$13:$KO$349,40,FALSE),0)","v":{"$error":"#N/A"}},null,null,null,{"$f":"IF($C$6>0,VLOOKUP($AO195,個別表!$A$13:$KO$349,41,FALSE),0)","v":{"$error":"#N/A"}},null,null,null,{"$f":"IF($C$6>0,VLOOKUP($AO195,個別表!$A$13:$KO$349,42,FALSE),0)","v":{"$error":"#N/A"}},null,null,null,null,null,"□"]
[{"$f":"IF($C$6>0,IF(VLOOKUP($AO195,個別表!$A$13:$KO$349,31,FALSE)>0,1,0),0)","v":{"$error":"#N/A"}},null,null,null,null,null,null,null,null,null,null,null,null,null,null,null,null,null,null,null,null,null,null,null,null,null,null,null,null,null,null,null,null,null,null,null,null,null,null,null,{"$f":"AO193+1","v":1010116}]
[{"$f":"IF($C$6>0,IF(A197=1,1,0),0)","v":{"$error":"#N/A"}},null,17,null,{"$f":"IF($C$6>0,VLOOKUP($AO197,個別表!$A$13:$KO$349,35,FALSE),0)","v":{"$error":"#N/A"}},null,null,null,null,null,null,null,null,{"$f":"IF($C$6>0,IF(VLOOKUP($AO197,個別表!$A$13:$KO$349,38,FALSE)=1,\"■\",\"□\"),0)","v":{"$error":"#N/A"}},null,null,{"$f":"IF($C$6>0,VLOOKUP($AO197,個別表!$A$13:$KO$349,39,FALSE),0)","v":{"$error":"#N/A"}},null,null,null,null,{"$f":"IF($C$6>0,VLOOKUP($AO197,個別表!$A$13:$KO$349,40,FALSE),0)","v":{"$error":"#N/A"}},null,null,null,{"$f":"IF($C$6>0,VLOOKUP($AO197,個別表!$A$13:$KO$349,41,FALSE),0)","v":{"$error":"#N/A"}},null,null,null,{"$f":"IF($C$6>0,VLOOKUP($AO197,個別表!$A$13:$KO$349,42,FALSE),0)","v":{"$error":"#N/A"}},null,null,null,null,null,"□"]
[{"$f":"IF($C$6>0,IF(VLOOKUP($AO197,個別表!$A$13:$KO$349,31,FALSE)>0,1,0),0)","v":{"$error":"#N/A"}},null,null,null,null,null,null,null,null,null,null,null,null,null,null,null,null,null,null,null,null,null,null,null,null,null,null,null,null,null,null,null,null,null,null,null,null,null,null,null,{"$f":"AO195+1","v":1010117}]
[{"$f":"IF($C$6>0,IF(A199=1,1,0),0)","v":{"$error":"#N/A"}},null,18,null,{"$f":"IF($C$6>0,VLOOKUP($AO199,個別表!$A$13:$KO$349,35,FALSE),0)","v":{"$error":"#N/A"}},null,null,null,null,null,null,null,null,{"$f":"IF($C$6>0,IF(VLOOKUP($AO199,個別表!$A$13:$KO$349,38,FALSE)=1,\"■\",\"□\"),0)","v":{"$error":"#N/A"}},null,null,{"$f":"IF($C$6>0,VLOOKUP($AO199,個別表!$A$13:$KO$349,39,FALSE),0)","v":{"$error":"#N/A"}},null,null,null,null,{"$f":"IF($C$6>0,VLOOKUP($AO199,個別表!$A$13:$KO$349,40,FALSE),0)","v":{"$error":"#N/A"}},null,null,null,{"$f":"IF($C$6>0,VLOOKUP($AO199,個別表!$A$13:$KO$349,41,FALSE),0)","v":{"$error":"#N/A"}},null,null,null,{"$f":"IF($C$6>0,VLOOKUP($AO199,個別表!$A$13:$KO$349,42,FALSE),0)","v":{"$error":"#N/A"}},null,null,null,null,null,"□"]
[{"$f":"IF($C$6>0,IF(VLOOKUP($AO199,個別表!$A$13:$KO$349,31,FALSE)>0,1,0),0)","v":{"$error":"#N/A"}},null,null,null,null,null,null,null,null,null,null,null,null,null,null,null,null,null,null,null,null,null,null,null,null,null,null,null,null,null,null,null,null,null,null,null,null,null,null,null,{"$f":"AO197+1","v":1010118}]
[{"$f":"IF($C$6>0,IF(A201=1,1,0),0)","v":{"$error":"#N/A"}},null,19,null,{"$f":"IF($C$6>0,VLOOKUP($AO201,個別表!$A$13:$KO$349,35,FALSE),0)","v":{"$error":"#N/A"}},null,null,null,null,null,null,null,null,{"$f":"IF($C$6>0,IF(VLOOKUP($AO201,個別表!$A$13:$KO$349,38,FALSE)=1,\"■\",\"□\"),0)","v":{"$error":"#N/A"}},null,null,{"$f":"IF($C$6>0,VLOOKUP($AO201,個別表!$A$13:$KO$349,39,FALSE),0)","v":{"$error":"#N/A"}},null,null,null,null,{"$f":"IF($C$6>0,VLOOKUP($AO201,個別表!$A$13:$KO$349,40,FALSE),0)","v":{"$error":"#N/A"}},null,null,null,{"$f":"IF($C$6>0,VLOOKUP($AO201,個別表!$A$13:$KO$349,41,FALSE),0)","v":{"$error":"#N/A"}},null,null,null,{"$f":"IF($C$6>0,VLOOKUP($AO201,個別表!$A$13:$KO$349,42,FALSE),0)","v":{"$error":"#N/A"}},null,null,null,null,null,"□"]
[{"$f":"IF($C$6>0,IF(VLOOKUP($AO201,個別表!$A$13:$KO$349,31,FALSE)>0,1,0),0)","v":{"$error":"#N/A"}},null,null,null,null,null,null,null,null,null,null,null,null,null,null,null,null,null,null,null,null,null,null,null,null,null,null,null,null,null,null,null,null,null,null,null,null,null,null,null,{"$f":"AO199+1","v":1010119}]
[{"$f":"IF($C$6>0,IF(A203=1,1,0),0)","v":{"$error":"#N/A"}},null,20,null,{"$f":"IF($C$6>0,VLOOKUP($AO203,個別表!$A$13:$KO$349,35,FALSE),0)","v":{"$error":"#N/A"}},null,null,null,null,null,null,null,null,{"$f":"IF($C$6>0,IF(VLOOKUP($AO203,個別表!$A$13:$KO$349,38,FALSE)=1,\"■\",\"□\"),0)","v":{"$error":"#N/A"}},null,null,{"$f":"IF($C$6>0,VLOOKUP($AO203,個別表!$A$13:$KO$349,39,FALSE),0)","v":{"$error":"#N/A"}},null,null,null,null,{"$f":"IF($C$6>0,VLOOKUP($AO203,個別表!$A$13:$KO$349,40,FALSE),0)","v":{"$error":"#N/A"}},null,null,null,{"$f":"IF($C$6>0,VLOOKUP($AO203,個別表!$A$13:$KO$349,41,FALSE),0)","v":{"$error":"#N/A"}},null,null,null,{"$f":"IF($C$6>0,VLOOKUP($AO203,個別表!$A$13:$KO$349,42,FALSE),0)","v":{"$error":"#N/A"}},null,null,null,null,null,"□"]
[{"$f":"IF($C$6>0,IF(VLOOKUP($AO203,個別表!$A$13:$KO$349,31,FALSE)>0,1,0),0)","v":{"$error":"#N/A"}},null,null,null,null,null,null,null,null,null,null,null,null,null,null,null,null,null,null,null,null,null,null,null,null,null,null,null,null,null,null,null,null,null,null,null,null,null,null,null,{"$f":"AO201+1","v":1010120}]
[{"$f":"IF($C$6>0,IF(A205=1,1,0),0)","v":{"$error":"#N/A"}},null,21,null,{"$f":"IF($C$6>0,VLOOKUP($AO205,個別表!$A$13:$KO$349,35,FALSE),0)","v":{"$error":"#N/A"}},null,null,null,null,null,null,null,null,{"$f":"IF($C$6>0,IF(VLOOKUP($AO205,個別表!$A$13:$KO$349,38,FALSE)=1,\"■\",\"□\"),0)","v":{"$error":"#N/A"}},null,null,{"$f":"IF($C$6>0,VLOOKUP($AO205,個別表!$A$13:$KO$349,39,FALSE),0)","v":{"$error":"#N/A"}},null,null,null,null,{"$f":"IF($C$6>0,VLOOKUP($AO205,個別表!$A$13:$KO$349,40,FALSE),0)","v":{"$error":"#N/A"}},null,null,null,{"$f":"IF($C$6>0,VLOOKUP($AO205,個別表!$A$13:$KO$349,41,FALSE),0)","v":{"$error":"#N/A"}},null,null,null,{"$f":"IF($C$6>0,VLOOKUP($AO205,個別表!$A$13:$KO$349,42,FALSE),0)","v":{"$error":"#N/A"}},null,null,null,null,null,"□"]
[{"$f":"IF($C$6>0,IF(VLOOKUP($AO205,個別表!$A$13:$KO$349,31,FALSE)>0,1,0),0)","v":{"$error":"#N/A"}},null,null,null,null,null,null,null,null,null,null,null,null,null,null,null,null,null,null,null,null,null,null,null,null,null,null,null,null,null,null,null,null,null,null,null,null,null,null,null,{"$f":"AO203+1","v":1010121}]
[{"$f":"IF($C$6>0,IF(A207=1,1,0),0)","v":{"$error":"#N/A"}},null,22,null,{"$f":"IF($C$6>0,VLOOKUP($AO207,個別表!$A$13:$KO$349,35,FALSE),0)","v":{"$error":"#N/A"}},null,null,null,null,null,null,null,null,{"$f":"IF($C$6>0,IF(VLOOKUP($AO207,個別表!$A$13:$KO$349,38,FALSE)=1,\"■\",\"□\"),0)","v":{"$error":"#N/A"}},null,null,{"$f":"IF($C$6>0,VLOOKUP($AO207,個別表!$A$13:$KO$349,39,FALSE),0)","v":{"$error":"#N/A"}},null,null,null,null,{"$f":"IF($C$6>0,VLOOKUP($AO207,個別表!$A$13:$KO$349,40,FALSE),0)","v":{"$error":"#N/A"}},null,null,null,{"$f":"IF($C$6>0,VLOOKUP($AO207,個別表!$A$13:$KO$349,41,FALSE),0)","v":{"$error":"#N/A"}},null,null,null,{"$f":"IF($C$6>0,VLOOKUP($AO207,個別表!$A$13:$KO$349,42,FALSE),0)","v":{"$error":"#N/A"}},null,null,null,null,null,"□"]
[{"$f":"IF($C$6>0,IF(VLOOKUP($AO207,個別表!$A$13:$KO$349,31,FALSE)>0,1,0),0)","v":{"$error":"#N/A"}},null,null,null,null,null,null,null,null,null,null,null,null,null,null,null,null,null,null,null,null,null,null,null,null,null,null,null,null,null,null,null,null,null,null,null,null,null,null,null,{"$f":"AO205+1","v":1010122}]
[1,null,"（注）",null,1,"　「スマート農機等の該当の有無」欄は、市町村と相談の上、該当する場合に□にチェックを入れること。"]
[1,null,null,null,2,"　「規模決定の根拠」欄は、市町村と相談の上、根拠とした資料名等を記載すること。"]
[1,null,null,null,3,"　販売店やメーカー、ICTベンダー等へのデータ提供を予定している機械等である場合は、「ICTベンダー等へのデータ提供の有無」欄の□にチェックを入れること。（ＧＬに準拠するものであること。なされていない場合は補助対象外。）"]
[1]
[1]
[1,null,"No",null,"事業費（円）\nA=B+C+D+E+F+G",null,null,"資金調達計画（円）",null,null,null,null,null,null,null,null,null,null,null,null,null,null,null,null,null,null,null,null,null,null,null,"担保措置\nの有無",null,null,"耐用\n年数\n（年）",null,"備考"]
[1,null,null,null,null,null,null,"助成金",null,null,"融資",null,null,"自己資金",null,null,"地方公共団体等",null,null,null,null,null,null,null,null,"助成率（％）",null,null,"融資率（％）"]
[1,null,null,null,null,null,null,null,null,null,null,null,null,null,null,null,"都道府県",null,null,"市町村",null,null,"その他"]
[1,null,null,null,null,null,null,"B",null,null,"C",null,null,"Ｄ",null,null,"Ｅ",null,null,"Ｆ",null,null,"Ｇ",null,null,"H=B/A",null,null,"I=C/A"]
[{"$f":"IF($C$6>0,IF(A218=1,1,0),0)","v":1},null,1,null,{"$f":"IF($C$6>0,VLOOKUP($AO218,個別表!$A$13:$KO$349,48,FALSE),0)","v":40000000},null,null,{"$f":"IF($C$6>0,VLOOKUP($AO218,個別表!$A$13:$KO$349,50,FALSE),0)","v":18000000},null,null,{"$f":"IF($C$6>0,VLOOKUP($AO218,個別表!$A$13:$KO$349,51,FALSE),0)","v":18000000},null,null,{"$f":"IF($C$6>0,VLOOKUP($AO218,個別表!$A$13:$KO$349,52,FALSE),0)","v":4000000},null,null,{"$f":"IF($C$6>0,VLOOKUP($AO218,個別表!$A$13:$KO$349,53,FALSE),0)","v":0},null,null,{"$f":"IF($C$6>0,VLOOKUP($AO218,個別表!$A$13:$KO$349,54,FALSE),0)","v":0},null,null,{"$f":"IF($C$6>0,VLOOKUP($AO218,個別表!$A$13:$KO$349,55,FALSE),0)","v":0},null,null,{"$f":"IF(H217=\"\",\"\",IF(H217/E217>50%,\"×\",IF(H217/E217>AC217,\"×\",IF(H217>K217+Q217+T217+W217,\"×\",ROUNDDOWN(H217/E217,5)))))","v":0.45},null,null,{"$f":"IF(H217=\"\",\"\",IF(K217/E217<=0,\"×\",K217/E217))","v":0.45},null,null,{"$f":"IF($C$6>0,IF(VLOOKUP($AO218,個別表!$A$13:$KO$349,59,FALSE)=1,\"■\",\"□\"),0)","v":"□"},"□","□",{"$f":"IF($C$6>0,VLOOKUP($AO218,個別表!$A$13:$KO$349,60,FALSE),0)","v":7},null,{"$f":"IF($C$6>0,VLOOKUP($AO218,個別表!$A$13:$KO$349,61,FALSE),0)","v":3636363}]
[{"$f":"IF($C$6>0,IF(VLOOKUP($AO218,個別表!$A$13:$KO$349,31,FALSE)>0,1,0),0)","v":1},null,null,null,null,null,null,null,null,null,null,null,null,null,null,null,null,null,null,null,null,null,null,null,null,null,null,null,null,null,null,null,null,null,null,null,{"$f":"IF($C$6>0,VLOOKUP($AO218,個別表!$A$13:$KO$349,62,FALSE),0)","v":1799963},null,null,null,{"$f":"$A$28","v":1010101}]
[{"$f":"IF($C$6>0,IF(A220=1,1,0),0)","v":1},null,2,null,{"$f":"IF($C$6>0,VLOOKUP($AO220,個別表!$A$13:$KO$349,48,FALSE),0)","v":20000000},null,null,{"$f":"IF($C$6>0,VLOOKUP($AO220,個別表!$A$13:$KO$349,50,FALSE),0)","v":9000000},null,null,{"$f":"IF($C$6>0,VLOOKUP($AO220,個別表!$A$13:$KO$349,51,FALSE),0)","v":11000000},null,null,{"$f":"IF($C$6>0,VLOOKUP($AO220,個別表!$A$13:$KO$349,52,FALSE),0)","v":0},null,null,{"$f":"IF($C$6>0,VLOOKUP($AO220,個別表!$A$13:$KO$349,53,FALSE),0)","v":0},null,null,{"$f":"IF($C$6>0,VLOOKUP($AO220,個別表!$A$13:$KO$349,54,FALSE),0)","v":0},null,null,{"$f":"IF($C$6>0,VLOOKUP($AO220,個別表!$A$13:$KO$349,55,FALSE),0)","v":0},null,null,{"$f":"IF(H219=\"\",\"\",IF(H219/E219>50%,\"×\",IF(H219/E219>AC219,\"×\",IF(H219>K219+Q219+T219+W219,\"×\",ROUNDDOWN(H219/E219,5)))))","v":0.45},null,null,{"$f":"IF(H219=\"\",\"\",IF(K219/E219<=0,\"×\",K219/E219))","v":0.55000000000000004},null,null,{"$f":"IF($C$6>0,IF(VLOOKUP($AO220,個別表!$A$13:$KO$349,59,FALSE)=1,\"■\",\"□\"),0)","v":"□"},"□","□",{"$f":"IF($C$6>0,VLOOKUP($AO220,個別表!$A$13:$KO$349,60,FALSE),0)","v":7},null,{"$f":"IF($C$6>0,VLOOKUP($AO220,個別表!$A$13:$KO$349,61,FALSE),0)","v":1818181}]
[{"$f":"IF($C$6>0,IF(VLOOKUP($AO220,個別表!$A$13:$KO$349,31,FALSE)>0,1,0),0)","v":1},null,null,null,null,null,null,null,null,null,null,null,null,null,null,null,null,null,null,null,null,null,null,null,null,null,null,null,null,null,null,null,null,null,null,null,{"$f":"IF($C$6>0,VLOOKUP($AO220,個別表!$A$13:$KO$349,62,FALSE),0)","v":899981},null,null,null,{"$f":"AO218+1","v":1010102}]
[{"$f":"IF($C$6>0,IF(A222=1,1,0),0)","v":{"$error":"#N/A"}},null,3,null,{"$f":"IF($C$6>0,VLOOKUP($AO222,個別表!$A$13:$KO$349,48,FALSE),0)","v":{"$error":"#N/A"}},null,null,{"$f":"IF($C$6>0,VLOOKUP($AO222,個別表!$A$13:$KO$349,50,FALSE),0)","v":{"$error":"#N/A"}},null,null,{"$f":"IF($C$6>0,VLOOKUP($AO222,個別表!$A$13:$KO$349,51,FALSE),0)","v":{"$error":"#N/A"}},null,null,{"$f":"IF($C$6>0,VLOOKUP($AO222,個別表!$A$13:$KO$349,52,FALSE),0)","v":{"$error":"#N/A"}},null,null,{"$f":"IF($C$6>0,VLOOKUP($AO222,個別表!$A$13:$KO$349,53,FALSE),0)","v":{"$error":"#N/A"}},null,null,{"$f":"IF($C$6>0,VLOOKUP($AO222,個別表!$A$13:$KO$349,54,FALSE),0)","v":{"$error":"#N/A"}},null,null,{"$f":"IF($C$6>0,VLOOKUP($AO222,個別表!$A$13:$KO$349,55,FALSE),0)","v":{"$error":"#N/A"}},null,null,{"$f":"IF(H221=\"\",\"\",IF(H221/E221>50%,\"×\",IF(H221/E221>AC221,\"×\",IF(H221>K221+Q221+T221+W221,\"×\",ROUNDDOWN(H221/E221,5)))))","v":{"$error":"#N/A"}},null,null,{"$f":"IF(H221=\"\",\"\",IF(K221/E221<=0,\"×\",K221/E221))","v":{"$error":"#N/A"}},null,null,{"$f":"IF($C$6>0,IF(VLOOKUP($AO222,個別表!$A$13:$KO$349,59,FALSE)=1,\"■\",\"□\"),0)","v":{"$error":"#N/A"}},"□","□",{"$f":"IF($C$6>0,VLOOKUP($AO222,個別表!$A$13:$KO$349,60,FALSE),0)","v":{"$error":"#N/A"}},null,{"$f":"IF($C$6>0,VLOOKUP($AO222,個別表!$A$13:$KO$349,61,FALSE),0)","v":{"$error":"#N/A"}}]
[{"$f":"IF($C$6>0,IF(VLOOKUP($AO222,個別表!$A$13:$KO$349,31,FALSE)>0,1,0),0)","v":{"$error":"#N/A"}},null,null,null,null,null,null,null,null,null,null,null,null,null,null,null,null,null,null,null,null,null,null,null,null,null,null,null,null,null,null,null,null,null,null,null,{"$f":"IF($C$6>0,VLOOKUP($AO222,個別表!$A$13:$KO$349,62,FALSE),0)","v":{"$error":"#N/A"}},null,null,null,{"$f":"AO220+1","v":1010103}]
[{"$f":"IF($C$6>0,IF(A224=1,1,0),0)","v":{"$error":"#N/A"}},null,4,null,{"$f":"IF($C$6>0,VLOOKUP($AO224,個別表!$A$13:$KO$349,48,FALSE),0)","v":{"$error":"#N/A"}},null,null,{"$f":"IF($C$6>0,VLOOKUP($AO224,個別表!$A$13:$KO$349,50,FALSE),0)","v":{"$error":"#N/A"}},null,null,{"$f":"IF($C$6>0,VLOOKUP($AO224,個別表!$A$13:$KO$349,51,FALSE),0)","v":{"$error":"#N/A"}},null,null,{"$f":"IF($C$6>0,VLOOKUP($AO224,個別表!$A$13:$KO$349,52,FALSE),0)","v":{"$error":"#N/A"}},null,null,{"$f":"IF($C$6>0,VLOOKUP($AO224,個別表!$A$13:$KO$349,53,FALSE),0)","v":{"$error":"#N/A"}},null,null,{"$f":"IF($C$6>0,VLOOKUP($AO224,個別表!$A$13:$KO$349,54,FALSE),0)","v":{"$error":"#N/A"}},null,null,{"$f":"IF($C$6>0,VLOOKUP($AO224,個別表!$A$13:$KO$349,55,FALSE),0)","v":{"$error":"#N/A"}},null,null,{"$f":"IF(H223=\"\",\"\",IF(H223/E223>50%,\"×\",IF(H223/E223>AC223,\"×\",IF(H223>K223+Q223+T223+W223,\"×\",ROUNDDOWN(H223/E223,5)))))","v":{"$error":"#N/A"}},null,null,{"$f":"IF(H223=\"\",\"\",IF(K223/E223<=0,\"×\",K223/E223))","v":{"$error":"#N/A"}},null,null,{"$f":"IF($C$6>0,IF(VLOOKUP($AO224,個別表!$A$13:$KO$349,59,FALSE)=1,\"■\",\"□\"),0)","v":{"$error":"#N/A"}},"□","□",{"$f":"IF($C$6>0,VLOOKUP($AO224,個別表!$A$13:$KO$349,60,FALSE),0)","v":{"$error":"#N/A"}},null,{"$f":"IF($C$6>0,VLOOKUP($AO224,個別表!$A$13:$KO$349,61,FALSE),0)","v":{"$error":"#N/A"}}]
[{"$f":"IF($C$6>0,IF(VLOOKUP($AO224,個別表!$A$13:$KO$349,31,FALSE)>0,1,0),0)","v":{"$error":"#N/A"}},null,null,null,null,null,null,null,null,null,null,null,null,null,null,null,null,null,null,null,null,null,null,null,null,null,null,null,null,null,null,null,null,null,null,null,{"$f":"IF($C$6>0,VLOOKUP($AO224,個別表!$A$13:$KO$349,62,FALSE),0)","v":{"$error":"#N/A"}},null,null,null,{"$f":"AO222+1","v":1010104}]
[{"$f":"IF($C$6>0,IF(A226=1,1,0),0)","v":{"$error":"#N/A"}},null,5,null,{"$f":"IF($C$6>0,VLOOKUP($AO226,個別表!$A$13:$KO$349,48,FALSE),0)","v":{"$error":"#N/A"}},null,null,{"$f":"IF($C$6>0,VLOOKUP($AO226,個別表!$A$13:$KO$349,50,FALSE),0)","v":{"$error":"#N/A"}},null,null,{"$f":"IF($C$6>0,VLOOKUP($AO226,個別表!$A$13:$KO$349,51,FALSE),0)","v":{"$error":"#N/A"}},null,null,{"$f":"IF($C$6>0,VLOOKUP($AO226,個別表!$A$13:$KO$349,52,FALSE),0)","v":{"$error":"#N/A"}},null,null,{"$f":"IF($C$6>0,VLOOKUP($AO226,個別表!$A$13:$KO$349,53,FALSE),0)","v":{"$error":"#N/A"}},null,null,{"$f":"IF($C$6>0,VLOOKUP($AO226,個別表!$A$13:$KO$349,54,FALSE),0)","v":{"$error":"#N/A"}},null,null,{"$f":"IF($C$6>0,VLOOKUP($AO226,個別表!$A$13:$KO$349,55,FALSE),0)","v":{"$error":"#N/A"}},null,null,{"$f":"IF(H225=\"\",\"\",IF(H225/E225>50%,\"×\",IF(H225/E225>AC225,\"×\",IF(H225>K225+Q225+T225+W225,\"×\",ROUNDDOWN(H225/E225,5)))))","v":{"$error":"#N/A"}},null,null,{"$f":"IF(H225=\"\",\"\",IF(K225/E225<=0,\"×\",K225/E225))","v":{"$error":"#N/A"}},null,null,{"$f":"IF($C$6>0,IF(VLOOKUP($AO226,個別表!$A$13:$KO$349,59,FALSE)=1,\"■\",\"□\"),0)","v":{"$error":"#N/A"}},"□","□",{"$f":"IF($C$6>0,VLOOKUP($AO226,個別表!$A$13:$KO$349,60,FALSE),0)","v":{"$error":"#N/A"}},null,{"$f":"IF($C$6>0,VLOOKUP($AO226,個別表!$A$13:$KO$349,61,FALSE),0)","v":{"$error":"#N/A"}}]
[{"$f":"IF($C$6>0,IF(VLOOKUP($AO226,個別表!$A$13:$KO$349,31,FALSE)>0,1,0),0)","v":{"$error":"#N/A"}},null,null,null,null,null,null,null,null,null,null,null,null,null,null,null,null,null,null,null,null,null,null,null,null,null,null,null,null,null,null,null,null,null,null,null,{"$f":"IF($C$6>0,VLOOKUP($AO226,個別表!$A$13:$KO$349,62,FALSE),0)","v":{"$error":"#N/A"}},null,null,null,{"$f":"AO224+1","v":1010105}]
[{"$f":"IF($C$6>0,IF(A228=1,1,0),0)","v":{"$error":"#N/A"}},null,6,null,{"$f":"IF($C$6>0,VLOOKUP($AO228,個別表!$A$13:$KO$349,48,FALSE),0)","v":{"$error":"#N/A"}},null,null,{"$f":"IF($C$6>0,VLOOKUP($AO228,個別表!$A$13:$KO$349,50,FALSE),0)","v":{"$error":"#N/A"}},null,null,{"$f":"IF($C$6>0,VLOOKUP($AO228,個別表!$A$13:$KO$349,51,FALSE),0)","v":{"$error":"#N/A"}},null,null,{"$f":"IF($C$6>0,VLOOKUP($AO228,個別表!$A$13:$KO$349,52,FALSE),0)","v":{"$error":"#N/A"}},null,null,{"$f":"IF($C$6>0,VLOOKUP($AO228,個別表!$A$13:$KO$349,53,FALSE),0)","v":{"$error":"#N/A"}},null,null,{"$f":"IF($C$6>0,VLOOKUP($AO228,個別表!$A$13:$KO$349,54,FALSE),0)","v":{"$error":"#N/A"}},null,null,{"$f":"IF($C$6>0,VLOOKUP($AO228,個別表!$A$13:$KO$349,55,FALSE),0)","v":{"$error":"#N/A"}},null,null,{"$f":"IF(H227=\"\",\"\",IF(H227/E227>50%,\"×\",IF(H227/E227>AC227,\"×\",IF(H227>K227+Q227+T227+W227,\"×\",ROUNDDOWN(H227/E227,5)))))","v":{"$error":"#N/A"}},null,null,{"$f":"IF(H227=\"\",\"\",IF(K227/E227<=0,\"×\",K227/E227))","v":{"$error":"#N/A"}},null,null,{"$f":"IF($C$6>0,IF(VLOOKUP($AO228,個別表!$A$13:$KO$349,59,FALSE)=1,\"■\",\"□\"),0)","v":{"$error":"#N/A"}},"□","□",{"$f":"IF($C$6>0,VLOOKUP($AO228,個別表!$A$13:$KO$349,60,FALSE),0)","v":{"$error":"#N/A"}},null,{"$f":"IF($C$6>0,VLOOKUP($AO228,個別表!$A$13:$KO$349,61,FALSE),0)","v":{"$error":"#N/A"}}]
[{"$f":"IF($C$6>0,IF(VLOOKUP($AO228,個別表!$A$13:$KO$349,31,FALSE)>0,1,0),0)","v":{"$error":"#N/A"}},null,null,null,null,null,null,null,null,null,null,null,null,null,null,null,null,null,null,null,null,null,null,null,null,null,null,null,null,null,null,null,null,null,null,null,{"$f":"IF($C$6>0,VLOOKUP($AO228,個別表!$A$13:$KO$349,62,FALSE),0)","v":{"$error":"#N/A"}},null,null,null,{"$f":"AO226+1","v":1010106}]
[{"$f":"IF($C$6>0,IF(A230=1,1,0),0)","v":{"$error":"#N/A"}},null,7,null,{"$f":"IF($C$6>0,VLOOKUP($AO230,個別表!$A$13:$KO$349,48,FALSE),0)","v":{"$error":"#N/A"}},null,null,{"$f":"IF($C$6>0,VLOOKUP($AO230,個別表!$A$13:$KO$349,50,FALSE),0)","v":{"$error":"#N/A"}},null,null,{"$f":"IF($C$6>0,VLOOKUP($AO230,個別表!$A$13:$KO$349,51,FALSE),0)","v":{"$error":"#N/A"}},null,null,{"$f":"IF($C$6>0,VLOOKUP($AO230,個別表!$A$13:$KO$349,52,FALSE),0)","v":{"$error":"#N/A"}},null,null,{"$f":"IF($C$6>0,VLOOKUP($AO230,個別表!$A$13:$KO$349,53,FALSE),0)","v":{"$error":"#N/A"}},null,null,{"$f":"IF($C$6>0,VLOOKUP($AO230,個別表!$A$13:$KO$349,54,FALSE),0)","v":{"$error":"#N/A"}},null,null,{"$f":"IF($C$6>0,VLOOKUP($AO230,個別表!$A$13:$KO$349,55,FALSE),0)","v":{"$error":"#N/A"}},null,null,{"$f":"IF(H229=\"\",\"\",IF(H229/E229>50%,\"×\",IF(H229/E229>AC229,\"×\",IF(H229>K229+Q229+T229+W229,\"×\",ROUNDDOWN(H229/E229,5)))))","v":{"$error":"#N/A"}},null,null,{"$f":"IF(H229=\"\",\"\",IF(K229/E229<=0,\"×\",K229/E229))","v":{"$error":"#N/A"}},null,null,{"$f":"IF($C$6>0,IF(VLOOKUP($AO230,個別表!$A$13:$KO$349,59,FALSE)=1,\"■\",\"□\"),0)","v":{"$error":"#N/A"}},"□","□",{"$f":"IF($C$6>0,VLOOKUP($AO230,個別表!$A$13:$KO$349,60,FALSE),0)","v":{"$error":"#N/A"}},null,{"$f":"IF($C$6>0,VLOOKUP($AO230,個別表!$A$13:$KO$349,61,FALSE),0)","v":{"$error":"#N/A"}}]
[{"$f":"IF($C$6>0,IF(VLOOKUP($AO230,個別表!$A$13:$KO$349,31,FALSE)>0,1,0),0)","v":{"$error":"#N/A"}},null,null,null,null,null,null,null,null,null,null,null,null,null,null,null,null,null,null,null,null,null,null,null,null,null,null,null,null,null,null,null,null,null,null,null,{"$f":"IF($C$6>0,VLOOKUP($AO230,個別表!$A$13:$KO$349,62,FALSE),0)","v":{"$error":"#N/A"}},null,null,null,{"$f":"AO228+1","v":1010107}]
[{"$f":"IF($C$6>0,IF(A232=1,1,0),0)","v":{"$error":"#N/A"}},null,8,null,{"$f":"IF($C$6>0,VLOOKUP($AO232,個別表!$A$13:$KO$349,48,FALSE),0)","v":{"$error":"#N/A"}},null,null,{"$f":"IF($C$6>0,VLOOKUP($AO232,個別表!$A$13:$KO$349,50,FALSE),0)","v":{"$error":"#N/A"}},null,null,{"$f":"IF($C$6>0,VLOOKUP($AO232,個別表!$A$13:$KO$349,51,FALSE),0)","v":{"$error":"#N/A"}},null,null,{"$f":"IF($C$6>0,VLOOKUP($AO232,個別表!$A$13:$KO$349,52,FALSE),0)","v":{"$error":"#N/A"}},null,null,{"$f":"IF($C$6>0,VLOOKUP($AO232,個別表!$A$13:$KO$349,53,FALSE),0)","v":{"$error":"#N/A"}},null,null,{"$f":"IF($C$6>0,VLOOKUP($AO232,個別表!$A$13:$KO$349,54,FALSE),0)","v":{"$error":"#N/A"}},null,null,{"$f":"IF($C$6>0,VLOOKUP($AO232,個別表!$A$13:$KO$349,55,FALSE),0)","v":{"$error":"#N/A"}},null,null,{"$f":"IF(H231=\"\",\"\",IF(H231/E231>50%,\"×\",IF(H231/E231>AC231,\"×\",IF(H231>K231+Q231+T231+W231,\"×\",ROUNDDOWN(H231/E231,5)))))","v":{"$error":"#N/A"}},null,null,{"$f":"IF(H231=\"\",\"\",IF(K231/E231<=0,\"×\",K231/E231))","v":{"$error":"#N/A"}},null,null,{"$f":"IF($C$6>0,IF(VLOOKUP($AO232,個別表!$A$13:$KO$349,59,FALSE)=1,\"■\",\"□\"),0)","v":{"$error":"#N/A"}},"□","□",{"$f":"IF($C$6>0,VLOOKUP($AO232,個別表!$A$13:$KO$349,60,FALSE),0)","v":{"$error":"#N/A"}},null,{"$f":"IF($C$6>0,VLOOKUP($AO232,個別表!$A$13:$KO$349,61,FALSE),0)","v":{"$error":"#N/A"}}]
[{"$f":"IF($C$6>0,IF(VLOOKUP($AO232,個別表!$A$13:$KO$349,31,FALSE)>0,1,0),0)","v":{"$error":"#N/A"}},null,null,null,null,null,null,null,null,null,null,null,null,null,null,null,null,null,null,null,null,null,null,null,null,null,null,null,null,null,null,null,null,null,null,null,{"$f":"IF($C$6>0,VLOOKUP($AO232,個別表!$A$13:$KO$349,62,FALSE),0)","v":{"$error":"#N/A"}},null,null,null,{"$f":"AO230+1","v":1010108}]
[{"$f":"IF($C$6>0,IF(A234=1,1,0),0)","v":{"$error":"#N/A"}},null,9,null,{"$f":"IF($C$6>0,VLOOKUP($AO234,個別表!$A$13:$KO$349,48,FALSE),0)","v":{"$error":"#N/A"}},null,null,{"$f":"IF($C$6>0,VLOOKUP($AO234,個別表!$A$13:$KO$349,50,FALSE),0)","v":{"$error":"#N/A"}},null,null,{"$f":"IF($C$6>0,VLOOKUP($AO234,個別表!$A$13:$KO$349,51,FALSE),0)","v":{"$error":"#N/A"}},null,null,{"$f":"IF($C$6>0,VLOOKUP($AO234,個別表!$A$13:$KO$349,52,FALSE),0)","v":{"$error":"#N/A"}},null,null,{"$f":"IF($C$6>0,VLOOKUP($AO234,個別表!$A$13:$KO$349,53,FALSE),0)","v":{"$error":"#N/A"}},null,null,{"$f":"IF($C$6>0,VLOOKUP($AO234,個別表!$A$13:$KO$349,54,FALSE),0)","v":{"$error":"#N/A"}},null,null,{"$f":"IF($C$6>0,VLOOKUP($AO234,個別表!$A$13:$KO$349,55,FALSE),0)","v":{"$error":"#N/A"}},null,null,{"$f":"IF(H233=\"\",\"\",IF(H233/E233>50%,\"×\",IF(H233/E233>AC233,\"×\",IF(H233>K233+Q233+T233+W233,\"×\",ROUNDDOWN(H233/E233,5)))))","v":{"$error":"#N/A"}},null,null,{"$f":"IF(H233=\"\",\"\",IF(K233/E233<=0,\"×\",K233/E233))","v":{"$error":"#N/A"}},null,null,{"$f":"IF($C$6>0,IF(VLOOKUP($AO234,個別表!$A$13:$KO$349,59,FALSE)=1,\"■\",\"□\"),0)","v":{"$error":"#N/A"}},"□","□",{"$f":"IF($C$6>0,VLOOKUP($AO234,個別表!$A$13:$KO$349,60,FALSE),0)","v":{"$error":"#N/A"}},null,{"$f":"IF($C$6>0,VLOOKUP($AO234,個別表!$A$13:$KO$349,61,FALSE),0)","v":{"$error":"#N/A"}}]
[{"$f":"IF($C$6>0,IF(VLOOKUP($AO234,個別表!$A$13:$KO$349,31,FALSE)>0,1,0),0)","v":{"$error":"#N/A"}},null,null,null,null,null,null,null,null,null,null,null,null,null,null,null,null,null,null,null,null,null,null,null,null,null,null,null,null,null,null,null,null,null,null,null,{"$f":"IF($C$6>0,VLOOKUP($AO234,個別表!$A$13:$KO$349,62,FALSE),0)","v":{"$error":"#N/A"}},null,null,null,{"$f":"AO232+1","v":1010109}]
[{"$f":"IF($C$6>0,IF(A236=1,1,0),0)","v":{"$error":"#N/A"}},null,10,null,{"$f":"IF($C$6>0,VLOOKUP($AO236,個別表!$A$13:$KO$349,48,FALSE),0)","v":{"$error":"#N/A"}},null,null,{"$f":"IF($C$6>0,VLOOKUP($AO236,個別表!$A$13:$KO$349,50,FALSE),0)","v":{"$error":"#N/A"}},null,null,{"$f":"IF($C$6>0,VLOOKUP($AO236,個別表!$A$13:$KO$349,51,FALSE),0)","v":{"$error":"#N/A"}},null,null,{"$f":"IF($C$6>0,VLOOKUP($AO236,個別表!$A$13:$KO$349,52,FALSE),0)","v":{"$error":"#N/A"}},null,null,{"$f":"IF($C$6>0,VLOOKUP($AO236,個別表!$A$13:$KO$349,53,FALSE),0)","v":{"$error":"#N/A"}},null,null,{"$f":"IF($C$6>0,VLOOKUP($AO236,個別表!$A$13:$KO$349,54,FALSE),0)","v":{"$error":"#N/A"}},null,null,{"$f":"IF($C$6>0,VLOOKUP($AO236,個別表!$A$13:$KO$349,55,FALSE),0)","v":{"$error":"#N/A"}},null,null,{"$f":"IF(H235=\"\",\"\",IF(H235/E235>50%,\"×\",IF(H235/E235>AC235,\"×\",IF(H235>K235+Q235+T235+W235,\"×\",ROUNDDOWN(H235/E235,5)))))","v":{"$error":"#N/A"}},null,null,{"$f":"IF(H235=\"\",\"\",IF(K235/E235<=0,\"×\",K235/E235))","v":{"$error":"#N/A"}},null,null,{"$f":"IF($C$6>0,IF(VLOOKUP($AO236,個別表!$A$13:$KO$349,59,FALSE)=1,\"■\",\"□\"),0)","v":{"$error":"#N/A"}},"□","□",{"$f":"IF($C$6>0,VLOOKUP($AO236,個別表!$A$13:$KO$349,60,FALSE),0)","v":{"$error":"#N/A"}},null,{"$f":"IF($C$6>0,VLOOKUP($AO236,個別表!$A$13:$KO$349,61,FALSE),0)","v":{"$error":"#N/A"}}]
[{"$f":"IF($C$6>0,IF(VLOOKUP($AO236,個別表!$A$13:$KO$349,31,FALSE)>0,1,0),0)","v":{"$error":"#N/A"}},null,null,null,null,null,null,null,null,null,null,null,null,null,null,null,null,null,null,null,null,null,null,null,null,null,null,null,null,null,null,null,null,null,null,null,{"$f":"IF($C$6>0,VLOOKUP($AO236,個別表!$A$13:$KO$349,62,FALSE),0)","v":{"$error":"#N/A"}},null,null,null,{"$f":"AO234+1","v":1010110}]
[{"$f":"IF($C$6>0,IF(A238=1,1,0),0)","v":{"$error":"#N/A"}},null,11,null,{"$f":"IF($C$6>0,VLOOKUP($AO238,個別表!$A$13:$KO$349,48,FALSE),0)","v":{"$error":"#N/A"}},null,null,{"$f":"IF($C$6>0,VLOOKUP($AO238,個別表!$A$13:$KO$349,50,FALSE),0)","v":{"$error":"#N/A"}},null,null,{"$f":"IF($C$6>0,VLOOKUP($AO238,個別表!$A$13:$KO$349,51,FALSE),0)","v":{"$error":"#N/A"}},null,null,{"$f":"IF($C$6>0,VLOOKUP($AO238,個別表!$A$13:$KO$349,52,FALSE),0)","v":{"$error":"#N/A"}},null,null,{"$f":"IF($C$6>0,VLOOKUP($AO238,個別表!$A$13:$KO$349,53,FALSE),0)","v":{"$error":"#N/A"}},null,null,{"$f":"IF($C$6>0,VLOOKUP($AO238,個別表!$A$13:$KO$349,54,FALSE),0)","v":{"$error":"#N/A"}},null,null,{"$f":"IF($C$6>0,VLOOKUP($AO238,個別表!$A$13:$KO$349,55,FALSE),0)","v":{"$error":"#N/A"}},null,null,{"$f":"IF(H237=\"\",\"\",IF(H237/E237>50%,\"×\",IF(H237/E237>AC237,\"×\",IF(H237>K237+Q237+T237+W237,\"×\",ROUNDDOWN(H237/E237,5)))))","v":{"$error":"#N/A"}},null,null,{"$f":"IF(H237=\"\",\"\",IF(K237/E237<=0,\"×\",K237/E237))","v":{"$error":"#N/A"}},null,null,{"$f":"IF($C$6>0,IF(VLOOKUP($AO238,個別表!$A$13:$KO$349,59,FALSE)=1,\"■\",\"□\"),0)","v":{"$error":"#N/A"}},"□","□",{"$f":"IF($C$6>0,VLOOKUP($AO238,個別表!$A$13:$KO$349,60,FALSE),0)","v":{"$error":"#N/A"}},null,{"$f":"IF($C$6>0,VLOOKUP($AO238,個別表!$A$13:$KO$349,61,FALSE),0)","v":{"$error":"#N/A"}}]
[{"$f":"IF($C$6>0,IF(VLOOKUP($AO238,個別表!$A$13:$KO$349,31,FALSE)>0,1,0),0)","v":{"$error":"#N/A"}},null,null,null,null,null,null,null,null,null,null,null,null,null,null,null,null,null,null,null,null,null,null,null,null,null,null,null,null,null,null,null,null,null,null,null,{"$f":"IF($C$6>0,VLOOKUP($AO238,個別表!$A$13:$KO$349,62,FALSE),0)","v":{"$error":"#N/A"}},null,null,null,{"$f":"AO236+1","v":1010111}]
[{"$f":"IF($C$6>0,IF(A240=1,1,0),0)","v":{"$error":"#N/A"}},null,12,null,{"$f":"IF($C$6>0,VLOOKUP($AO240,個別表!$A$13:$KO$349,48,FALSE),0)","v":{"$error":"#N/A"}},null,null,{"$f":"IF($C$6>0,VLOOKUP($AO240,個別表!$A$13:$KO$349,50,FALSE),0)","v":{"$error":"#N/A"}},null,null,{"$f":"IF($C$6>0,VLOOKUP($AO240,個別表!$A$13:$KO$349,51,FALSE),0)","v":{"$error":"#N/A"}},null,null,{"$f":"IF($C$6>0,VLOOKUP($AO240,個別表!$A$13:$KO$349,52,FALSE),0)","v":{"$error":"#N/A"}},null,null,{"$f":"IF($C$6>0,VLOOKUP($AO240,個別表!$A$13:$KO$349,53,FALSE),0)","v":{"$error":"#N/A"}},null,null,{"$f":"IF($C$6>0,VLOOKUP($AO240,個別表!$A$13:$KO$349,54,FALSE),0)","v":{"$error":"#N/A"}},null,null,{"$f":"IF($C$6>0,VLOOKUP($AO240,個別表!$A$13:$KO$349,55,FALSE),0)","v":{"$error":"#N/A"}},null,null,{"$f":"IF(H239=\"\",\"\",IF(H239/E239>50%,\"×\",IF(H239/E239>AC239,\"×\",IF(H239>K239+Q239+T239+W239,\"×\",ROUNDDOWN(H239/E239,5)))))","v":{"$error":"#N/A"}},null,null,{"$f":"IF(H239=\"\",\"\",IF(K239/E239<=0,\"×\",K239/E239))","v":{"$error":"#N/A"}},null,null,{"$f":"IF($C$6>0,IF(VLOOKUP($AO240,個別表!$A$13:$KO$349,59,FALSE)=1,\"■\",\"□\"),0)","v":{"$error":"#N/A"}},"□","□",{"$f":"IF($C$6>0,VLOOKUP($AO240,個別表!$A$13:$KO$349,60,FALSE),0)","v":{"$error":"#N/A"}},null,{"$f":"IF($C$6>0,VLOOKUP($AO240,個別表!$A$13:$KO$349,61,FALSE),0)","v":{"$error":"#N/A"}}]
[{"$f":"IF($C$6>0,IF(VLOOKUP($AO240,個別表!$A$13:$KO$349,31,FALSE)>0,1,0),0)","v":{"$error":"#N/A"}},null,null,null,null,null,null,null,null,null,null,null,null,null,null,null,null,null,null,null,null,null,null,null,null,null,null,null,null,null,null,null,null,null,null,null,{"$f":"IF($C$6>0,VLOOKUP($AO240,個別表!$A$13:$KO$349,62,FALSE),0)","v":{"$error":"#N/A"}},null,null,null,{"$f":"AO238+1","v":1010112}]
[{"$f":"IF($C$6>0,IF(A242=1,1,0),0)","v":{"$error":"#N/A"}},null,13,null,{"$f":"IF($C$6>0,VLOOKUP($AO242,個別表!$A$13:$KO$349,48,FALSE),0)","v":{"$error":"#N/A"}},null,null,{"$f":"IF($C$6>0,VLOOKUP($AO242,個別表!$A$13:$KO$349,50,FALSE),0)","v":{"$error":"#N/A"}},null,null,{"$f":"IF($C$6>0,VLOOKUP($AO242,個別表!$A$13:$KO$349,51,FALSE),0)","v":{"$error":"#N/A"}},null,null,{"$f":"IF($C$6>0,VLOOKUP($AO242,個別表!$A$13:$KO$349,52,FALSE),0)","v":{"$error":"#N/A"}},null,null,{"$f":"IF($C$6>0,VLOOKUP($AO242,個別表!$A$13:$KO$349,53,FALSE),0)","v":{"$error":"#N/A"}},null,null,{"$f":"IF($C$6>0,VLOOKUP($AO242,個別表!$A$13:$KO$349,54,FALSE),0)","v":{"$error":"#N/A"}},null,null,{"$f":"IF($C$6>0,VLOOKUP($AO242,個別表!$A$13:$KO$349,55,FALSE),0)","v":{"$error":"#N/A"}},null,null,{"$f":"IF(H241=\"\",\"\",IF(H241/E241>50%,\"×\",IF(H241/E241>AC241,\"×\",IF(H241>K241+Q241+T241+W241,\"×\",ROUNDDOWN(H241/E241,5)))))","v":{"$error":"#N/A"}},null,null,{"$f":"IF(H241=\"\",\"\",IF(K241/E241<=0,\"×\",K241/E241))","v":{"$error":"#N/A"}},null,null,{"$f":"IF($C$6>0,IF(VLOOKUP($AO242,個別表!$A$13:$KO$349,59,FALSE)=1,\"■\",\"□\"),0)","v":{"$error":"#N/A"}},"□","□",{"$f":"IF($C$6>0,VLOOKUP($AO242,個別表!$A$13:$KO$349,60,FALSE),0)","v":{"$error":"#N/A"}},null,{"$f":"IF($C$6>0,VLOOKUP($AO242,個別表!$A$13:$KO$349,61,FALSE),0)","v":{"$error":"#N/A"}}]
[{"$f":"IF($C$6>0,IF(VLOOKUP($AO242,個別表!$A$13:$KO$349,31,FALSE)>0,1,0),0)","v":{"$error":"#N/A"}},null,null,null,null,null,null,null,null,null,null,null,null,null,null,null,null,null,null,null,null,null,null,null,null,null,null,null,null,null,null,null,null,null,null,null,{"$f":"IF($C$6>0,VLOOKUP($AO242,個別表!$A$13:$KO$349,62,FALSE),0)","v":{"$error":"#N/A"}},null,null,null,{"$f":"AO240+1","v":1010113}]
[{"$f":"IF($C$6>0,IF(A244=1,1,0),0)","v":{"$error":"#N/A"}},null,14,null,{"$f":"IF($C$6>0,VLOOKUP($AO244,個別表!$A$13:$KO$349,48,FALSE),0)","v":{"$error":"#N/A"}},null,null,{"$f":"IF($C$6>0,VLOOKUP($AO244,個別表!$A$13:$KO$349,50,FALSE),0)","v":{"$error":"#N/A"}},null,null,{"$f":"IF($C$6>0,VLOOKUP($AO244,個別表!$A$13:$KO$349,51,FALSE),0)","v":{"$error":"#N/A"}},null,null,{"$f":"IF($C$6>0,VLOOKUP($AO244,個別表!$A$13:$KO$349,52,FALSE),0)","v":{"$error":"#N/A"}},null,null,{"$f":"IF($C$6>0,VLOOKUP($AO244,個別表!$A$13:$KO$349,53,FALSE),0)","v":{"$error":"#N/A"}},null,null,{"$f":"IF($C$6>0,VLOOKUP($AO244,個別表!$A$13:$KO$349,54,FALSE),0)","v":{"$error":"#N/A"}},null,null,{"$f":"IF($C$6>0,VLOOKUP($AO244,個別表!$A$13:$KO$349,55,FALSE),0)","v":{"$error":"#N/A"}},null,null,{"$f":"IF(H243=\"\",\"\",IF(H243/E243>50%,\"×\",IF(H243/E243>AC243,\"×\",IF(H243>K243+Q243+T243+W243,\"×\",ROUNDDOWN(H243/E243,5)))))","v":{"$error":"#N/A"}},null,null,{"$f":"IF(H243=\"\",\"\",IF(K243/E243<=0,\"×\",K243/E243))","v":{"$error":"#N/A"}},null,null,{"$f":"IF($C$6>0,IF(VLOOKUP($AO244,個別表!$A$13:$KO$349,59,FALSE)=1,\"■\",\"□\"),0)","v":{"$error":"#N/A"}},"□","□",{"$f":"IF($C$6>0,VLOOKUP($AO244,個別表!$A$13:$KO$349,60,FALSE),0)","v":{"$error":"#N/A"}},null,{"$f":"IF($C$6>0,VLOOKUP($AO244,個別表!$A$13:$KO$349,61,FALSE),0)","v":{"$error":"#N/A"}}]
[{"$f":"IF($C$6>0,IF(VLOOKUP($AO244,個別表!$A$13:$KO$349,31,FALSE)>0,1,0),0)","v":{"$error":"#N/A"}},null,null,null,null,null,null,null,null,null,null,null,null,null,null,null,null,null,null,null,null,null,null,null,null,null,null,null,null,null,null,null,null,null,null,null,{"$f":"IF($C$6>0,VLOOKUP($AO244,個別表!$A$13:$KO$349,62,FALSE),0)","v":{"$error":"#N/A"}},null,null,null,{"$f":"AO242+1","v":1010114}]
[{"$f":"IF($C$6>0,IF(A246=1,1,0),0)","v":{"$error":"#N/A"}},null,15,null,{"$f":"IF($C$6>0,VLOOKUP($AO246,個別表!$A$13:$KO$349,48,FALSE),0)","v":{"$error":"#N/A"}},null,null,{"$f":"IF($C$6>0,VLOOKUP($AO246,個別表!$A$13:$KO$349,50,FALSE),0)","v":{"$error":"#N/A"}},null,null,{"$f":"IF($C$6>0,VLOOKUP($AO246,個別表!$A$13:$KO$349,51,FALSE),0)","v":{"$error":"#N/A"}},null,null,{"$f":"IF($C$6>0,VLOOKUP($AO246,個別表!$A$13:$KO$349,52,FALSE),0)","v":{"$error":"#N/A"}},null,null,{"$f":"IF($C$6>0,VLOOKUP($AO246,個別表!$A$13:$KO$349,53,FALSE),0)","v":{"$error":"#N/A"}},null,null,{"$f":"IF($C$6>0,VLOOKUP($AO246,個別表!$A$13:$KO$349,54,FALSE),0)","v":{"$error":"#N/A"}},null,null,{"$f":"IF($C$6>0,VLOOKUP($AO246,個別表!$A$13:$KO$349,55,FALSE),0)","v":{"$error":"#N/A"}},null,null,{"$f":"IF(H245=\"\",\"\",IF(H245/E245>50%,\"×\",IF(H245/E245>AC245,\"×\",IF(H245>K245+Q245+T245+W245,\"×\",ROUNDDOWN(H245/E245,5)))))","v":{"$error":"#N/A"}},null,null,{"$f":"IF(H245=\"\",\"\",IF(K245/E245<=0,\"×\",K245/E245))","v":{"$error":"#N/A"}},null,null,{"$f":"IF($C$6>0,IF(VLOOKUP($AO246,個別表!$A$13:$KO$349,59,FALSE)=1,\"■\",\"□\"),0)","v":{"$error":"#N/A"}},"□","□",{"$f":"IF($C$6>0,VLOOKUP($AO246,個別表!$A$13:$KO$349,60,FALSE),0)","v":{"$error":"#N/A"}},null,{"$f":"IF($C$6>0,VLOOKUP($AO246,個別表!$A$13:$KO$349,61,FALSE),0)","v":{"$error":"#N/A"}}]
[{"$f":"IF($C$6>0,IF(VLOOKUP($AO246,個別表!$A$13:$KO$349,31,FALSE)>0,1,0),0)","v":{"$error":"#N/A"}},null,null,null,null,null,null,null,null,null,null,null,null,null,null,null,null,null,null,null,null,null,null,null,null,null,null,null,null,null,null,null,null,null,null,null,{"$f":"IF($C$6>0,VLOOKUP($AO246,個別表!$A$13:$KO$349,62,FALSE),0)","v":{"$error":"#N/A"}},null,null,null,{"$f":"AO244+1","v":1010115}]
[{"$f":"IF($C$6>0,IF(A248=1,1,0),0)","v":{"$error":"#N/A"}},null,16,null,{"$f":"IF($C$6>0,VLOOKUP($AO248,個別表!$A$13:$KO$349,48,FALSE),0)","v":{"$error":"#N/A"}},null,null,{"$f":"IF($C$6>0,VLOOKUP($AO248,個別表!$A$13:$KO$349,50,FALSE),0)","v":{"$error":"#N/A"}},null,null,{"$f":"IF($C$6>0,VLOOKUP($AO248,個別表!$A$13:$KO$349,51,FALSE),0)","v":{"$error":"#N/A"}},null,null,{"$f":"IF($C$6>0,VLOOKUP($AO248,個別表!$A$13:$KO$349,52,FALSE),0)","v":{"$error":"#N/A"}},null,null,{"$f":"IF($C$6>0,VLOOKUP($AO248,個別表!$A$13:$KO$349,53,FALSE),0)","v":{"$error":"#N/A"}},null,null,{"$f":"IF($C$6>0,VLOOKUP($AO248,個別表!$A$13:$KO$349,54,FALSE),0)","v":{"$error":"#N/A"}},null,null,{"$f":"IF($C$6>0,VLOOKUP($AO248,個別表!$A$13:$KO$349,55,FALSE),0)","v":{"$error":"#N/A"}},null,null,{"$f":"IF(H247=\"\",\"\",IF(H247/E247>50%,\"×\",IF(H247/E247>AC247,\"×\",IF(H247>K247+Q247+T247+W247,\"×\",ROUNDDOWN(H247/E247,5)))))","v":{"$error":"#N/A"}},null,null,{"$f":"IF(H247=\"\",\"\",IF(K247/E247<=0,\"×\",K247/E247))","v":{"$error":"#N/A"}},null,null,{"$f":"IF($C$6>0,IF(VLOOKUP($AO248,個別表!$A$13:$KO$349,59,FALSE)=1,\"■\",\"□\"),0)","v":{"$error":"#N/A"}},"□","□",{"$f":"IF($C$6>0,VLOOKUP($AO248,個別表!$A$13:$KO$349,60,FALSE),0)","v":{"$error":"#N/A"}},null,{"$f":"IF($C$6>0,VLOOKUP($AO248,個別表!$A$13:$KO$349,61,FALSE),0)","v":{"$error":"#N/A"}}]
[{"$f":"IF($C$6>0,IF(VLOOKUP($AO248,個別表!$A$13:$KO$349,31,FALSE)>0,1,0),0)","v":{"$error":"#N/A"}},null,null,null,null,null,null,null,null,null,null,null,null,null,null,null,null,null,null,null,null,null,null,null,null,null,null,null,null,null,null,null,null,null,null,null,{"$f":"IF($C$6>0,VLOOKUP($AO248,個別表!$A$13:$KO$349,62,FALSE),0)","v":{"$error":"#N/A"}},null,null,null,{"$f":"AO246+1","v":1010116}]
[{"$f":"IF($C$6>0,IF(A250=1,1,0),0)","v":{"$error":"#N/A"}},null,17,null,{"$f":"IF($C$6>0,VLOOKUP($AO250,個別表!$A$13:$KO$349,48,FALSE),0)","v":{"$error":"#N/A"}},null,null,{"$f":"IF($C$6>0,VLOOKUP($AO250,個別表!$A$13:$KO$349,50,FALSE),0)","v":{"$error":"#N/A"}},null,null,{"$f":"IF($C$6>0,VLOOKUP($AO250,個別表!$A$13:$KO$349,51,FALSE),0)","v":{"$error":"#N/A"}},null,null,{"$f":"IF($C$6>0,VLOOKUP($AO250,個別表!$A$13:$KO$349,52,FALSE),0)","v":{"$error":"#N/A"}},null,null,{"$f":"IF($C$6>0,VLOOKUP($AO250,個別表!$A$13:$KO$349,53,FALSE),0)","v":{"$error":"#N/A"}},null,null,{"$f":"IF($C$6>0,VLOOKUP($AO250,個別表!$A$13:$KO$349,54,FALSE),0)","v":{"$error":"#N/A"}},null,null,{"$f":"IF($C$6>0,VLOOKUP($AO250,個別表!$A$13:$KO$349,55,FALSE),0)","v":{"$error":"#N/A"}},null,null,{"$f":"IF(H249=\"\",\"\",IF(H249/E249>50%,\"×\",IF(H249/E249>AC249,\"×\",IF(H249>K249+Q249+T249+W249,\"×\",ROUNDDOWN(H249/E249,5)))))","v":{"$error":"#N/A"}},null,null,{"$f":"IF(H249=\"\",\"\",IF(K249/E249<=0,\"×\",K249/E249))","v":{"$error":"#N/A"}},null,null,{"$f":"IF($C$6>0,IF(VLOOKUP($AO250,個別表!$A$13:$KO$349,59,FALSE)=1,\"■\",\"□\"),0)","v":{"$error":"#N/A"}},"□","□",{"$f":"IF($C$6>0,VLOOKUP($AO250,個別表!$A$13:$KO$349,60,FALSE),0)","v":{"$error":"#N/A"}},null,{"$f":"IF($C$6>0,VLOOKUP($AO250,個別表!$A$13:$KO$349,61,FALSE),0)","v":{"$error":"#N/A"}}]
[{"$f":"IF($C$6>0,IF(VLOOKUP($AO250,個別表!$A$13:$KO$349,31,FALSE)>0,1,0),0)","v":{"$error":"#N/A"}},null,null,null,null,null,null,null,null,null,null,null,null,null,null,null,null,null,null,null,null,null,null,null,null,null,null,null,null,null,null,null,null,null,null,null,{"$f":"IF($C$6>0,VLOOKUP($AO250,個別表!$A$13:$KO$349,62,FALSE),0)","v":{"$error":"#N/A"}},null,null,null,{"$f":"AO248+1","v":1010117}]
[{"$f":"IF($C$6>0,IF(A252=1,1,0),0)","v":{"$error":"#N/A"}},null,18,null,{"$f":"IF($C$6>0,VLOOKUP($AO252,個別表!$A$13:$KO$349,48,FALSE),0)","v":{"$error":"#N/A"}},null,null,{"$f":"IF($C$6>0,VLOOKUP($AO252,個別表!$A$13:$KO$349,50,FALSE),0)","v":{"$error":"#N/A"}},null,null,{"$f":"IF($C$6>0,VLOOKUP($AO252,個別表!$A$13:$KO$349,51,FALSE),0)","v":{"$error":"#N/A"}},null,null,{"$f":"IF($C$6>0,VLOOKUP($AO252,個別表!$A$13:$KO$349,52,FALSE),0)","v":{"$error":"#N/A"}},null,null,{"$f":"IF($C$6>0,VLOOKUP($AO252,個別表!$A$13:$KO$349,53,FALSE),0)","v":{"$error":"#N/A"}},null,null,{"$f":"IF($C$6>0,VLOOKUP($AO252,個別表!$A$13:$KO$349,54,FALSE),0)","v":{"$error":"#N/A"}},null,null,{"$f":"IF($C$6>0,VLOOKUP($AO252,個別表!$A$13:$KO$349,55,FALSE),0)","v":{"$error":"#N/A"}},null,null,{"$f":"IF(H251=\"\",\"\",IF(H251/E251>50%,\"×\",IF(H251/E251>AC251,\"×\",IF(H251>K251+Q251+T251+W251,\"×\",ROUNDDOWN(H251/E251,5)))))","v":{"$error":"#N/A"}},null,null,{"$f":"IF(H251=\"\",\"\",IF(K251/E251<=0,\"×\",K251/E251))","v":{"$error":"#N/A"}},null,null,{"$f":"IF($C$6>0,IF(VLOOKUP($AO252,個別表!$A$13:$KO$349,59,FALSE)=1,\"■\",\"□\"),0)","v":{"$error":"#N/A"}},"□","□",{"$f":"IF($C$6>0,VLOOKUP($AO252,個別表!$A$13:$KO$349,60,FALSE),0)","v":{"$error":"#N/A"}},null,{"$f":"IF($C$6>0,VLOOKUP($AO252,個別表!$A$13:$KO$349,61,FALSE),0)","v":{"$error":"#N/A"}}]
[{"$f":"IF($C$6>0,IF(VLOOKUP($AO252,個別表!$A$13:$KO$349,31,FALSE)>0,1,0),0)","v":{"$error":"#N/A"}},null,null,null,null,null,null,null,null,null,null,null,null,null,null,null,null,null,null,null,null,null,null,null,null,null,null,null,null,null,null,null,null,null,null,null,{"$f":"IF($C$6>0,VLOOKUP($AO252,個別表!$A$13:$KO$349,62,FALSE),0)","v":{"$error":"#N/A"}},null,null,null,{"$f":"AO250+1","v":1010118}]
[{"$f":"IF($C$6>0,IF(A254=1,1,0),0)","v":{"$error":"#N/A"}},null,19,null,{"$f":"IF($C$6>0,VLOOKUP($AO254,個別表!$A$13:$KO$349,48,FALSE),0)","v":{"$error":"#N/A"}},null,null,{"$f":"IF($C$6>0,VLOOKUP($AO254,個別表!$A$13:$KO$349,50,FALSE),0)","v":{"$error":"#N/A"}},null,null,{"$f":"IF($C$6>0,VLOOKUP($AO254,個別表!$A$13:$KO$349,51,FALSE),0)","v":{"$error":"#N/A"}},null,null,{"$f":"IF($C$6>0,VLOOKUP($AO254,個別表!$A$13:$KO$349,52,FALSE),0)","v":{"$error":"#N/A"}},null,null,{"$f":"IF($C$6>0,VLOOKUP($AO254,個別表!$A$13:$KO$349,53,FALSE),0)","v":{"$error":"#N/A"}},null,null,{"$f":"IF($C$6>0,VLOOKUP($AO254,個別表!$A$13:$KO$349,54,FALSE),0)","v":{"$error":"#N/A"}},null,null,{"$f":"IF($C$6>0,VLOOKUP($AO254,個別表!$A$13:$KO$349,55,FALSE),0)","v":{"$error":"#N/A"}},null,null,{"$f":"IF(H253=\"\",\"\",IF(H253/E253>50%,\"×\",IF(H253/E253>AC253,\"×\",IF(H253>K253+Q253+T253+W253,\"×\",ROUNDDOWN(H253/E253,5)))))","v":{"$error":"#N/A"}},null,null,{"$f":"IF(H253=\"\",\"\",IF(K253/E253<=0,\"×\",K253/E253))","v":{"$error":"#N/A"}},null,null,{"$f":"IF($C$6>0,IF(VLOOKUP($AO254,個別表!$A$13:$KO$349,59,FALSE)=1,\"■\",\"□\"),0)","v":{"$error":"#N/A"}},"□","□",{"$f":"IF($C$6>0,VLOOKUP($AO254,個別表!$A$13:$KO$349,60,FALSE),0)","v":{"$error":"#N/A"}},null,{"$f":"IF($C$6>0,VLOOKUP($AO254,個別表!$A$13:$KO$349,61,FALSE),0)","v":{"$error":"#N/A"}}]
[{"$f":"IF($C$6>0,IF(VLOOKUP($AO254,個別表!$A$13:$KO$349,31,FALSE)>0,1,0),0)","v":{"$error":"#N/A"}},null,null,null,null,null,null,null,null,null,null,null,null,null,null,null,null,null,null,null,null,null,null,null,null,null,null,null,null,null,null,null,null,null,null,null,{"$f":"IF($C$6>0,VLOOKUP($AO254,個別表!$A$13:$KO$349,62,FALSE),0)","v":{"$error":"#N/A"}},null,null,null,{"$f":"AO252+1","v":1010119}]
[{"$f":"IF($C$6>0,IF(A256=1,1,0),0)","v":{"$error":"#N/A"}},null,20,null,{"$f":"IF($C$6>0,VLOOKUP($AO256,個別表!$A$13:$KO$349,48,FALSE),0)","v":{"$error":"#N/A"}},null,null,{"$f":"IF($C$6>0,VLOOKUP($AO256,個別表!$A$13:$KO$349,50,FALSE),0)","v":{"$error":"#N/A"}},null,null,{"$f":"IF($C$6>0,VLOOKUP($AO256,個別表!$A$13:$KO$349,51,FALSE),0)","v":{"$error":"#N/A"}},null,null,{"$f":"IF($C$6>0,VLOOKUP($AO256,個別表!$A$13:$KO$349,52,FALSE),0)","v":{"$error":"#N/A"}},null,null,{"$f":"IF($C$6>0,VLOOKUP($AO256,個別表!$A$13:$KO$349,53,FALSE),0)","v":{"$error":"#N/A"}},null,null,{"$f":"IF($C$6>0,VLOOKUP($AO256,個別表!$A$13:$KO$349,54,FALSE),0)","v":{"$error":"#N/A"}},null,null,{"$f":"IF($C$6>0,VLOOKUP($AO256,個別表!$A$13:$KO$349,55,FALSE),0)","v":{"$error":"#N/A"}},null,null,{"$f":"IF(H255=\"\",\"\",IF(H255/E255>50%,\"×\",IF(H255/E255>AC255,\"×\",IF(H255>K255+Q255+T255+W255,\"×\",ROUNDDOWN(H255/E255,5)))))","v":{"$error":"#N/A"}},null,null,{"$f":"IF(H255=\"\",\"\",IF(K255/E255<=0,\"×\",K255/E255))","v":{"$error":"#N/A"}},null,null,{"$f":"IF($C$6>0,IF(VLOOKUP($AO256,個別表!$A$13:$KO$349,59,FALSE)=1,\"■\",\"□\"),0)","v":{"$error":"#N/A"}},"□","□",{"$f":"IF($C$6>0,VLOOKUP($AO256,個別表!$A$13:$KO$349,60,FALSE),0)","v":{"$error":"#N/A"}},null,{"$f":"IF($C$6>0,VLOOKUP($AO256,個別表!$A$13:$KO$349,61,FALSE),0)","v":{"$error":"#N/A"}}]
[{"$f":"IF($C$6>0,IF(VLOOKUP($AO256,個別表!$A$13:$KO$349,31,FALSE)>0,1,0),0)","v":{"$error":"#N/A"}},null,null,null,null,null,null,null,null,null,null,null,null,null,null,null,null,null,null,null,null,null,null,null,null,null,null,null,null,null,null,null,null,null,null,null,{"$f":"IF($C$6>0,VLOOKUP($AO256,個別表!$A$13:$KO$349,62,FALSE),0)","v":{"$error":"#N/A"}},null,null,null,{"$f":"AO254+1","v":1010120}]
[{"$f":"IF($C$6>0,IF(A258=1,1,0),0)","v":{"$error":"#N/A"}},null,21,null,{"$f":"IF($C$6>0,VLOOKUP($AO258,個別表!$A$13:$KO$349,48,FALSE),0)","v":{"$error":"#N/A"}},null,null,{"$f":"IF($C$6>0,VLOOKUP($AO258,個別表!$A$13:$KO$349,50,FALSE),0)","v":{"$error":"#N/A"}},null,null,{"$f":"IF($C$6>0,VLOOKUP($AO258,個別表!$A$13:$KO$349,51,FALSE),0)","v":{"$error":"#N/A"}},null,null,{"$f":"IF($C$6>0,VLOOKUP($AO258,個別表!$A$13:$KO$349,52,FALSE),0)","v":{"$error":"#N/A"}},null,null,{"$f":"IF($C$6>0,VLOOKUP($AO258,個別表!$A$13:$KO$349,53,FALSE),0)","v":{"$error":"#N/A"}},null,null,{"$f":"IF($C$6>0,VLOOKUP($AO258,個別表!$A$13:$KO$349,54,FALSE),0)","v":{"$error":"#N/A"}},null,null,{"$f":"IF($C$6>0,VLOOKUP($AO258,個別表!$A$13:$KO$349,55,FALSE),0)","v":{"$error":"#N/A"}},null,null,{"$f":"IF(H257=\"\",\"\",IF(H257/E257>50%,\"×\",IF(H257/E257>AC257,\"×\",IF(H257>K257+Q257+T257+W257,\"×\",ROUNDDOWN(H257/E257,5)))))","v":{"$error":"#N/A"}},null,null,{"$f":"IF(H257=\"\",\"\",IF(K257/E257<=0,\"×\",K257/E257))","v":{"$error":"#N/A"}},null,null,{"$f":"IF($C$6>0,IF(VLOOKUP($AO258,個別表!$A$13:$KO$349,59,FALSE)=1,\"■\",\"□\"),0)","v":{"$error":"#N/A"}},"□","□",{"$f":"IF($C$6>0,VLOOKUP($AO258,個別表!$A$13:$KO$349,60,FALSE),0)","v":{"$error":"#N/A"}},null,{"$f":"IF($C$6>0,VLOOKUP($AO258,個別表!$A$13:$KO$349,61,FALSE),0)","v":{"$error":"#N/A"}}]
[{"$f":"IF($C$6>0,IF(VLOOKUP($AO258,個別表!$A$13:$KO$349,31,FALSE)>0,1,0),0)","v":{"$error":"#N/A"}},null,null,null,null,null,null,null,null,null,null,null,null,null,null,null,null,null,null,null,null,null,null,null,null,null,null,null,null,null,null,null,null,null,null,null,{"$f":"IF($C$6>0,VLOOKUP($AO258,個別表!$A$13:$KO$349,62,FALSE),0)","v":{"$error":"#N/A"}},null,null,null,{"$f":"AO256+1","v":1010121}]
[{"$f":"IF($C$6>0,IF(A260=1,1,0),0)","v":{"$error":"#N/A"}},null,22,null,{"$f":"IF($C$6>0,VLOOKUP($AO260,個別表!$A$13:$KO$349,48,FALSE),0)","v":{"$error":"#N/A"}},null,null,{"$f":"IF($C$6>0,VLOOKUP($AO260,個別表!$A$13:$KO$349,50,FALSE),0)","v":{"$error":"#N/A"}},null,null,{"$f":"IF($C$6>0,VLOOKUP($AO260,個別表!$A$13:$KO$349,51,FALSE),0)","v":{"$error":"#N/A"}},null,null,{"$f":"IF($C$6>0,VLOOKUP($AO260,個別表!$A$13:$KO$349,52,FALSE),0)","v":{"$error":"#N/A"}},null,null,{"$f":"IF($C$6>0,VLOOKUP($AO260,個別表!$A$13:$KO$349,53,FALSE),0)","v":{"$error":"#N/A"}},null,null,{"$f":"IF($C$6>0,VLOOKUP($AO260,個別表!$A$13:$KO$349,54,FALSE),0)","v":{"$error":"#N/A"}},null,null,{"$f":"IF($C$6>0,VLOOKUP($AO260,個別表!$A$13:$KO$349,55,FALSE),0)","v":{"$error":"#N/A"}},null,null,{"$f":"IF(H259=\"\",\"\",IF(H259/E259>50%,\"×\",IF(H259/E259>AC259,\"×\",IF(H259>K259+Q259+T259+W259,\"×\",ROUNDDOWN(H259/E259,5)))))","v":{"$error":"#N/A"}},null,null,{"$f":"IF(H259=\"\",\"\",IF(K259/E259<=0,\"×\",K259/E259))","v":{"$error":"#N/A"}},null,null,{"$f":"IF($C$6>0,IF(VLOOKUP($AO260,個別表!$A$13:$KO$349,59,FALSE)=1,\"■\",\"□\"),0)","v":{"$error":"#N/A"}},"□","□",{"$f":"IF($C$6>0,VLOOKUP($AO260,個別表!$A$13:$KO$349,60,FALSE),0)","v":{"$error":"#N/A"}},null,{"$f":"IF($C$6>0,VLOOKUP($AO260,個別表!$A$13:$KO$349,61,FALSE),0)","v":{"$error":"#N/A"}}]
[{"$f":"IF($C$6>0,IF(VLOOKUP($AO260,個別表!$A$13:$KO$349,31,FALSE)>0,1,0),0)","v":{"$error":"#N/A"}},null,null,null,null,null,null,null,null,null,null,null,null,null,null,null,null,null,null,null,null,null,null,null,null,null,null,null,null,null,null,null,null,null,null,null,{"$f":"IF($C$6>0,VLOOKUP($AO260,個別表!$A$13:$KO$349,62,FALSE),0)","v":{"$error":"#N/A"}},null,null,null,{"$f":"AO258+1","v":1010122}]
[null,null,"計",null,{"$f":"SUBTOTAL(9,E217:G260)","v":60000000},null,null,{"$f":"SUBTOTAL(9,H217:J260)","v":27000000},null,null,{"$f":"SUBTOTAL(9,K217:M260)","v":29000000},null,null,{"$f":"SUBTOTAL(9,N217:P260)","v":4000000},null,null,{"$f":"SUBTOTAL(9,Q217:S260)","v":0},null,null,{"$f":"SUBTOTAL(9,T217:V260)","v":0},null,null,{"$f":"SUBTOTAL(9,W217:Y260)","v":0},null,null,{"$f":"SUBTOTAL(9,Z217:AB260)","v":0.9},null,null,{"$f":"SUBTOTAL(9,AC217:AE260)","v":1}]
[]
[null,null,"(注）",null,1,"　事業実施主体が認める者は、「融資率」欄の記載は不要。"]
[null,null,null,null,2,"　「担保措置の有無」欄は、融資のための担保に供する場合、□にチエックを入れること。"]
[null,null,null,null,3,"　「耐用年数」欄は、導入する機械等の耐用年数を記載すること。中古機械等を導入する場合には、上段に新品時の法定耐用年数、下段に括弧書きで中古資産耐用年数を記載すること。"]
[]
[null,null,null,null,4,"　「備考」欄は、消費税仕入控除税額を減額した場合には「除税額○○○円　うち国費○○○円」を、同税額がない場合には「該当なし」と、同税額が明らかでない場合には「含税額」とそれぞれ記載すること。"]
[]
[]
[null,null,"Ⅳ　経営体の成果目標"]
[null,null,"　（１）目標設定の考え方等",null,null,null,null,null,null,null,null,null,null,null,null,null,null,null,null,null,null,null,null,null,null,null,null,null,null,null,null,null,null,null,null,null,null,null,"（単位　千円）"]
[null,null,"項目",null,null,null,null,null,null,"現状",null,null,null,null,null,null,"１年度目",null,null,null,"２年度目",null,null,null,"３年度目\n（目標年度）",null,null,null,"拡大率",null,"導入する機械等と成果目標の項目の関連",null,null,null,null,"根拠資料"]
[null,null,null,null,null,null,null,null,null,null,null,null,null,"年度現在",null,null,null,null,null,null,null,null,null,null,null,null,null,null,null,null,null,null,null,null,null,null,null,null,null,null,null,null,null,"個別表の「付加価値額の拡大」の記載"]
[null,null,null,null,null,null,null,null,null,null,null,null,null,null,null,null,null,null,null,null,null,null,null,null,null,null,null,null,null,null,null,null,null,null,null,null,null,null,null,null,null,null,null,"現状値","1年目","2年目","3年目"]
[null,null,null,"付加価値額の拡大",null,null,null,null,null,{"$f":"J277-J279+J281","v":0},null,null,null,"R1",null,null,{"$f":"Q277-Q279+Q281","v":0},null,null,null,{"$f":"U277-U279+U281","v":0},null,null,null,{"$f":"Y277-Y279+Y281","v":0},null,null,null,{"$f":"IFERROR(IF(N275=\"R2\",ROUNDDOWN((Y275-J275)/ABS(J275),2),IF(N275=\"R1\",ROUNDDOWN((Y275-J275)/ABS(J275)*3/4,2),\"\")),\"\")","v":""},null,null,null,null,null,null,null,null,null,null,null,null,null,null,{"$f":"IF($C$6>0,VLOOKUP($AO$276,個別表!$A$13:$KO$349,70,FALSE),0)","v":10000000},{"$f":"IF($C$6>0,VLOOKUP($AO$276,個別表!$A$13:$KO$349,72,FALSE),0)","v":11000000},{"$f":"IF($C$6>0,VLOOKUP($AO$276,個別表!$A$13:$KO$349,73,FALSE),0)","v":13000000},{"$f":"IF($C$6>0,VLOOKUP($AO$276,個別表!$A$13:$KO$349,74,FALSE),0)","v":17000000}]
[null,null,null,null,null,null,null,null,null,null,null,null,null,null,null,null,null,null,null,null,null,null,null,null,null,null,null,null,null,null,null,null,null,null,null,null,null,null,null,null,{"$f":"$A$28","v":1010101},{"$f":"IF($C$6>0,VLOOKUP($AO276,個別表!$A$13:$KO$349,69,FALSE),0)","v":1},null,"左記の数字と異なる場合、赤字"]
[null,null,null,null,"収入総額"]
[]
[null,null,null,null,"費用総額"]
[]
[null,null,null,null,"人件費"]
[]
[null,null,"①","経営面積の拡大   ",null,null,null,null,null,null,null,null,null,null,null,null,null,null,null,null,null,null,null,null,null,null,null,null,null,null,null,null,null,null,null,null,null,null,null,null,{"$f":"IF($C$6>0,VLOOKUP($AO$218,個別表!$A$13:$KO$349,77,FALSE),0)","v":1}]
[]
[null,null,"②","農産物の価値向上",null,null,null,null,null,null,null,null,null,null,null,null,null,null,null,null,null,null,null,null,null,null,null,null,null,null,null,null,null,null,null,null,null,null,null,null,{"$f":"IF($C$6>0,VLOOKUP($AO$218,個別表!$A$13:$KO$349,78,FALSE),0)","v":0}]
[]
[null,null,"③","農業経営の複合化",null,null,null,null,null,null,null,null,null,null,null,null,null,null,null,null,null,null,null,null,null,null,null,null,null,null,null,null,null,null,null,null,null,null,null,null,{"$f":"IF($C$6>0,VLOOKUP($AO$218,個別表!$A$13:$KO$349,79,FALSE),0)","v":0}]
[]
[null,null,"④","農業経営の法人化",null,null,null,null,null,null,null,null,null,null,null,null,null,null,null,null,null,null,null,null,null,null,null,null,null,null,null,null,null,null,null,null,null,null,null,null,{"$f":"IF($C$6>0,VLOOKUP($AO$218,個別表!$A$13:$KO$349,80,FALSE),0)","v":0}]
[]
[null,null,"⑤","青色申告の取組",null,null,null,null,null,null,null,null,null,null,null,null,null,null,null,null,null,null,null,null,null,null,null,null,null,null,null,null,null,null,null,null,null,null,null,null,{"$f":"IF($C$6>0,VLOOKUP($AO$218,個別表!$A$13:$KO$349,82,FALSE),0)","v":0}]
[]
[null,null,"⑥","環境配慮の取組",null,null,null,null,null,null,null,null,null,null,null,null,null,null,null,null,null,null,null,null,null,null,null,null,null,null,null,null,null,null,null,null,null,null,null,null,{"$f":"IF($C$6>0,VLOOKUP($AO$218,個別表!$A$13:$KO$349,83,FALSE),0)","v":0}]
[]
[null,null,"⑦","農作業の共同化",null,null,null,null,null,null,null,null,null,null,null,null,null,null,null,null,null,null,null,null,null,null,null,null,null,null,null,null,null,null,null,null,null,null,null,null,{"$f":"IF($C$6>0,VLOOKUP($AO$218,個別表!$A$13:$KO$349,84,FALSE),0)","v":0}]
[]
[null,null,"⑧","労働時間の縮減",null,null,null,null,null,null,null,null,null,null,null,null,null,null,null,null,null,null,null,null,null,null,null,null,null,null,null,null,null,null,null,null,null,null,null,null,{"$f":"IF($C$6>0,VLOOKUP($AO$218,個別表!$A$13:$KO$349,85,FALSE),0)","v":1}]
[]
[null,null,"⑨","輸出の取組",null,null,null,null,null,null,null,null,null,null,null,null,null,null,null,null,null,null,null,null,null,null,null,null,null,null,null,null,null,null,null,null,null,null,null,null,{"$f":"IF($C$6>0,VLOOKUP($AO$218,個別表!$A$13:$KO$349,86,FALSE),0)","v":0}]
[]
[null,null,"参考"]
[]
[null,null,"(注）",null,1,"　定量的な数値目標を設定するものとし、⑧労働時間の縮減については労働時間の縮減目標に係る作業内容を併せて記載すること。\n　また、②農産物の価値向上、③農業経営の複合化、⑤青色申告の取組、⑥環境配慮の取組、⑦農作業の共同化及び⑨輸出の取組については、具体的な取組内容を記載すること。"]
[]
[]
[null,null,null,null,2,"　④農業経営の法人化を成果目標とする場合は、法人化に向けた取組計画を提出すること。"]
[null,null,null,null,3,"　「項目」欄の「参考」には、成果目標に掲げたもの以外で付加価値額の拡大のための取組を行う場合、その内容を記載すること。"]
[null,null,null,null,4,"　「現状」欄の「年度現在」には、付加価値額についての現状の年度を記載すること。"]
[null,null,null,null,5,"　「根拠資料」欄は、項目毎に、現状及び目標年度までの各年度の目標値の根拠とした資料等を具体的に記載するとともに当該資料の写しを添付すること。\n　なお、現状の根拠とした資料等は、成果目標に係る実績の確認においても用いることとする。"]
[]
[]
[null,null,null,null,6,"　「項目」欄の「付加価値額の拡大」（内訳を含む。）の「現状欄」に記載する数値（以下「現状値」という。）については、その年の販売額、原材料費等が天災その他の外的要因により平年に比べて大幅に変動したと市町村が認める場合、原則として補正を行うものとする。\n　この場合、現状値は太字・斜体で記載するとともに、「根拠資料」欄に現状値を補正した要因及び補正の方法（現状値の補正過程）を記載すること。"]
[]
[]
[]
[]
[null,null,"　（２）必須目標の達成に向けた取組のポイント"]
[null,null,"①"]
[]
[null,null,"②"]
[]
[null,null,"③"]
[]
[null,null,"（注）",null,"現在の経営状況を踏まえて、必須目標の達成に向けて実施する取組などについて３点程度箇条書きで記載すること。"]
[]
[null,null,"　（３）輸出促進のための取組"]
[null,null,"GFP（農林水産物・商品輸出プロジェクト）コミュニティサイトへの登録",null,null,null,null,null,null,null,null,null,"農産物の輸出に向けて行う取組"]
[]
[null,null,"□",null,"登録済み"]
[]
[]
[null,null,"（注）",null,1,"成果目標として（１）の⑨輸出の取組を設定する場合に記載する。"]
[null,null,null,null,2,"ＧＦＰコミュニティサイトへの登録を必須としたうえで、農産物の輸出に向けて行う内容を、時期を含めて簡潔に記載すること。"]
[]
[null,null,"　（４）輸出の取組に係る個人情報の取扱い",null,null,null,null,null,null,null,null,null,null,null,null,null,null,null,null,null,null,null,null,null,null,null,null,null,null,null,null,null,null,null,null,null,null,null,null,null,{"$f":"$A$28","v":1010101},{"$f":"IFERROR(IF($C$6>0,VLOOKUP($AO335,個別表!$A$13:$KO$349,51,FALSE),0),0)","v":18000000},{"$f":"IFERROR(IF($C$6>0,VLOOKUP($AO335,個別表!$A$13:$KO$349,63,FALSE),0),0)","v":1},{"$f":"IFERROR(IF($C$6>0,VLOOKUP($AO335,個別表!$A$13:$KO$349,65,FALSE),0),0)","v":1},{"$f":"IFERROR(IF($C$6>0,VLOOKUP($AO335,個別表!$A$13:$KO$349,67,FALSE),0),0)","v":1}]
[null,null,"同意します",null,null,null,"□",null," 　本事業の実施に当たり、農林水産物及び食品の輸出の促進に関する法律（令和元年法律第57号）第13条に則り、助成対象者名、住所、事業内容等について、株式会社日本政策金融公庫（沖縄県にあっては沖縄振興開発金融公庫）に提供することに同意します。\n※同意いただけなかった場合でも、事業の採択等に影響はありません。",null,null,null,null,null,null,null,null,null,null,null,null,null,null,null,null,null,null,null,null,null,null,null,null,null,null,null,null,null,null,null,{"$f":"AO335+1","v":1010102},{"$f":"IFERROR(IF($C$6>0,VLOOKUP($AO336,個別表!$A$13:$KO$349,51,FALSE),0),0)","v":11000000},{"$f":"IFERROR(IF($C$6>0,VLOOKUP($AO336,個別表!$A$13:$KO$349,63,FALSE),0),0)","v":1},{"$f":"IFERROR(IF($C$6>0,VLOOKUP($AO336,個別表!$A$13:$KO$349,65,FALSE),0),0)","v":1},{"$f":"IFERROR(IF($C$6>0,VLOOKUP($AO336,個別表!$A$13:$KO$349,67,FALSE),0),0)","v":1}]
[null,null,null,null,null,null,null,null,null,null,null,null,null,null,null,null,null,null,null,null,null,null,null,null,null,null,null,null,null,null,null,null,null,null,null,null,null,null,null,null,{"$f":"AO336+1","v":1010103},{"$f":"IFERROR(IF($C$6>0,VLOOKUP($AO337,個別表!$A$13:$KO$349,51,FALSE),0),0)","v":0},{"$f":"IFERROR(IF($C$6>0,VLOOKUP($AO337,個別表!$A$13:$KO$349,63,FALSE),0),0)","v":0},{"$f":"IFERROR(IF($C$6>0,VLOOKUP($AO337,個別表!$A$13:$KO$349,65,FALSE),0),0)","v":0},{"$f":"IFERROR(IF($C$6>0,VLOOKUP($AO337,個別表!$A$13:$KO$349,67,FALSE),0),0)","v":0}]
[null,null,null,null,null,null,null,null,null,null,null,null,null,null,null,null,null,null,null,null,null,null,null,null,null,null,null,null,null,null,null,null,null,null,null,null,null,null,null,null,{"$f":"AO337+1","v":1010104},{"$f":"IFERROR(IF($C$6>0,VLOOKUP($AO338,個別表!$A$13:$KO$349,51,FALSE),0),0)","v":0},{"$f":"IFERROR(IF($C$6>0,VLOOKUP($AO338,個別表!$A$13:$KO$349,63,FALSE),0),0)","v":0},{"$f":"IFERROR(IF($C$6>0,VLOOKUP($AO338,個別表!$A$13:$KO$349,65,FALSE),0),0)","v":0},{"$f":"IFERROR(IF($C$6>0,VLOOKUP($AO338,個別表!$A$13:$KO$349,67,FALSE),0),0)","v":0}]
[null,null,null,null,null,null,null,null,null,null,null,null,null,null,null,null,null,null,null,null,null,null,null,null,null,null,null,null,null,null,null,null,null,null,null,null,null,null,null,null,1010105,{"$f":"IFERROR(IF($C$6>0,VLOOKUP($AO339,個別表!$A$13:$KO$349,51,FALSE),0),0)","v":0},{"$f":"IFERROR(IF($C$6>0,VLOOKUP($AO339,個別表!$A$13:$KO$349,63,FALSE),0),0)","v":0},{"$f":"IFERROR(IF($C$6>0,VLOOKUP($AO339,個別表!$A$13:$KO$349,65,FALSE),0),0)","v":0},{"$f":"IFERROR(IF($C$6>0,VLOOKUP($AO339,個別表!$A$13:$KO$349,67,FALSE),0),0)","v":0}]
[null,null,"同意しません",null,null,null,"□",null,"（参考）農林水産物及び食品の輸出の促進に関する法律（令和元年法律第57号）第13条",null,null,null,null,null,null,null,null,null,null,null,null,null,null,null,null,null,null,null,null,null,null,null,null,null,null,null,null,null,null,null,1010106,{"$f":"IFERROR(IF($C$6>0,VLOOKUP($AO340,個別表!$A$13:$KO$349,51,FALSE),0),0)","v":0},{"$f":"IFERROR(IF($C$6>0,VLOOKUP($AO340,個別表!$A$13:$KO$349,63,FALSE),0),0)","v":0},{"$f":"IFERROR(IF($C$6>0,VLOOKUP($AO340,個別表!$A$13:$KO$349,65,FALSE),0),0)","v":0},{"$f":"IFERROR(IF($C$6>0,VLOOKUP($AO340,個別表!$A$13:$KO$349,67,FALSE),0),0)","v":0}]
[null,null,null,null,null,null,null,null,null,"　　国、都道府県等、株式会社日本政策金融公庫は、農林水産物及び食品の輸出の促進の総合的かつ一体的な推進を図るため、相互に連携を図りながら協力するよう努めなければならない。",null,null,null,null,null,null,null,null,null,null,null,null,null,null,null,null,null,null,null,null,null,null,null,null,null,null,null,null,null,null,1010107,{"$f":"IFERROR(IF($C$6>0,VLOOKUP($AO341,個別表!$A$13:$KO$349,51,FALSE),0),0)","v":0},{"$f":"IFERROR(IF($C$6>0,VLOOKUP($AO341,個別表!$A$13:$KO$349,63,FALSE),0),0)","v":0},{"$f":"IFERROR(IF($C$6>0,VLOOKUP($AO341,個別表!$A$13:$KO$349,65,FALSE),0),0)","v":0},{"$f":"IFERROR(IF($C$6>0,VLOOKUP($AO341,個別表!$A$13:$KO$349,67,FALSE),0),0)","v":0}]
[null,null,null,null,null,null,null,null,null,null,null,null,null,null,null,null,null,null,null,null,null,null,null,null,null,null,null,null,null,null,null,null,null,null,null,null,null,null,null,null,1010108,{"$f":"IFERROR(IF($C$6>0,VLOOKUP($AO342,個別表!$A$13:$KO$349,51,FALSE),0),0)","v":0},{"$f":"IFERROR(IF($C$6>0,VLOOKUP($AO342,個別表!$A$13:$KO$349,63,FALSE),0),0)","v":0},{"$f":"IFERROR(IF($C$6>0,VLOOKUP($AO342,個別表!$A$13:$KO$349,65,FALSE),0),0)","v":0},{"$f":"IFERROR(IF($C$6>0,VLOOKUP($AO342,個別表!$A$13:$KO$349,67,FALSE),0),0)","v":0}]
[null,null,null,null,null,null,null,null,null,null,null,null,null,null,null,null,null,null,null,null,null,null,null,null,null,null,null,null,null,null,null,null,null,null,null,null,null,null,null,null,1010109,{"$f":"IFERROR(IF($C$6>0,VLOOKUP($AO343,個別表!$A$13:$KO$349,51,FALSE),0),0)","v":0},{"$f":"IFERROR(IF($C$6>0,VLOOKUP($AO343,個別表!$A$13:$KO$349,63,FALSE),0),0)","v":0},{"$f":"IFERROR(IF($C$6>0,VLOOKUP($AO343,個別表!$A$13:$KO$349,65,FALSE),0),0)","v":0},{"$f":"IFERROR(IF($C$6>0,VLOOKUP($AO343,個別表!$A$13:$KO$349,67,FALSE),0),0)","v":0}]
[null,null,null,null,null,null,null,null,null,null,null,null,null,null,null,null,null,null,null,null,null,null,null,null,null,null,null,null,null,null,null,null,null,null,null,null,null,null,null,null,1010110,{"$f":"IFERROR(IF($C$6>0,VLOOKUP($AO344,個別表!$A$13:$KO$349,51,FALSE),0),0)","v":0},{"$f":"IFERROR(IF($C$6>0,VLOOKUP($AO344,個別表!$A$13:$KO$349,63,FALSE),0),0)","v":0},{"$f":"IFERROR(IF($C$6>0,VLOOKUP($AO344,個別表!$A$13:$KO$349,65,FALSE),0),0)","v":0},{"$f":"IFERROR(IF($C$6>0,VLOOKUP($AO344,個別表!$A$13:$KO$349,67,FALSE),0),0)","v":0}]
[null,null,"Ⅴ　融資の概要及び追加的信用供与補助事業の活用計画",null,null,null,null,null,null,null,null,null,null,null,null,null,null,null,null,null,null,null,null,null,null,null,null,null,null,null,null,null,null,null,null,null,null,null,null,null,1010111,{"$f":"IFERROR(IF($C$6>0,VLOOKUP($AO345,個別表!$A$13:$KO$349,51,FALSE),0),0)","v":0},{"$f":"IFERROR(IF($C$6>0,VLOOKUP($AO345,個別表!$A$13:$KO$349,63,FALSE),0),0)","v":0},{"$f":"IFERROR(IF($C$6>0,VLOOKUP($AO345,個別表!$A$13:$KO$349,65,FALSE),0),0)","v":0},{"$f":"IFERROR(IF($C$6>0,VLOOKUP($AO345,個別表!$A$13:$KO$349,67,FALSE),0),0)","v":0}]
[null,null,"項　　　目",null,null,null,null,null,null,"資金調達のうち融資の概要",null,null,null,null,null,null,null,null,null,null,null,null,null,null,null,null,null,null,null,null,null,null,null,null,null,null,null,null,null,null,1010112,{"$f":"IFERROR(IF($C$6>0,VLOOKUP($AO346,個別表!$A$13:$KO$349,51,FALSE),0),0)","v":0},{"$f":"IFERROR(IF($C$6>0,VLOOKUP($AO346,個別表!$A$13:$KO$349,63,FALSE),0),0)","v":0},{"$f":"IFERROR(IF($C$6>0,VLOOKUP($AO346,個別表!$A$13:$KO$349,65,FALSE),0),0)","v":0},{"$f":"IFERROR(IF($C$6>0,VLOOKUP($AO346,個別表!$A$13:$KO$349,67,FALSE),0),0)","v":0}]
[null,null,null,null,null,null,null,null,null,"融資①",null,null,null,null,null,null,null,null,null,null,null,null,null,null,"融資②",null,null,null,null,null,null,null,null,null,null,null,null,null,null,null,1010113,{"$f":"IFERROR(IF($C$6>0,VLOOKUP($AO347,個別表!$A$13:$KO$349,51,FALSE),0),0)","v":0},{"$f":"IFERROR(IF($C$6>0,VLOOKUP($AO347,個別表!$A$13:$KO$349,63,FALSE),0),0)","v":0},{"$f":"IFERROR(IF($C$6>0,VLOOKUP($AO347,個別表!$A$13:$KO$349,65,FALSE),0),0)","v":0},{"$f":"IFERROR(IF($C$6>0,VLOOKUP($AO347,個別表!$A$13:$KO$349,67,FALSE),0),0)","v":0}]
[null,null,"金融機関名",null,null,null,null,null,null,{"$f":"IF($AQ$357>0,VLOOKUP($AQ$357,整理番号表!$T$6:$U$16,2,FALSE),0)","v":"農協"},null,null,null,null,null,null,null,null,null,null,null,null,null,null,null,null,null,null,null,null,null,null,null,null,null,null,null,null,null,null,1010114,{"$f":"IFERROR(IF($C$6>0,VLOOKUP($AO348,個別表!$A$13:$KO$349,51,FALSE),0),0)","v":0},{"$f":"IFERROR(IF($C$6>0,VLOOKUP($AO348,個別表!$A$13:$KO$349,63,FALSE),0),0)","v":0},{"$f":"IFERROR(IF($C$6>0,VLOOKUP($AO348,個別表!$A$13:$KO$349,65,FALSE),0),0)","v":0},{"$f":"IFERROR(IF($C$6>0,VLOOKUP($AO348,個別表!$A$13:$KO$349,67,FALSE),0),0)","v":0}]
[null,null,null,null,null,null,null,null,null,null,null,null,null,null,null,null,null,null,null,null,null,null,null,null,null,null,null,null,null,null,null,null,null,null,null,null,null,null,null,null,1010115,{"$f":"IFERROR(IF($C$6>0,VLOOKUP($AO349,個別表!$A$13:$KO$349,51,FALSE),0),0)","v":0},{"$f":"IFERROR(IF($C$6>0,VLOOKUP($AO349,個別表!$A$13:$KO$349,63,FALSE),0),0)","v":0},{"$f":"IFERROR(IF($C$6>0,VLOOKUP($AO349,個別表!$A$13:$KO$349,65,FALSE),0),0)","v":0},{"$f":"IFERROR(IF($C$6>0,VLOOKUP($AO349,個別表!$A$13:$KO$349,67,FALSE),0),0)","v":0}]
[null,null,"融　 資 　名",null,null,null,null,null,null,{"$f":"IF($AR$357>0,VLOOKUP($AR$357,整理番号表!$T$23:$U$30,2,FALSE),0)","v":"近代化資金"},null,null,null,null,null,null,null,null,null,null,null,null,null,null,null,null,null,null,null,null,null,null,null,null,null,null,null,null,null,null,1010116,{"$f":"IFERROR(IF($C$6>0,VLOOKUP($AO350,個別表!$A$13:$KO$349,51,FALSE),0),0)","v":0},{"$f":"IFERROR(IF($C$6>0,VLOOKUP($AO350,個別表!$A$13:$KO$349,63,FALSE),0),0)","v":0},{"$f":"IFERROR(IF($C$6>0,VLOOKUP($AO350,個別表!$A$13:$KO$349,65,FALSE),0),0)","v":0},{"$f":"IFERROR(IF($C$6>0,VLOOKUP($AO350,個別表!$A$13:$KO$349,67,FALSE),0),0)","v":0}]
[null,null,null,null,null,null,null,null,null,null,null,null,null,null,null,null,null,null,null,null,null,null,null,null,null,null,null,null,null,null,null,null,null,null,null,null,null,null,null,null,1010117,{"$f":"IFERROR(IF($C$6>0,VLOOKUP($AO351,個別表!$A$13:$KO$349,51,FALSE),0),0)","v":0},{"$f":"IFERROR(IF($C$6>0,VLOOKUP($AO351,個別表!$A$13:$KO$349,63,FALSE),0),0)","v":0},{"$f":"IFERROR(IF($C$6>0,VLOOKUP($AO351,個別表!$A$13:$KO$349,65,FALSE),0),0)","v":0},{"$f":"IFERROR(IF($C$6>0,VLOOKUP($AO351,個別表!$A$13:$KO$349,67,FALSE),0),0)","v":0}]
[null,null,"融資金額（円）",null,null,null,null,null,null,{"$f":"IF($AP$357>0,$AP$357,0)","v":29000000},null,null,null,null,null,null,null,null,null,null,null,null,null,null,null,null,null,null,null,null,null,null,null,null,null,null,null,null,null,null,1010118,{"$f":"IFERROR(IF($C$6>0,VLOOKUP($AO352,個別表!$A$13:$KO$349,51,FALSE),0),0)","v":0},{"$f":"IFERROR(IF($C$6>0,VLOOKUP($AO352,個別表!$A$13:$KO$349,63,FALSE),0),0)","v":0},{"$f":"IFERROR(IF($C$6>0,VLOOKUP($AO352,個別表!$A$13:$KO$349,65,FALSE),0),0)","v":0},{"$f":"IFERROR(IF($C$6>0,VLOOKUP($AO352,個別表!$A$13:$KO$349,67,FALSE),0),0)","v":0}]
[null,null,null,null,null,null,null,null,null,null,null,null,null,null,null,null,null,null,null,null,null,null,null,null,null,null,null,null,null,null,null,null,null,null,null,null,null,null,null,null,1010119,{"$f":"IFERROR(IF($C$6>0,VLOOKUP($AO353,個別表!$A$13:$KO$349,51,FALSE),0),0)","v":0},{"$f":"IFERROR(IF($C$6>0,VLOOKUP($AO353,個別表!$A$13:$KO$349,63,FALSE),0),0)","v":0},{"$f":"IFERROR(IF($C$6>0,VLOOKUP($AO353,個別表!$A$13:$KO$349,65,FALSE),0),0)","v":0},{"$f":"IFERROR(IF($C$6>0,VLOOKUP($AO353,個別表!$A$13:$KO$349,67,FALSE),0),0)","v":0}]
[null,null,"償 還 年 数",null,null,null,null,null,null,null,null,null,null,null,null,null,null,null,null,null,null,null,null,null,null,null,null,null,null,null,null,null,null,null,null,null,null,null,null,null,1010120,{"$f":"IFERROR(IF($C$6>0,VLOOKUP($AO354,個別表!$A$13:$KO$349,51,FALSE),0),0)","v":0},{"$f":"IFERROR(IF($C$6>0,VLOOKUP($AO354,個別表!$A$13:$KO$349,63,FALSE),0),0)","v":0},{"$f":"IFERROR(IF($C$6>0,VLOOKUP($AO354,個別表!$A$13:$KO$349,65,FALSE),0),0)","v":0},{"$f":"IFERROR(IF($C$6>0,VLOOKUP($AO354,個別表!$A$13:$KO$349,67,FALSE),0),0)","v":0}]
[null,null,null,null,null,null,null,null,null,null,null,null,null,null,null,null,null,null,null,null,null,null,null,null,null,null,null,null,null,null,null,null,null,null,null,null,null,null,null,null,1010121,{"$f":"IFERROR(IF($C$6>0,VLOOKUP($AO355,個別表!$A$13:$KO$349,51,FALSE),0),0)","v":0},{"$f":"IFERROR(IF($C$6>0,VLOOKUP($AO355,個別表!$A$13:$KO$349,63,FALSE),0),0)","v":0},{"$f":"IFERROR(IF($C$6>0,VLOOKUP($AO355,個別表!$A$13:$KO$349,65,FALSE),0),0)","v":0},{"$f":"IFERROR(IF($C$6>0,VLOOKUP($AO355,個別表!$A$13:$KO$349,67,FALSE),0),0)","v":0}]
[null,null,"融資審査の進捗状況",null,null,null,null,null,null,null,null,"借入予定",null,null,null,"令和　　年　　月　　日",null,null,null,null,null,null,null,null,null,null,"借入予定",null,null,null,"令和　　年　　月　　日",null,null,null,null,null,null,null,null,null,{"$f":"AO355+1","v":1010122},{"$f":"IFERROR(IF($C$6>0,VLOOKUP($AO356,個別表!$A$13:$KO$349,51,FALSE),0),0)","v":0},{"$f":"IFERROR(IF($C$6>0,VLOOKUP($AO356,個別表!$A$13:$KO$349,63,FALSE),0),0)","v":0},{"$f":"IFERROR(IF($C$6>0,VLOOKUP($AO356,個別表!$A$13:$KO$349,65,FALSE),0),0)","v":0},{"$f":"IFERROR(IF($C$6>0,VLOOKUP($AO356,個別表!$A$13:$KO$349,67,FALSE),0),0)","v":0}]
[null,null,null,null,null,null,null,null,null,null,null,null,null,null,null,null,null,null,null,null,null,null,null,null,null,null,null,null,null,null,null,null,null,null,null,null,null,null,null,null,null,{"$f":"SUM(AP335:AP356)","v":29000000},{"$f":"MAX(AQ335:AQ356)","v":1},{"$f":"MAX(AR335:AR356)","v":1},{"$f":"SUM(AS335:AS356)","v":2}]
[null,null,"農業信用基金協会に\nよる機関保証の利用（注）",null,null,null,null,null,null,null,null,{"$f":"IF($AS$357>0,\"■\",\"□\")","v":"■"},"追加的信用供与補助事業の活用を希望する",null,null,null,null,null,null,null,null,null,null,null,null,null,"□","追加的信用供与補助事業の活用を希望する"]
[null,null,null,null,null,null,null,null,null,null,null,{"$f":"IF($AS$357>0,\"□\",\"■\")","v":"□"},"追加的信用供与補助事業の活用を希望しない",null,null,null,null,null,null,null,null,null,null,null,null,null,"□","追加的信用供与補助事業の活用を希望しない"]
[null,null,"(注）",null,"いずれかの□にチェックを入れること。なお、機関保証利用の有無については、融資機関及び農業信用基金協会の審査によって希望に添えない場合があることに留意すること。"]
[]
[]
[null,null,"Ⅵ　関連事業の実施状況"]
[null,null,"事業名",null,null,null,null,null,"実施年度",null,null,null,"事業内容",null,null,null,null,null,"設定済目標項目",null,null,null,null,null,null,"目標の具体的な内容等"]
[]
[null,null,null,null,null,null,null,null,null,null,null,null,null,null,null,null,null,null,null,null,null,null,null,null,null,{"$f":"IF(S366<>0,\"当時現状値:\",\"\")","v":""},null,null,null,null,null,null,null,{"$f":"IF(S366<>0,\"目標値:\",\"\")","v":""},null,null,null,null,null,null,"達成時比較",{"$f":"(AC367-AC366)/(AJ366-AC366)","v":{"$error":"#DIV/0!"}},null,{"$f":"IF(AP367-AP366>=0,\"○\",\"×\")","v":{"$error":"#DIV/0!"}}]
[null,null,null,null,null,null,null,null,null,null,null,null,null,null,null,null,null,null,null,null,null,null,null,null,null,{"$f":"IF(S366<>0,\"達成時の値:\",\"\")","v":""},null,null,null,null,null,null,null,{"$f":"IF(S366<>0,\"現況値:\",\"\")","v":""},null,null,null,null,null,null,"現況比較",{"$f":"(AJ367-AC366)/(AJ366-AC366)","v":{"$error":"#DIV/0!"}}]
[]
[null,null,null,null,null,null,null,null,null,null,null,null,null,null,null,null,null,null,null,null,null,null,null,null,null,{"$f":"IF(S369<>0,\"当時現状値:\",\"\")","v":""},null,null,null,null,null,null,null,{"$f":"IF(S369<>0,\"目標値:\",\"\")","v":""},null,null,null,null,null,null,"達成時比較",{"$f":"(AC370-AC369)/(AJ369-AC369)","v":{"$error":"#DIV/0!"}},null,{"$f":"IF(AP370-AP369>=0,\"○\",\"×\")","v":{"$error":"#DIV/0!"}}]
[null,null,null,null,null,null,null,null,null,null,null,null,null,null,null,null,null,null,null,null,null,null,null,null,null,{"$f":"IF(S369<>0,\"達成時の値:\",\"\")","v":""},null,null,null,null,null,null,null,{"$f":"IF(S369<>0,\"現況値:\",\"\")","v":""},null,null,null,null,null,null,"現況比較",{"$f":"(AJ370-AC369)/(AJ369-AC369)","v":{"$error":"#DIV/0!"}}]
[]
[null,null,null,null,null,null,null,null,null,null,null,null,null,null,null,null,null,null,null,null,null,null,null,null,null,{"$f":"IF(S372<>0,\"当時現状値:\",\"\")","v":""},null,null,null,null,null,null,null,{"$f":"IF(S372<>0,\"目標値:\",\"\")","v":""},null,null,null,null,null,null,"達成時比較",{"$f":"(AC373-AC372)/(AJ372-AC372)","v":{"$error":"#DIV/0!"}},null,{"$f":"IF(AP373-AP372>=0,\"○\",\"×\")","v":{"$error":"#DIV/0!"}}]
[null,null,null,null,null,null,null,null,null,null,null,null,null,null,null,null,null,null,null,null,null,null,null,null,null,{"$f":"IF(S372<>0,\"達成時の値:\",\"\")","v":""},null,null,null,null,null,null,null,{"$f":"IF(S372<>0,\"現況値:\",\"\")","v":""},null,null,null,null,null,null,"現況比較",{"$f":"(AJ373-AC372)/(AJ372-AC372)","v":{"$error":"#DIV/0!"}}]
[]
[null,null,null,null,null,null,null,null,null,null,null,null,null,null,null,null,null,null,null,null,null,null,null,null,null,{"$f":"IF(S375<>0,\"当時現状値:\",\"\")","v":""},null,null,null,null,null,null,null,{"$f":"IF(S375<>0,\"目標値:\",\"\")","v":""},null,null,null,null,null,null,"達成時比較",{"$f":"(AC376-AC375)/(AJ375-AC375)","v":{"$error":"#DIV/0!"}},null,{"$f":"IF(AP376-AP375>=0,\"○\",\"×\")","v":{"$error":"#DIV/0!"}}]
[null,null,null,null,null,null,null,null,null,null,null,null,null,null,null,null,null,null,null,null,null,null,null,null,null,{"$f":"IF(S375<>0,\"達成時の値:\",\"\")","v":""},null,null,null,null,null,null,null,{"$f":"IF(S375<>0,\"現況値:\",\"\")","v":""},null,null,null,null,null,null,"現況比較",{"$f":"(AJ376-AC375)/(AJ375-AC375)","v":{"$error":"#DIV/0!"}}]
[]
[null,null,null,null,null,null,null,null,null,null,null,null,null,null,null,null,null,null,null,null,null,null,null,null,null,{"$f":"IF(S378<>0,\"当時現状値:\",\"\")","v":""},null,null,null,null,null,null,null,{"$f":"IF(S378<>0,\"目標値:\",\"\")","v":""},null,null,null,null,null,null,"達成時比較",{"$f":"(AC379-AC378)/(AJ378-AC378)","v":{"$error":"#DIV/0!"}},null,{"$f":"IF(AP379-AP378>=0,\"○\",\"×\")","v":{"$error":"#DIV/0!"}}]
[null,null,null,null,null,null,null,null,null,null,null,null,null,null,null,null,null,null,null,null,null,null,null,null,null,{"$f":"IF(S378<>0,\"達成時の値:\",\"\")","v":""},null,null,null,null,null,null,null,{"$f":"IF(S378<>0,\"現況値:\",\"\")","v":""},null,null,null,null,null,null,"現況比較",{"$f":"(AJ379-AC378)/(AJ378-AC378)","v":{"$error":"#DIV/0!"}}]
[]
[null,null,null,null,null,null,null,null,null,null,null,null,null,null,null,null,null,null,null,null,null,null,null,null,null,{"$f":"IF(S381<>0,\"当時現状値:\",\"\")","v":""},null,null,null,null,null,null,null,{"$f":"IF(S381<>0,\"目標値:\",\"\")","v":""},null,null,null,null,null,null,"達成時比較",{"$f":"(AC382-AC381)/(AJ381-AC381)","v":{"$error":"#DIV/0!"}},null,{"$f":"IF(AP382-AP381>=0,\"○\",\"×\")","v":{"$error":"#DIV/0!"}}]
[null,null,null,null,null,null,null,null,null,null,null,null,null,null,null,null,null,null,null,null,null,null,null,null,null,{"$f":"IF(S381<>0,\"達成時の値:\",\"\")","v":""},null,null,null,null,null,null,null,{"$f":"IF(S381<>0,\"現況値:\",\"\")","v":""},null,null,null,null,null,null,"現況比較",{"$f":"(AJ382-AC381)/(AJ381-AC381)","v":{"$error":"#DIV/0!"}}]
[]
[null,null,"（注）",null,"１　過去に実施した本事業等の達成状況について全て記載すること。"]
[null,null,null,null,"2　達成状況が確認できる既に提出されている目標達成状況報告書等を添付すること。"]
[]
[]
[]
[null,null,"（記載例）"]
[null,null,"経営体育成支援事業",null,null,null,null,null,"平成27年度",null,null,null,"トラクター 120PS 1台",null,null,null,null,null,"経営面積の拡大（ha)",null,null,null,null,null,null,{"$f":"IF(S390<>0,\"当時現状値:\",\"\")","v":"当時現状値:"},null,null,25,null,null,null,null,{"$f":"IF(S390<>0,\"目標値:\",\"\")","v":"目標値:"},null,30,null,null,null,null,"達成時比較",{"$f":"(AC391-AC390)/(AJ390-AC390)","v":1.2},null,{"$f":"IF(AP391-AP390>=0,\"○\",\"×\")","v":"○"}]
[null,null,null,null,null,null,null,null,null,null,null,null,null,null,null,null,null,null,null,null,null,null,null,null,null,{"$f":"IF(S390<>0,\"達成時の値:\",\"\")","v":"達成時の値:"},null,null,31,null,null,null,null,{"$f":"IF(S390<>0,\"現況値:\",\"\")","v":"現況値:"},null,40,null,null,null,null,"現況比較",{"$f":"(AJ391-AC390)/(AJ390-AC390)","v":3}]
[]
[null,null,null,null,null,null,null,null,null,null,null,null,null,null,null,null,null,null,"農業の６次産業化\n（小麦契約栽培の増加：ha）",null,null,null,null,null,null,{"$f":"IF(S393<>0,\"当時現状値:\",\"\")","v":"当時現状値:"},null,null,5,null,null,null,null,{"$f":"IF(S393<>0,\"目標値:\",\"\")","v":"目標値:"},null,6,null,null,null,null,"達成時比較",{"$f":"(AC394-AC393)/(AJ393-AC393)","v":2},null,{"$f":"IF(AP394-AP393>=0,\"○\",\"×\")","v":"○"}]
[null,null,null,null,null,null,null,null,null,null,null,null,null,null,null,null,null,null,null,null,null,null,null,null,null,{"$f":"IF(S393<>0,\"達成時の値:\",\"\")","v":"達成時の値:"},null,null,7,null,null,null,null,{"$f":"IF(S393<>0,\"現況値:\",\"\")","v":"現況値:"},null,7,null,null,null,null,"現況比較",{"$f":"(AJ394-AC393)/(AJ393-AC393)","v":2}]
[]
[null,null,null,null,null,null,null,null,null,null,null,null,null,null,null,null,null,null,"農業の６次産業化\n（小麦契約栽培の増加：件）",null,null,null,null,null,null,{"$f":"IF(S396<>0,\"当時現状値:\",\"\")","v":"当時現状値:"},null,null,1,null,null,null,null,{"$f":"IF(S396<>0,\"目標値:\",\"\")","v":"目標値:"},null,2,null,null,null,null,"達成時比較",{"$f":"(AC397-AC396)/(AJ396-AC396)","v":1},null,{"$f":"IF(AP397-AP396>=0,\"○\",\"×\")","v":"×"}]
[null,null,null,null,null,null,null,null,null,null,null,null,null,null,null,null,null,null,null,null,null,null,null,null,null,{"$f":"IF(S396<>0,\"達成時の値:\",\"\")","v":"達成時の値:"},null,null,2,null,null,null,null,{"$f":"IF(S396<>0,\"現況値:\",\"\")","v":"現況値:"},null,1,null,null,null,null,"現況比較",{"$f":"(AJ397-AC396)/(AJ396-AC396)","v":0}]
[null,null,null,null,null,null,null,null,null,null,null,null,null,null,null,null,null,null,null,null,null,null,null,null,null,"契約先のうち1件が小麦の取扱を終了したため。もう1件の契約先により数量は確保できている。以上ことから特段の事情として整理する。"]

{"sheet":"事務費","index":4,"n_rows":16,"n_cols":8,"rows_kept":16,"cut":false,"hidden":false,"merged":[[3,7,5,7],[3,2,3,3],[4,2,5,2],[4,3,5,3],[3,6,5,6]]}
[]
["担い手確保・経営強化支援事業　附帯事務費"]
[null,null,null,null,null,null,"（参考）"]
["地区名","事業費（円）","附帯事務費（要望）",null,null,null,"附帯事務費は事業費の\n①0.4％以内か（市町村）\n②1.7％以内か（都道府県）","国費が事業費の1/2以内か"]
[null,null,"事業費（円）","国庫補助金（円）\n※1/2以内"]
[]
["○○地区",10000000,40000,20000,{"$f":"IF(OR(C7/B7>0.004,D7/C7>0.5),\"×\",\"〇\")","v":"〇"},null,{"$f":"IF(C7/B7>0.004,\"×\",\"〇\")","v":"〇"},{"$f":"IF(D7/C7>0.5,\"×\",\"〇\")","v":"〇"}]
["××地区",5000000,20000,10000,{"$f":"IF(OR(C8/B8>0.004,D8/C8>0.5),\"×\",\"〇\")","v":"〇"},null,{"$f":"IF(C8/B8>0.004,\"×\",\"〇\")","v":"〇"},{"$f":"IF(D8/C8>0.5,\"×\",\"〇\")","v":"〇"}]
["△△地区",null,null,null,{"$f":"IF(OR(C9/B9>0.004,D9/C9>0.5),\"×\",\"〇\")","v":{"$error":"#DIV/0!"}},null,{"$error":"#DIV/0!"},{"$error":"#DIV/0!"}]
["□□市　計",{"$f":"SUM(B7:B9)","v":15000000},{"$f":"SUM(C7:C9)","v":60000},{"$f":"SUM(D7:D9)","v":30000},"〇",null,"〇","〇"]
["●●地区",30000000,100000,50000,"〇",null,"〇","〇"]
["××地区",null,null,null,{"$error":"#DIV/0!"},null,{"$error":"#DIV/0!"},{"$error":"#DIV/0!"}]
["▼▼地区",null,null,null,{"$error":"#DIV/0!"},null,{"$error":"#DIV/0!"},{"$error":"#DIV/0!"}]
["■■町　計",{"$f":"SUM(B11:B13)","v":30000000},{"$f":"SUM(C11:C13)","v":100000},{"$f":"SUM(D11:D13)","v":50000},"〇",null,"〇","〇"]
["①市町村　合計",{"$f":"B10+B14","v":45000000},{"$f":"C10+C14","v":160000},{"$f":"D10+D14","v":80000},"〇",null,"〇","〇"]
["②都道府県",{"$f":"B15","v":45000000},765000,382500,{"$f":"IF(OR(C16/B16>0.017,D16/C16>0.5),\"×\",\"〇\")","v":"〇"},null,{"$f":"IF(C16/B16>0.017,\"×\",\"〇\")","v":"〇"},"〇"]

{"sheet":"整理番号表","index":5,"n_rows":59,"n_cols":27,"rows_kept":59,"cut":false,"hidden":false,"merged":[[0,0,0,23],[4,2,4,7],[4,8,4,11],[5,1,6,1],[5,2,6,7],[5,8,6,11],[5,17,12,17],[7,1,8,1],[7,2,8,7],[7,8,8,11],[9,1,10,1],[9,2,10,7],[9,8,10,11],[11,1,12,1],[11,2,12,7],[11,8,12,11],[21,2,21,13],[21,17,29,17],[22,2,22,13],[23,2,23,13],[24,2,24,13],[25,2,25,13],[26,2,26,13],[27,2,27,13],[28,2,28,13],[13,17,17,17],[15,2,15,13],[16,2,16,13],[17,2,17,13],[18,17,20,17],[30,17,33,17],[31,2,31,5],[31,6,31,13],[32,1,33,1],[32,2,33,5],[32,6,33,13],[34,1,35,1],[34,2,35,5],[34,6,35,13],[34,17,38,17],[36,1,37,1],[36,2,37,5],[36,6,37,13],[38,1,39,1],[38,2,39,5],[38,6,39,13],[40,1,41,1],[40,2,41,5],[40,6,41,13],[42,1,43,1],[42,2,43,5],[42,6,43,13],[44,1,45,1],[44,2,45,5],[44,6,45,13],[46,1,47,1],[46,2,47,5],[46,6,47,13],[48,1,49,1],[48,2,49,5],[48,6,49,13],[50,1,51,1],[50,2,51,5],[50,6,51,13],[52,1,53,1],[52,2,53,5],[52,6,53,13],[54,1,55,1],[54,2,55,5],[54,6,55,13],[56,1,57,1],[56,2,57,5],[56,6,57,13],[58,1,59,1],[58,2,59,5],[58,6,59,13]]}
["改　　　　　　　　正　　　　　　　　後"]
[null,"○融資主体型補助事業整理番号表"]
[]
[null,"①助成対象者要件",null,null,null,null,null,null,null,null,null,null,null,null,null,"④整備内容",null,null,null,"⑥金融機関",null,null,null,null,null,"イノベーション優先枠"]
[null,"番号","区分",null,null,null,null,null,"備考",null,null,null,null,null,null,"番号","機械等名","備考",null,"番号","名称",null,null,null,null,"番号","対象となる機械等の種類"]
[null,1,"中心経営体であり、農地中間管理機構から賃借権等の設定等を受けた者",null,null,null,null,null,"人・農地プラン作成地区",null,null,null,null,null,null,1,"トラクター","農業用機械",null,1,"農協",null,null,null,null,"①","農業用機械の自動操舵システム"]
[null,null,null,null,null,null,null,null,null,null,null,null,null,null,null,2,"コンバイン",null,null,2,"農協連",null,null,null,null,"②","土壌センサー搭載型可変施肥田植機"]
[null,2,"中心経営体",null,null,null,null,null,"人・農地プラン作成地区\n番号１の者を除く",null,null,null,null,null,null,3,"田植機",null,null,3,"農林中金",null,null,null,null,"③","農薬散布等用無人航空機"]
[null,null,null,null,null,null,null,null,null,null,null,null,null,null,null,4,"乗用管理機",null,null,4,"日本公庫",null,null,null,null,"④","自動収穫・選果作業機"]
[null,3,"中間管理機構から賃借権等の設定等を受けた者",null,null,null,null,null,"人・農地プラン作成地区以外",null,null,null,null,null,null,5,"茶複合管理機",null,null,5,"沖縄公庫",null,null,null,null,"⑤","水田の高度水管理システム"]
[null,null,null,null,null,null,null,null,null,null,null,null,null,null,null,6,"アタッチメント",null,null,6,"商工中金",null,null,null,null,"⑥","施設園芸の高度環境制御システム"]
[null,4,"事業実施主体が認める者",null,null,null,null,null,"人・農地プラン作成地区",null,null,null,null,null,null,7,"ＧＰＳガイダンス",null,null,7,"奄美振興基金",null,null,null,null,"⑦","ほ場環境等に応じた生産管理最適化システム"]
[null,null,null,null,null,null,null,null,null,null,null,null,null,null,null,8,"その他機械",null,null,8,"銀行",null,null,null,null,"⑧","牛個体管理システム"]
[null,null,null,null,null,null,null,null,null,null,null,null,null,null,null,9,"ハウス","生産・流通",null,9,"信用金庫",null,null,null,null,"⑨","都道府県特認機械等"]
[null,"②補助上限額の選択",null,null,null,null,null,null,null,null,null,null,null,null,null,10,"育苗施設",null,null,10,"信用組合",null,null,null,null,"○"]
[null,"番号","区分",null,null,null,null,null,null,null,null,null,null,null,null,11,"乾燥調製施設",null,null,11,"都道府県",null,null,null,null,"農業地域類型（第1次分類）"]
[null,1,"1,500万円（法人3,000万円）",null,null,null,null,null,null,null,null,null,null,null,null,12,"果樹棚",null,null,null,null,null,null,null,null,1,"都市的地域"]
[null,2,"100万円",null,null,null,null,null,null,null,null,null,null,null,null,13,"集出荷施設",null,null,null,null,null,null,null,null,2,"平地農業地域"]
[null,null,null,null,null,null,null,null,null,null,null,null,null,null,null,14,"農産物加工施設","加工・直売・交流",null,null,null,null,null,null,null,3,"中間農業地域"]
[null,"③助成対象者要件の詳細",null,null,null,null,null,null,null,null,null,null,null,null,null,15,"直売施設",null,null,null,null,null,null,null,null,4,"山間農業地域"]
[null,"(認定農業者等の区分)",null,null,null,null,null,null,null,null,null,null,null,null,null,16,"観光農業関連施設",null,null,"⑦融資（資金）種類"]
[null,"番号","区分",null,null,null,null,null,null,null,null,null,null,null,null,17,"畜舎（肉用牛）","畜産・酪農",null,"番号","資金名"]
[null,1,"認定農業者",null,null,null,null,null,null,null,null,null,null,null,null,18,"畜舎（養豚）",null,null,1,"近代化資金"]
[null,2,"認定就農者",null,null,null,null,null,null,null,null,null,null,null,null,19,"畜舎（養鶏）",null,null,2,"青年等就農資金"]
[null,3,"集落営農組織（任意組織）",null,null,null,null,null,null,null,null,null,null,null,null,20,"畜舎（酪農）",null,null,3,"公庫資金（改良資金）"]
[null,4,"事業実施主体が認める者のうち当該市町村の認定農業者の平均所得のおおむね8割以上の所得がある者",null,null,null,null,null,null,null,null,null,null,null,null,21,"畜舎（その他）",null,null,4,"公庫資金（スーパーＬ）直貸"]
[null,5,"事業実施主体が認める者のうち中心経営体又は認定農業者",null,null,null,null,null,null,null,null,null,null,null,null,22,"サイロ",null,null,5,"公庫資金（スーパーＬ）転貸"]
[null,6,"事業実施主体が認める者のうち10年後の農業経営の継続意向が明確になっている者",null,null,null,null,null,null,null,null,null,null,null,null,23,"堆肥施設",null,null,6,"公庫資金（その他）直貸"]
[null,7,"その他",null,null,null,null,null,null,null,null,null,null,null,null,24,"機械（畜産関係）",null,null,7,"公庫資金（その他）転貸"]
[null,null,null,null,null,null,null,null,null,null,null,null,null,null,null,25,"その他畜産関係施設",null,null,8,"一般資金（プロパー資金）"]
[null,"(営農類型)",null,null,null,null,null,null,null,null,null,null,null,null,null,26,"環境衛生施設","その他"]
[null,"番号","区分",null,null,null,"分類基準",null,null,null,null,null,null,null,null,27,"ほ場観測施設"]
[null,1,"水田作",null,null,null,"稲、麦類、雑穀、いも類、豆類、工芸農作物の販売収入のうち、水田で作付けした農業生産物の販売収入が他の営農類型の農業生産物販売収入と比べて最も多い経営",null,null,null,null,null,null,null,null,28,"中間拠点施設"]
[null,null,null,null,null,null,null,null,null,null,null,null,null,null,null,29,"その他施設等"]
[null,2,"畑作",null,null,null,"稲、麦類、雑穀、いも類、豆類、工芸農作物の販売収入のうち、畑で作付けした農業生産物の販売収入が他の営農類型の農業生産物販売収入と比べて最も多い経営",null,null,null,null,null,null,null,null,30,"畦畔除去","土地基盤整備"]
[null,null,null,null,null,null,null,null,null,null,null,null,null,null,null,31,"区画整理"]
[null,3,"露地野菜作",null,null,null,"野菜作経営のうち、露地野菜の販売収入が施設野菜の販売収入以上である経営",null,null,null,null,null,null,null,null,32,"暗渠排水"]
[null,null,null,null,null,null,null,null,null,null,null,null,null,null,null,33,"明渠排水"]
[null,4,"施設野菜作",null,null,null,"野菜作経営のうち、露地野菜より施設野菜の販売収入が多い経営",null,null,null,null,null,null,null,null,34,"その他基盤整備"]
[]
[null,5,"果樹作",null,null,null,"果樹の販売収入が他の営農類型の農業生産物販売収入と比べて最も多い経営"]
[null,null,null,null,null,null,null,null,null,null,null,null,null,null,null,"⑤被災に備えた措置"]
[null,6,"露地花き",null,null,null,"花き作経営のうち、露地花きの販売収入が施設花きの販売収入以上である経営",null,null,null,null,null,null,null,null,"番号","保険等の種類"]
[null,null,null,null,null,null,null,null,null,null,null,null,null,null,null,1,"園芸施設共済"]
[null,7,"施設花き",null,null,null,"花き作経営のうち、露地花きより施設花きの販売収入が多い経営",null,null,null,null,null,null,null,null,2,"農機具共済"]
[null,null,null,null,null,null,null,null,null,null,null,null,null,null,null,3,"損害保険"]
[null,8,"酪農",null,null,null,"酪農の販売収入が他の営農類型の農業生産物販売収入と比べて最も多い経営",null,null,null,null,null,null,null,null,4,"その他の保険等"]
[null,null,null,null,null,null,null,null,null,null,null,null,null,null,null,5,"施工業者の保証"]
[null,9,"繁殖牛",null,null,null,"肉用牛経営のうち、肥育牛の飼養頭数より繁殖用雌牛の飼養頭数が多い経営",null,null,null,null,null,null,null,null,6,"その他"]
[]
[null,10,"肥育牛",null,null,null,"肉用牛経営のうち、肥育牛の飼養頭数が繁殖用雌牛の飼養頭数以上である経営"]
[]
[null,11,"養豚",null,null,null,"養豚の販売収入が他の営農類型の農業生産物販売収入と比べて最も多い経営"]
[]
[null,12,"採卵養鶏",null,null,null,"採卵養鶏の販売収入が他の営農類型の農業生産物販売収入と比べて最も多い経営"]
[]
[null,13,"ブロイラー養鶏",null,null,null,"ブロイラー養鶏の販売収入が他の営農類型の農業生産物販売収入と比べて最も多い経営"]
[]
[null,14,"その他",null,null,null,"上記の営農類型に分類されない経営"]

{"sheet":"修正箇所","index":6,"n_rows":21,"n_cols":7,"rows_kept":21,"cut":false,"hidden":false,"merged":[[1,2,1,3]]}
[]
[null,null,"修正箇所",null,"内容","備考","修正日"]
[null,{"$f":"1","v":1},"A表","T列","成果目標設定者数のうち「付加価値額の拡大」（Ｔ列）について、現状値0の者が計上されてなかったため、計上できるよう修正",null,211206]
[null,{"$f":"B3+1","v":2},"A表","CH7,CI7","「特定助成対象者」を「事業実施主体が認める者」に修正","文言の修正のみ",211207]
[null,3,"B表","FE7,FE8,GG12","「特定助成対象者」を「事業実施主体が認める者」に修正","文言の修正のみ",211207]
[null,4,"B表","BH8","中古機械を導入する場合の耐用年数の記載方法をコメントで追記","コメント追記のみ",211207]
[null,5,"B表","BX","0円未満を切り捨てるよう修正",null,211208]
[null,6,"B表","FL~FO","絶対参照のずれを修正\nFKの整理番号を手入力で修正した場合、FL~FOが自動入力されるよう修正",null,211208]
[null,7,"B表","BR~BV","整数のみ記入できるように入力規則を設定した\nなお、「0」は入力できないため、0円の場合は空欄とすること",null,211209]
[null,8,"B表","EZ","正の整数のみ入力できるように入力規則を設定した\nなお、「0」は入力できないため、ポイント化しない場合は空欄とすること",null,211209]
[null,9,"B表","FG,FH","正の値のみ入力できるように入力規則を設定した\nなお、「0」は入力できないため、面積等がない場合は空欄とすること",null,211209]
[null,10,"B表","JX","ERでポイント化していても、成果目標⑨を設定しているか判定するよう修正",null,211209]
[null,{"$f":"ROW()-ROW($B$2)","v":11},"B表","経営面積等入力（FE~GG）","関数内の参照箇所の誤り等を修正",null,211210]
[null,12]
[null,13]
[null,14]
[null,15]
[null,16]
[null,17]
[null,18]
[null,19]